Workbook

Sheet MDEPAN
M14: https://www.dosm.gov.my | AF14: Bulan/Month : | AL14: 2026
I17: - | V17: - | Z17: - | AE17: Untuk pertanyaan, sila hubungi:
AE18: For enquiries please contact :
AE25: Tel. :
AE27: Faks/Fax:
C29: (Jika alamat pos di atas salah, sila betulkan) | AE29: E-mel/E-mail :
C30: (If the above mailing address is incorrect, please amend)
Q33: ARAHAN / INSTRUCTIONS
B35: a. | C35: Jabatan Perangkaan Malaysia bertanggungjawab untuk menjalankan Banci Pemproses Getah Bulanan setiap bulan. Tujuan utama banci ini adalah untuk mengumpul maklumat yang diperlukan oleh Kerajaan bagi penggubalan dasar dan perancangan negara.
B39: b. | C39: Maklumat dikumpul mengikut peruntukan di bawah Akta Perangkaan 1965 (Disemak-1989). Seksyen 5 di bawah Akta ini menghendaki mana-mana pertubuhan yang beroperasi di Malaysia untuk memberikan maklumat sebenar atau anggaran terbaik kepada Jabatan. Mengikut Akta ini, kandungan soal selidik individu yang diterima adalah SULIT dan tidak boleh dihebah kepada sesiapa atau mana-mana institusi di luar Jabatan ini. Tanggungjawab mengemukakan maklumat terletak kepada pemilik pertubuhan ini.
B45: c. | C45: Sila rujuk panduan di muka surat terakhir bagi membantu tuan dalam melengkapkan soal selidik ini.
B47: d. | C47: Sekiranya pertubuhan tuan tidak beroperasi pada bulan rujukan, sila maklumkan alasannya ke Jabatan ini.
B49: e. | C49: Sila kembalikan soal selidik yang lengkap kepada Jabatan Perangkaan Malaysia sebelum 15hb. bulan berikutnya.
B51: a. | C51: The Department of Statistics, Malaysia has been given the responsibility to conduct the Monthly Census of Rubber Processors every month. The main objective of this census is to collect information required by the Government for the formulation of national policies and planning.
B54: b. | C54: The information is gathered under the provisions of the Statistics Act, 1965 (Revised-1989). Section 5 of this Act requires all establishments operating in Malaysia to provide actual information or best estimates to the Department. Under the Act, the contents of the individual questionnaire received are confidential and will not be divulged to any person or institution outside the Department. The responsibility furnishing the information rests with the owner of the establishment.
B59: c. | C59: To assist you in completing the questionnaire please refer the guide which can be found on the last page for your reference.
B61: d. | C61: If your establishment is not in operation during the reference month, please state the reasons to the Department.
B63: e. | C63: Please return the completed questionnaire to the Department of Statistics, Malaysia before the 15th.of the following month.
D65: DATO' SRI DR. MOHD UZIR MAHIDIN | Z65: Tarikh / Date:
D66: KETUA PERANGKAWAN MALAYSIA
D67: CHIEF STATISTICIAN, MALAYSIA
D71: Saya mengaku bahawa maklumat yang diberikan adalah benar sepanjang pengetahuan dan kepercayaan saya.
D72: I declare that the information provided is true to the best of my knowledge and belief.
D74: Tandatangan/Signature : | Y74: Orang yang dihubungi/Person to contact:
D76: Nama/Name :
D78: Jawatan Rasmi/ | Y78: Tarikh/Date :
D79: Official Designation : | Y79: No.Tel./Tel. No.:
D81: E-Mel/E-Mail : | Y81: Cop Syarikat/Company Stamp :
D83: Laman Web/Homepage :
D85: No. Faks/Fax No. :
B89: 1. | C89: Nama Syarikat/Perniagaan dan No. Pendaftaran (pemilik kilang) seperti yang didaftarkan dengan Suruhanjaya Syarikat Malaysia.
C90: Name of Company/Business and Registration Number (factory owner) as registered with the Companies Commission of Malaysia.
U92: No.Pendaftaran / Registration No. | AM92: 0001
B95: 2. | C95: Alamat lokasi kilang / Location address of factory | Y95: Kegunaan pejabat sahaja/Office use only
Y96: Negeri | AB96: Daerah | AE96: Bandar | AI96: Industri
AA97: - | AD97: -
Y98: 0002 | AB98: 0003 | AE98: 0004 | AI98: 0005

Sheet ms_2
A3: - 2 -
J8: GETAH TEMPATAN / LOCAL RUBBER
I10: STOK AWAL* | J10: PEMBELIAN PURCHASES | K10: PENERIMAAN drpd / RECEIPTS from | M10: IMPORT IMPORTS | N10: JUMLAH
I11: pada awal bulan | N11: TOTAL
I12: OPENING STOCKS | K12: Kump. Estet/Kilang atau Estet sendiri | L12: Pihak lain untuk proses sahaja ** | M12: (import terus atau melalui peniaga)
I13: at the beginning of the month
D14: STOK AWAL DAN JENIS GETAH | K14: Group Estates/Factories or Own estate | L14: Others for processing | M14: (import directly or through traders)
D15: OPENING STOCKS AND TYPES OF RUBBER | L15: only | N15: (01+02+03+04+05)
I18: BERAT K.G.K. 100% | J18: BERAT K.G.K. 100% | K18: BERAT K.G.K. 100% | L18: BERAT K.G.K. 100% | M18: BERAT K.G.K. 100% | N18: BERAT K.G.K. 100%
I19: 100% D.R.C. WEIGHT | J19: 100% D.R.C. WEIGHT | K19: 100% D.R.C. WEIGHT | L19: 100% D.R.C. WEIGHT | M19: 100% D.R.C. WEIGHT | N19: 100% D.R.C. WEIGHT
I20: (KILOGRAM) | J20: (KILOGRAM) | K20: (KILOGRAM) | L20: (KILOGRAM) | M20: (KILOGRAM) | N20: (KILOGRAM)
I21: 01 | J21: 02 | K21: 03 | L21: 04 | M21: 05 | N21: 06
B24: 1. | C24: Stok Awal Getah (getah belum & sudah diproses) | H24: 01 | I24: 0 | N24: =I24 -> 0
C25: Opening stocks of rubber (unpocessed & processed rubber)
B28: 2. | C28: JENIS GETAH
C29: TYPES OF RUBBER | J29: 0 | K29: 0 | L29: 0 | M29: 0 | N29: =J29+K29+L29+M29 -> 0
C31: A) | D31: Getah belum diproses / Unprocessed rubber
D32: 2.1 | E32: Getah keping yang tidak diasap | H32: 02
E33: Unsmoked sheets
D34: 2.2 | E34: Getah Asap Berbunga
E35: Ribbed Smoked Sheets | J35: 0 | K35: 0 | L35: 0 | M35: 0 | N35: =J35+K35+L35+M35 -> 0
E36: 2.2.1 | F36: G.A.B. 1 & 1x | H36: 03
F37: R.S.S. 1 & 1x
E38: 2.2.2 | F38: Gred G.A.B. lain | H38: 04 | J38: 0 | K38: 0 | L38: 0 | M38: 0 | N38: =J38+K38+L38+M38 -> 0
F39: Other R.S.S. grades
D40: 2.3 | E40: Getah keping basah | H40: 05 | J40: 0 | K40: 0 | L40: 0 | M40: 0 | N40: =J40+K40+L40+M40 -> 0
E41: Wet sheets
D42: 2.4 | E42: Skrap; getah buku dan getah kulit | H42: 06 | J42: 0 | K42: 0 | L42: 0 | M42: 0 | N42: =J42+K42+L42+M42 -> 0
E43: Scrap; lump and bark
D44: 2.5 | E44: Susu getah cair | H44: 07 | J44: 0 | K44: 0 | L44: 0 | M44: 0 | N44: =J44+K44+L44+M44 -> 0
E45: Field latex
D46: 2.6 | E46: Jenis getah mentah lain (sila nyatakan):
E47: Other type of raw rubber (please specify): | H47: 08 | J47: 0 | K47: 0 | L47: 0 | M47: 0 | N47: =J47+K47+L47+M47 -> 0
E48: ......................................................................
C50: B) | D50: Getah yang sudah diproses (cth. skim,krep dll.):
D51: Processed rubber (e.g. skimmed,crepe etc.): | H51: 11 | J51: 0 | K51: 0 | L51: 0 | M51: 0 | N51: =J51+K51+L51+M51 -> 0
D52: 2.7 | E52: .................................................
D55: 2.8 | E55: JUMLAH (1 hingga 2.7) | H55: 12 | J55: =J29+J35+J38+J40+J42+J44+J47+J51 -> 0 | K55: =K29+K35+K38+K40+K42+K44+K47+K51 -> 0 | L55: =L29+L35+L38+L40+L42+L44+L47+L51 -> 0 | M55: =M29+M35+M38+M40+M42+M44+M47+M51 -> 0 | N55: =N24+N29+N35+N38+N40+N42+N44+N47+N51 -> 0
E56: TOTAL (1 to 2.7)
C59: Nota/Note : | F59: * | G59: Stok Awal hendaklah sama dengan Stok Akhir bulan lepas.
...

Sheet ms_3
A2: - 3 -
I7: JUALAN/HANTARAN (Tempatan) | J7: EKSPORT | K7: KEHILANGAN | L7: TAMBAHAN | M7: STOK AKHIR | N7: JUMLAH
J8: EXPORTS | K8: BERAT **** | L8: BERAT *** | M8: pada akhir bulan@ | N8: TOTAL
I9: SALES / DESPATCH (Local) | K9: WEIGHT LOSS | L9: WEIGHT GAIN | M9: CLOSING STOCKS at the end of the month
E10: JENIS GETAH | N10: (07+08+09-10+11)
E11: TYPES OF RUBBER
I13: BERAT K.G.K. 100% | J13: BERAT K.G.K. 100% | K13: BERAT K.G.K. 100% | L13: BERAT K.G.K. 100% | M13: BERAT K.G.K. 100% | N13: BERAT K.G.K. 100%
I14: 100% D.R.C. WEIGHT | J14: 100% D.R.C. WEIGHT | K14: 100% D.R.C. WEIGHT | L14: 100% D.R.C. WEIGHT | M14: 100% D.R.C. WEIGHT | N14: 100% D.R.C. WEIGHT
I15: (KILOGRAM) | J15: (KILOGRAM) | K15: (KILOGRAM) | L15: (KILOGRAM) | M15: (KILOGRAM) | N15: (KILOGRAM)
I16: 07 | J16: 08 | K16: 09 | L16: 10 | M16: 11 | N16: 12
B18: 3. | C18: GETAH BELUM DIPROSES
C19: UNPROCESSED RUBBER | N19: =I19+J19+K19-L19+M19 -> 0
C20: 3.1 | D20: Getah keping yang tidak diasap | H20: 01
D21: Unsmoked sheet
C22: 3.2 | D22: Getah Asap Berbunga
D23: Ribbed Smoked Sheet | N23: =I23+J23+K23-L23+M23 -> 0
D24: 3.2.1 | E24: G.A.B. 1 & 1x | H24: 02
E25: R.S.S. 1 & 1x
D26: 3.2.2 | E26: Gred G.A.B. lain | H26: 03 | N26: =I26+J26+K26-L26+M26 -> 0
E27: Other R.S.S. grades
C28: 3.3 | D28: Getah keping basah | H28: 04 | N28: =I28+J28+K28-L28+M28 -> 0
D29: Wet sheets
C30: 3.4 | D30: Skrap; getah buku dan getah kulit | H30: 05 | N30: =I30+J30+K30-L30+M30 -> 0
D31: Scrap; lump and bark
C32: 3.5 | D32: Susu getah cair | H32: 06 | N32: =I32+J32+K32-L32+M32 -> 0
D33: Field latex
C34: 3.6 | D34: Jenis lain (sila nyatakan):
D35: Others (please specify):
D36: ............................................................ | H36: 07 | N36: =I36+J36+K36-L36+M36 -> 0
D37: ............................................................
D38: ............................................................
C42: 3.7 | D42: JUMLAH KECIL (3.1 hingga 3.6) | H42: 10 | I42: =I19+I23+I26+I28+I30+I32+I36 -> 0 | J42: =J19+J23+J26+J28+J30+J32+J36 -> 0 | K42: =K19+K23+K26+K28+K30+K32+K36 -> 0 | L42: =L19+L23+L26+L28+L30+L32+L36 -> 0 | M42: =M19+M23+M26+M28+M30+M32+M36 -> 0 | N42: =N19+N23+N26+N28+N30+N32+N36 -> 0
D43: SUBTOTAL (3.1 to 3.6)
C46: Nota/Notes : | E46: *** | F46: Kehilangan Berat: Merujuk kepada kehilangan berat getah selepas diproses disebabkan kandungan air ataupun sebab-sebab lain.
F47: Weight Loss : Refers to rubber losses after processing due to water content or other causes.
E49: **** | F49: Tambahan Berat : Merujuk kepada tambahan berat getah selepas diproses.
F50: Weight Gain : Refers to rubber weight gain after processing .
E52: @ | F52: Stok Akhir di Seksyen B hanya merujuk kepada getah yang dimiliki oleh kilang (termasuk yang diterima daripada Kumpulan Estet/Kilang atau Estet Sendiri).
F53: Closing Stocks in Section B only refers to rubber owned by this factory (including those that are received from Group Estates/Factories or Own Estate).

Sheet ms_4
A3: - 4 -
K5: JUALAN/HANTARAN (Tempatan) | L5: EKSPORT | M5: KEHILANGAN | N5: TAMBAHAN | O5: STOK AKHIR | P5: JUMLAH
L6: EXPORTS | M6: BERAT*** | N6: BERAT**** | O6: pada akhir bulan | P6: TOTAL
E7: JENIS GETAH | K7: SALES / DESPATCH (Local) | M7: WEIGHT LOSS | N7: WEIGHT GAIN | O7: CLOSING STOCKS at the end of the month
E8: TYPES OF RUBBER | P8: (07+08+09-10+11)
K11: BERAT K.G.K. 100% | L11: BERAT K.G.K. 100% | M11: BERAT K.G.K. 100% | N11: BERAT K.G.K. 100% | O11: BERAT K.G.K. 100% | P11: BERAT K.G.K. 100%
K12: 100% D.R.C. WEIGHT | L12: 100% D.R.C. WEIGHT | M12: 100% D.R.C. WEIGHT | N12: 100% D.R.C. WEIGHT | O12: 100% D.R.C. WEIGHT | P12: 100% D.R.C. WEIGHT
K13: (KILOGRAM) | L13: (KILOGRAM) | M13: (KILOGRAM) | N13: (KILOGRAM) | O13: (KILOGRAM) | P13: (KILOGRAM)
K14: 07 | L14: 08 | M14: 09 | N14: 10 | O14: 11 | P14: 12
B16: 4. | C16: GETAH SUDAH DIPROSES
C17: PROCESSED RUBBER
C18: 4.1 | D18: Getah Mutu Malaysia (G.M.M.): | P18: =K18+L18+M18-N18+O18 -> 0
D19: Standard Malaysian Rubber (S.M.R.):
D20: 4.1.1 | E20: G.M.M. 5 / S.M.R. 5 | J20: 11
D21: 4.1.2 | E21: G.M.M. 10 / S.M.R. 10 | J21: 12 | P21: =K21+L21+M21-N21+O21 -> 0
D22: 4.1.3 | E22: G.M.M. 20 / S.M.R. 20 | J22: 13 | P22: =K22+L22+M22-N22+O22 -> 0
D23: 4.1.4 | E23: G.M.M. L / S.M.R. L | J23: 14 | P23: =K23+L23+M23-N23+O23 -> 0
D24: 4.1.5 | E24: G.M.M. GP / S.M.R. GP | J24: 15 | P24: =K24+L24+M24-N24+O24 -> 0
D25: 4.1.6 | E25: G.M.M. CV / S.M.R. CV | J25: 16 | P25: =K25+L25+M25-N25+O25 -> 0
D26: 4.1.7 | E26: Gred G.M.M. lain / Other S.M.R. grades | J26: 17 | P26: =K26+L26+M26-N26+O26 -> 0
C28: 4.2 | D28: Susu Getah Pekat/Latex Concentrate:
D29: 4.2.1 | E29: Susu getah pekat atau dadih | J29: 18 | P29: =K29+L29+M29-N29+O29 -> 0
E30: Latex concentrate or cream
D31: 4.2.2 | E31: Jenis susu getah pekat lain | J31: 19
E32: Other types of latex concentrate
C33: 4.3 | D33: Semua jenis getah krep termasuk getah
D34: krep yang dikilang semula | J34: 20 | P34: =K34+L34+M34-N34+O34 -> 0
D35: All types of crepe rubber including remilled crepe
C36: 4.4 | D36: Jenis lain
D37: Other types
D38: 4.4.1 | E38: Getah Campuran | J38: 21 | P38: =K38+L38+M39-N39+O38 -> 0
E39: Rubber Compound
D40: 4.4.2 | E40: Lain-lain (sila nyatakan)
E41: Others (please specify) | J41: 22
E42: ……………………………………………… | P42: =K42+L42+M42+-N42+O42 -> 0
C45: 4.5 | D45: JUMLAH KECIL (4.1 hingga 4.4) | J45: 24 | K45: =K18+K21+K22+K23+K24+K25+K26+K29+K34+K38+K42 -> 0 | L45: =L18+L21+L22+L23+L24+L25+L26+L29+L34+L38+L42 -> 0 | M45: =M18+M21+M22+M23+M24+M25+M26+M29+M34+M39+M42 -> 0 | N45: =N18+N21+N22+N23+N24+N25+N26+N29+N34+N39+N42 -> 0 | O45: =O18+O21+O22+O23+O24+O25+O26+O29+O34+O38+O42 -> 0 | P45: =P18+P21+P22+P23+P24+P25+P26+P29+P34+P38+P42 -> 0
D46: SUBTOTAL (4.1 to 4.4)
B49: 5. | C49: JUMLAH BESAR (3.7 + 4.5) | J49: 25 | K49: =ms_3!I42+ms_4!K45 -> 0 | L49: =ms_3!J42+ms_4!L45 -> 0 | M49: =ms_3!K42+ms_4!M45 -> 0 | N49: =ms_3!L42+ms_4!N45 -> 0 | O49: =ms_3!M42+ms_4!O45 -> 0 | P49: =ms_3!N42+ms_4!P45 -> 0
C50: GRAND TOTAL (3.7 + 4.5)
B53: 6. | C53: Sila nyatakan jumlah bahan mentah (K.G.K.) yang digunakan dalam Getah Campuran atau lain-lain jenis seperti di soalan 4.4 (cth. in-house grade, neo-rub, tsr, premium rubber dll.)
...

Sheet ms_5LAMP_A&PANDUAN.
I2: LAMPIRAN A
C8: Bil | E8: Nama Syarikat (Peniaga) | G8: Alamat Syarikat (Peniaga) | I8: Jumlah Import (KG)
C9: No. | E9: Name of Company (Dealer) | G9: Address of Company (Dealer) | I9: Total Import (KG)
I10: BERAT K.G.K. 100%
I11: 100% D.R.C. WEIGHT
D31: PANDUAN MENGISI SOAL SELIDIK / GUIDE IN COMPLETING THE QUESTIONNAIRE
B33: 1. | D33: Semua urusan perniagaan getah iaitu pengeluaran, penjualan, pembelian dan stok hendaklah dilaporkan dalam berat KANDUNGAN GETAH KERING (K.G.K.) 100% .
D35: All transactions on rubber i.e. production, sales, purchases and stocks should be reported in 100% DRY RUBBER CONTENT (D.R.C.) weight .
B38: 2. | D38: Stok merujuk kepada getah asli yang dimiliki oleh pertubuhan tuan, tidak kira di mana stok tersebut berada.
D39: Stocks refer to natural rubber that are owned by your establishment, regardless of it's location.
B41: 3. | D41: Nota Penjelasan bagi Seksyen A, muka surat 2 (Pembelian dan Penerimaan Getah Tempatan dan Import):
D42: Explanatory Notes for Section A, page 2 (Purchases and Receipts of Local and Imported Rubber):
D44: a) | E44: Pembelian daripada Peniaga, Estet, Kilang atau Pekebun Kecil
E45: Purchases from Dealers, Estates, Factories or Smallholders
E47: Pembelian getah tempatan secara terus daripada Peniaga, Estet, Kilang atau Pekebun Kecil termasuk perseorangan atau berkumpulan seperti skim FELDA, FELCRA dan RISDA.
E49: Purchases from Dealers, Estates, Factories or Smallholders including individual or group eg. FELDA, FELCRA and RISDA schemes.
D52: b) | E52: Penerimaan getah daripada Kumpulan Estet/Kilang atau Estet Sendiri
E53: Rubber received from Group Estates/Factories or Own Estate
E55: Getah daripada kumpulan estet/kilang atau estet sendiri untuk diproses dan dijual.
E56: Rubber received from group estates/factories or own estate for processing and sale.
D58: c) | E58: Penerimaan getah daripada pihak lain
E59: Rubber received from others
E61: Menerima getah dan upah memproses daripada pihak lain dan dikembalikan setelah siap diproses.
E62: Rubber and fees received for processing from others and returned after processing.
D64: d) | E64: Import
E65: Imports
E67: Getah yang diimport dari luar negara secara terus atau melalui peniaga/ejen. Sila senaraikan Nama dan Alamat Peniaga di Lampiran A.
E69: Rubber imported from overseas directly or through dealers/agents. Please list the Name and Address of Dealers in Lampiran A.
B71: 4. | D71: Nota Penjelasan bagi Seksyen B, mukasurat 3 dan 4 (Jualan/Hantaran getah yang belum diproses):
D72: Explanatory Notes for Section B, page 3 and 4 (Sales/Despatch of unprocessed rubber):
D74: a) | E74: Getah yang belum diproses tetapi dijual ke kilang lain atau dihantar ke Kumpulan Kilang perlu dinyatakan untuk mengelak pertindihan perkiraan pengeluaran getah.
E76: Unprocessed rubber that is sold to other factories or despatched to Group Factories should be included to avoid double counting of rubber production.
B90: - 5 -

Sheet MBELAKANG
A3: URUSAN SERI PADUKA BAGINDA
E5: NO. PERMIT POS :
E7: PENGARAH
E8: JABATAN PERANGKAAN MALAYSIA
E9: (DEPARTMENT OF STATISTICS, MALAYSIA)
C23: Untuk Kegunaan Pejabat Sahaja
C24: For Office Use Only
C27: Perkara | D27: Kerja Luar - Kod Caw. ( ) | G27: Penyuntingan | I27: Pertanyaan | J27: ( / ) | L27: Tangkapan Data
D29: Pegawai | E29: Penyemak | I29: Telefon | J29: ( )
D30: Luar | I30: Surat | J30: ( )
I31: Kerjaluar | J31: ( )
C33: Nama
C36: Tandatangan
C39: Tarikh
C43: Disemak oleh: | I43: Tarikh: ______________
D45: (Tandatangan Pegawai)
