Workbook
Name __123Graph_A_4: #REF!
Name __123Graph_A_4: #REF!
Name __123Graph_A_4: #REF!
Name __123Graph_A_4: #REF!
Name __123Graph_A_4: #REF!
Name __123Graph_A_4: #REF!
Name __123Graph_A_4: #REF!
Name __123Graph_A_4: #REF!
Name __123Graph_A_4: #REF!
Name __123Graph_A_4: #REF!
Name __123Graph_A_4: #REF!
Name __123Graph_A_4: #REF!
Name __123Graph_A_4: #REF!
Name __123Graph_A_4: #REF!
Name __123Graph_A_4: #REF!
Name __123Graph_A_4: #REF!
Name __123Graph_A_4: #REF!
Name __123Graph_A_4: #REF!
Name __123Graph_A_4: #REF!
Name __123Graph_A_4: #REF!
Name __123Graph_A_4: #REF!
Name __123Graph_A_4: #REF!
Name __123Graph_A_4: #REF!
Name __123Graph_A_4: #REF!
Name __123Graph_A_4: #REF!
Name __123Graph_A_4: #REF!
Name __123Graph_A_4: #REF!
Name __123Graph_A_4: #REF!
Name __123Graph_A_4: #REF!
Name __123Graph_A_4: #REF!
Name __123Graph_A_4: #REF!
Name __123Graph_A_4: #REF!
Name __123Graph_A_4: #REF!
Name __123Graph_A_4: #REF!
Name __123Graph_A_4: #REF!
Name __123Graph_A_4: #REF!
Name __123Graph_A_4: #REF!
Name __123Graph_A_4: #REF!
Name __123Graph_X_1: #REF!
Name __123Graph_X_1: #REF!
Name __123Graph_X_1: #REF!
Name __123Graph_X_1: #REF!
Name __123Graph_X_1: #REF!
Name __123Graph_X_1: #REF!
Name __123Graph_X_1: #REF!
Name __123Graph_X_1: #REF!
Name __123Graph_X_1: #REF!
Name __123Graph_X_1: #REF!
Name __123Graph_X_1: #REF!
Name __123Graph_X_1: #REF!
Name __123Graph_X_1: #REF!
Name __123Graph_X_1: #REF!
Name __123Graph_X_1: #REF!
Name __123Graph_X_1: #REF!
Name __123Graph_X_1: #REF!
Name __123Graph_X_1: #REF!
Name __123Graph_X_1: #REF!
Name __123Graph_X_1: #REF!
Name __123Graph_X_1: #REF!
Name __123Graph_X_1: #REF!

Sheet 3.1_LB_CBR_SRB
B1: Jadual 3.1: Kelahiran hidup, kadar kelahiran kasar (jantina dan negeri) dan nisbah jantina (negeri), Malaysia, 2025
B2: Table 3.1: Live births, crude birth rate (sex and state) and sex ratio (state), Malaysia, 2025
D5: Kelahiran hidup | H5: Kadar kelahiran kasar | L5: Nisbah jantina Sex ratio
B6: Negeri | D6: Live births | H6: Crude birth rate
B7: State | D7: Jumlah | E7: Lelaki | F7: Perempuan | H7: Jumlah | I7: Lelaki | J7: Perempuan
D8: Total | E8: Male | F8: Female | H8: Total | I8: Male | J8: Female
B10: Malaysia | D10: 396175 | E10: 204934 | F10: 191241 | H10: 11.6 | I10: 11.4 | J10: 11.8 | L10: 107.2
B11: Johor | D11: 48093 | E11: 24832 | F11: 23261 | H11: 11.4 | I11: 11 | J11: 11.9 | L11: 106.8
B12: Kedah | D12: 30163 | E12: 15457 | F12: 14706 | H12: 13.5 | I12: 13.6 | J12: 13.5 | L12: 105.1
B13: Kelantan | D13: 31858 | E13: 16469 | F13: 15389 | H13: 16.7 | I13: 17.2 | J13: 16.2 | L13: 107
B14: Melaka | D14: 11860 | E14: 6163 | F14: 5697 | H14: 11.3 | I14: 11.1 | J14: 11.5 | L14: 108.2
B15: Negeri Sembilan | D15: 14141 | E15: 7290 | F15: 6851 | H15: 11.4 | I15: 11.3 | J15: 11.4 | L15: 106.4
B16: Pahang | D16: 20654 | E16: 10631 | F16: 10023 | H16: 12.3 | I16: 11.9 | J16: 12.8 | L16: 106.1
B17: Perak | D17: 26275 | E17: 13568 | F17: 12707 | H17: 10.2 | I17: 10.1 | J17: 10.3 | L17: 106.8
B18: Perlis | D18: 3508 | E18: 1812 | F18: 1696 | H18: 11.8 | I18: 12.2 | J18: 11.4 | L18: 106.8
B19: Pulau Pinang | D19: 16722 | E19: 8617 | F19: 8105 | H19: 9.3 | I19: 9.3 | J19: 9.2 | L19: 106.3
B20: Sabah | D20: 40768 | E20: 21351 | F20: 19417 | H20: 10.9 | I20: 10.9 | J20: 10.8 | L20: 110
B21: Sarawak | D21: 28678 | E21: 14984 | F21: 13694 | H21: 11.3 | I21: 11.5 | J21: 11.2 | L21: 109.4
... B26: W.P. Putrajaya | D26: 1422 | E26: 724 | F26: 698 | H26: 11.8 | I26: 12.2 | J26: 11.4 | L26: 103.7
B28: Kadar adalah bagi setiap 1,000 penduduk
B29: The rates are per 1,000 population
B31: Nisbah jantina yang ditunjukkan merujuk kepada nisbah jantina ketika lahir, iaitu bilangan kelahiran hidup lelaki bagi setiap 100 kelahiran hidup perempuan
B32: The sex ratio shown refers to the sex ratio at birth, defined as the number of male live births for every 100 female live births

Sheet 3.2_by etnik_sex
B1: Jadual 3.2: Kelahiran hidup mengikut negeri, kumpulan etnik dan jantina, Malaysia, 2025 | L1: Jadual 3.2: Kelahiran hidup mengikut negeri, kumpulan etnik dan jantina, Malaysia, 2025 (samb.) | V1: =L1 -> Jadual 3.2: Kelahiran hidup mengikut negeri, kumpulan etnik dan jantina, Malaysia, 2025 (samb.)
B2: Table 3.2: Live births by state, ethnic group and sex, Malaysia, 2025 | L2: Table 3.2: Live births by state, ethnic group and sex, Malaysia, 2025 (cont'd) | V2: =L2 -> Table 3.2: Live births by state, ethnic group and sex, Malaysia, 2025 (cont'd)
B5: Jumlah/Total | L5: Lelaki/Male | V5: Perempuan/Female
D6: Kumpulan etnik/Ethnic group | N6: Kumpulan etnik/Ethnic group | X6: Kumpulan etnik/Ethnic group
B7: Negeri | D7: Jumlah | E7: Bumiputera | L7: Negeri | N7: Jumlah | O7: Bumiputera | V7: Negeri | X7: Jumlah | Y7: Bumiputera
B8: State | D8: Total | E8: Jumlah | F8: Melayu | G8: Bumiputera Lain | H8: Cina | I8: India | J8: Lain-lain1 | L8: State | N8: Total | O8: Jumlah | P8: Melayu | Q8: Bumiputera Lain | R8: Cina | S8: India | T8: Lain-lain1 | V8: State | X8: Total | Y8: Jumlah | Z8: Melayu | AA8: Bumiputera Lain | AB8: Cina | AC8: India | AD8: Lain-lain1
E9: Total | F9: Malay | G9: Other Bumiputera | H9: Chinese | I9: Indians | J9: Others1 | O9: Total | P9: Malay | Q9: Other Bumiputera | R9: Chinese | S9: Indians | T9: Others1 | Y9: Total | Z9: Malay | AA9: Other Bumiputera | AB9: Chinese | AC9: Indians | AD9: Others1
B11: Malaysia | D11: 396175 | E11: 317126 | F11: 267196 | G11: 49930 | H11: 34164 | I11: 17266 | J11: 27619 | L11: Malaysia | N11: 204934 | O11: 163945 | P11: 137785 | Q11: 26160 | R11: 17922 | S11: 8821 | T11: 14246 | V11: Malaysia | X11: 191241 | Y11: 153181 | Z11: 129411 | AA11: 23770 | AB11: 16242 | AC11: 8445 | AD11: 13373
B12: Johor | D12: 48093 | E12: 35309 | F12: 34100 | G12: 1209 | H12: 7541 | I12: 2914 | J12: 2329 | L12: Johor | N12: 24832 | O12: 18247 | P12: 17586 | Q12: 661 | R12: 3931 | S12: 1473 | T12: 1181 | V12: Johor | X12: 23261 | Y12: 17062 | Z12: 16514 | AA12: 548 | AB12: 3610 | AC12: 1441 | AD12: 1148
B13: Kedah | D13: 30163 | E13: 26675 | F13: 26572 | G13: 103 | H13: 993 | I13: 1033 | J13: 1462 | L13: Kedah | N13: 15457 | O13: 13677 | P13: 13622 | Q13: 55 | R13: 511 | S13: 535 | T13: 734 | V13: Kedah | X13: 14706 | Y13: 12998 | Z13: 12950 | AA13: 48 | AB13: 482 | AC13: 498 | AD13: 728
B14: Kelantan | D14: 31858 | E14: 30856 | F14: 30434 | G14: 422 | H14: 262 | I14: 15 | J14: 725 | L14: Kelantan | N14: 16469 | O14: 15940 | P14: 15707 | Q14: 233 | R14: 147 | S14: 4 | T14: 378 | V14: Kelantan | X14: 15389 | Y14: 14916 | Z14: 14727 | AA14: 189 | AB14: 115 | AC14: 11 | AD14: 347
B15: Melaka | D15: 11860 | E15: 10133 | F15: 9988 | G15: 145 | H15: 967 | I15: 459 | J15: 301 | L15: Melaka | N15: 6163 | O15: 5279 | P15: 5199 | Q15: 80 | R15: 502 | S15: 237 | T15: 145 | V15: Melaka | X15: 5697 | Y15: 4854 | Z15: 4789 | AA15: 65 | AB15: 465 | AC15: 222 | AD15: 156
B16: Negeri Sembilan | D16: 14141 | E16: 11171 | F16: 10796 | G16: 375 | H16: 986 | I16: 1539 | J16: 445 | L16: Negeri Sembilan | N16: 7290 | O16: 5727 | P16: 5540 | Q16: 187 | R16: 521 | S16: 828 | T16: 214 | V16: Negeri Sembilan | X16: 6851 | Y16: 5444 | Z16: 5256 | AA16: 188 | AB16: 465 | AC16: 711 | AD16: 231
B17: Pahang | D17: 20654 | E17: 18460 | F17: 16698 | G17: 1762 | H17: 970 | I17: 457 | J17: 767 | L17: Pahang | N17: 10631 | O17: 9503 | P17: 8556 | Q17: 947 | R17: 506 | S17: 234 | T17: 388 | V17: Pahang | X17: 10023 | Y17: 8957 | Z17: 8142 | AA17: 815 | AB17: 464 | AC17: 223 | AD17: 379
B18: Perak | D18: 26275 | E18: 21006 | F18: 19890 | G18: 1116 | H18: 2497 | I18: 2088 | J18: 684 | L18: Perak | N18: 13568 | O18: 10842 | P18: 10259 | Q18: 583 | R18: 1337 | S18: 1049 | T18: 340 | V18: Perak | X18: 12707 | Y18: 10164 | Z18: 9631 | AA18: 533 | AB18: 1160 | AC18: 1039 | AD18: 344
B19: Perlis | D19: 3508 | E19: 3264 | F19: 3251 | G19: 13 | H19: 82 | I19: 16 | J19: 146 | L19: Perlis | N19: 1812 | O19: 1689 | P19: 1681 | Q19: 8 | R19: 42 | S19: 11 | T19: 70 | V19: Perlis | X19: 1696 | Y19: 1575 | Z19: 1570 | AA19: 5 | AB19: 40 | AC19: 5 | AD19: 76
B20: Pulau Pinang | D20: 16722 | E20: 10586 | F20: 10507 | G20: 79 | H20: 3235 | I20: 1429 | J20: 1472 | L20: Pulau Pinang | N20: 8617 | O20: 5465 | P20: 5424 | Q20: 41 | R20: 1701 | S20: 694 | T20: 757 | V20: Pulau Pinang | X20: 8105 | Y20: 5121 | Z20: 5083 | AA20: 38 | AB20: 1534 | AC20: 735 | AD20: 715
B21: Sabah | D21: 40768 | E21: 32996 | F21: 6679 | G21: 26317 | H21: 921 | I21: 53 | J21: 6798 | L21: Sabah | N21: 21351 | O21: 17261 | P21: 3456 | Q21: 13805 | R21: 519 | S21: 26 | T21: 3545 | V21: Sabah | X21: 19417 | Y21: 15735 | Z21: 3223 | AA21: 12512 | AB21: 402 | AC21: 27 | AD21: 3253
B22: Sarawak | D22: 28678 | E22: 24348 | F22: 8615 | G22: 15733 | H22: 3835 | I22: 50 | J22: 445 | L22: Sarawak | N22: 14984 | O22: 12709 | P22: 4537 | Q22: 8172 | R22: 2025 | S22: 26 | T22: 224 | V22: Sarawak | X22: 13694 | Y22: 11639 | Z22: 4078 | AA22: 7561 | AB22: 1810 | AC22: 24 | AD22: 221
... B26: W.P. Labuan | D26: 1147 | E26: 941 | F26: 437 | G26: 504 | H26: 32 | I26: 2 | J26: 172 | L26: W.P. Labuan | N26: 614 | O26: 502 | P26: 239 | Q26: 263 | R26: 18 | S26: 1 | T26: 93 | V26: W.P. Labuan | X26: 533 | Y26: 439 | Z26: 198 | AA26: 241 | AB26: 14 | AC26: 1 | AD26: 79
B27: W.P. Putrajaya | D27: 1422 | E27: 1388 | F27: 1368 | G27: 20 | H27: 3 | I27: 11 | J27: 20 | L27: W.P. Putrajaya | N27: 724 | O27: 708 | P27: 698 | Q27: 10 | R27: - | S27: 7 | T27: 9 | V27: W.P. Putrajaya | X27: 698 | Y27: 680 | Z27: 670 | AA27: 10 | AB27: 3 | AC27: 4 | AD27: 11
B29: 1 Termasuk bukan warganegara Malaysia | L29: 1 Termasuk bukan warganegara Malaysia | V29: 1 Termasuk bukan warganegara Malaysia
B30: Includes non-Malaysian citizens | L30: Includes non-Malaysian citizens | V30: Includes non-Malaysian citizens

Sheet 3.3_kadar
B1: Jadual 3.3: Kadar kelahiran kasar mengikut negeri, kumpulan etnik dan jantina, Malaysia, 2025 | L1: Jadual 3.3: Kadar kelahiran kasar mengikut negeri, kumpulan etnik dan jantina, Malaysia, 2025 (samb.) | V1: =L1 -> Jadual 3.3: Kadar kelahiran kasar mengikut negeri, kumpulan etnik dan jantina, Malaysia, 2025 (samb.)
B2: Table 3.3: Crude birth rate by state, ethnic group and sex, Malaysia, 2025 | L2: Table 3.3: Crude birth rate by state, ethnic group and sex, Malaysia, 2025 (cont'd) | V2: =L2 -> Table 3.3: Crude birth rate by state, ethnic group and sex, Malaysia, 2025 (cont'd)
B5: Jumlah/Total | L5: Lelaki/Male | V5: Perempuan/Female
D6: Kumpulan etnik/Ethnic group | N6: Kumpulan etnik/Ethnic group | X6: Kumpulan etnik/Ethnic group
B7: Negeri | D7: Jumlah | E7: Bumiputera | L7: Negeri | N7: Jumlah | O7: Bumiputera | V7: Negeri | X7: Jumlah | Y7: Bumiputera
B8: State | D8: Total | E8: Jumlah | F8: Melayu | G8: Bumiputera Lain | H8: Cina | I8: India | J8: Lain-lain1 | L8: State | N8: Total | O8: Jumlah | P8: Melayu | Q8: Bumiputera Lain | R8: Cina | S8: India | T8: Lain-lain1 | V8: State | X8: Total | Y8: Jumlah | Z8: Melayu | AA8: Bumiputera Lain | AB8: Cina | AC8: India | AD8: Lain-lain1
E9: Total | F9: Malay | G9: Other Bumiputera | H9: Chinese | I9: Indians | J9: Others1 | O9: Total | P9: Malay | Q9: Other Bumiputera | R9: Chinese | S9: Indians | T9: Others1 | Y9: Total | Z9: Malay | AA9: Other Bumiputera | AB9: Chinese | AC9: Indians | AD9: Others1
B11: Malaysia | D11: 11.6 | E11: 14.6 | F11: 14.9 | G11: 13.2 | H11: 5 | I11: 8.6 | J11: 7.6 | L11: Malaysia | N11: 11.4 | O11: 14.9 | P11: 15.2 | Q11: 13.7 | R11: 5.2 | S11: 8.8 | T11: 5.8 | V11: Malaysia | X11: 11.8 | Y11: 14.2 | Z11: 14.6 | AA11: 12.7 | AB11: 4.8 | AC11: 8.4 | AD11: 11.7
B12: Johor | D12: 11.4 | E12: 15.1 | F12: 15 | G12: 19.7 | H12: 6.2 | I12: 11.7 | J12: 5.8 | L12: Johor | N12: 11 | O12: 15.4 | P12: 15.2 | Q12: 20.4 | R12: 6.4 | S12: 11.9 | T12: 3.7 | V12: Johor | X12: 11.9 | Y12: 14.8 | Z12: 14.7 | AA12: 18.9 | AB12: 6.1 | AC12: 11.6 | AD12: 14.2
B13: Kedah | D13: 13.5 | E13: 15.5 | F13: 15.5 | G13: 21.1 | H13: 4 | I13: 8 | J13: 10.7 | L13: Kedah | N13: 13.6 | O13: 15.9 | P13: 15.9 | Q13: 21.7 | R13: 4.2 | S13: 8.7 | T13: 7.8 | V13: Kedah | X13: 13.5 | Y13: 15.2 | Z13: 15.2 | AA13: 20.6 | AB13: 3.9 | AC13: 7.5 | AD13: 16.9
B14: Kelantan | D14: 16.7 | E14: 17.1 | F14: 17.1 | G14: 18.3 | H14: 5.9 | I14: 3.2 | J14: 12.5 | L14: Kelantan | N14: 17.2 | O14: 17.8 | P14: 17.7 | Q14: 19.9 | R14: 6.6 | S14: 1.8 | T14: 10.5 | V14: Kelantan | X14: 16.2 | Y14: 16.5 | Z14: 16.5 | AA14: 16.6 | AB14: 5.3 | AC14: 4.5 | AD14: 15.7
B15: Melaka | D15: 11.3 | E15: 14.5 | F15: 14.5 | G15: 14.5 | H15: 4.8 | I15: 8.8 | J15: 3.1 | L15: Melaka | N15: 11.1 | O15: 14.9 | P15: 14.9 | Q15: 15.3 | R15: 4.9 | S15: 9.1 | T15: 2 | V15: Melaka | X15: 11.5 | Y15: 14 | Z15: 14 | AA15: 13.5 | AB15: 4.6 | AC15: 8.4 | AD15: 6.8
B16: Negeri Sembilan | D16: 11.4 | E16: 14.8 | F16: 14.7 | G16: 16.2 | H16: 4 | I16: 9.4 | J16: 5.6 | L16: Negeri Sembilan | N16: 11.3 | O16: 15 | P16: 15 | Q16: 15.6 | R16: 4.2 | S16: 10.1 | T16: 3.7 | V16: Negeri Sembilan | X16: 11.4 | Y16: 14.6 | Z16: 14.5 | AA16: 16.8 | AB16: 3.8 | AC16: 8.8 | AD16: 10.4
B17: Pahang | D17: 12.3 | E17: 14.3 | F17: 14 | G17: 18.2 | H17: 4.4 | I17: 8.2 | J17: 6.9 | L17: Pahang | N17: 11.9 | O17: 14.5 | P17: 14.1 | Q17: 19.1 | R17: 4.5 | S17: 8.3 | T17: 4 | V17: Pahang | X17: 12.8 | Y17: 14.1 | Z17: 13.8 | AA17: 17.2 | AB17: 4.4 | AC17: 8.1 | AD17: 25.1
B18: Perak | D18: 10.2 | E18: 13.9 | F18: 13.9 | G18: 14.5 | H18: 4 | I18: 7.7 | J18: 4 | L18: Perak | N18: 10.1 | O18: 14.4 | P18: 14.3 | Q18: 15.1 | R18: 4.2 | S18: 8 | T18: 2.4 | V18: Perak | X18: 10.3 | Y18: 13.5 | Z18: 13.5 | AA18: 13.9 | AB18: 3.7 | AC18: 7.5 | AD18: 12.2
B19: Perlis | D19: 11.8 | E19: 12.8 | F19: 12.8 | G19: 8.6 | H19: 4.1 | I19: 3.2 | J19: 8.7 | L19: Perlis | N19: 12.2 | O19: 13.3 | P19: 13.3 | Q19: 9.2 | R19: 4.1 | S19: 4.3 | T19: 8.8 | V19: Perlis | X19: 11.4 | Y19: 12.3 | Z19: 12.3 | AA19: 7.8 | AB19: 4.1 | AC19: 2 | AD19: 8.7
B20: Pulau Pinang | D20: 9.3 | E20: 14.1 | F20: 14.2 | G20: 10.8 | H20: 4.6 | I20: 9.2 | J20: 7.7 | L20: Pulau Pinang | N20: 9.3 | O20: 14.4 | P20: 14.4 | Q20: 11.3 | R20: 4.8 | S20: 9 | T20: 6.9 | V20: Pulau Pinang | X20: 9.2 | Y20: 13.9 | Z20: 13.9 | AA20: 10.4 | AB20: 4.4 | AC20: 9.5 | AD20: 8.7
B21: Sabah | D21: 10.9 | E21: 13.6 | F21: 20.2 | G21: 12.6 | H21: 3.8 | I21: 8.9 | J21: 6.3 | L21: Sabah | N21: 10.9 | O21: 13.9 | P21: 18.7 | Q21: 13.1 | R21: 4.1 | S21: 7.9 | T21: 6 | V21: Sabah | X21: 10.8 | Y21: 13.3 | Z21: 22.1 | AA21: 12 | AB21: 3.5 | AC21: 10.2 | AD21: 6.6
B22: Sarawak | D22: 11.3 | E22: 13.3 | F22: 14.2 | G22: 12.8 | H22: 6.9 | I22: 9.9 | J22: 3.3 | L22: Sarawak | N22: 11.5 | O22: 13.7 | P22: 14.7 | Q22: 13.2 | R22: 7.1 | S22: 9.5 | T22: 2.5 | V22: Sarawak | X22: 11.2 | Y22: 12.8 | Z22: 13.7 | AA22: 12.4 | AB22: 6.6 | AC22: 10.4 | AD22: 5.1
... B26: W.P. Labuan | D26: 11.4 | E26: 12.2 | F26: 17.1 | G26: 9.7 | H26: 3.3 | I26: 2.3 | J26: 13.3 | L26: W.P. Labuan | N26: 11.9 | O26: 12.5 | P26: 17.7 | Q26: 9.8 | R26: 4.3 | S26: 2.3 | T26: 13.7 | V26: W.P. Labuan | X26: 10.8 | Y26: 11.8 | Z26: 16.5 | AA26: 9.6 | AB26: 2.6 | AC26: 2.2 | AD26: 12.8
B27: W.P. Putrajaya | D27: 11.8 | E27: 12.1 | F27: 12.1 | G27: 8.6 | H27: 4.7 | I27: 8 | J27: 5.4 | L27: W.P. Putrajaya | N27: 12.2 | O27: 12.7 | P27: 12.7 | Q27: 9.4 | R27: - | S27: 10.4 | T27: 3.4 | V27: W.P. Putrajaya | X27: 11.4 | Y27: 11.5 | Z27: 11.6 | AA27: 7.9 | AB27: 9 | AC27: 5.6 | AD27: 10.3
B29: Kadar adalah bagi setiap 1,000 penduduk mengikut kumpulan etnik | L29: Kadar adalah bagi setiap 1,000 penduduk mengikut kumpulan etnik | V29: Kadar adalah bagi setiap 1,000 penduduk mengikut kumpulan etnik
B30: The rates are per 1,000 population by ethnic group | L30: The rates are per 1,000 population by ethnic group | V30: The rates are per 1,000 population by ethnic group
B31: 1 Termasuk bukan warganegara Malaysia | L31: 1 Termasuk bukan warganegara Malaysia | V31: 1 Termasuk bukan warganegara Malaysia
B32: Includes non-Malaysian citizens | L32: Includes non-Malaysian citizens | V32: Includes non-Malaysian citizens

Sheet 3.4_bulan kejadian
B1: Jadual 3.4: Kelahiran hidup mengikut negeri dan bulan kejadian, Malaysia, 2025
B2: Table 3.4: Live births by state and month of occurrence, Malaysia, 2025
B5: Negeri | D5: Jumlah | E5: Januari | F5: Februari | G5: Mac | H5: April | I5: Mei | J5: Jun
B6: State | D6: Total | E6: January | F6: February | G6: March | I6: May | J6: June
B9: Malaysia | D9: 396175 | E9: 34025 | F9: 30736 | G9: 33179 | H9: 31786 | I9: 33086 | J9: 31797
B10: Johor | D10: 48093 | E10: 4182 | F10: 3864 | G10: 4098 | H10: 3822 | I10: 3983 | J10: 3886
B11: Kedah | D11: 30163 | E11: 2506 | F11: 2325 | G11: 2455 | H11: 2425 | I11: 2470 | J11: 2429
B12: Kelantan | D12: 31858 | E12: 2607 | F12: 2280 | G12: 2721 | H12: 2577 | I12: 2621 | J12: 2698
B13: Melaka | D13: 11860 | E13: 979 | F13: 921 | G13: 985 | H13: 907 | I13: 1032 | J13: 917
B14: Negeri Sembilan | D14: 14141 | E14: 1263 | F14: 1085 | G14: 1233 | H14: 1134 | I14: 1192 | J14: 1091
B15: Pahang | D15: 20654 | E15: 1697 | F15: 1524 | G15: 1665 | H15: 1703 | I15: 1739 | J15: 1647
B16: Perak | D16: 26275 | E16: 2236 | F16: 2020 | G16: 2252 | H16: 2135 | I16: 2245 | J16: 2135
B17: Perlis | D17: 3508 | E17: 300 | F17: 236 | G17: 292 | H17: 305 | I17: 297 | J17: 279
B18: Pulau Pinang | D18: 16722 | E18: 1481 | F18: 1278 | G18: 1406 | H18: 1309 | I18: 1338 | J18: 1251
B19: Sabah | D19: 40768 | E19: 3445 | F19: 3061 | G19: 3391 | H19: 3373 | I19: 3413 | J19: 3325
B20: Sarawak | D20: 28678 | E20: 2431 | F20: 2323 | G20: 2378 | H20: 2250 | I20: 2471 | J20: 2281
... B25: W.P. Putrajaya | D25: 1422 | E25: 145 | F25: 109 | G25: 108 | H25: 134 | I25: 112 | J25: 123
B27: Jadual 3.4: Kelahiran hidup mengikut negeri dan bulan kejadian, Malaysia, 2025 (samb.)
B28: Table 3.4: Live births by state and month of occurrence, Malaysia, 2025 (cont'd)
B31: Negeri | D31: Julai | E31: Ogos | F31: September | G31: Oktober | H31: November | I31: Disember
B32: State | D32: July | E32: August | G32: October | I32: December
B35: Malaysia | D35: 33381 | E35: 32894 | F35: 33511 | G35: 35911 | H35: 32105 | I35: 33764
B36: Johor | D36: 3964 | E36: 3892 | F36: 3958 | G36: 4343 | H36: 3890 | I36: 4211
B37: Kedah | D37: 2529 | E37: 2418 | F37: 2656 | G37: 2823 | H37: 2531 | I37: 2596
B38: Kelantan | D38: 2769 | E38: 2692 | F38: 2605 | G38: 2914 | H38: 2594 | I38: 2780
B39: Melaka | D39: 1037 | E39: 986 | F39: 977 | G39: 1114 | H39: 1023 | I39: 982
B40: Negeri Sembilan | D40: 1116 | E40: 1236 | F40: 1231 | G40: 1287 | H40: 1108 | I40: 1165
B41: Pahang | D41: 1798 | E41: 1842 | F41: 1747 | G41: 1824 | H41: 1734 | I41: 1734
B42: Perak | D42: 2151 | E42: 2208 | F42: 2207 | G42: 2435 | H42: 2095 | I42: 2156
B43: Perlis | D43: 289 | E43: 280 | F43: 318 | G43: 328 | H43: 285 | I43: 299
B44: Pulau Pinang | D44: 1450 | E44: 1416 | F44: 1464 | G44: 1557 | H44: 1332 | I44: 1440
B45: Sabah | D45: 3336 | E45: 3341 | F45: 3428 | G45: 3645 | H45: 3468 | I45: 3542
B46: Sarawak | D46: 2303 | E46: 2354 | F46: 2499 | G46: 2572 | H46: 2321 | I46: 2495
... B51: W.P. Putrajaya | D51: 153 | E51: 88 | F51: 90 | G51: 117 | H51: 115 | I51: 128

Sheet 3.5_AD_sex 
B1: Jadual 3.5: Kelahiran hidup (bilangan dan kadar) mengikut negeri, daerah pentadbiran dan jantina, Malaysia, 2025
B2: Table 3.5: Live births (number and rate) by state, administrative district and sex, Malaysia, 2025
C4: Kelahiran hidup | G4: Kadar kelahiran kasar
B5: Negeri dan daerah pentadbiran | C5: Live births | G5: Crude birth rate
B6: State and administrative district | C6: Jumlah | D6: Lelaki | E6: Perempuan | G6: Jumlah | H6: Lelaki | I6: Perempuan
C7: Total | D7: Male | E7: Female | G7: Total | H7: Male | I7: Female
B9: Malaysia | C9: 396175 | D9: 204934 | E9: 191241 | G9: 11.6 | H9: 11.4 | I9: 11.8
B11: Johor | C11: 48093 | D11: 24832 | E11: 23261 | G11: 11.4 | H11: 11 | I11: 11.9
B12: Batu Pahat | C12: 5567 | D12: 2865 | E12: 2702 | G12: 10.9 | H12: 10.6 | I12: 11.2
B13: Johor Bahru | C13: 21135 | D13: 10934 | E13: 10201 | G13: 11.7 | H13: 11.3 | I13: 12.1
B14: Kluang | C14: 3654 | D14: 1920 | E14: 1734 | G14: 10.9 | H14: 10.3 | I14: 11.6
B15: Kota Tinggi | C15: 3434 | D15: 1738 | E15: 1696 | G15: 14.6 | H15: 13.9 | I15: 15.5
B16: Mersing | C16: 1058 | D16: 553 | E16: 505 | G16: 13 | H16: 12.7 | I16: 13.3
B17: Muar | C17: 3377 | D17: 1700 | E17: 1677 | G17: 10.4 | H17: 9.5 | I17: 11.5
B18: Pontian | C18: 2389 | D18: 1253 | E18: 1136 | G18: 13.4 | H18: 13.2 | I18: 13.7
B19: Segamat | C19: 2295 | D19: 1182 | E19: 1113 | G19: 11.2 | H19: 11 | I19: 11.4
B20: Kulai | C20: 3385 | D20: 1739 | E20: 1646 | G20: 9.6 | H20: 9.1 | I20: 10.2
B21: Tangkak | C21: 1799 | D21: 948 | E21: 851 | G21: 10.6 | H21: 10.7 | I21: 10.5
... B62: Jempol | C62: 1522 | D62: 747 | E62: 775 | G62: 11.6 | H62: 11.1 | I62: 12.2
B64: Kadar adalah bagi setiap 1,000 penduduk
B65: The rates are per 1,000 population
B66: Jadual 3.5: Kelahiran hidup (bilangan dan kadar) mengikut negeri, daerah pentadbiran dan jantina, Malaysia, 2025 (samb.)
B67: Table 3.5: Live births (number and rate) by state, administrative district and sex, Malaysia, 2025 (cont'd)
C69: Kelahiran hidup | G69: Kadar kelahiran kasar
B70: Negeri dan daerah pentadbiran | C70: Live births | G70: Crude birth rate
B71: State and administrative district | C71: Jumlah | D71: Lelaki | E71: Perempuan | G71: Jumlah | H71: Lelaki | I71: Perempuan
C72: Total | D72: Male | E72: Female | G72: Total | H72: Male | I72: Female
B74: Pahang | C74: 20654 | D74: 10631 | E74: 10023 | G74: 12.3 | H74: 11.9 | I74: 12.8
B75: Bentong | C75: 1090 | D75: 560 | E75: 530 | G75: 9.1 | H75: 8.3 | I75: 10.2
B76: Cameron Highlands | C76: 434 | D76: 220 | E76: 214 | G76: 9.7 | H76: 8.1 | I76: 12.1
B77: Jerantut | C77: 1299 | D77: 691 | E77: 608 | G77: 13 | H77: 12.9 | I77: 13
B78: Kuantan | C78: 7014 | D78: 3669 | E78: 3345 | G78: 12.2 | H78: 12.2 | I78: 12.1
B79: Lipis | C79: 1248 | D79: 657 | E79: 591 | G79: 12.1 | H79: 11.8 | I79: 12.5
B80: Pekan | C80: 2042 | D80: 1044 | E80: 998 | G80: 15.8 | H80: 15 | I80: 16.8
B81: Raub | C81: 988 | D81: 508 | E81: 480 | G81: 9.9 | H81: 9.6 | I81: 10.3
B82: Temerloh | C82: 2217 | D82: 1121 | E82: 1096 | G82: 12.4 | H82: 12.1 | I82: 12.8
B83: Rompin | C83: 1805 | D83: 922 | E83: 883 | G83: 17.4 | H83: 16.4 | I83: 18.5
B84: Maran | C84: 1546 | D84: 735 | E84: 811 | G84: 12.9 | H84: 11.6 | I84: 14.4
B85: Bera | C85: 971 | D85: 504 | E85: 467 | G85: 9.6 | H85: 9.3 | I85: 9.9
... B139: Membakut | C139: 680 | D139: 352 | E139: 328 | G139: 12.6 | H139: 12.4 | I139: 12.8
B141: Kadar adalah bagi setiap 1,000 penduduk
B142: The rates are per 1,000 population
B143: =B66 -> Jadual 3.5: Kelahiran hidup (bilangan dan kadar) mengikut negeri, daerah pentadbiran dan jantina, Malaysia, 2025 (samb.)
B144: =B67 -> Table 3.5: Live births (number and rate) by state, administrative district and sex, Malaysia, 2025 (cont'd)
C146: Kelahiran hidup | G146: Kadar kelahiran kasar
B147: Negeri dan daerah pentadbiran | C147: Live births | G147: Crude birth rate
B148: State and administrative district | C148: Jumlah | D148: Lelaki | E148: Perempuan | G148: Jumlah | H148: Lelaki | I148: Perempuan
C149: Total | D149: Male | E149: Female | G149: Total | H149: Male | I149: Female
B151: Sarawak | C151: 28678 | D151: 14984 | E151: 13694 | G151: 11.3 | H151: 11.5 | I151: 11.2
B152: Kuching | C152: 6134 | D152: 3341 | E152: 2793 | G152: 9.8 | H152: 10.6 | I152: 9
B153: Bau | C153: 681 | D153: 346 | E153: 335 | G153: 12.6 | H153: 12.4 | I153: 12.8
B154: Lundu | C154: 493 | D154: 251 | E154: 242 | G154: 14.2 | H154: 13.5 | I154: 14.9
B155: Samarahan | C155: 1236 | D155: 665 | E155: 571 | G155: 9.1 | H155: 10.1 | I155: 8.1
B156: Serian | C156: 927 | D156: 479 | E156: 448 | G156: 16.4 | H156: 16.6 | I156: 16.2
B157: Simunjan | C157: 93 | D157: 50 | E157: 43 | G157: 7.7 | H157: 8 | I157: 7.5
B158: Sri Aman | C158: 495 | D158: 267 | E158: 228 | G158: 11.5 | H158: 12.1 | I158: 10.9
B159: Lubok Antu | C159: 339 | D159: 169 | E159: 170 | G159: 13.7 | H159: 13.6 | I159: 13.9
B160: Betong | C160: 665 | D160: 342 | E160: 323 | G160: 17.8 | H160: 17.7 | I160: 18
B161: Saratok | C161: 300 | D161: 153 | E161: 147 | G161: 12.7 | H161: 13.2 | I161: 12.3
B162: Sarikei | C162: 562 | D162: 288 | E162: 274 | G162: 12.4 | H162: 12.7 | I162: 12.1
... B223: W.P. Putrajaya | C223: 1422 | D223: 724 | E223: 698 | G223: 11.8 | H223: 12.2 | I223: 11.4
B225: Kadar adalah bagi setiap 1,000 penduduk
B226: The rates are per 1,000 population

Sheet 3.6_AD(total)_etnik
B1: Jadual 3.6: Kelahiran hidup mengikut negeri, daerah pentadbiran, kumpulan etnik dan jantina, Malaysia, 2025
B2: Table 3.6: Live births by state, administrative district, ethnic group and sex, Malaysia, 2025
B4: Jumlah/Total
C5: Kumpulan etnik/Ethnic group
B6: Negeri dan daerah pentadbiran | C6: Jumlah | D6: Bumiputera
B7: State and administrative district | C7: Total | D7: Jumlah | E7: Melayu | F7: Bumiputera Lain | G7: Cina | H7: India | I7: Lain-lain1
D8: Total | E8: Malay | F8: Other Bumiputera | G8: Chinese | H8: Indians | I8: Others1
B11: Malaysia | C11: 396175 | D11: 317126 | E11: 267196 | F11: 49930 | G11: 34164 | H11: 17266 | I11: 27619
B13: Johor | C13: 48093 | D13: 35309 | E13: 34100 | F13: 1209 | G13: 7541 | H13: 2914 | I13: 2329
B14: Batu Pahat | C14: 5567 | D14: 4698 | E14: 4620 | F14: 78 | G14: 704 | H14: 55 | I14: 110
B15: Johor Bahru | C15: 21135 | D15: 13541 | E15: 12809 | F15: 732 | G15: 4116 | H15: 2015 | I15: 1463
B16: Kluang | C16: 3654 | D16: 2893 | E16: 2822 | F16: 71 | G16: 471 | H16: 200 | I16: 90
B17: Kota Tinggi | C17: 3434 | D17: 3129 | E17: 3068 | F17: 61 | G17: 104 | H17: 63 | I17: 138
B18: Mersing | C18: 1058 | D18: 989 | E18: 959 | F18: 30 | G18: 42 | H18: 5 | I18: 22
B19: Muar | C19: 3377 | D19: 2654 | E19: 2620 | F19: 34 | G19: 589 | H19: 37 | I19: 97
B20: Pontian | C20: 2389 | D20: 1961 | E20: 1912 | F20: 49 | G20: 292 | H20: 24 | I20: 112
B21: Segamat | C21: 2295 | D21: 1769 | E21: 1715 | F21: 54 | G21: 328 | H21: 148 | I21: 50
B22: Kulai | C22: 3385 | D22: 2235 | E22: 2157 | F22: 78 | G22: 633 | H22: 313 | I22: 204
B23: Tangkak | C23: 1799 | D23: 1440 | E23: 1418 | F23: 22 | G23: 262 | H23: 54 | I23: 43
... B32: Langkawi | C32: 1692 | D32: 1563 | E32: 1553 | F32: 10 | G32: 23 | H32: 14 | I32: 92
B33: Padang Terap | C33: 1158 | D33: 1061 | E33: 1059 | F33: 2 | G33: 2 | H33: - | I33: 95
B34: Sik | C34: 1167 | D34: 1101 | E34: 1098 | F34: 3 | G34: 4 | H34: - | I34: 62
B35: Yan | C35: 1067 | D35: 1009 | E35: 1006 | F35: 3 | G35: 11 | H35: 1 | I35: 46
B36: Pendang | C36: 1698 | D36: 1567 | E36: 1559 | F36: 8 | G36: 15 | H36: 6 | I36: 110
B37: Pokok Sena | C37: 876 | D37: 806 | E37: 803 | F37: 3 | G37: 14 | H37: 1 | I37: 55
B39: Kelantan | C39: 31858 | D39: 30856 | E39: 30434 | F39: 422 | G39: 262 | H39: 15 | I39: 725
B40: Bachok | C40: 3170 | D40: 3089 | E40: 3085 | F40: 4 | G40: 15 | H40: - | I40: 66
B41: Kota Bharu | C41: 9299 | D41: 8959 | E41: 8944 | F41: 15 | G41: 89 | H41: 5 | I41: 246
B42: Machang | C42: 1834 | D42: 1805 | E42: 1800 | F42: 5 | G42: 12 | H42: - | I42: 17
B43: Pasir Mas | C43: 4031 | D43: 3957 | E43: 3953 | F43: 4 | G43: 18 | H43: - | I43: 56
B44: Pasir Puteh | C44: 2803 | D44: 2719 | E44: 2711 | F44: 8 | G44: 6 | H44: - | I44: 78
B45: Tanah Merah | C45: 2634 | D45: 2518 | E45: 2516 | F45: 2 | G45: 33 | H45: 2 | I45: 81
B46: Tumpat | C46: 3430 | D46: 3320 | E46: 3316 | F46: 4 | G46: 52 | H46: - | I46: 58
B47: Gua Musang | C47: 1689 | D47: 1627 | E47: 1497 | F47: 130 | G47: 20 | H47: 5 | I47: 37
B48: Kuala Krai | C48: 1975 | D48: 1887 | E48: 1877 | F48: 10 | G48: 17 | H48: 3 | I48: 68
B49: Jeli | C49: 734 | D49: 723 | E49: 711 | F49: 12 | G49: - | H49: - | I49: 11
B50: Lojing | C50: 259 | D50: 252 | E50: 24 | F50: 228 | G50: - | H50: - | I50: 7
B52: Melaka | C52: 11860 | D52: 10133 | E52: 9988 | F52: 145 | G52: 967 | H52: 459 | I52: 301
B53: Alor Gajah | C53: 2885 | D53: 2548 | E53: 2512 | F53: 36 | G53: 136 | H53: 145 | I53: 56
B54: Jasin | C54: 2363 | D54: 2084 | E54: 2057 | F54: 27 | G54: 102 | H54: 158 | I54: 19
B55: Melaka Tengah | C55: 6612 | D55: 5501 | E55: 5419 | F55: 82 | G55: 729 | H55: 156 | I55: 226
B57: Negeri Sembilan | C57: 14141 | D57: 11171 | E57: 10796 | F57: 375 | G57: 986 | H57: 1539 | I57: 445
B58: Jelebu | C58: 471 | D58: 423 | E58: 353 | F58: 70 | G58: 35 | H58: 8 | I58: 5
B59: Kuala Pilah | C59: 887 | D59: 814 | E59: 787 | F59: 27 | G59: 27 | H59: 32 | I59: 14
B60: Port Dickson | C60: 1582 | D60: 1182 | E60: 1145 | F60: 37 | G60: 130 | H60: 232 | I60: 38
B61: Rembau | C61: 730 | D61: 689 | E61: 669 | F61: 20 | G61: 7 | H61: 28 | I61: 6
B62: Seremban | C62: 7966 | D62: 5968 | E62: 5821 | F62: 147 | G62: 628 | H62: 1019 | I62: 351
B63: Tampin | C63: 983 | D63: 816 | E63: 799 | F63: 17 | G63: 74 | H63: 83 | I63: 10
B64: Jempol | C64: 1522 | D64: 1279 | E64: 1222 | F64: 57 | G64: 85 | H64: 137 | I64: 21
B66: 1 Termasuk bukan warganegara Malaysia
B67: Includes non-Malaysian citizens
B68: Jadual 3.6: Kelahiran hidup mengikut negeri, daerah pentadbiran, kumpulan etnik dan jantina, Malaysia, 2025 (samb.)
B69: Table 3.6: Live births by state, administrative district, ethnic group and sex, Malaysia, 2025 (cont'd)
B71: Jumlah/Total
C72: Kumpulan etnik/Ethnic group
B73: Negeri dan daerah pentadbiran | C73: Jumlah | D73: Bumiputera
B74: State and administrative district | C74: Total | D74: Jumlah | E74: Melayu | F74: Bumiputera Lain | G74: Cina | H74: India | I74: Lain-lain1
D75: Total | E75: Malay | F75: Other Bumiputera | G75: Chinese | H75: Indians | I75: Others1
B78: Pahang | C78: 20654 | D78: 18460 | E78: 16698 | F78: 1762 | G78: 970 | H78: 457 | I78: 767
B79: Bentong | C79: 1090 | D79: 845 | E79: 774 | F79: 71 | G79: 115 | H79: 76 | I79: 54
B80: Cameron Highlands | C80: 434 | D80: 255 | E80: 110 | F80: 145 | G80: 62 | H80: 38 | I80: 79
B81: Jerantut | C81: 1299 | D81: 1211 | E81: 1149 | F81: 62 | G81: 40 | H81: 30 | I81: 18
B82: Kuantan | C82: 7014 | D82: 6216 | E82: 6125 | F82: 91 | G82: 338 | H82: 109 | I82: 351
B83: Lipis | C83: 1248 | D83: 1166 | E83: 828 | F83: 338 | G83: 44 | H83: 24 | I83: 14
B84: Pekan | C84: 2042 | D84: 1974 | E84: 1601 | F84: 373 | G84: 6 | H84: 1 | I84: 61
B85: Raub | C85: 988 | D85: 758 | E85: 664 | F85: 94 | G85: 142 | H85: 42 | I85: 46
B86: Temerloh | C86: 2217 | D86: 1958 | E86: 1828 | F86: 130 | G86: 101 | H86: 90 | I86: 68
B87: Rompin | C87: 1805 | D87: 1760 | E87: 1438 | F87: 322 | G87: 9 | H87: 3 | I87: 33
B88: Maran | C88: 1546 | D88: 1504 | E88: 1455 | F88: 49 | G88: 12 | H88: 8 | I88: 22
B89: Bera | C89: 971 | D89: 813 | E89: 726 | F89: 87 | G89: 101 | H89: 36 | I89: 21
... B119: Sandakan | C119: 4671 | D119: 3368 | E119: 1055 | F119: 2313 | G119: 205 | H119: 8 | I119: 1090
B120: Kinabatangan | C120: 648 | D120: 559 | E120: 171 | F120: 388 | G120: 1 | H120: - | I120: 88
B121: Beluran | C121: 813 | D121: 733 | E121: 52 | F121: 681 | G121: 1 | H121: - | I121: 79
B122: Kota Kinabalu | C122: 4956 | D122: 3259 | E122: 644 | F122: 2615 | G122: 275 | H122: 12 | I122: 1410
B123: Ranau | C123: 1384 | D123: 1350 | E123: 61 | F123: 1289 | G123: 2 | H123: - | I123: 32
B124: Kota Belud | C124: 1480 | D124: 1421 | E124: 85 | F124: 1336 | G124: 4 | H124: 1 | I124: 54
B125: Tuaran | C125: 2021 | D125: 1793 | E125: 222 | F125: 1571 | G125: 10 | H125: 1 | I125: 217
B126: Penampang | C126: 1298 | D126: 1015 | E126: 96 | F126: 919 | G126: 105 | H126: 5 | I126: 173
B127: Papar | C127: 1569 | D127: 1379 | E127: 388 | F127: 991 | G127: 16 | H127: 1 | I127: 173
B128: Kudat | C128: 1423 | D128: 1256 | E128: 79 | F128: 1177 | G128: 9 | H128: - | I128: 158
B129: Kota Marudu | C129: 1237 | D129: 1201 | E129: 54 | F129: 1147 | G129: 2 | H129: - | I129: 34
B130: Pitas | C130: 725 | D130: 693 | E130: 39 | F130: 654 | G130: 2 | H130: - | I130: 30
B131: Beaufort | C131: 696 | D131: 623 | E131: 149 | F131: 474 | G131: 6 | H131: 1 | I131: 66
B132: Kuala Penyu | C132: 323 | D132: 310 | E132: 64 | F132: 246 | G132: - | H132: - | I132: 13
B133: Sipitang | C133: 470 | D133: 421 | E133: 114 | F133: 307 | G133: 3 | H133: 1 | I133: 45
B134: Tenom | C134: 779 | D134: 736 | E134: 43 | F134: 693 | G134: 13 | H134: - | I134: 30
B135: Nabawan | C135: 589 | D135: 582 | E135: 2 | F135: 580 | G135: 2 | H135: - | I135: 5
B136: Keningau | C136: 2393 | D136: 2135 | E136: 145 | F136: 1990 | G136: 38 | H136: 2 | I136: 218
B137: Tambunan | C137: 594 | D137: 577 | E137: 10 | F137: 567 | G137: 1 | H137: - | I137: 16
B138: Kunak | C138: 895 | D138: 613 | E138: 242 | F138: 371 | G138: 6 | H138: 2 | I138: 274
B139: Tongod | C139: 333 | D139: 323 | E139: 3 | F139: 320 | G139: 1 | H139: - | I139: 9
B140: Putatan | C140: 988 | D140: 782 | E140: 253 | F140: 529 | G140: 13 | H140: 4 | I140: 189
B141: Telupid | C141: 256 | D141: 233 | E141: 28 | F141: 205 | G141: - | H141: - | I141: 23
B142: Kalabakan | C142: 230 | D142: 199 | E142: 51 | F142: 148 | G142: 2 | H142: - | I142: 29
B143: Membakut | C143: 680 | D143: 641 | E143: 308 | F143: 333 | G143: 5 | H143: - | I143: 34
B145: 1 Termasuk bukan warganegara Malaysia
B146: Includes non-Malaysian citizens
B147: =B68 -> Jadual 3.6: Kelahiran hidup mengikut negeri, daerah pentadbiran, kumpulan etnik dan jantina, Malaysia, 2025 (samb.)
B148: =B69 -> Table 3.6: Live births by state, administrative district, ethnic group and sex, Malaysia, 2025 (cont'd)
B150: Jumlah/Total
...

Sheet 3.6_AD(male)_etnik
B1: Jadual 3.6: Kelahiran hidup mengikut negeri, daerah pentadbiran, kumpulan etnik dan jantina, Malaysia, 2025 (samb.)
B2: Table 3.6: Live births by state, administrative district, ethnic group and sex, Malaysia, 2025 (cont'd)
B4: Lelaki/Male
C5: Kumpulan etnik/Ethnic group
B6: Negeri dan daerah pentadbiran | C6: Jumlah | D6: Bumiputera
B7: State and administrative district | C7: Total | D7: Jumlah | E7: Melayu | F7: Bumiputera Lain | G7: Cina | H7: India | I7: Lain-lain1
D8: Total | E8: Malay | F8: Other Bumiputera | G8: Chinese | H8: Indians | I8: Others1
B11: Malaysia | C11: 204934 | D11: 163945 | E11: 137785 | F11: 26160 | G11: 17922 | H11: 8821 | I11: 14246
B13: Johor | C13: 24832 | D13: 18247 | E13: 17586 | F13: 661 | G13: 3931 | H13: 1473 | I13: 1181
B14: Batu Pahat | C14: 2865 | D14: 2410 | E14: 2370 | F14: 40 | G14: 376 | H14: 29 | I14: 50
B15: Johor Bahru | C15: 10934 | D15: 7026 | E15: 6632 | F15: 394 | G15: 2145 | H15: 1016 | I15: 747
B16: Kluang | C16: 1920 | D16: 1528 | E16: 1484 | F16: 44 | G16: 245 | H16: 97 | I16: 50
B17: Kota Tinggi | C17: 1738 | D17: 1594 | E17: 1562 | F17: 32 | G17: 52 | H17: 27 | I17: 65
B18: Mersing | C18: 553 | D18: 514 | E18: 495 | F18: 19 | G18: 20 | H18: 2 | I18: 17
B19: Muar | C19: 1700 | D19: 1335 | E19: 1318 | F19: 17 | G19: 294 | H19: 19 | I19: 52
B20: Pontian | C20: 1253 | D20: 1015 | E20: 989 | F20: 26 | G20: 166 | H20: 15 | I20: 57
B21: Segamat | C21: 1182 | D21: 913 | E21: 880 | F21: 33 | G21: 169 | H21: 74 | I21: 26
B22: Kulai | C22: 1739 | D22: 1154 | E22: 1112 | F22: 42 | G22: 328 | H22: 160 | I22: 97
B23: Tangkak | C23: 948 | D23: 758 | E23: 744 | F23: 14 | G23: 136 | H23: 34 | I23: 20
... B32: Langkawi | C32: 863 | D32: 798 | E32: 792 | F32: 6 | G32: 8 | H32: 6 | I32: 51
B33: Padang Terap | C33: 600 | D33: 555 | E33: 554 | F33: 1 | G33: 1 | H33: - | I33: 44
B34: Sik | C34: 584 | D34: 545 | E34: 543 | F34: 2 | G34: 3 | H34: - | I34: 36
B35: Yan | C35: 508 | D35: 480 | E35: 479 | F35: 1 | G35: 4 | H35: 1 | I35: 23
B36: Pendang | C36: 857 | D36: 787 | E36: 783 | F36: 4 | G36: 9 | H36: 3 | I36: 58
B37: Pokok Sena | C37: 462 | D37: 427 | E37: 426 | F37: 1 | G37: 10 | H37: 1 | I37: 24
B39: Kelantan | C39: 16469 | D39: 15940 | E39: 15707 | F39: 233 | G39: 147 | H39: 4 | I39: 378
B40: Bachok | C40: 1657 | D40: 1617 | E40: 1615 | F40: 2 | G40: 9 | H40: - | I40: 31
B41: Kota Bharu | C41: 4777 | D41: 4596 | E41: 4587 | F41: 9 | G41: 47 | H41: - | I41: 134
B42: Machang | C42: 947 | D42: 929 | E42: 928 | F42: 1 | G42: 8 | H42: - | I42: 10
B43: Pasir Mas | C43: 2103 | D43: 2070 | E43: 2068 | F43: 2 | G43: 12 | H43: - | I43: 21
B44: Pasir Puteh | C44: 1491 | D44: 1446 | E44: 1441 | F44: 5 | G44: 4 | H44: - | I44: 41
B45: Tanah Merah | C45: 1335 | D45: 1271 | E45: 1269 | F45: 2 | G45: 18 | H45: 1 | I45: 45
B46: Tumpat | C46: 1791 | D46: 1737 | E46: 1733 | F46: 4 | G46: 31 | H46: - | I46: 23
B47: Gua Musang | C47: 880 | D47: 844 | E47: 770 | F47: 74 | G47: 11 | H47: 2 | I47: 23
B48: Kuala Krai | C48: 985 | D48: 937 | E48: 931 | F48: 6 | G48: 7 | H48: 1 | I48: 40
B49: Jeli | C49: 363 | D49: 356 | E49: 354 | F49: 2 | G49: - | H49: - | I49: 7
B50: Lojing | C50: 140 | D50: 137 | E50: 11 | F50: 126 | G50: - | H50: - | I50: 3
B52: Melaka | C52: 6163 | D52: 5279 | E52: 5199 | F52: 80 | G52: 502 | H52: 237 | I52: 145
B53: Alor Gajah | C53: 1543 | D53: 1362 | E53: 1342 | F53: 20 | G53: 78 | H53: 76 | I53: 27
B54: Jasin | C54: 1196 | D54: 1067 | E54: 1052 | F54: 15 | G54: 44 | H54: 78 | I54: 7
B55: Melaka Tengah | C55: 3424 | D55: 2850 | E55: 2805 | F55: 45 | G55: 380 | H55: 83 | I55: 111
B57: Negeri Sembilan | C57: 7290 | D57: 5727 | E57: 5540 | F57: 187 | G57: 521 | H57: 828 | I57: 214
B58: Jelebu | C58: 245 | D58: 219 | E58: 191 | F58: 28 | G58: 23 | H58: 2 | I58: 1
B59: Kuala Pilah | C59: 455 | D59: 418 | E59: 403 | F59: 15 | G59: 11 | H59: 19 | I59: 7
B60: Port Dickson | C60: 849 | D60: 637 | E60: 616 | F60: 21 | G60: 66 | H60: 125 | I60: 21
B61: Rembau | C61: 373 | D61: 357 | E61: 351 | F61: 6 | G61: 4 | H61: 10 | I61: 2
B62: Seremban | C62: 4108 | D62: 3051 | E62: 2979 | F62: 72 | G62: 330 | H62: 558 | I62: 169
B63: Tampin | C63: 513 | D63: 423 | E63: 411 | F63: 12 | G63: 41 | H63: 45 | I63: 4
B64: Jempol | C64: 747 | D64: 622 | E64: 589 | F64: 33 | G64: 46 | H64: 69 | I64: 10
B66: 1 Termasuk bukan warganegara Malaysia
B67: Includes non-Malaysian citizens
B68: ='3.6_AD(total)_etnik'!B68 -> Jadual 3.6: Kelahiran hidup mengikut negeri, daerah pentadbiran, kumpulan etnik dan jantina, Malaysia, 2025 (samb.)
B69: ='3.6_AD(total)_etnik'!B69 -> Table 3.6: Live births by state, administrative district, ethnic group and sex, Malaysia, 2025 (cont'd)
B71: Lelaki/Male
C72: Kumpulan etnik/Ethnic group
B73: Negeri dan daerah pentadbiran | C73: Jumlah | D73: Bumiputera
B74: State and administrative district | C74: Total | D74: Jumlah | E74: Melayu | F74: Bumiputera Lain | G74: Cina | H74: India | I74: Lain-lain1
D75: Total | E75: Malay | F75: Other Bumiputera | G75: Chinese | H75: Indians | I75: Others1
B78: Pahang | C78: 10631 | D78: 9503 | E78: 8556 | F78: 947 | G78: 506 | H78: 234 | I78: 388
B79: Bentong | C79: 560 | D79: 426 | E79: 393 | F79: 33 | G79: 65 | H79: 40 | I79: 29
B80: Cameron Highlands | C80: 220 | D80: 133 | E80: 55 | F80: 78 | G80: 26 | H80: 21 | I80: 40
B81: Jerantut | C81: 691 | D81: 643 | E81: 601 | F81: 42 | G81: 21 | H81: 15 | I81: 12
B82: Kuantan | C82: 3669 | D82: 3255 | E82: 3195 | F82: 60 | G82: 171 | H82: 65 | I82: 178
B83: Lipis | C83: 657 | D83: 618 | E83: 429 | F83: 189 | G83: 21 | H83: 11 | I83: 7
B84: Pekan | C84: 1044 | D84: 1010 | E84: 817 | F84: 193 | G84: 6 | H84: - | I84: 28
B85: Raub | C85: 508 | D85: 395 | E85: 348 | F85: 47 | G85: 74 | H85: 18 | I85: 21
B86: Temerloh | C86: 1121 | D86: 985 | E86: 920 | F86: 65 | G86: 58 | H86: 44 | I86: 34
B87: Rompin | C87: 922 | D87: 899 | E87: 733 | F87: 166 | G87: 6 | H87: 2 | I87: 15
B88: Maran | C88: 735 | D88: 714 | E88: 688 | F88: 26 | G88: 6 | H88: 3 | I88: 12
B89: Bera | C89: 504 | D89: 425 | E89: 377 | F89: 48 | G89: 52 | H89: 15 | I89: 12
B91: Perak | C91: 13568 | D91: 10842 | E91: 10259 | F91: 583 | G91: 1337 | H91: 1049 | I91: 340
B92: Batang Padang | C92: 662 | D92: 551 | E92: 407 | F92: 144 | G92: 48 | H92: 52 | I92: 11
B93: Manjung | C93: 1431 | D93: 1071 | E93: 1048 | F93: 23 | G93: 176 | H93: 137 | I93: 47
B94: Kinta | C94: 3970 | D94: 2824 | E94: 2736 | F94: 88 | G94: 611 | H94: 426 | I94: 109
B95: Kerian | C95: 1195 | D95: 1038 | E95: 1037 | F95: 1 | G95: 63 | H95: 51 | I95: 43
B96: Kuala Kangsar | C96: 1024 | D96: 852 | E96: 766 | F96: 86 | G96: 76 | H96: 85 | I96: 11
B97: Larut & Matang | C97: 1677 | D97: 1373 | E97: 1360 | F97: 13 | G97: 152 | H97: 108 | I97: 44
... B103: Bagan Datuk | C103: 313 | D103: 231 | E103: 226 | F103: 5 | G103: 30 | H103: 46 | I103: 6
B104: Selama | C104: 311 | D104: 301 | E104: 301 | F104: - | G104: 2 | H104: 5 | I104: 3
B106: Perlis | C106: 1812 | D106: 1689 | E106: 1681 | F106: 8 | G106: 42 | H106: 11 | I106: 70
B108: Pulau Pinang | C108: 8617 | D108: 5465 | E108: 5424 | F108: 41 | G108: 1701 | H108: 694 | I108: 757
B109: Seberang Perai Tengah | C109: 2204 | D109: 1417 | E109: 1408 | F109: 9 | G109: 396 | H109: 167 | I109: 224
B110: Seberang Perai Utara | C110: 2201 | D110: 1754 | E110: 1747 | F110: 7 | G110: 226 | H110: 84 | I110: 137
B111: Seberang Perai Selatan | C111: 1239 | D111: 726 | E111: 723 | F111: 3 | G111: 259 | H111: 185 | I111: 69
B112: Timur Laut | C112: 1588 | D112: 630 | E112: 613 | F112: 17 | G112: 539 | H112: 191 | I112: 228
B113: Barat Daya | C113: 1385 | D113: 938 | E113: 933 | F113: 5 | G113: 281 | H113: 67 | I113: 99
B115: Sabah | C115: 21351 | D115: 17261 | E115: 3456 | F115: 13805 | G115: 519 | H115: 26 | I115: 3545
B116: Tawau | C116: 2091 | D116: 1575 | E116: 853 | F116: 722 | G116: 85 | H116: 2 | I116: 429
B117: Lahad Datu | C117: 1287 | D117: 996 | E117: 252 | F117: 744 | G117: 27 | H117: 1 | I117: 263
B118: Semporna | C118: 1576 | D118: 1020 | E118: 94 | F118: 926 | G118: 2 | H118: 4 | I118: 550
B119: Sandakan | C119: 2431 | D119: 1762 | E119: 558 | F119: 1204 | G119: 113 | H119: 5 | I119: 551
B120: Kinabatangan | C120: 351 | D120: 303 | E120: 96 | F120: 207 | G120: - | H120: - | I120: 48
B121: Beluran | C121: 448 | D121: 413 | E121: 29 | F121: 384 | G121: - | H121: - | I121: 35
B122: Kota Kinabalu | C122: 2568 | D122: 1684 | E122: 337 | F122: 1347 | G122: 161 | H122: 6 | I122: 717
B123: Ranau | C123: 698 | D123: 683 | E123: 22 | F123: 661 | G123: 1 | H123: - | I123: 14
B124: Kota Belud | C124: 771 | D124: 737 | E124: 41 | F124: 696 | G124: 1 | H124: - | I124: 33
B125: Tuaran | C125: 1029 | D125: 896 | E125: 112 | F125: 784 | G125: 9 | H125: 1 | I125: 123
B126: Penampang | C126: 665 | D126: 526 | E126: 49 | F126: 477 | G126: 50 | H126: 2 | I126: 87
B127: Papar | C127: 828 | D127: 731 | E127: 209 | F127: 522 | G127: 7 | H127: - | I127: 90
B128: Kudat | C128: 758 | D128: 667 | E128: 38 | F128: 629 | G128: 5 | H128: - | I128: 86
...

Sheet 3.6_AD(female)_etnik
B1: ='3.6_AD(male)_etnik'!B1 -> Jadual 3.6: Kelahiran hidup mengikut negeri, daerah pentadbiran, kumpulan etnik dan jantina, Malaysia, 2025 (samb.)
B2: ='3.6_AD(male)_etnik'!B2 -> Table 3.6: Live births by state, administrative district, ethnic group and sex, Malaysia, 2025 (cont'd)
B4: Perempuan/Female
C5: Kumpulan etnik/Ethnic group
B6: Negeri dan daerah pentadbiran | C6: Jumlah | D6: Bumiputera
B7: State and administrative district | C7: Total | D7: Jumlah | E7: Melayu | F7: Bumiputera Lain | G7: Cina | H7: India | I7: Lain-lain1
D8: Total | E8: Malay | F8: Other Bumiputera | G8: Chinese | H8: Indians | I8: Others1
B11: Malaysia | C11: 191241 | D11: 153181 | E11: 129411 | F11: 23770 | G11: 16242 | H11: 8445 | I11: 13373
B13: Johor | C13: 23261 | D13: 17062 | E13: 16514 | F13: 548 | G13: 3610 | H13: 1441 | I13: 1148
B14: Batu Pahat | C14: 2702 | D14: 2288 | E14: 2250 | F14: 38 | G14: 328 | H14: 26 | I14: 60
B15: Johor Bahru | C15: 10201 | D15: 6515 | E15: 6177 | F15: 338 | G15: 1971 | H15: 999 | I15: 716
B16: Kluang | C16: 1734 | D16: 1365 | E16: 1338 | F16: 27 | G16: 226 | H16: 103 | I16: 40
B17: Kota Tinggi | C17: 1696 | D17: 1535 | E17: 1506 | F17: 29 | G17: 52 | H17: 36 | I17: 73
B18: Mersing | C18: 505 | D18: 475 | E18: 464 | F18: 11 | G18: 22 | H18: 3 | I18: 5
B19: Muar | C19: 1677 | D19: 1319 | E19: 1302 | F19: 17 | G19: 295 | H19: 18 | I19: 45
B20: Pontian | C20: 1136 | D20: 946 | E20: 923 | F20: 23 | G20: 126 | H20: 9 | I20: 55
B21: Segamat | C21: 1113 | D21: 856 | E21: 835 | F21: 21 | G21: 159 | H21: 74 | I21: 24
B22: Kulai | C22: 1646 | D22: 1081 | E22: 1045 | F22: 36 | G22: 305 | H22: 153 | I22: 107
B23: Tangkak | C23: 851 | D23: 682 | E23: 674 | F23: 8 | G23: 126 | H23: 20 | I23: 23
... B32: Langkawi | C32: 829 | D32: 765 | E32: 761 | F32: 4 | G32: 15 | H32: 8 | I32: 41
B33: Padang Terap | C33: 558 | D33: 506 | E33: 505 | F33: 1 | G33: 1 | H33: - | I33: 51
B34: Sik | C34: 583 | D34: 556 | E34: 555 | F34: 1 | G34: 1 | H34: - | I34: 26
B35: Yan | C35: 559 | D35: 529 | E35: 527 | F35: 2 | G35: 7 | H35: - | I35: 23
B36: Pendang | C36: 841 | D36: 780 | E36: 776 | F36: 4 | G36: 6 | H36: 3 | I36: 52
B37: Pokok Sena | C37: 414 | D37: 379 | E37: 377 | F37: 2 | G37: 4 | H37: - | I37: 31
B39: Kelantan | C39: 15389 | D39: 14916 | E39: 14727 | F39: 189 | G39: 115 | H39: 11 | I39: 347
B40: Bachok | C40: 1513 | D40: 1472 | E40: 1470 | F40: 2 | G40: 6 | H40: - | I40: 35
B41: Kota Bharu | C41: 4522 | D41: 4363 | E41: 4357 | F41: 6 | G41: 42 | H41: 5 | I41: 112
B42: Machang | C42: 887 | D42: 876 | E42: 872 | F42: 4 | G42: 4 | H42: - | I42: 7
B43: Pasir Mas | C43: 1928 | D43: 1887 | E43: 1885 | F43: 2 | G43: 6 | H43: - | I43: 35
B44: Pasir Puteh | C44: 1312 | D44: 1273 | E44: 1270 | F44: 3 | G44: 2 | H44: - | I44: 37
B45: Tanah Merah | C45: 1299 | D45: 1247 | E45: 1247 | F45: - | G45: 15 | H45: 1 | I45: 36
B46: Tumpat | C46: 1639 | D46: 1583 | E46: 1583 | F46: - | G46: 21 | H46: - | I46: 35
B47: Gua Musang | C47: 809 | D47: 783 | E47: 727 | F47: 56 | G47: 9 | H47: 3 | I47: 14
B48: Kuala Krai | C48: 990 | D48: 950 | E48: 946 | F48: 4 | G48: 10 | H48: 2 | I48: 28
B49: Jeli | C49: 371 | D49: 367 | E49: 357 | F49: 10 | G49: - | H49: - | I49: 4
B50: Lojing | C50: 119 | D50: 115 | E50: 13 | F50: 102 | G50: - | H50: - | I50: 4
B52: Melaka | C52: 5697 | D52: 4854 | E52: 4789 | F52: 65 | G52: 465 | H52: 222 | I52: 156
B53: Alor Gajah | C53: 1342 | D53: 1186 | E53: 1170 | F53: 16 | G53: 58 | H53: 69 | I53: 29
B54: Jasin | C54: 1167 | D54: 1017 | E54: 1005 | F54: 12 | G54: 58 | H54: 80 | I54: 12
B55: Melaka Tengah | C55: 3188 | D55: 2651 | E55: 2614 | F55: 37 | G55: 349 | H55: 73 | I55: 115
B57: Negeri Sembilan | C57: 6851 | D57: 5444 | E57: 5256 | F57: 188 | G57: 465 | H57: 711 | I57: 231
B58: Jelebu | C58: 226 | D58: 204 | E58: 162 | F58: 42 | G58: 12 | H58: 6 | I58: 4
B59: Kuala Pilah | C59: 432 | D59: 396 | E59: 384 | F59: 12 | G59: 16 | H59: 13 | I59: 7
B60: Port Dickson | C60: 733 | D60: 545 | E60: 529 | F60: 16 | G60: 64 | H60: 107 | I60: 17
B61: Rembau | C61: 357 | D61: 332 | E61: 318 | F61: 14 | G61: 3 | H61: 18 | I61: 4
B62: Seremban | C62: 3858 | D62: 2917 | E62: 2842 | F62: 75 | G62: 298 | H62: 461 | I62: 182
B63: Tampin | C63: 470 | D63: 393 | E63: 388 | F63: 5 | G63: 33 | H63: 38 | I63: 6
B64: Jempol | C64: 775 | D64: 657 | E64: 633 | F64: 24 | G64: 39 | H64: 68 | I64: 11
B66: 1 Termasuk bukan warganegara Malaysia
B67: Includes non-Malaysian citizens
B69: ='3.6_AD(male)_etnik'!B68 -> Jadual 3.6: Kelahiran hidup mengikut negeri, daerah pentadbiran, kumpulan etnik dan jantina, Malaysia, 2025 (samb.)
B70: ='3.6_AD(male)_etnik'!B69 -> Table 3.6: Live births by state, administrative district, ethnic group and sex, Malaysia, 2025 (cont'd)
B72: Perempuan/Female
C73: Kumpulan etnik/Ethnic group
B74: Negeri dan daerah pentadbiran | C74: Jumlah | D74: Bumiputera
B75: State and administrative district | C75: Total | D75: Jumlah | E75: Melayu | F75: Bumiputera Lain | G75: Cina | H75: India | I75: Lain-lain1
D76: Total | E76: Malay | F76: Other Bumiputera | G76: Chinese | H76: Indians | I76: Others1
B79: Pahang | C79: 10023 | D79: 8957 | E79: 8142 | F79: 815 | G79: 464 | H79: 223 | I79: 379
B80: Bentong | C80: 530 | D80: 419 | E80: 381 | F80: 38 | G80: 50 | H80: 36 | I80: 25
B81: Cameron Highlands | C81: 214 | D81: 122 | E81: 55 | F81: 67 | G81: 36 | H81: 17 | I81: 39
B82: Jerantut | C82: 608 | D82: 568 | E82: 548 | F82: 20 | G82: 19 | H82: 15 | I82: 6
B83: Kuantan | C83: 3345 | D83: 2961 | E83: 2930 | F83: 31 | G83: 167 | H83: 44 | I83: 173
B84: Lipis | C84: 591 | D84: 548 | E84: 399 | F84: 149 | G84: 23 | H84: 13 | I84: 7
B85: Pekan | C85: 998 | D85: 964 | E85: 784 | F85: 180 | G85: - | H85: 1 | I85: 33
B86: Raub | C86: 480 | D86: 363 | E86: 316 | F86: 47 | G86: 68 | H86: 24 | I86: 25
B87: Temerloh | C87: 1096 | D87: 973 | E87: 908 | F87: 65 | G87: 43 | H87: 46 | I87: 34
B88: Rompin | C88: 883 | D88: 861 | E88: 705 | F88: 156 | G88: 3 | H88: 1 | I88: 18
B89: Maran | C89: 811 | D89: 790 | E89: 767 | F89: 23 | G89: 6 | H89: 5 | I89: 10
B90: Bera | C90: 467 | D90: 388 | E90: 349 | F90: 39 | G90: 49 | H90: 21 | I90: 9
B92: Perak | C92: 12707 | D92: 10164 | E92: 9631 | F92: 533 | G92: 1160 | H92: 1039 | I92: 344
B93: Batang Padang | C93: 665 | D93: 558 | E93: 416 | F93: 142 | G93: 43 | H93: 55 | I93: 9
B94: Manjung | C94: 1383 | D94: 1057 | E94: 1031 | F94: 26 | G94: 153 | H94: 125 | I94: 48
B95: Kinta | C95: 3647 | D95: 2547 | E95: 2489 | F95: 58 | G95: 552 | H95: 426 | I95: 122
B96: Kerian | C96: 1047 | D96: 931 | E96: 930 | F96: 1 | G96: 38 | H96: 45 | I96: 33
B97: Kuala Kangsar | C97: 910 | D97: 767 | E97: 686 | F97: 81 | G97: 61 | H97: 68 | I97: 14
B98: Larut & Matang | C98: 1563 | D98: 1285 | E98: 1274 | F98: 11 | G98: 116 | H98: 119 | I98: 43
... B118: Lahad Datu | C118: 1167 | D118: 904 | E118: 242 | F118: 662 | G118: 18 | H118: 3 | I118: 242
B119: Semporna | C119: 1264 | D119: 812 | E119: 77 | F119: 735 | G119: - | H119: 2 | I119: 450
B120: Sandakan | C120: 2240 | D120: 1606 | E120: 497 | F120: 1109 | G120: 92 | H120: 3 | I120: 539
B121: Kinabatangan | C121: 297 | D121: 256 | E121: 75 | F121: 181 | G121: 1 | H121: - | I121: 40
B122: Beluran | C122: 365 | D122: 320 | E122: 23 | F122: 297 | G122: 1 | H122: - | I122: 44
B123: Kota Kinabalu | C123: 2388 | D123: 1575 | E123: 307 | F123: 1268 | G123: 114 | H123: 6 | I123: 693
B124: Ranau | C124: 686 | D124: 667 | E124: 39 | F124: 628 | G124: 1 | H124: - | I124: 18
B125: Kota Belud | C125: 709 | D125: 684 | E125: 44 | F125: 640 | G125: 3 | H125: 1 | I125: 21
B126: Tuaran | C126: 992 | D126: 897 | E126: 110 | F126: 787 | G126: 1 | H126: - | I126: 94
B127: Penampang | C127: 633 | D127: 489 | E127: 47 | F127: 442 | G127: 55 | H127: 3 | I127: 86
B128: Papar | C128: 741 | D128: 648 | E128: 179 | F128: 469 | G128: 9 | H128: 1 | I128: 83
B129: Kudat | C129: 665 | D129: 589 | E129: 41 | F129: 548 | G129: 4 | H129: - | I129: 72
B130: Kota Marudu | C130: 579 | D130: 558 | E130: 23 | F130: 535 | G130: - | H130: - | I130: 21
B131: Pitas | C131: 349 | D131: 328 | E131: 21 | F131: 307 | G131: 1 | H131: - | I131: 20
B132: Beaufort | C132: 332 | D132: 289 | E132: 76 | F132: 213 | G132: 3 | H132: 1 | I132: 39
B133: Kuala Penyu | C133: 171 | D133: 162 | E133: 33 | F133: 129 | G133: - | H133: - | I133: 9
B134: Sipitang | C134: 228 | D134: 202 | E134: 54 | F134: 148 | G134: 1 | H134: - | I134: 25
B135: Tenom | C135: 354 | D135: 339 | E135: 15 | F135: 324 | G135: 5 | H135: - | I135: 10
B136: Nabawan | C136: 276 | D136: 275 | E136: 1 | F136: 274 | G136: - | H136: - | I136: 1
B137: Keningau | C137: 1150 | D137: 1036 | E137: 74 | F137: 962 | G137: 12 | H137: - | I137: 102
B138: Tambunan | C138: 280 | D138: 274 | E138: 5 | F138: 269 | G138: - | H138: - | I138: 6
B139: Kunak | C139: 430 | D139: 292 | E139: 115 | F139: 177 | G139: 3 | H139: 1 | I139: 134
B140: Tongod | C140: 146 | D140: 142 | E140: 1 | F140: 141 | G140: 1 | H140: - | I140: 3
...

Sheet 3.7_AD(total)_kadar etnik
B1: Jadual 3.7: Kadar kelahiran kasar mengikut negeri, daerah pentadbiran, kumpulan etnik dan jantina, Malaysia, 2025
B2: Table 3.7: Crude birth rate by state, administrative district, ethnic group and sex, Malaysia, 2025
B4: Jumlah/Total
C5: Kumpulan etnik/Ethnic group
B6: Negeri dan daerah pentadbiran | C6: Jumlah | D6: Bumiputera
B7: State and administrative district | C7: Total | D7: Jumlah | E7: Melayu | F7: Bumiputera Lain | G7: Cina | H7: India | I7: Lain-lain1
D8: Total | E8: Malay | F8: Other Bumiputera | G8: Chinese | H8: Indians | I8: Others1
B11: Malaysia | C11: 11.6 | D11: 14.6 | E11: 14.9 | F11: 13.2 | G11: 5 | H11: 8.6 | I11: 7.6
B13: Johor | C13: 11.4 | D13: 15.1 | E13: 15 | F13: 19.7 | G13: 6.2 | H13: 11.7 | I13: 5.8
B14: Batu Pahat | C14: 10.9 | D14: 14.3 | E14: 14.2 | F14: 16.7 | G14: 5 | H14: 7.9 | I14: 3.1
B15: Johor Bahru | C15: 11.7 | D15: 15.4 | E15: 15.1 | F15: 21.7 | G15: 6.7 | H15: 13.6 | I15: 8.6
B16: Kluang | C16: 10.9 | D16: 16 | E16: 16.1 | F16: 14.8 | G16: 5.2 | H16: 8.1 | I16: 2.3
B17: Kota Tinggi | C17: 14.6 | D17: 16.2 | E17: 16.2 | F17: 17.7 | G17: 5.7 | H17: 11.4 | I17: 7.7
B18: Mersing | C18: 13 | D18: 14.4 | E18: 14.6 | F18: 9.9 | G18: 6 | H18: 6 | I18: 4.7
B19: Muar | C19: 10.4 | D19: 14.6 | E19: 14.6 | F19: 22.5 | G19: 5.9 | H19: 6.9 | I19: 2.6
B20: Pontian | C20: 13.4 | D20: 16.3 | E20: 16.1 | F20: 28.8 | G20: 6.9 | H20: 17.8 | I20: 8
B21: Segamat | C21: 11.2 | D21: 15.8 | E21: 15.8 | F21: 17.7 | G21: 5.3 | H21: 9.5 | I21: 3.3
B22: Kulai | C22: 9.6 | D22: 13.6 | E22: 13.4 | F22: 18.9 | G22: 6.6 | H22: 10.1 | I22: 3.3
B23: Tangkak | C23: 10.6 | D23: 13.4 | E23: 13.3 | F23: 18.1 | G23: 6.1 | H23: 6.4 | I23: 4.1
... B32: Langkawi | C32: 16.8 | D32: 17.8 | E32: 17.7 | F32: 28.7 | G32: 5 | H32: 8.1 | I32: 14.9
B33: Padang Terap | C33: 17.1 | D33: 17.7 | E33: 17.7 | F33: 27.8 | G33: 4.1 | H33: - | I33: 12.7
B34: Sik | C34: 16.6 | D34: 17.1 | E34: 17.1 | F34: 51.7 | G34: 8.1 | H34: - | I34: 11
B35: Yan | C35: 14.2 | D35: 14.1 | E35: 14 | F35: 34.9 | G35: 4.1 | H35: 16.4 | I35: 78.5
B36: Pendang | C36: 16.7 | D36: 17.2 | E36: 17.1 | F36: 67.2 | G36: 5.4 | H36: 14.4 | I36: 14.7
B37: Pokok Sena | C37: 17.1 | D37: 17.9 | E37: 17.8 | F37: 44.1 | G37: 6.1 | H37: 1.3 | I37: 18.3
B39: Kelantan | C39: 16.7 | D39: 17.1 | E39: 17.1 | F39: 18.3 | G39: 5.9 | H39: 3.2 | I39: 12.5
B40: Bachok | C40: 18.9 | D40: 18.8 | E40: 18.8 | F40: 16.9 | G40: 11.2 | H40: - | I40: 36.3
B41: Kota Bharu | C41: 15.8 | D41: 16.1 | E41: 16.2 | F41: 7.3 | G41: 5.4 | H41: 3.4 | I41: 15.4
B42: Machang | C42: 15.6 | D42: 15.8 | E42: 15.8 | F42: 17.5 | G42: 6.2 | H42: - | I42: 12
B43: Pasir Mas | C43: 16.6 | D43: 16.8 | E43: 16.8 | F43: 17.1 | G43: 5.5 | H43: - | I43: 13.1
B44: Pasir Puteh | C44: 19.4 | D44: 19.2 | E44: 19.1 | F44: 43.7 | G44: 10.3 | H44: - | I44: 38.5
B45: Tanah Merah | C45: 16.5 | D45: 16.9 | E45: 16.9 | F45: 6.2 | G45: 7 | H45: 5.4 | I45: 13.8
B46: Tumpat | C46: 17.9 | D46: 18.9 | E46: 18.9 | F46: 21.9 | G46: 7.1 | H46: - | I46: 7.6
B47: Gua Musang | C47: 15.2 | D47: 17.2 | E47: 17.7 | F47: 12.8 | G47: 4.2 | H47: 6 | I47: 3.3
B48: Kuala Krai | C48: 17.6 | D48: 18.4 | E48: 18.3 | F48: 72.5 | G48: 4.9 | H48: 3.6 | I48: 12.6
B49: Jeli | C49: 12.6 | D49: 12.9 | E49: 12.9 | F49: 11.8 | G49: - | H49: - | I49: 5.9
B50: Lojing | C50: 22.1 | D50: 24.2 | E50: 11.3 | F50: 27.5 | G50: - | H50: - | I50: 10
B52: Melaka | C52: 11.3 | D52: 14.5 | E52: 14.5 | F52: 14.5 | G52: 4.8 | H52: 8.8 | I52: 3.1
B53: Alor Gajah | C53: 11 | D53: 13.2 | E53: 13.2 | F53: 13.5 | G53: 4.9 | H53: 7.9 | I53: 2.4
B54: Jasin | C54: 15 | D54: 17.4 | E54: 17.4 | F54: 22.8 | G54: 8 | H54: 13 | I54: 1.5
B55: Melaka Tengah | C55: 10.4 | D55: 14.2 | E55: 14.2 | F55: 13.3 | G55: 4.5 | H55: 7.1 | I55: 3.7
B57: Negeri Sembilan | C57: 11.4 | D57: 14.8 | E57: 14.7 | F57: 16.2 | G57: 4 | H57: 9.4 | I57: 5.6
B58: Jelebu | C58: 9.7 | D58: 13.3 | E58: 12.6 | F58: 18.6 | G58: 3.5 | H58: 4.4 | I58: 1
B59: Kuala Pilah | C59: 12.2 | D59: 14.4 | E59: 14.3 | F59: 15.6 | G59: 3 | H59: 8.9 | I59: 4.3
B60: Port Dickson | C60: 11.7 | D60: 16.4 | E60: 16.4 | F60: 16.4 | G60: 4.2 | H60: 10.1 | I60: 3.9
B61: Rembau | C61: 14.8 | D61: 16.8 | E61: 16.8 | F61: 17.8 | G61: 3.2 | H61: 7.4 | I61: 2.4
B62: Seremban | C62: 11.1 | D62: 14.5 | E62: 14.4 | F62: 18.3 | G62: 4.1 | H62: 9.8 | I62: 7.4
B63: Tampin | C63: 10.8 | D63: 15 | E63: 15.3 | F63: 8.4 | G63: 3.9 | H63: 7.2 | I63: 1.7
B64: Jempol | C64: 11.6 | D64: 14.5 | E64: 14.5 | F64: 13.5 | G64: 4.1 | H64: 8.8 | I64: 3.5
B66: Kadar adalah bagi setiap 1,000 penduduk mengikut kumpulan etnik | F66: 1 Termasuk bukan warganegara Malaysia
B67: The rates are per 1,000 population by ethnic group | F67: Includes non-Malaysian citizens
B68: Jadual 3.7: Kadar kelahiran kasar mengikut negeri, daerah pentadbiran, kumpulan etnik dan jantina, Malaysia, 2025 (samb.)
B69: Table 3.7: Crude birth rate by state, administrative district, ethnic group and sex, Malaysia, 2025 (cont'd)
B71: Jumlah/Total
C72: Kumpulan etnik/Ethnic group
B73: Negeri dan daerah pentadbiran | C73: Jumlah | D73: Bumiputera
B74: State and administrative district | C74: Total | D74: Jumlah | E74: Melayu | F74: Bumiputera Lain | G74: Cina | H74: India | I74: Lain-lain1
D75: Total | E75: Malay | F75: Other Bumiputera | G75: Chinese | H75: Indians | I75: Others1
B78: Pahang | C78: 12.3 | D78: 14.3 | E78: 14 | F78: 18.2 | G78: 4.4 | H78: 8.2 | I78: 6.9
B79: Bentong | C79: 9.1 | D79: 12.2 | E79: 11.9 | F79: 17.7 | G79: 3.8 | H79: 8.3 | I79: 4.9
B80: Cameron Highlands | C80: 9.7 | D80: 13.8 | E80: 12.4 | F80: 15 | G80: 5.3 | H80: 8.6 | I80: 7.8
B81: Jerantut | C81: 13 | D81: 15.1 | E81: 15.2 | F81: 14.9 | G81: 3.6 | H81: 11.2 | I81: 2.7
B82: Kuantan | C82: 12.2 | D82: 13.4 | E82: 13.3 | F82: 14.8 | G82: 4.5 | H82: 7.6 | I82: 15.5
B83: Lipis | C83: 12.1 | D83: 13.7 | E83: 12.1 | F83: 20.5 | G83: 6.1 | H83: 7.2 | I83: 1.8
B84: Pekan | C84: 15.8 | D84: 17.1 | E84: 15.9 | F84: 25.2 | G84: 4.3 | H84: 1 | I84: 5.3
B85: Raub | C85: 9.9 | D85: 13.1 | E85: 12.8 | F85: 16.1 | G85: 4.9 | H85: 7.7 | I85: 6.3
B86: Temerloh | C86: 12.4 | D86: 14.4 | E86: 14.4 | F86: 14.4 | G86: 4.2 | H86: 9.4 | I86: 7
B87: Rompin | C87: 17.4 | D87: 19 | E87: 18.9 | F87: 19.4 | G87: 5.9 | H87: 3.3 | I87: 3.8
B88: Maran | C88: 12.9 | D88: 13.9 | E88: 13.9 | F88: 15.3 | G88: 4.4 | H88: 7.1 | I88: 2.7
B89: Bera | C89: 9.6 | D89: 12.7 | E89: 12.7 | F89: 12.3 | G89: 4 | H89: 9.2 | I89: 2.7
... B119: Sandakan | C119: 9.3 | D119: 13.4 | E119: 20.2 | F119: 11.7 | G119: 4 | H119: 9.7 | I119: 5.4
B120: Kinabatangan | C120: 3.9 | D120: 13.6 | E120: 43.1 | F120: 10.5 | G120: 3.4 | H120: - | I120: 0.7
B121: Beluran | C121: 9 | D121: 16.1 | E121: 20 | F121: 15.9 | G121: 4.8 | H121: - | I121: 1.8
B122: Kota Kinabalu | C122: 9 | D122: 9.5 | E122: 9.1 | F122: 9.6 | G122: 3.6 | H122: 6.2 | I122: 10.8
B123: Ranau | C123: 15.5 | D123: 16.3 | E123: 8.4 | F123: 17 | G123: 2.9 | H123: - | I123: 5.9
B124: Kota Belud | C124: 13.3 | D124: 13.6 | E124: 34.6 | F124: 13.1 | G124: 2.3 | H124: 12.3 | I124: 10.6
B125: Tuaran | C125: 14.2 | D125: 13.9 | E125: 15.4 | F125: 13.7 | G125: 3.6 | H125: 6.6 | I125: 20.5
B126: Penampang | C126: 7.8 | D126: 9 | E126: 7.2 | F126: 9.2 | G126: 3.2 | H126: 9.6 | I126: 8.5
B127: Papar | C127: 12.8 | D127: 12.7 | E127: 12.8 | F127: 12.7 | G127: 3.9 | H127: 8.8 | I127: 16.8
B128: Kudat | C128: 15.2 | D128: 16.3 | E128: 13.7 | F128: 16.5 | G128: 2 | H128: - | I128: 13
B129: Kota Marudu | C129: 16.6 | D129: 17.3 | E129: 29.1 | F129: 17 | G129: 1.5 | H129: - | I129: 8.6
B130: Pitas | C130: 18.6 | D130: 19.1 | E130: 49.1 | F130: 18.4 | G130: 7.5 | H130: - | I130: 12.9
B131: Beaufort | C131: 12.2 | D131: 12.7 | E131: 11.2 | F131: 13.2 | G131: 2.1 | H131: 11.6 | I131: 14.1
B132: Kuala Penyu | C132: 13 | D132: 13.7 | E132: 8.9 | F132: 16 | G132: - | H132: - | I132: 6.5
B133: Sipitang | C133: 11.5 | D133: 12.3 | E133: 10.3 | F133: 13.3 | G133: 5.8 | H133: 18.9 | I133: 7.5
B134: Tenom | C134: 14.4 | D134: 15 | E134: 10.9 | F134: 15.3 | G134: 8.6 | H134: - | I134: 8.4
B135: Nabawan | C135: 19 | D135: 19.8 | E135: 12 | F135: 19.8 | G135: 32.3 | H135: - | I135: 3.1
B136: Keningau | C136: 15.2 | D136: 16.1 | E136: 27 | F136: 15.6 | G136: 5.4 | H136: 13.6 | I136: 12.1
B137: Tambunan | C137: 17.6 | D137: 18.2 | E137: 35.5 | F137: 18 | G137: 6.3 | H137: - | I137: 8.8
B138: Kunak | C138: 11.5 | D138: 18.3 | E138: 95.7 | F138: 11.9 | G138: 10 | H138: 23.8 | I138: 6.3
B139: Tongod | C139: 7.6 | D139: 11.9 | E139: 6.9 | F139: 12 | G139: 5.3 | H139: - | I139: 0.6
B140: Putatan | C140: 13.9 | D140: 12.9 | E140: 17.9 | F140: 11.4 | G140: 3.4 | H140: 13.4 | I140: 29.9
B141: Telupid | C141: 8.4 | D141: 13.1 | E141: 52.7 | F141: 11.9 | G141: - | H141: - | I141: 1.8
B142: Kalabakan | C142: 3.9 | D142: 11.1 | E142: 81.2 | F142: 8.6 | G142: 26 | H142: - | I142: 0.7
B143: Membakut | C143: 12.6 | D143: 13.6 | E143: 23.5 | F143: 9.8 | G143: 2.3 | H143: - | I143: 7.5
B145: Kadar adalah bagi setiap 1,000 penduduk mengikut kumpulan etnik | F145: 1 Termasuk bukan warganegara Malaysia
B146: The rates are per 1,000 population by ethnic group | F146: Includes non-Malaysian citizens
B147: =B68 -> Jadual 3.7: Kadar kelahiran kasar mengikut negeri, daerah pentadbiran, kumpulan etnik dan jantina, Malaysia, 2025 (samb.)
B148: =B69 -> Table 3.7: Crude birth rate by state, administrative district, ethnic group and sex, Malaysia, 2025 (cont'd)
B150: Jumlah/Total
...

Sheet 3.7_AD(male)_kadar etnik
B1: Jadual 3.7: Kadar kelahiran kasar mengikut negeri, daerah pentadbiran, kumpulan etnik dan jantina, Malaysia, 2025 (samb.)
B2: Table 3.7: Crude birth rate by state, administrative district, ethnic group and sex, Malaysia, 2025 (cont'd)
B4: Lelaki/Male
C5: Kumpulan etnik/Ethnic group
B6: Negeri dan daerah pentadbiran | C6: Jumlah | D6: Bumiputera
B7: State and administrative district | C7: Total | D7: Jumlah | E7: Melayu | F7: Bumiputera Lain | G7: Cina | H7: India | I7: Lain-lain1
D8: Total | E8: Malay | F8: Other Bumiputera | G8: Chinese | H8: Indians | I8: Others1
B11: Malaysia | C11: 11.4 | D11: 14.9 | E11: 15.2 | F11: 13.7 | G11: 5.2 | H11: 8.8 | I11: 5.8
B13: Johor | C13: 11 | D13: 15.4 | E13: 15.2 | F13: 20.4 | G13: 6.4 | H13: 11.9 | I13: 3.7
B14: Batu Pahat | C14: 10.6 | D14: 14.5 | E14: 14.5 | F14: 16.7 | G14: 5.3 | H14: 8 | I14: 1.7
B15: Johor Bahru | C15: 11.3 | D15: 15.6 | E15: 15.3 | F15: 22.2 | G15: 6.8 | H15: 13.7 | I15: 5.8
B16: Kluang | C16: 10.3 | D16: 16.6 | E16: 16.6 | F16: 16.7 | G16: 5.3 | H16: 8.2 | I16: 1.4
B17: Kota Tinggi | C17: 13.9 | D17: 16.3 | E17: 16.3 | F17: 16.5 | G17: 5.5 | H17: 9.9 | I17: 4.3
B18: Mersing | C18: 12.7 | D18: 14.6 | E18: 14.7 | F18: 11.7 | G18: 5.6 | H18: 4.4 | I18: 4
B19: Muar | C19: 9.5 | D19: 14.7 | E19: 14.7 | F19: 21.8 | G19: 5.8 | H19: 7 | I19: 1.5
B20: Pontian | C20: 13.2 | D20: 16.7 | E20: 16.5 | F20: 30.3 | G20: 7.7 | H20: 22 | I20: 4.7
B21: Segamat | C21: 11 | D21: 16.6 | E21: 16.4 | F21: 21.2 | G21: 5.4 | H21: 9.5 | I21: 2
B22: Kulai | C22: 9.1 | D22: 13.7 | E22: 13.6 | F22: 18.7 | G22: 6.7 | H22: 10.3 | I22: 2.3
B23: Tangkak | C23: 10.7 | D23: 14.1 | E23: 14 | F23: 21.7 | G23: 6.2 | H23: 8 | I23: 2.4
... B32: Langkawi | C32: 16.6 | D32: 17.8 | E32: 17.8 | F32: 31.9 | G32: 3.3 | H32: 6.8 | I32: 12.8
B33: Padang Terap | C33: 17.1 | D33: 18.5 | E33: 18.5 | F33: 26.3 | G33: 4.3 | H33: - | I33: 9.2
B34: Sik | C34: 16.3 | D34: 17 | E34: 16.9 | F34: 69 | G34: 11.2 | H34: - | I34: 10.4
B35: Yan | C35: 13.2 | D35: 13 | E35: 13 | F35: 23.3 | G35: 2.8 | H35: 38.5 | I35: 75.4
B36: Pendang | C36: 15.9 | D36: 16.5 | E36: 16.4 | F36: 65.6 | G36: 6.2 | H36: 13.3 | I36: 13.5
B37: Pokok Sena | C37: 16.6 | D37: 17.7 | E37: 17.7 | F37: 24.4 | G37: 7.9 | H37: 2 | I37: 11.9
B39: Kelantan | C39: 17.2 | D39: 17.8 | E39: 17.7 | F39: 19.9 | G39: 6.6 | H39: 1.8 | I39: 10.5
B40: Bachok | C40: 20.4 | D40: 20.3 | E40: 20.3 | F40: 17.5 | G40: 14 | H40: - | I40: 38.1
B41: Kota Bharu | C41: 16.2 | D41: 16.6 | E41: 16.7 | F41: 8.7 | G41: 5.7 | H41: - | I41: 13.8
B42: Machang | C42: 16.2 | D42: 16.4 | E42: 16.4 | F42: 6.7 | G42: 7.9 | H42: - | I42: 11.8
B43: Pasir Mas | C43: 17.1 | D43: 17.4 | E43: 17.4 | F43: 16.4 | G43: 7.3 | H43: - | I43: 9.5
B44: Pasir Puteh | C44: 20.8 | D44: 20.6 | E44: 20.5 | F44: 52.6 | G44: 14 | H44: - | I44: 37.1
B45: Tanah Merah | C45: 16.3 | D45: 16.8 | E45: 16.8 | F45: 11 | G45: 7.4 | H45: 5.1 | I45: 12.8
B46: Tumpat | C46: 18.9 | D46: 19.9 | E46: 19.8 | F46: 46 | G46: 8.4 | H46: - | I46: 6.6
B47: Gua Musang | C47: 14.6 | D47: 17.5 | E47: 17.8 | F47: 14.3 | G47: 4.3 | H47: 4.8 | I47: 2.6
B48: Kuala Krai | C48: 17.4 | D48: 18.3 | E48: 18.2 | F48: 88.2 | G48: 4.1 | H48: 2.4 | I48: 11.6
B49: Jeli | C49: 12.5 | D49: 12.8 | E49: 13 | F49: 3.9 | G49: - | H49: - | I49: 5.7
B50: Lojing | C50: 22.9 | D50: 26.1 | E50: 10.1 | F50: 30.2 | G50: - | H50: - | I50: 5.6
B52: Melaka | C52: 11.1 | D52: 14.9 | E52: 14.9 | F52: 15.3 | G52: 4.9 | H52: 9.1 | I52: 2
B53: Alor Gajah | C53: 11.4 | D53: 14.1 | E53: 14.1 | F53: 13.5 | G53: 5.5 | H53: 8.5 | I53: 1.8
B54: Jasin | C54: 14.3 | D54: 17.7 | E54: 17.6 | F54: 25.4 | G54: 6.6 | H54: 13.2 | I54: 0.7
B55: Melaka Tengah | C55: 10.1 | D55: 14.4 | E55: 14.4 | F55: 14.3 | G55: 4.6 | H55: 7.5 | I55: 2.3
B57: Negeri Sembilan | C57: 11.3 | D57: 15 | E57: 15 | F57: 15.6 | G57: 4.2 | H57: 10.1 | I57: 3.7
B58: Jelebu | C58: 9.2 | D58: 13.2 | E58: 13 | F58: 14.5 | G58: 4.5 | H58: 2 | I58: 0.2
B59: Kuala Pilah | C59: 12.1 | D59: 15 | E59: 15 | F59: 17.1 | G59: 2.2 | H59: 10.1 | I59: 2.4
B60: Port Dickson | C60: 11.8 | D60: 16.5 | E60: 16.5 | F60: 16.7 | G60: 4.3 | H60: 10.6 | I60: 3.5
B61: Rembau | C61: 14.7 | D61: 18.1 | E61: 18.4 | F61: 10.5 | G61: 3 | H61: 4.8 | I61: 0.9
B62: Seremban | C62: 11.1 | D62: 14.7 | E62: 14.7 | F62: 17.8 | G62: 4.3 | H62: 10.7 | I62: 5.3
B63: Tampin | C63: 10.6 | D63: 15.1 | E63: 15.3 | F63: 10.1 | G63: 4.3 | H63: 8.2 | I63: 0.8
B64: Jempol | C64: 11.1 | D64: 14 | E64: 13.9 | F64: 15.7 | G64: 4.5 | H64: 9.1 | I64: 2
B66: Kadar adalah bagi setiap 1,000 penduduk mengikut kumpulan etnik | F66: 1 Termasuk bukan warganegara Malaysia
B67: The rates are per 1,000 population by ethnic group | F67: Includes non-Malaysian citizens
B68: ='3.7_AD(total)_kadar etnik'!B68 -> Jadual 3.7: Kadar kelahiran kasar mengikut negeri, daerah pentadbiran, kumpulan etnik dan jantina, Malaysia, 2025 (samb.)
B69: ='3.7_AD(total)_kadar etnik'!B69 -> Table 3.7: Crude birth rate by state, administrative district, ethnic group and sex, Malaysia, 2025 (cont'd)
B71: Lelaki/Male
C72: Kumpulan etnik/Ethnic group
B73: Negeri dan daerah pentadbiran | C73: Jumlah | D73: Bumiputera
B74: State and administrative district | C74: Total | D74: Jumlah | E74: Melayu | F74: Bumiputera Lain | G74: Cina | H74: India | I74: Lain-lain1
D75: Total | E75: Malay | F75: Other Bumiputera | G75: Chinese | H75: Indians | I75: Others1
B78: Pahang | C78: 11.9 | D78: 14.5 | E78: 14.1 | F78: 19.1 | G78: 4.5 | H78: 8.3 | I78: 4
B79: Bentong | C79: 8.3 | D79: 11.4 | E79: 11.2 | F79: 15 | G79: 3.9 | H79: 8.3 | I79: 3.2
B80: Cameron Highlands | C80: 8.1 | D80: 14.2 | E80: 12.3 | F80: 16 | G80: 4.3 | H80: 9.6 | I80: 4.2
B81: Jerantut | C81: 12.9 | D81: 15.9 | E81: 15.7 | F81: 19.6 | G81: 3.7 | H81: 10.8 | I81: 2
B82: Kuantan | C82: 12.2 | D82: 13.8 | E82: 13.7 | F82: 18.9 | G82: 4.5 | H82: 9.2 | I82: 9.7
B83: Lipis | C83: 11.8 | D83: 14.4 | E83: 12.4 | F83: 22.6 | G83: 5.5 | H83: 6.5 | I83: 0.9
B84: Pekan | C84: 15 | D84: 17.2 | E84: 15.9 | F84: 26.1 | G84: 6.6 | H84: - | I84: 3
B85: Raub | C85: 9.6 | D85: 13.8 | E85: 13.6 | F85: 15.8 | G85: 4.9 | H85: 6.6 | I85: 3.2
B86: Temerloh | C86: 12.1 | D86: 14.4 | E86: 14.4 | F86: 13.7 | G86: 4.8 | H86: 9.4 | I86: 4.5
B87: Rompin | C87: 16.4 | D87: 19.2 | E87: 19.1 | F87: 19.8 | G87: 7.1 | H87: 4.6 | I87: 1.9
B88: Maran | C88: 11.6 | D88: 13.2 | E88: 13.2 | F88: 15.6 | G88: 3.8 | H88: 4.9 | I88: 1.6
B89: Bera | C89: 9.3 | D89: 13 | E89: 13 | F89: 13.3 | G89: 4.1 | H89: 7.6 | I89: 1.7
B91: Perak | C91: 10.1 | D91: 14.4 | E91: 14.3 | F91: 15.1 | G91: 4.2 | H91: 8 | I91: 2.4
B92: Batang Padang | C92: 9.7 | D92: 12.5 | E92: 11.7 | F92: 15.4 | G92: 4.4 | H92: 6.4 | I92: 2.3
B93: Manjung | C93: 10.4 | D93: 14.7 | E93: 14.7 | F93: 14 | G93: 5.4 | H93: 9.3 | I93: 2.7
B94: Kinta | C94: 8.2 | D94: 13.3 | E94: 13.2 | F94: 15.3 | G94: 3.9 | H94: 7.9 | I94: 1.7
B95: Kerian | C95: 13.7 | D95: 16.1 | E95: 16.1 | F95: 7.9 | G95: 4.9 | H95: 10.5 | I95: 8.6
B96: Kuala Kangsar | C96: 11.2 | D96: 14.6 | E96: 14.5 | F96: 16 | G96: 4.6 | H96: 7.7 | I96: 2.1
B97: Larut & Matang | C97: 11.6 | D97: 15.3 | E97: 15.2 | F97: 17.9 | G97: 5.1 | H97: 9 | I97: 3.5
... B103: Bagan Datuk | C103: 6.8 | D103: 11 | E103: 10.8 | F103: 34.5 | G103: 3.9 | H103: 5.5 | I103: 0.7
B104: Selama | C104: 17.5 | D104: 19.3 | E104: 19.3 | F104: - | G104: 3 | H104: 7.8 | I104: 3.6
B106: Perlis | C106: 12.2 | D106: 13.3 | E106: 13.3 | F106: 9.2 | G106: 4.1 | H106: 4.3 | I106: 8.8
B108: Pulau Pinang | C108: 9.3 | D108: 14.4 | E108: 14.4 | F108: 11.3 | G108: 4.8 | H108: 9 | I108: 6.9
B109: Seberang Perai Tengah | C109: 9.3 | D109: 14.1 | E109: 14.1 | F109: 12.5 | G109: 5.2 | H109: 8.7 | I109: 5.2
B110: Seberang Perai Utara | C110: 12.3 | D110: 16.4 | E110: 16.4 | F110: 15 | G110: 4.7 | H110: 7.6 | I110: 10.3
B111: Seberang Perai Selatan | C111: 13 | D111: 17.4 | E111: 17.4 | F111: 16.2 | G111: 7.6 | H111: 11.8 | I111: 19.6
B112: Timur Laut | C112: 5.5 | D112: 10.2 | E112: 10.2 | F112: 10.3 | G112: 3.4 | H112: 7.7 | I112: 5.3
B113: Barat Daya | C113: 11.1 | D113: 13.6 | E113: 13.7 | F113: 8.1 | G113: 6.6 | H113: 9.7 | I113: 14.6
B115: Sabah | C115: 10.9 | D115: 13.9 | E115: 18.7 | F115: 13.1 | G115: 4.1 | H115: 7.9 | I115: 6
B116: Tawau | C116: 9.6 | D116: 13.6 | E116: 45.1 | F116: 7.5 | G116: 4.5 | H116: 5.7 | I116: 5.2
B117: Lahad Datu | C117: 9.6 | D117: 14 | E117: 34 | F117: 11.7 | G117: 5 | H117: 4.2 | I117: 4.6
B118: Semporna | C118: 15.3 | D118: 18.9 | E118: 38.5 | F118: 18 | G118: 3.8 | H118: 85.1 | I118: 11.3
B119: Sandakan | C119: 9.3 | D119: 13.7 | E119: 18.3 | F119: 12.2 | G119: 4.2 | H119: 11.5 | I119: 5.3
B120: Kinabatangan | C120: 3.9 | D120: 13.9 | E120: 38.5 | F120: 10.7 | G120: - | H120: - | I120: 0.7
B121: Beluran | C121: 9.1 | D121: 17.8 | E121: 19.5 | F121: 17.7 | G121: - | H121: - | I121: 1.4
B122: Kota Kinabalu | C122: 9 | D122: 9.7 | E122: 9 | F122: 10 | G122: 4.2 | H122: 6 | I122: 10
B123: Ranau | C123: 15.2 | D123: 16.1 | E123: 4.9 | F123: 17.5 | G123: 2.6 | H123: - | I123: 4.5
B124: Kota Belud | C124: 13.7 | D124: 14.1 | E124: 32.2 | F124: 13.7 | G124: 1.1 | H124: - | I124: 11.4
B125: Tuaran | C125: 14.2 | D125: 13.7 | E125: 14.2 | F125: 13.6 | G125: 6.1 | H125: 12.8 | I125: 23.1
B126: Penampang | C126: 7.6 | D126: 9.3 | E126: 6.8 | F126: 9.7 | G126: 2.9 | H126: 5.9 | I126: 6.3
B127: Papar | C127: 12.7 | D127: 12.8 | E127: 11.6 | F127: 13.4 | G127: 3.1 | H127: - | I127: 14.9
B128: Kudat | C128: 15.9 | D128: 17.2 | E128: 12.2 | F128: 17.6 | G128: 2.1 | H128: - | I128: 13.4
...

Sheet 3.7_AD(female)_kadar etnik
B1: ='3.7_AD(male)_kadar etnik'!B1 -> Jadual 3.7: Kadar kelahiran kasar mengikut negeri, daerah pentadbiran, kumpulan etnik dan jantina, Malaysia, 2025 (samb.)
B2: ='3.7_AD(male)_kadar etnik'!B2 -> Table 3.7: Crude birth rate by state, administrative district, ethnic group and sex, Malaysia, 2025 (cont'd)
B4: Perempuan/Female
C5: Kumpulan etnik/Ethnic group
B6: Negeri dan daerah pentadbiran | C6: Jumlah | D6: Bumiputera
B7: State and administrative district | C7: Total | D7: Jumlah | E7: Melayu | F7: Bumiputera Lain | G7: Cina | H7: India | I7: Lain-lain1
D8: Total | E8: Malay | F8: Other Bumiputera | G8: Chinese | H8: Indians | I8: Others1
B11: Malaysia | C11: 11.8 | D11: 14.2 | E11: 14.6 | F11: 12.7 | G11: 4.8 | H11: 8.4 | I11: 11.7
B13: Johor | C13: 11.9 | D13: 14.8 | E13: 14.7 | F13: 18.9 | G13: 6.1 | H13: 11.6 | I13: 14.2
B14: Batu Pahat | C14: 11.2 | D14: 14 | E14: 14 | F14: 16.8 | G14: 4.8 | H14: 7.9 | I14: 10.4
B15: Johor Bahru | C15: 12.1 | D15: 15.1 | E15: 14.9 | F15: 21.1 | G15: 6.6 | H15: 13.5 | I15: 17.1
B16: Kluang | C16: 11.6 | D16: 15.5 | E16: 15.5 | F16: 12.4 | G16: 5 | H16: 8 | I16: 11.5
B17: Kota Tinggi | C17: 15.5 | D17: 16.2 | E17: 16.1 | F17: 19.2 | G17: 5.8 | H17: 13 | I17: 25.2
B18: Mersing | C18: 13.3 | D18: 14.1 | E18: 14.4 | F18: 7.8 | G18: 6.5 | H18: 7.8 | I18: 10.3
B19: Muar | C19: 11.5 | D19: 14.5 | E19: 14.5 | F19: 23.4 | G19: 5.9 | H19: 6.7 | I19: 24.4
B20: Pontian | C20: 13.7 | D20: 15.9 | E20: 15.7 | F20: 27.3 | G20: 6.1 | H20: 13.5 | I20: 28.3
B21: Segamat | C21: 11.4 | D21: 15.1 | E21: 15.2 | F21: 14 | G21: 5.1 | H21: 9.5 | I21: 12.1
B22: Kulai | C22: 10.2 | D22: 13.4 | E22: 13.3 | F22: 19.1 | G22: 6.5 | H22: 9.9 | I22: 5.8
B23: Tangkak | C23: 10.5 | D23: 12.7 | E23: 12.7 | F23: 14 | G23: 6 | H23: 4.8 | I23: 11.1
... B32: Langkawi | C32: 17.1 | D32: 17.7 | E32: 17.6 | F32: 25 | G32: 6.9 | H32: 9.4 | I32: 18.8
B33: Padang Terap | C33: 17 | D33: 17 | E33: 17 | F33: 29.4 | G33: 4 | H33: - | I33: 18.8
B34: Sik | C34: 16.9 | D34: 17.3 | E34: 17.3 | F34: 34.5 | G34: 4.4 | H34: - | I34: 12.1
B35: Yan | C35: 15.3 | D35: 15.1 | E35: 15.1 | F35: 46.5 | G35: 5.7 | H35: - | I35: 81.9
B36: Pendang | C36: 17.5 | D36: 17.9 | E36: 17.9 | F36: 69 | G36: 4.6 | H36: 15.5 | I36: 16.4
B37: Pokok Sena | C37: 17.7 | D37: 18 | E37: 17.9 | F37: 74.1 | G37: 3.8 | H37: - | I37: 31.3
B39: Kelantan | C39: 16.2 | D39: 16.5 | E39: 16.5 | F39: 16.6 | G39: 5.3 | H39: 4.5 | I39: 15.7
B40: Bachok | C40: 17.5 | D40: 17.4 | E40: 17.4 | F40: 16.3 | G40: 8.6 | H40: - | I40: 34.8
B41: Kota Bharu | C41: 15.3 | D41: 15.6 | E41: 15.6 | F41: 5.9 | G41: 5.1 | H41: 6 | I41: 18
B42: Machang | C42: 15 | D42: 15.2 | E42: 15.2 | F42: 29.4 | G42: 4.3 | H42: - | I42: 12.4
B43: Pasir Mas | C43: 16.1 | D43: 16.3 | E43: 16.3 | F43: 17.9 | G43: 3.7 | H43: - | I43: 17.1
B44: Pasir Puteh | C44: 18 | D44: 17.8 | E44: 17.7 | F44: 34.1 | G44: 6.7 | H44: - | I44: 40.2
B45: Tanah Merah | C45: 16.7 | D45: 17.1 | E45: 17.1 | F45: - | G45: 6.6 | H45: 5.6 | I45: 15.4
B46: Tumpat | C46: 17 | D46: 17.9 | E46: 17.9 | F46: - | G46: 5.8 | H46: - | I46: 8.4
B47: Gua Musang | C47: 15.9 | D47: 16.9 | E47: 17.6 | F47: 11.2 | G47: 4.2 | H47: 7.2 | I47: 6.5
B48: Kuala Krai | C48: 17.8 | D48: 18.4 | E48: 18.4 | F48: 57.1 | G48: 5.7 | H48: 4.8 | I48: 14.4
B49: Jeli | C49: 12.8 | D49: 13 | E49: 12.9 | F49: 19.9 | G49: - | H49: - | I49: 6.1
B50: Lojing | C50: 21.3 | D50: 22.3 | E50: 12.4 | F50: 24.8 | G50: - | H50: - | I50: 24.7
B52: Melaka | C52: 11.5 | D52: 14 | E52: 14 | F52: 13.5 | G52: 4.6 | H52: 8.4 | I52: 6.8
B53: Alor Gajah | C53: 10.6 | D53: 12.3 | E53: 12.3 | F53: 13.4 | G53: 4.3 | H53: 7.4 | I53: 3.6
B54: Jasin | C54: 15.8 | D54: 17.2 | E54: 17.1 | F54: 20.3 | G54: 9.6 | H54: 12.9 | I54: 5.1
B55: Melaka Tengah | C55: 10.8 | D55: 13.9 | E55: 13.9 | F55: 12.2 | G55: 4.3 | H55: 6.7 | I55: 9
B57: Negeri Sembilan | C57: 11.4 | D57: 14.6 | E57: 14.5 | F57: 16.8 | G57: 3.8 | H57: 8.8 | I57: 10.4
B58: Jelebu | C58: 10.4 | D58: 13.4 | E58: 12.1 | F58: 23 | G58: 2.4 | H58: 7.2 | I58: 4.9
B59: Kuala Pilah | C59: 12.4 | D59: 13.7 | E59: 13.7 | F59: 14.1 | G59: 4 | H59: 7.5 | I59: 17.8
B60: Port Dickson | C60: 11.5 | D60: 16.3 | E60: 16.4 | F60: 16.1 | G60: 4.1 | H60: 9.5 | I60: 4.8
B61: Rembau | C61: 14.8 | D61: 15.6 | E61: 15.3 | F61: 25.4 | G61: 3.6 | H61: 10.8 | I61: 12.6
B62: Seremban | C62: 11.1 | D62: 14.2 | E62: 14.1 | F62: 18.7 | G62: 3.9 | H62: 8.9 | I62: 11.8
B63: Tampin | C63: 11.1 | D63: 14.9 | E63: 15.2 | F63: 6 | G63: 3.5 | H63: 6.3 | I63: 8.4
B64: Jempol | C64: 12.2 | D64: 14.9 | E64: 15.1 | F64: 11.4 | G64: 3.7 | H64: 8.5 | I64: 11.3
B66: Kadar adalah bagi setiap 1,000 penduduk mengikut kumpulan etnik | F66: 1 Termasuk bukan warganegara Malaysia
B67: The rates are per 1,000 population by ethnic group | F67: Includes non-Malaysian citizens
B68: ='3.7_AD(male)_kadar etnik'!B68 -> Jadual 3.7: Kadar kelahiran kasar mengikut negeri, daerah pentadbiran, kumpulan etnik dan jantina, Malaysia, 2025 (samb.)
B69: ='3.7_AD(male)_kadar etnik'!B69 -> Table 3.7: Crude birth rate by state, administrative district, ethnic group and sex, Malaysia, 2025 (cont'd)
B71: Perempuan/Female
C72: Kumpulan etnik/Ethnic group
B73: Negeri dan daerah pentadbiran | C73: Jumlah | D73: Bumiputera
B74: State and administrative district | C74: Total | D74: Jumlah | E74: Melayu | F74: Bumiputera Lain | G74: Cina | H74: India | I74: Lain-lain1
D75: Total | E75: Malay | F75: Other Bumiputera | G75: Chinese | H75: Indians | I75: Others1
B78: Pahang | C78: 12.8 | D78: 14.1 | E78: 13.8 | F78: 17.2 | G78: 4.4 | H78: 8.1 | I78: 25.1
B79: Bentong | C79: 10.2 | D79: 13.1 | E79: 12.7 | F79: 20.8 | G79: 3.6 | H79: 8.3 | I79: 13
B80: Cameron Highlands | C80: 12.1 | D80: 13.4 | E80: 12.6 | F80: 14 | G80: 6.4 | H80: 7.6 | I80: 59.4
B81: Jerantut | C81: 13 | D81: 14.3 | E81: 14.6 | F81: 9.9 | G81: 3.6 | H81: 11.7 | I81: 10.5
B82: Kuantan | C82: 12.1 | D82: 12.9 | E82: 13 | F82: 10.4 | G82: 4.6 | H82: 6.1 | I82: 39.7
B83: Lipis | C83: 12.5 | D83: 13 | E83: 11.8 | F83: 18.3 | G83: 6.8 | H83: 7.9 | I83: 19.8
B84: Pekan | C84: 16.8 | D84: 17.1 | E84: 15.9 | F84: 24.4 | G84: - | H84: 2.6 | I84: 16.4
B85: Raub | C85: 10.3 | D85: 12.5 | E85: 12 | F85: 16.5 | G85: 4.8 | H85: 8.7 | I85: 33.9
B86: Temerloh | C86: 12.8 | D86: 14.5 | E86: 14.5 | F86: 15.2 | G86: 3.6 | H86: 9.4 | I86: 16.8
B87: Rompin | C87: 18.5 | D87: 18.8 | E87: 18.7 | F87: 19 | G87: 4.4 | H87: 2.1 | I87: 22.4
B88: Maran | C88: 14.4 | D88: 14.6 | E88: 14.6 | F88: 14.9 | G88: 5.1 | H88: 9.9 | I88: 13.4
B89: Bera | C89: 9.9 | D89: 12.3 | E89: 12.4 | F89: 11.2 | G89: 3.9 | H89: 10.9 | I89: 9.5
B91: Perak | C91: 10.3 | D91: 13.5 | E91: 13.5 | F91: 13.9 | G91: 3.7 | H91: 7.5 | I91: 12.2
B92: Batang Padang | C92: 11.3 | D92: 13.3 | E92: 12.7 | F92: 15.4 | G92: 4.9 | H92: 7.6 | I92: 8.2
B93: Manjung | C93: 11.7 | D93: 15.4 | E93: 15.3 | F93: 20.4 | G93: 4.8 | H93: 8.3 | I93: 20.6
B94: Kinta | C94: 8.3 | D94: 12 | E94: 12.1 | F94: 10.6 | G94: 3.5 | H94: 7.5 | I94: 8.9
B95: Kerian | C95: 12.7 | D95: 14.5 | E95: 14.5 | F95: 8.2 | G95: 3.2 | H95: 8.6 | I95: 24.6
B96: Kuala Kangsar | C96: 10.3 | D96: 13 | E96: 12.8 | F96: 15.1 | G96: 3.8 | H96: 5.8 | I96: 10.1
B97: Larut & Matang | C97: 11.7 | D97: 14.5 | E97: 14.5 | F97: 15.9 | G97: 3.8 | H97: 9.2 | I97: 21.6
... B117: Lahad Datu | C117: 9.9 | D117: 13.5 | E117: 38 | F117: 11 | G117: 4 | H117: 17 | I117: 5.2
B118: Semporna | C118: 12.9 | D118: 15.4 | E118: 38.6 | F118: 14.5 | G118: - | H118: 46.5 | I118: 10.1
B119: Sandakan | C119: 9.2 | D119: 13.2 | E119: 23 | F119: 11.1 | G119: 3.8 | H119: 7.8 | I119: 5.6
B120: Kinabatangan | C120: 4 | D120: 13.3 | E120: 50.9 | F120: 10.2 | G120: 10.1 | H120: - | I120: 0.7
B121: Beluran | C121: 8.8 | D121: 14.4 | E121: 20.6 | F121: 14.1 | G121: 11.4 | H121: - | I121: 2.3
B122: Kota Kinabalu | C122: 8.9 | D122: 9.2 | E122: 9.3 | F122: 9.2 | G122: 3.1 | H122: 6.4 | I122: 11.8
B123: Ranau | C123: 15.9 | D123: 16.4 | E123: 14.2 | F123: 16.6 | G123: 3.4 | H123: - | I123: 7.7
B124: Kota Belud | C124: 12.8 | D124: 13.1 | E124: 37.1 | F124: 12.5 | G124: 3.8 | H124: 21.3 | I124: 9.5
B125: Tuaran | C125: 14.1 | D125: 14.1 | E125: 16.8 | F125: 13.8 | G125: 0.8 | H125: - | I125: 17.9
B126: Penampang | C126: 8 | D126: 8.7 | E126: 7.8 | F126: 8.8 | G126: 3.5 | H126: 16.2 | I126: 13.2
B127: Papar | C127: 12.9 | D127: 12.7 | E127: 14.7 | F127: 12 | G127: 4.9 | H127: 22.2 | I127: 19.3
B128: Kudat | C128: 14.4 | D128: 15.4 | E128: 15.6 | F128: 15.4 | G128: 1.9 | H128: - | I128: 12.6
B129: Kota Marudu | C129: 15.9 | D129: 16.3 | E129: 24.5 | F129: 16 | G129: - | H129: - | I129: 13.8
B130: Pitas | C130: 18.5 | D130: 18.5 | E130: 54.3 | F130: 17.7 | G130: 8.5 | H130: - | I130: 19.5
B131: Beaufort | C131: 12.1 | D131: 12 | E131: 12.3 | F131: 11.9 | G131: 2.3 | H131: 25 | I131: 18.8
B132: Kuala Penyu | C132: 13.8 | D132: 14.4 | E132: 10.5 | F132: 16 | G132: - | H132: - | I132: 9
B133: Sipitang | C133: 11.7 | D133: 12.3 | E133: 10.2 | F133: 13.2 | G133: 4.5 | H133: - | I133: 9
B134: Tenom | C134: 13.4 | D134: 14 | E134: 9 | F134: 14.4 | G134: 7.5 | H134: - | I134: 6.8
B135: Nabawan | C135: 18.9 | D135: 19.6 | E135: 12.3 | F135: 19.6 | G135: - | H135: - | I135: 1.8
B136: Keningau | C136: 15 | D136: 16 | E136: 31.1 | F136: 15.4 | G136: 3.9 | H136: - | I136: 12
B137: Tambunan | C137: 16.9 | D137: 17.5 | E137: 40.3 | F137: 17.3 | G137: - | H137: - | I137: 7
B138: Kunak | C138: 12 | D138: 17.9 | E138: 98 | F138: 11.7 | G138: 11 | H138: 37 | I138: 7
B139: Tongod | C139: 7.3 | D139: 10.7 | E139: 5.6 | F139: 10.8 | G139: 15.9 | H139: - | I139: 0.4
...

Sheet 3.8_strata
B1: Jadual 3.8: Kelahiran hidup mengikut negeri, strata dan jantina, Malaysia, 2025
B2: Table 3.8: Live births by state, stratum and sex, Malaysia, 2025
B5: Negeri | C5: Jumlah/Total | G5: Bandar/Urban | K5: Luar Bandar/Rural
B6: State | C6: Jumlah | D6: Lelaki | E6: Perempuan | G6: Jumlah | H6: Lelaki | I6: Perempuan | K6: Jumlah | L6: Lelaki | M6: Perempuan
C7: Total | D7: Male | E7: Female | G7: Total | H7: Male | I7: Female | K7: Total | L7: Male | M7: Female
B9: Malaysia | C9: 396175 | D9: 204934 | E9: 191241 | G9: 273757 | H9: 141666 | I9: 132091 | K9: 122418 | L9: 63268 | M9: 59150
B10: Johor | C10: 48093 | D10: 24832 | E10: 23261 | G10: 35273 | H10: 18264 | I10: 17009 | K10: 12820 | L10: 6568 | M10: 6252
B11: Kedah | C11: 30163 | D11: 15457 | E11: 14706 | G11: 18096 | H11: 9298 | I11: 8798 | K11: 12067 | L11: 6159 | M11: 5908
B12: Kelantan | C12: 31858 | D12: 16469 | E12: 15389 | G12: 13288 | H12: 6834 | I12: 6454 | K12: 18570 | L12: 9635 | M12: 8935
B13: Melaka | C13: 11860 | D13: 6163 | E13: 5697 | G13: 10712 | H13: 5536 | I13: 5176 | K13: 1148 | L13: 627 | M13: 521
B14: Negeri Sembilan | C14: 14141 | D14: 7290 | E14: 6851 | G14: 9208 | H14: 4778 | I14: 4430 | K14: 4933 | L14: 2512 | M14: 2421
B15: Pahang | C15: 20654 | D15: 10631 | E15: 10023 | G15: 9457 | H15: 4876 | I15: 4581 | K15: 11197 | L15: 5755 | M15: 5442
B16: Perak | C16: 26275 | D16: 13568 | E16: 12707 | G16: 16754 | H16: 8692 | I16: 8062 | K16: 9521 | L16: 4876 | M16: 4645
B17: Perlis | C17: 3508 | D17: 1812 | E17: 1696 | G17: 1899 | H17: 972 | I17: 927 | K17: 1609 | L17: 840 | M17: 769
B18: Pulau Pinang | C18: 16722 | D18: 8617 | E18: 8105 | G18: 14312 | H18: 7378 | I18: 6934 | K18: 2410 | L18: 1239 | M18: 1171
B19: Sabah | C19: 40768 | D19: 21351 | E19: 19417 | G19: 21460 | H19: 11193 | I19: 10267 | K19: 19308 | L19: 10158 | M19: 9150
B20: Sarawak | C20: 28678 | D20: 14984 | E20: 13694 | G20: 13707 | H20: 7240 | I20: 6467 | K20: 14971 | L20: 7744 | M20: 7227
... B22: Terengganu | C22: 23292 | D22: 12021 | E22: 11271 | G22: 14737 | H22: 7655 | I22: 7082 | K22: 8555 | L22: 4366 | M22: 4189
B23: W.P. Kuala Lumpur | C23: 19430 | D23: 9967 | E23: 9463 | G23: 19430 | H23: 9967 | I23: 9463 | K23: - | L23: - | M23: -
B24: W.P. Labuan | C24: 1147 | D24: 614 | E24: 533 | G24: 1023 | H24: 549 | I24: 474 | K24: 124 | L24: 65 | M24: 59
B25: W.P. Putrajaya | C25: 1422 | D25: 724 | E25: 698 | G25: 1422 | H25: 724 | I25: 698 | K25: - | L25: - | M25: -

Sheet 3.9_umur ibu
B1: Jadual 3.9: Kelahiran hidup mengikut kumpulan umur ibu dan negeri, Malaysia, 2025
B2: Table 3.9: Live births by age group of mother and state, Malaysia, 2025
B5: Negeri | C5: Jumlah | D5: Kumpulan umur ibu (tahun)/Age group of mother (years)
B6: State | C6: Total | D6: Kurang 15 | E6: 15-19 | F6: 20-24 | G6: 25-29 | H6: 30-34 | I6: 35-39 | J6: 40-44 | K6: 45-49 | L6: 50 dan lebih | M6: Tidak diketahui
D7: Under 15 | L7: 50 and over | M7: Unknown
B10: Malaysia | C10: 396175 | D10: 131 | E10: 7676 | F10: 43621 | G10: 118262 | H10: 128631 | I10: 75348 | J10: 20378 | K10: 1314 | L10: 66 | M10: 748
B11: Johor | C11: 48093 | D11: 16 | E11: 840 | F11: 5186 | G11: 15073 | H11: 15942 | I11: 8573 | J11: 2241 | K11: 147 | L11: 2 | M11: 73
B12: Kedah | C12: 30163 | D12: 8 | E12: 582 | F12: 3680 | G12: 10128 | H12: 9290 | I12: 5010 | J12: 1326 | K12: 76 | L12: 3 | M12: 60
B13: Kelantan | C13: 31858 | D13: 7 | E13: 521 | F13: 3575 | G13: 10055 | H13: 10026 | I13: 5922 | J13: 1646 | K13: 88 | L13: 1 | M13: 17
B14: Melaka | C14: 11860 | D14: 3 | E14: 149 | F14: 1199 | G14: 3786 | H14: 3947 | I14: 2210 | J14: 538 | K14: 18 | L14: - | M14: 10
B15: Negeri Sembilan | C15: 14141 | D15: 2 | E15: 189 | F15: 1215 | G15: 4364 | H15: 4830 | I15: 2774 | J15: 717 | K15: 48 | L15: 1 | M15: 1
B16: Pahang | C16: 20654 | D16: 10 | E16: 556 | F16: 2612 | G16: 6196 | H16: 6397 | I16: 3769 | J16: 1033 | K16: 67 | L16: 2 | M16: 12
B17: Perak | C17: 26275 | D17: 7 | E17: 404 | F17: 2695 | G17: 8284 | H17: 8598 | I17: 4851 | J17: 1340 | K17: 77 | L17: 1 | M17: 18
B18: Perlis | C18: 3508 | D18: 3 | E18: 78 | F18: 465 | G18: 1103 | H18: 1059 | I18: 629 | J18: 163 | K18: 5 | L18: 1 | M18: 2
B19: Pulau Pinang | C19: 16722 | D19: 8 | E19: 283 | F19: 1753 | G19: 5045 | H19: 5354 | I19: 3030 | J19: 825 | K19: 53 | L19: 3 | M19: 368
B20: Sabah | C20: 40768 | D20: 14 | E20: 1233 | F20: 5854 | G20: 11157 | H20: 12510 | I20: 7487 | J20: 2221 | K20: 213 | L20: 38 | M20: 41
B21: Sarawak | C21: 28678 | D21: 14 | E21: 1075 | F21: 4534 | G21: 8143 | H21: 8583 | I21: 4926 | J21: 1313 | K21: 75 | L21: 1 | M21: 14
B22: Selangor | C22: 78164 | D22: 23 | E22: 1049 | F22: 6674 | G22: 22100 | H22: 27006 | I22: 16514 | J22: 4418 | K22: 284 | L22: 9 | M22: 87
B23: Terengganu | C23: 23292 | D23: 8 | E23: 384 | F23: 2473 | G23: 7164 | H23: 7400 | I23: 4491 | J23: 1257 | K23: 85 | L23: 1 | M23: 29
B24: W.P. Kuala Lumpur | C24: 19430 | D24: 8 | E24: 301 | F24: 1522 | G24: 5025 | H24: 6843 | I24: 4519 | J24: 1128 | K24: 66 | L24: 3 | M24: 15
B25: W.P. Labuan | C25: 1147 | D25: - | E25: 29 | F25: 147 | G25: 345 | H25: 343 | I25: 212 | J25: 62 | K25: 8 | L25: - | M25: 1
B26: W.P. Putrajaya | C26: 1422 | D26: - | E26: 3 | F26: 37 | G26: 294 | H26: 503 | I26: 431 | J26: 150 | K26: 4 | L26: - | M26: -

Sheet 3.10_umur ibu_etnik
B1: Jadual 3.10: Kelahiran hidup mengikut kumpulan umur ibu, kumpulan etnik dan jantina, Malaysia, 2025 | K1: Jadual 3.10: Kelahiran hidup mengikut kumpulan umur ibu, kumpulan etnik dan jantina, Malaysia, 2025 (samb.) | T1: =K1 -> Jadual 3.10: Kelahiran hidup mengikut kumpulan umur ibu, kumpulan etnik dan jantina, Malaysia, 2025 (samb.)
B2: Table 3.10: Live births by age group of mother, ethnic group and sex, Malaysia, 2025 | K2: Table 3.10: Live births by age group of mother, ethnic group and sex, Malaysia, 2025 (cont'd) | T2: =K2 -> Table 3.10: Live births by age group of mother, ethnic group and sex, Malaysia, 2025 (cont'd)
B5: Jumlah/Total | K5: Lelaki/Male | T5: Perempuan/Female
C6: Kumpulan etnik/Ethnic group | L6: Kumpulan etnik/Ethnic group | U6: Kumpulan etnik/Ethnic group
B7: Kumpulan umur ibu (tahun) | C7: Jumlah | D7: Bumiputera | K7: Kumpulan umur ibu (tahun) | L7: Jumlah | M7: Bumiputera | T7: Kumpulan umur ibu (tahun) | U7: Jumlah | V7: Bumiputera
B8: Age group of mother (years) | C8: Total | D8: Jumlah | E8: Melayu | F8: Bumiputera Lain | G8: Cina | H8: India | I8: Lain-lain1 | K8: Age group of mother (years) | L8: Total | M8: Jumlah | N8: Melayu | O8: Bumiputera Lain | P8: Cina | Q8: India | R8: Lain-lain1 | T8: Age group of mother (years) | U8: Total | V8: Jumlah | W8: Melayu | X8: Bumiputera Lain | Y8: Cina | Z8: India | AA8: Lain-lain1
D9: Total | E9: Malay | F9: Other Bumiputera | G9: Chinese | H9: Indians | I9: Others1 | M9: Total | N9: Malay | O9: Other Bumiputera | P9: Chinese | Q9: Indians | R9: Others1 | V9: Total | W9: Malay | X9: Other Bumiputera | Y9: Chinese | Z9: Indians | AA9: Others1
B12: Jumlah | C12: 396175 | D12: 317126 | E12: 267196 | F12: 49930 | G12: 34164 | H12: 17266 | I12: 27619 | K12: Jumlah | L12: 204934 | M12: 163945 | N12: 137785 | O12: 26160 | P12: 17922 | Q12: 8821 | R12: 14246 | T12: Jumlah | U12: 191241 | V12: 153181 | W12: 129411 | X12: 23770 | Y12: 16242 | Z12: 8445 | AA12: 13373
B13: Total | K13: Total | T13: Total
B14: Kurang 15 | C14: 131 | D14: 65 | E14: 38 | F14: 27 | G14: 6 | H14: 2 | I14: 58 | K14: Kurang 15 | L14: 67 | M14: 33 | N14: 20 | O14: 13 | P14: 3 | Q14: - | R14: 31 | T14: Kurang 15 | U14: 64 | V14: 32 | W14: 18 | X14: 14 | Y14: 3 | Z14: 2 | AA14: 27
B15: Under 15 | K15: Under 15 | T15: Under 15
B16: 15-19 | C16: 7676 | D16: 4827 | E16: 2835 | F16: 1992 | G16: 290 | H16: 203 | I16: 2356 | K16: 15-19 | L16: 3971 | M16: 2521 | N16: 1495 | O16: 1026 | P16: 157 | Q16: 109 | R16: 1184 | T16: 15-19 | U16: 3705 | V16: 2306 | W16: 1340 | X16: 966 | Y16: 133 | Z16: 94 | AA16: 1172
B17: 20-24 | C17: 43621 | D17: 33842 | E17: 25899 | F17: 7943 | G17: 2085 | H17: 1349 | I17: 6345 | K17: 20-24 | L17: 22702 | M17: 17564 | N17: 13401 | O17: 4163 | P17: 1138 | Q17: 680 | R17: 3320 | T17: 20-24 | U17: 20919 | V17: 16278 | W17: 12498 | X17: 3780 | Y17: 947 | Z17: 669 | AA17: 3025
B18: 25-29 | C18: 118262 | D18: 100152 | E18: 86278 | F18: 13874 | G18: 7105 | H18: 4191 | I18: 6814 | K18: 25-29 | L18: 60975 | M18: 51676 | N18: 44384 | O18: 7292 | P18: 3668 | Q18: 2134 | R18: 3497 | T18: 25-29 | U18: 57287 | V18: 48476 | W18: 41894 | X18: 6582 | Y18: 3437 | Z18: 2057 | AA18: 3317
B19: 30-34 | C19: 128631 | D19: 102599 | E19: 87841 | F19: 14758 | G19: 13139 | H19: 6818 | I19: 6075 | K19: 30-34 | L19: 66600 | M19: 53115 | N19: 45395 | O19: 7720 | P19: 6903 | Q19: 3495 | R19: 3087 | T19: 30-34 | U19: 62031 | V19: 49484 | W19: 42446 | X19: 7038 | Y19: 6236 | Z19: 3323 | AA19: 2988
B20: 35-39 | C20: 75348 | D20: 58751 | E20: 50087 | F20: 8664 | G20: 9071 | H20: 3756 | I20: 3770 | K20: 35-39 | L20: 38890 | M20: 30254 | N20: 25720 | O20: 4534 | P20: 4733 | Q20: 1930 | R20: 1973 | T20: 35-39 | U20: 36458 | V20: 28497 | W20: 24367 | X20: 4130 | Y20: 4338 | Z20: 1826 | AA20: 1797
B21: 40-44 | C21: 20378 | D21: 15914 | E21: 13467 | F21: 2447 | G21: 2315 | H21: 869 | I21: 1280 | K21: 40-44 | L21: 10570 | M21: 8245 | N21: 6955 | O21: 1290 | P21: 1235 | Q21: 433 | R21: 657 | T21: 40-44 | U21: 9808 | V21: 7669 | W21: 6512 | X21: 1157 | Y21: 1080 | Z21: 436 | AA21: 623
B22: 45-49 | C22: 1314 | D22: 925 | E22: 727 | F22: 198 | G22: 133 | H22: 73 | I22: 183 | K22: 45-49 | L22: 714 | M22: 506 | N22: 402 | O22: 104 | P22: 76 | Q22: 38 | R22: 94 | T22: 45-49 | U22: 600 | V22: 419 | W22: 325 | X22: 94 | Y22: 57 | Z22: 35 | AA22: 89
B23: 50 dan lebih | C23: 66 | D23: 22 | E23: 9 | F23: 13 | G23: 12 | H23: 5 | I23: 27 | K23: 50 dan lebih | L23: 43 | M23: 14 | N23: 4 | O23: 10 | P23: 5 | Q23: 2 | R23: 22 | T23: 50 dan lebih | U23: 23 | V23: 8 | W23: 5 | X23: 3 | Y23: 7 | Z23: 3 | AA23: 5
B24: 50 and over | K24: 50 and over | T24: 50 and over
B25: Tidak diketahui | C25: 748 | D25: 29 | E25: 15 | F25: 14 | G25: 8 | H25: - | I25: 711 | K25: Tidak diketahui | L25: 402 | M25: 17 | N25: 9 | O25: 8 | P25: 4 | Q25: - | R25: 381 | T25: Tidak diketahui | U25: 346 | V25: 12 | W25: 6 | X25: 6 | Y25: 4 | Z25: - | AA25: 330
B26: Unknown | K26: Unknown | T26: Unknown
B28: 1 Termasuk bukan warganegara Malaysia | K28: 1 Termasuk bukan warganegara Malaysia | T28: 1 Termasuk bukan warganegara Malaysia
B29: Includes non-Malaysian citizens | K29: Includes non-Malaysian citizens | T29: Includes non-Malaysian citizens

Sheet 3.11_negeri kejadian
B1: Jadual 3.11: Kelahiran hidup mengikut negeri kejadian, Malaysia, 2025
B2: Table 3.11: Live births by state of occurrence, Malaysia, 2025
B5: Negeri | H5: Kelahiran hidup
B6: State | H6: Live births
B9: Jumlah/Total | H9: 396175
B10: Malaysia | H10: 396156
B11: Johor | H11: 49640
B12: Kedah | H12: 28176
B13: Kelantan | H13: 29125
B14: Melaka | H14: 11187
B15: Negeri Sembilan | H15: 13328
B16: Pahang | H16: 19174
B17: Perak | H17: 25593
B18: Perlis | H18: 4111
B19: Pulau Pinang | H19: 17598
B20: Sabah | H20: 39384
... B27: Luar Negara/Other Countries | H27: 19

Sheet 3.12_TFR_ASFR_STATE
B1: Jadual 3.12: Kadar kesuburan jumlah dan kadar kesuburan umur tertentu mengikut negeri, Malaysia, 2025
B2: Table 3.12: Total fertility rate and age-specific fertility rate by state, Malaysia, 2025
B5: Negeri | D5: Kadar kesuburan jumlah1 | F5: Kadar kesuburan jumlah2 | H5: Kadar kesuburan umur tertentu1/Age-specific fertility rate1
B6: State | H6: 15-19 | I6: 20-24 | J6: 25-29 | K6: 30-34 | L6: 35-39 | M6: 40-44 | N6: 45-49
D7: Total fertility rate1 | F7: Total fertility rate2
B10: Malaysia | D10: 1489 | F10: 1.5 | H10: 6 | I10: 30.9 | J10: 87.5 | K10: 99.3 | L10: 56.5 | M10: 16.2 | N10: 1.4
B11: Johor | D11: 1533 | F11: 1.5 | H11: 5.2 | I11: 30.2 | J11: 91.1 | K11: 104.3 | L11: 58.8 | M11: 15.6 | N11: 1.3
B12: Kedah | D12: 1704 | F12: 1.7 | H12: 6.9 | I12: 40.9 | J12: 100.2 | K12: 103.6 | L12: 67.3 | M12: 20.4 | N12: 1.4
B13: Kelantan | D13: 2279 | F13: 2.3 | H13: 6.1 | I13: 34.7 | J13: 115.6 | K13: 160 | L13: 105.3 | M13: 32 | N13: 2.1
B14: Melaka | D14: 1405 | F14: 1.4 | H14: 4.5 | I14: 23.7 | J14: 87.9 | K14: 86.1 | L14: 62.3 | M14: 15.9 | N14: 0.5
B15: Negeri Sembilan | D15: 1489 | F15: 1.5 | H15: 4.3 | I15: 23.8 | J15: 88.8 | K15: 106 | L15: 57.6 | M15: 15.9 | N15: 1.4
B16: Pahang | D16: 1799 | F16: 1.8 | H16: 7.9 | I16: 35.2 | J16: 111.4 | K16: 122.5 | L16: 64.4 | M16: 17.1 | N16: 1.2
B17: Perak | D17: 1457 | F17: 1.5 | H17: 4.3 | I17: 24.9 | J17: 81.2 | K17: 106.1 | L17: 58.2 | M17: 15.5 | N17: 1
B18: Perlis | D18: 1439 | F18: 1.4 | H18: 8.2 | I18: 25.6 | J18: 66.6 | K18: 106.5 | L18: 63.8 | M18: 16.7 | N18: 0.5
B19: Pulau Pinang | D19: 1081 | F19: 1.1 | H19: 5.1 | I19: 25.9 | J19: 64.2 | K19: 67.6 | L19: 40.5 | M19: 11.8 | N19: 1
B20: Sabah | D20: 1234 | F20: 1.2 | H20: 6.5 | I20: 31.5 | J20: 60 | K20: 77.5 | L20: 50.8 | M20: 17.6 | N20: 2.9
B21: Sarawak | D21: 1415 | F21: 1.4 | H21: 11.2 | I21: 43.4 | J21: 78.2 | K21: 82.9 | L21: 51.1 | M21: 15.2 | N21: 1
... B26: W.P. Putrajaya | D26: 1813 | F26: 1.8 | H26: 0.5 | I26: 12.7 | J26: 133.8 | K26: 134.3 | L26: 65.1 | M26: 15.3 | N26: 0.9
B28: 1 Kadar adalah bagi setiap 1,000 perempuan berumur 15-49 tahun
B29: The rates are per 1,000 women aged 15-49 years
B30: 2 Kadar adalah bagi setiap perempuan berumur 15-49 tahun
B31: The rates are per woman aged 15-49 years

Sheet 3.13_TFR_ASFR_AD
B1: Jadual 3.13: Kadar kesuburan jumlah dan kadar kesuburan umur tertentu mengikut negeri dan daerah pentadbiran, Malaysia, 2025
B2: Table 3.13: Total fertility rate and age-specific fertility rate by state and administrative district, Malaysia, 2025
B5: Negeri dan daerah pentadbiran | D5: Kadar kesuburan jumlah1 | F5: Kadar kesuburan jumlah2 | H5: Kadar kesuburan umur tertentu1/Age-specific fertility rate1
B6: State and administrative district | H6: 15-19 | I6: 20-24 | J6: 25-29 | K6: 30-34 | L6: 35-39 | M6: 40-44 | N6: 45-49
D7: Total fertility rate1 | F7: Total fertility rate2
B9: Malaysia | D9: 1489 | F9: 1.5 | H9: 6 | I9: 30.9 | J9: 87.5 | K9: 99.3 | L9: 56.5 | M9: 16.2 | N9: 1.4
B11: Johor | D11: 1533 | F11: 1.5 | H11: 5.2 | I11: 30.2 | J11: 91.1 | K11: 104.3 | L11: 58.8 | M11: 15.6 | N11: 1.3
B12: Batu Pahat | D12: 1373 | F12: 1.4 | H12: 3.4 | I12: 28.2 | J12: 90.6 | K12: 92.3 | L12: 46.3 | M12: 12.8 | N12: 1
B13: Johor Bahru | D13: 1617 | F13: 1.6 | H13: 6 | I13: 31.2 | J13: 90.1 | K13: 111.7 | L13: 66.2 | M13: 16.9 | N13: 1.4
B14: Kluang | D14: 1514 | F14: 1.5 | H14: 4.3 | I14: 29.7 | J14: 94.7 | K14: 104.1 | L14: 54.9 | M14: 13.9 | N14: 1.2
B15: Kota Tinggi | D15: 1916 | F15: 1.9 | H15: 5.7 | I15: 46.6 | J15: 118.1 | K15: 119.4 | L15: 69.6 | M15: 21.3 | N15: 2.4
B16: Mersing | D16: 1707 | F16: 1.7 | H16: 6.6 | I16: 32.6 | J16: 103.4 | K16: 106.1 | L16: 66.5 | M16: 23.4 | N16: 2.7
B17: Muar | D17: 1464 | F17: 1.5 | H17: 3.6 | I17: 25.5 | J17: 91 | K17: 104.2 | L17: 53 | M17: 14.6 | N17: 0.9
B18: Pontian | D18: 1781 | F18: 1.8 | H18: 6.2 | I18: 40.9 | J18: 111 | K18: 116 | L18: 65.5 | M18: 15.5 | N18: 1
B19: Segamat | D19: 1391 | F19: 1.4 | H19: 4.3 | I19: 25.1 | J19: 85.6 | K19: 96.2 | L19: 51.8 | M19: 14.9 | N19: 0.3
B20: Kulai | D20: 1226 | F20: 1.2 | H20: 6.1 | I20: 21.4 | J20: 72.1 | K20: 84.3 | L20: 46.6 | M20: 13.2 | N20: 1.4
B21: Tangkak | D21: 1323 | F21: 1.3 | H21: 3.7 | I21: 27.7 | J21: 81.5 | K21: 88.3 | L21: 50.5 | M21: 11.7 | N21: 1.2
... B60: Seremban | D60: 1369 | F60: 1.4 | H60: 4.4 | I60: 20.7 | J60: 75.8 | K60: 101.5 | L60: 54.9 | M60: 15.2 | N60: 1.2
B61: Tampin | D61: 1875 | F61: 1.9 | H61: 3.1 | I61: 37.1 | J61: 141.4 | K61: 116.6 | L61: 62.8 | M61: 14 | N61: -
B62: Jempol | D62: 1857 | F62: 1.9 | H62: 5.4 | I62: 29 | J62: 149.7 | K62: 103.5 | L62: 64.2 | M62: 17.3 | N62: 2.2
B64: 1 Kadar adalah bagi setiap 1,000 perempuan berumur 15-49 tahun
B65: The rates are per 1,000 women aged 15-49 years
B66: 2 Kadar adalah bagi setiap perempuan berumur 15-49 tahun
B67: The rates are per woman aged 15-49 years
B68: Jadual 3.13: Kadar kesuburan jumlah dan kadar kesuburan umur tertentu mengikut negeri dan daerah pentadbiran, Malaysia, 2025 (samb.)
B69: Table 3.13: Total fertility rate and age-specific fertility rate by state and administrative district, Malaysia, 2025 (cont'd)
B72: Negeri dan daerah pentadbiran | D72: Kadar kesuburan jumlah1 | F72: Kadar kesuburan jumlah2 | H72: Kadar kesuburan umur tertentu1/Age-specific fertility rate1
B73: State and administrative district | H73: 15-19 | I73: 20-24 | J73: 25-29 | K73: 30-34 | L73: 35-39 | M73: 40-44 | N73: 45-49
D74: Total fertility rate1 | F74: Total fertility rate2
B76: Pahang | D76: 1799 | F76: 1.8 | H76: 7.9 | I76: 35.2 | J76: 111.4 | K76: 122.5 | L76: 64.4 | M76: 17.1 | N76: 1.2
B77: Bentong | D77: 1430 | F77: 1.4 | H77: 5.2 | I77: 29.3 | J77: 93.8 | K77: 91.1 | L77: 50.8 | M77: 15.2 | N77: 0.6
B78: Cameron Highlands | D78: 1594 | F78: 1.6 | H78: 10.9 | I78: 51.2 | J78: 95.7 | K78: 92.2 | L78: 54 | M78: 13.8 | N78: 0.9
B79: Jerantut | D79: 2091 | F79: 2.1 | H79: 5.6 | I79: 34.3 | J79: 149.4 | K79: 134.6 | L79: 75.5 | M79: 18.5 | N79: 0.3
B80: Kuantan | D80: 1741 | F80: 1.7 | H80: 6.5 | I80: 29.7 | J80: 109.3 | K80: 125.9 | L80: 59.9 | M80: 15.6 | N80: 1.2
B81: Lipis | D81: 1714 | F81: 1.7 | H81: 16.3 | I81: 40.2 | J81: 91.5 | K81: 114.9 | L81: 60.3 | M81: 17.8 | N81: 1.8
B82: Pekan | D82: 2152 | F82: 2.2 | H82: 19.4 | I82: 46.9 | J82: 101.8 | K82: 142 | L82: 89.4 | M82: 29.1 | N82: 2
B83: Raub | D83: 1429 | F83: 1.4 | H83: 6.6 | I83: 31.4 | J83: 83.7 | K83: 101.4 | L83: 50 | M83: 11 | N83: 1.8
B84: Temerloh | D84: 1920 | F84: 1.9 | H84: 5.4 | I84: 36.7 | J84: 151.6 | K84: 114.3 | L84: 61.3 | M84: 13.6 | N84: 1
B85: Rompin | D85: 2584 | F85: 2.6 | H85: 13.7 | I85: 64.3 | J85: 171.6 | K85: 149.4 | L85: 89.9 | M85: 27.1 | N85: 0.8
B86: Maran | D86: 1933 | F86: 1.9 | H86: 5.1 | I86: 33.3 | J86: 90.8 | K86: 154.6 | L86: 77.2 | M86: 23 | N86: 2.6
B87: Bera | D87: 1505 | F87: 1.5 | H87: 2.7 | I87: 26.9 | J87: 97.3 | K87: 101.3 | L87: 57.4 | M87: 14.5 | N87: 0.9
... B101: Bagan Datuk | D101: 1306 | F101: 1.3 | H101: 1.6 | I101: 10.2 | J101: 96.4 | K101: 88.4 | L101: 51.7 | M101: 12.5 | N101: 0.3
B102: Selama | D102: 2542 | F102: 2.5 | H102: 4.8 | I102: 49.8 | J102: 158.5 | K102: 170.4 | L102: 94.3 | M102: 30.5 | N102: -
B104: Perlis | D104: 1439 | F104: 1.4 | H104: 8.2 | I104: 25.6 | J104: 66.6 | K104: 106.5 | L104: 63.8 | M104: 16.7 | N104: 0.5
B106: Pulau Pinang | D106: 1081 | F106: 1.1 | H106: 5.1 | I106: 25.9 | J106: 64.2 | K106: 67.6 | L106: 40.5 | M106: 11.8 | N106: 1
B107: Seberang Perai Tengah | D107: 1171 | F107: 1.2 | H107: 6.8 | I107: 32.8 | J107: 70.7 | K107: 69.9 | L107: 41.3 | M107: 11.7 | N107: 1
B108: Seberang Perai Utara | D108: 1420 | F108: 1.4 | H108: 5.2 | I108: 33.8 | J108: 91.9 | K108: 88.9 | L108: 47.4 | M108: 15.7 | N108: 1.1
B109: Seberang Perai Selatan | D109: 1393 | F109: 1.4 | H109: 6.9 | I109: 33.2 | J109: 87.6 | K109: 86.4 | L109: 50.6 | M109: 13.4 | N109: 0.5
B110: Timur Laut | D110: 643 | F110: 0.6 | H110: 3.4 | I110: 14.5 | J110: 32.2 | K110: 41.9 | L110: 27.9 | M110: 7.9 | N110: 0.9
B111: Barat Daya | D111: 1197 | F111: 1.2 | H111: 4.1 | I111: 24 | J111: 70.7 | K111: 76.4 | L111: 48.6 | M111: 14 | N111: 1.6
B113: Sabah | D113: 1234 | F113: 1.2 | H113: 6.5 | I113: 31.5 | J113: 60 | K113: 77.5 | L113: 50.8 | M113: 17.6 | N113: 2.9
B114: Tawau | D114: 1056 | F114: 1.1 | H114: 4.2 | I114: 23 | J114: 49.9 | K114: 73.5 | L114: 42.5 | M114: 16.1 | N114: 1.9
B115: Lahad Datu | D115: 1098 | F115: 1.1 | H115: 4.9 | I115: 25.6 | J115: 54.4 | K115: 69.4 | L115: 47.2 | M115: 15.1 | N115: 2.9
B116: Semporna | D116: 1527 | F116: 1.5 | H116: 9.3 | I116: 51.2 | J116: 63.9 | K116: 85 | L116: 56.9 | M116: 25.4 | N116: 13.8
B117: Sandakan | D117: 997 | F117: 1 | H117: 5.5 | I117: 21.6 | J117: 46.3 | K117: 65.8 | L117: 43.1 | M117: 15.2 | N117: 1.7
... B130: Kuala Penyu | D130: 1592 | F130: 1.6 | H130: 5 | I130: 29.2 | J130: 81.5 | K130: 123 | L130: 58.8 | M130: 14.8 | N130: 6.1
B131: Sipitang | D131: 1544 | F131: 1.5 | H131: 10.7 | I131: 45.2 | J131: 91.3 | K131: 83.2 | L131: 60.2 | M131: 18.2 | N131: -
B132: Tenom | D132: 1750 | F132: 1.8 | H132: 9.9 | I132: 57.7 | J132: 87.1 | K132: 101.1 | L132: 63.6 | M132: 25.1 | N132: 5.3
B133: Nabawan | D133: 2405 | F133: 2.4 | H133: 23.1 | I133: 118.6 | J133: 137 | K133: 107.6 | L133: 75.7 | M133: 19.1 | N133: -
B134: Keningau | D134: 1789 | F134: 1.8 | H134: 11.8 | I134: 48.6 | J134: 94.7 | K134: 106.4 | L134: 71.4 | M134: 22.9 | N134: 2.1
B135: Tambunan | D135: 2185 | F135: 2.2 | H135: 6.4 | I135: 41.5 | J135: 105.9 | K135: 153.7 | L135: 93.1 | M135: 27.7 | N135: 8.8
B136: Kunak | D136: 1267 | F136: 1.3 | H136: 7.8 | I136: 38.3 | J136: 56.2 | K136: 76.2 | L136: 52.1 | M136: 18.4 | N136: 4.5
B137: Tongod | D137: 843 | F137: 0.8 | H137: 5.4 | I137: 37 | J137: 36.3 | K137: 44.9 | L137: 35.3 | M137: 8.5 | N137: 1
B138: Putatan | D138: 1799 | F138: 1.8 | H138: 5.9 | I138: 36.8 | J138: 101.1 | K138: 125.2 | L138: 66.4 | M138: 22.6 | N138: 1.8
B139: Telupid | D139: 924 | F139: 0.9 | H139: 4.4 | I139: 28.8 | J139: 47.1 | K139: 54.8 | L139: 33.8 | M139: 13 | N139: 2.9
B140: Kalabakan | D140: 412 | F140: 0.4 | H140: 2.8 | I140: 7.7 | J140: 17 | K140: 26 | L140: 24.7 | M140: 4.2 | N140: -
B141: Membakut | D141: 1706 | F141: 1.7 | H141: 5.2 | I141: 34.1 | J141: 97.9 | K141: 113.9 | L141: 62.5 | M141: 26.6 | N141: 0.9
B143: 1 Kadar adalah bagi setiap 1,000 perempuan berumur 15-49 tahun
B144: The rates are per 1,000 women aged 15-49 years
B145: 2 Kadar adalah bagi setiap perempuan berumur 15-49 tahun
B146: The rates are per woman aged 15-49 years
B147: =B68 -> Jadual 3.13: Kadar kesuburan jumlah dan kadar kesuburan umur tertentu mengikut negeri dan daerah pentadbiran, Malaysia, 2025 (samb.)
B148: =B69 -> Table 3.13: Total fertility rate and age-specific fertility rate by state and administrative district, Malaysia, 2025 (cont'd)
B151: Negeri dan daerah pentadbiran | D151: Kadar kesuburan jumlah1 | F151: Kadar kesuburan jumlah2 | H151: Kadar kesuburan umur tertentu1/Age-specific fertility rate1
B152: State and administrative district | H152: 15-19 | I152: 20-24 | J152: 25-29 | K152: 30-34 | L152: 35-39 | M152: 40-44 | N152: 45-49
D153: Total fertility rate1 | F153: Total fertility rate2
B155: Sarawak | D155: 1415 | F155: 1.4 | H155: 11.2 | I155: 43.4 | J155: 78.2 | K155: 82.9 | L155: 51.1 | M155: 15.2 | N155: 1
B156: Kuching | D156: 1182 | F156: 1.2 | H156: 6.1 | I156: 31.5 | J156: 64.9 | K156: 71.5 | L156: 46.8 | M156: 15 | N156: 0.7
B157: Bau | D157: 1679 | F157: 1.7 | H157: 12 | I157: 49.3 | J157: 107 | K157: 93.5 | L157: 57.9 | M157: 13.9 | N157: 2
B158: Lundu | D158: 2169 | F158: 2.2 | H158: 10.8 | I158: 70.8 | J158: 130.4 | K158: 136.2 | L158: 63.4 | M158: 19.2 | N158: 3.1
B159: Samarahan | D159: 934 | F159: 0.9 | H159: 5 | I159: 21.8 | J159: 27.5 | K159: 71.2 | L159: 47.7 | M159: 13.1 | N159: 0.5
B160: Serian | D160: 2475 | F160: 2.5 | H160: 14.2 | I160: 72.5 | J160: 150.3 | K160: 155 | L160: 78.8 | M160: 23.7 | N160: 0.6
B161: Simunjan | D161: 1234 | F161: 1.2 | H161: 6.3 | I161: 28 | J161: 82.7 | K161: 82.6 | L161: 40.9 | M161: 6.3 | N161: -
B162: Sri Aman | D162: 1627 | F162: 1.6 | H162: 10.3 | I162: 60.3 | J162: 103.5 | K162: 90.6 | L162: 42.8 | M162: 16.3 | N162: 1.7
B163: Lubok Antu | D163: 2169 | F163: 2.2 | H163: 16.5 | I163: 83.2 | J163: 121.8 | K163: 106.4 | L163: 84.2 | M163: 20.2 | N163: 1.4
B164: Betong | D164: 2664 | F164: 2.7 | H164: 18.1 | I164: 63.6 | J164: 165 | K164: 163.9 | L164: 86.2 | M164: 31.9 | N164: 4.1
B165: Saratok | D165: 1813 | F165: 1.8 | H165: 17.9 | I165: 51 | J165: 105.8 | K165: 107.4 | L165: 63.5 | M165: 15.9 | N165: 1.2
B166: Sarikei | D166: 1777 | F166: 1.8 | H166: 15.9 | I166: 44.8 | J166: 110.3 | K166: 113.8 | L166: 55.6 | M166: 14.4 | N166: 0.7
B167: Maradong | D167: 1929 | F167: 1.9 | H167: 20.7 | I167: 52.1 | J167: 104.7 | K167: 122.1 | L167: 76.4 | M167: 9.7 | N167: -
B168: Daro | D168: 2949 | F168: 2.9 | H168: 12 | I168: 79.6 | J168: 167.9 | K168: 175.8 | L168: 113.7 | M168: 41 | N168: -
B169: Julau | D169: 2895 | F169: 2.9 | H169: 20.9 | I169: 88.5 | J169: 174.9 | K169: 166.7 | L169: 102 | M169: 24.1 | N169: 2
B170: Sibu | D170: 1215 | F170: 1.2 | H170: 9.2 | I170: 29.6 | J170: 69 | K170: 76.7 | L170: 46.5 | M170: 11.7 | N170: 0.4
B171: Dalat | D171: 2390 | F171: 2.4 | H171: 10.1 | I171: 67 | J171: 143.6 | K171: 147 | L171: 81.2 | M171: 25.5 | N171: 3.6
B172: Mukah | D172: 1501 | F172: 1.5 | H172: 12.6 | I172: 51.4 | J172: 67.4 | K172: 85.9 | L172: 53.2 | M172: 27 | N172: 2.7
B173: Kanowit | D173: 3735 | F173: 3.7 | H173: 39.2 | I173: 105.1 | J173: 250.4 | K173: 206.5 | L173: 111.3 | M173: 31.8 | N173: 2.9
B174: Bintulu | D174: 544 | F174: 0.5 | H174: 5 | I174: 19.3 | J174: 34.4 | K174: 30.3 | L174: 15.2 | M174: 4.2 | N174: 0.4
B175: Tatau | D175: 1688 | F175: 1.7 | H175: 24.7 | I175: 81.5 | J175: 116.3 | K175: 61.5 | L175: 35.3 | M175: 14.6 | N175: 3.7
B176: Kapit | D176: 2599 | F176: 2.6 | H176: 26.3 | I176: 85.1 | J176: 156.4 | K176: 155.1 | L176: 76.8 | M176: 20.1 | N176: -
B177: Song | D177: 3378 | F177: 3.4 | H177: 48.9 | I177: 114.2 | J177: 222.7 | K177: 146.4 | L177: 116 | M177: 27.3 | N177: -
B178: Belaga | D178: 1540 | F178: 1.5 | H178: 18.3 | I178: 51.5 | J178: 84.2 | K178: 77.4 | L178: 56.3 | M178: 18.9 | N178: 1.4
...

Sheet 3.14_TFR_ETNIK_ STATE
B1: Jadual 3.14: Kadar kesuburan jumlah mengikut kumpulan etnik dan negeri, Malaysia, 2025
B2: Table 3.14: Total fertility rate by ethnic group and states, Malaysia, 2025
D5: Kumpulan etnik/Ethnic group
B6: Negeri | D6: Jumlah | E6: Bumiputera
B7: State | D7: Total | E7: Jumlah | F7: Melayu | G7: Bumiputera Lain | H7: Cina | I7: India | J7: Lain-lain1
E8: Total | F8: Malay | G8: Other Bumiputera | H8: Chinese | I8: Indians | J8: Others1
B11: Malaysia | D11: 1489 | E11: 1804 | F11: 1868 | G11: 1532 | H11: 689 | I11: 1086 | J11: 1168
B12: Johor | D12: 1533 | E12: 1945 | F12: 1926 | G12: 2732 | H12: 807 | I12: 1531 | J12: 1391
B13: Kedah | D13: 1704 | E13: 1909 | F13: 1905 | G13: 4394 | H13: 533 | I13: 975 | J13: 1980
B14: Kelantan | D14: 2279 | E14: 2347 | F14: 2348 | G14: 2319 | H14: 923 | I14: 334 | J14: 2178
B15: Melaka | D15: 1405 | E15: 1759 | F15: 1762 | G15: 1794 | H15: 707 | I15: 1097 | J15: 849
B16: Negeri Sembilan | D16: 1489 | E16: 1844 | F16: 1838 | G16: 2007 | H16: 634 | I16: 1267 | J16: 1031
B17: Pahang | D17: 1799 | E17: 1974 | F17: 1972 | G17: 2106 | H17: 724 | I17: 1136 | J17: 3700
B18: Perak | D18: 1457 | E18: 1809 | F18: 1836 | G18: 1495 | H18: 693 | I18: 1038 | J18: 1333
B19: Perlis | D19: 1439 | E19: 1594 | F19: 1600 | G19: 805 | H19: 660 | I19: 356 | J19: 972
B20: Pulau Pinang | D20: 1081 | E20: 1571 | F20: 1574 | G20: 1744 | H20: 617 | I20: 1122 | J20: 784
B21: Sabah | D21: 1234 | E21: 1579 | F21: 3425 | G21: 1403 | H21: 491 | I21: 1105 | J21: 699
B22: Sarawak | D22: 1415 | E22: 1635 | F22: 1689 | G22: 1608 | H22: 958 | I22: 1083 | J22: 526
... B27: W.P. Putrajaya | D27: 1813 | E27: 1866 | F27: 1895 | G27: 944 | H27: 416 | I27: 909 | J27: 1002
B29: 1 Termasuk bukan warganegara Malaysia
B30: Includes non-Malaysian citizens
B31: 2 Kadar adalah bagi setiap 1,000 perempuan berumur 15-49 tahun
B32: The rates are per 1,000 women aged 15-49 years

Sheet 3.15_ASFR_ETNIK_M'SIA
B1: Jadual 3.15: Kadar kesuburan jumlah dan kadar kesuburan umur tertentu mengikut kumpulan etnik, Malaysia, 2025
B2: Table 3.15: Total fertility rate and age-specific fertility rate by ethnic group, Malaysia, 2025
D5: Kumpulan etnik/Ethnic group
B6: Kumpulan umur ibu (tahun) | D6: Jumlah | E6: Bumiputera
B7: Age group of mother (years) | D7: Total | E7: Jumlah | F7: Melayu | G7: Bumiputera Lain | H7: Cina | I7: India | J7: Lain-lain1
E8: Total | F8: Malay | G8: Other Bumiputera | H8: Chinese | I8: Indians | J8: Others1
B11: Kadar kesuburan jumlah2 | D11: 1489 | E11: 1804 | F11: 1868 | G11: 1532 | H11: 689 | I11: 1086 | J11: 1168
B12: Total fertility rate2
B13: Kadar kesuburan jumlah3 | D13: 1.5 | E13: 1.8 | F13: 1.9 | G13: 1.5 | H13: 0.7 | I13: 1.1 | J13: 1.2
B14: Total fertility rate3
B16: Kadar kesuburan umur tertentu2
B17: Age-specific fertility rate2
B18: 15-19 | D18: 6 | E18: 5.6 | F18: 4.1 | G18: 11.3 | H18: 1.1 | I18: 2.5 | J18: 30.9
B19: 20-24 | D19: 30.9 | E19: 35.4 | F19: 32.8 | G19: 47.6 | H19: 8.5 | I19: 17 | J19: 46.5
B20: 25-29 | D20: 87.5 | E20: 112.8 | F20: 119 | G20: 85.3 | H20: 30.4 | I20: 54.9 | J20: 45.2
B21: 30-34 | D21: 99.3 | E21: 119.9 | F21: 127.8 | G21: 87.7 | H21: 54.8 | I21: 86.1 | J21: 50.6
B22: 35-39 | D22: 56.5 | E22: 66.2 | F22: 68.6 | G22: 55.4 | H22: 34.3 | I22: 45.3 | J22: 38.2
B23: 40-44 | D23: 16.2 | E23: 19.4 | F23: 19.9 | G23: 17.2 | H23: 8.1 | I23: 10.3 | J23: 17.8
B24: 45-49 | D24: 1.4 | E24: 1.5 | F24: 1.4 | G24: 2 | H24: 0.6 | I24: 1.1 | J24: 4.5
B26: 1 Termasuk bukan warganegara Malaysia | G26: 3 Kadar adalah bagi setiap perempuan berumur 15-49 tahun
B27: Includes non-Malaysian citizens | G27: The rates are per woman aged 15-49 years
B28: 2 Kadar adalah bagi setiap 1,000 perempuan berumur 15-49 tahun
B29: The rates are per 1,000 women aged 15-49 years

Sheet 3.16_ASFR_ETNIK_JOHOR
B1: Jadual 3.16: Kadar kesuburan jumlah dan kadar kesuburan umur tertentu mengikut kumpulan etnik, Johor, 2025
B2: Table 3.16: Total fertility rate and age-specific fertility rate by ethnic group, Johor, 2025
D5: Kumpulan etnik/Ethnic group
B6: Kumpulan umur ibu (tahun) | D6: Jumlah | E6: Bumiputera
B7: Age group of mother (years) | D7: Total | E7: Jumlah | F7: Melayu | G7: Bumiputera Lain | H7: Cina | I7: India | J7: Lain-lain1
E8: Total | F8: Malay | G8: Other Bumiputera | H8: Chinese | I8: Indians | J8: Others1
B11: Kadar kesuburan jumlah2 | D11: 1533 | E11: 1945 | F11: 1926 | G11: 2732 | H11: 807 | I11: 1531 | J11: 1391
B12: Total fertility rate2
B13: Kadar kesuburan jumlah3 | D13: 1.5 | E13: 1.9 | F13: 1.9 | G13: 2.7 | H13: 0.8 | I13: 1.5 | J13: 1.4
B14: Total fertility rate3
B16: Kadar kesuburan umur tertentu2
B17: Age-specific fertility rate2
B18: 15-19 | D18: 5.2 | E18: 4.5 | F18: 4.2 | G18: 19.1 | H18: 1.5 | I18: 2.2 | J18: 73
B19: 20-24 | D19: 30.2 | E19: 38.6 | F19: 37.5 | G19: 72.5 | H19: 10.8 | I19: 19.6 | J19: 44.8
B20: 25-29 | D20: 91.1 | E20: 124.9 | F20: 124.4 | G20: 145.1 | H20: 39.5 | I20: 71.7 | J20: 47.4
B21: 30-34 | D21: 104.3 | E21: 132.2 | F21: 130.9 | G21: 194.5 | H21: 61.7 | I21: 118.2 | J21: 46.7
B22: 35-39 | D22: 58.8 | E22: 68 | F22: 67.5 | G22: 90.9 | H22: 39.1 | I22: 77.8 | J22: 44.9
B23: 40-44 | D23: 15.6 | E23: 19.1 | F23: 19 | G23: 21.2 | H23: 8.7 | I23: 15.2 | J23: 18
B24: 45-49 | D24: 1.3 | E24: 1.8 | F24: 1.7 | G24: 3 | H24: 0.3 | I24: 1.4 | J24: 3.5
B26: 1 Termasuk bukan warganegara Malaysia | G26: 3 Kadar adalah bagi setiap perempuan berumur 15-49 tahun
B27: Includes non-Malaysian citizens | G27: The rates are per woman aged 15-49 years
B28: 2 Kadar adalah bagi setiap 1,000 perempuan berumur 15-49 tahun
B29: The rates are per 1,000 women aged 15-49 years

Sheet 3.17_ASFR_ETNIK_KEDAH
B1: Jadual 3.17: Kadar kesuburan jumlah dan kadar kesuburan umur tertentu mengikut kumpulan etnik, Kedah, 2025
B2: Table 3.17: Total fertility rate and age-specific fertility rate by ethnic group, Kedah, 2025
D5: Kumpulan etnik/Ethnic group
B6: Kumpulan umur ibu (tahun) | D6: Jumlah | E6: Bumiputera
B7: Age group of mother (years) | D7: Total | E7: Jumlah | F7: Melayu | G7: Bumiputera Lain | H7: Cina | I7: India | J7: Lain-lain1
E8: Total | F8: Malay | G8: Other Bumiputera | H8: Chinese | I8: Indians | J8: Others1
B11: Kadar kesuburan jumlah2 | D11: 1704 | E11: 1909 | F11: 1905 | G11: 4394 | H11: 533 | I11: 975 | J11: 1980
B12: Total fertility rate2
B13: Kadar kesuburan jumlah3 | D13: 1.7 | E13: 1.9 | F13: 1.9 | G13: 4.4 | H13: 0.5 | I13: 1 | J13: 2
B14: Total fertility rate3
B16: Kadar kesuburan umur tertentu2
B17: Age-specific fertility rate2
B18: 15-19 | D18: 6.9 | E18: 4.8 | F18: 4.8 | G18: 42.3 | H18: 0.7 | I18: 1.1 | J18: 106.3
B19: 20-24 | D19: 40.9 | E19: 41.8 | F19: 41.6 | G19: 139.5 | H19: 6.7 | I19: 18.5 | J19: 117.5
B20: 25-29 | D20: 100.2 | E20: 114.1 | F20: 113.9 | G20: 224.2 | H20: 25.2 | I20: 48.6 | J20: 69.3
B21: 30-34 | D21: 103.6 | E21: 116.9 | F21: 116.7 | G21: 350.6 | H21: 38.7 | I21: 79.3 | J21: 63.2
B22: 35-39 | D22: 67.3 | E22: 79.9 | F22: 79.9 | G22: 80.5 | H22: 22.4 | I22: 38.3 | J22: 25.2
B23: 40-44 | D23: 20.4 | E23: 22.7 | F23: 22.6 | G23: 41.7 | H23: 11.7 | I23: 8.4 | J23: 13.4
B24: 45-49 | D24: 1.4 | E24: 1.5 | F24: 1.5 | G24: - | H24: 1.1 | I24: 0.8 | J24: 1.3
B26: 1 Termasuk bukan warganegara Malaysia | G26: 3 Kadar adalah bagi setiap perempuan berumur 15-49 tahun
B27: Includes non-Malaysian citizens | G27: The rates are per woman aged 15-49 years
B28: 2 Kadar adalah bagi setiap 1,000 perempuan berumur 15-49 tahun
B29: The rates are per 1,000 women aged 15-49 years

Sheet 3.18_ASFR_ETNIK_KELANTAN
B1: Jadual 3.18: Kadar kesuburan jumlah dan kadar kesuburan umur tertentu mengikut kumpulan etnik, Kelantan, 2025
B2: Table 3.18: Total fertility rate and age-specific fertility rate by ethnic group, Kelantan, 2025
D5: Kumpulan etnik/Ethnic group
B6: Kumpulan umur ibu (tahun) | D6: Jumlah | E6: Bumiputera
B7: Age group of mother (years) | D7: Total | E7: Jumlah | F7: Melayu | G7: Bumiputera Lain | H7: Cina | I7: India | J7: Lain-lain1
E8: Total | F8: Malay | G8: Other Bumiputera | H8: Chinese | I8: Indians | J8: Others1
B11: Kadar kesuburan jumlah2 | D11: 2279 | E11: 2347 | F11: 2348 | G11: 2319 | H11: 923 | I11: 334 | J11: 2178
B12: Total fertility rate2
B13: Kadar kesuburan jumlah3 | D13: 2.3 | E13: 2.3 | F13: 2.3 | G13: 2.3 | H13: 0.9 | I13: 0.3 | J13: 2.2
B14: Total fertility rate3
B16: Kadar kesuburan umur tertentu2
B17: Age-specific fertility rate2
B18: 15-19 | D18: 6.1 | E18: 4.8 | F18: 4.5 | G18: 25.4 | H18: 0.7 | I18: - | J18: 113.7
B19: 20-24 | D19: 34.7 | E19: 33.2 | F19: 32.6 | G19: 88.6 | H19: 11.7 | I19: 5 | J19: 145.9
B20: 25-29 | D20: 115.6 | E20: 118.5 | F20: 118.7 | G20: 100.9 | H20: 40 | I20: 7.4 | J20: 93.8
B21: 30-34 | D21: 160 | E21: 166.9 | F21: 167.5 | G21: 121.7 | H21: 72.7 | I21: 29.2 | J21: 41.8
B22: 35-39 | D22: 105.3 | E22: 110.1 | F22: 110.5 | G22: 73.9 | H22: 43.7 | I22: 25.2 | J22: 31.3
B23: 40-44 | D23: 32 | E23: 33.6 | F23: 33.5 | G23: 44.8 | H23: 15 | I23: - | J23: 9
B24: 45-49 | D24: 2.1 | E24: 2.2 | F24: 2.2 | G24: 8.4 | H24: 0.8 | I24: - | J24: -
B26: 1 Termasuk bukan warganegara Malaysia | G26: 3 Kadar adalah bagi setiap perempuan berumur 15-49 tahun
B27: Includes non-Malaysian citizens | G27: The rates are per woman aged 15-49 years
B28: 2 Kadar adalah bagi setiap 1,000 perempuan berumur 15-49 tahun
B29: The rates are per 1,000 women aged 15-49 years

Sheet 3.19_ASFR_ETNIK_MELAKA
B1: Jadual 3.19: Kadar kesuburan jumlah dan kadar kesuburan umur tertentu mengikut kumpulan etnik, Melaka, 2025
B2: Table 3.19: Total fertility rate and age-specific fertility rate by ethnic group, Melaka, 2025
D5: Kumpulan etnik/Ethnic group
B6: Kumpulan umur ibu (tahun) | D6: Jumlah | E6: Bumiputera
B7: Age group of mother (years) | D7: Total | E7: Jumlah | F7: Melayu | G7: Bumiputera Lain | H7: Cina | I7: India | J7: Lain-lain1
E8: Total | F8: Malay | G8: Other Bumiputera | H8: Chinese | I8: Indians | J8: Others1
B11: Kadar kesuburan jumlah2 | D11: 1405 | E11: 1759 | F11: 1762 | G11: 1794 | H11: 707 | I11: 1097 | J11: 849
B12: Total fertility rate2
B13: Kadar kesuburan jumlah3 | D13: 1.4 | E13: 1.8 | F13: 1.8 | G13: 1.8 | H13: 0.7 | I13: 1.1 | J13: 0.8
B14: Total fertility rate3
B16: Kadar kesuburan umur tertentu2
B17: Age-specific fertility rate2
B18: 15-19 | D18: 4.5 | E18: 3.8 | F18: 3.5 | G18: 29.9 | H18: 1.4 | I18: 4.8 | J18: 92.7
B19: 20-24 | D19: 23.7 | E19: 27.6 | F19: 27.1 | G19: 75.5 | H19: 6.8 | I19: 18.8 | J19: 26.8
B20: 25-29 | D20: 87.9 | E20: 105.3 | F20: 105.4 | G20: 93.8 | H20: 37.5 | I20: 60.2 | J20: 21.4
B21: 30-34 | D21: 86.1 | E21: 119.1 | F21: 119.6 | G21: 94.5 | H21: 53.2 | I21: 79.9 | J21: 8.3
B22: 35-39 | D22: 62.3 | E22: 75.9 | F22: 76.8 | G22: 35.9 | H22: 34.5 | I22: 43.8 | J22: 16.2
B23: 40-44 | D23: 15.9 | E23: 19.6 | F23: 19.5 | G23: 24.9 | H23: 8.2 | I23: 11.1 | J23: 4.4
B24: 45-49 | D24: 0.5 | E24: 0.6 | F24: 0.6 | G24: 4.4 | H24: - | I24: 0.7 | J24: -
B26: 1 Termasuk bukan warganegara Malaysia | G26: 3 Kadar adalah bagi setiap perempuan berumur 15-49 tahun
B27: Includes non-Malaysian citizens | G27: The rates are per woman aged 15-49 years
B28: 2 Kadar adalah bagi setiap 1,000 perempuan berumur 15-49 tahun
B29: The rates are per 1,000 women aged 15-49 years

Sheet 3.20_TFR_ETNIK_NSEMB
B1: Jadual 3.20: Kadar kesuburan jumlah dan kadar kesuburan umur tertentu mengikut kumpulan etnik, Negeri Sembilan, 2025
B2: Table 3.20: Total fertility rate and age-specific fertility rate by ethnic group, Negeri Sembilan, 2025
D5: Kumpulan etnik/Ethnic group
B6: Kumpulan umur ibu (tahun) | D6: Jumlah | E6: Bumiputera
B7: Age group of mother (years) | D7: Total | E7: Jumlah | F7: Melayu | G7: Bumiputera Lain | H7: Cina | I7: India | J7: Lain-lain1
E8: Total | F8: Malay | G8: Other Bumiputera | H8: Chinese | I8: Indians | J8: Others1
B11: Kadar kesuburan jumlah2 | D11: 1489 | E11: 1844 | F11: 1838 | G11: 2007 | H11: 634 | I11: 1267 | J11: 1031
B12: Total fertility rate2
B13: Kadar kesuburan jumlah3 | D13: 1.5 | E13: 1.8 | F13: 1.8 | G13: 2 | H13: 0.6 | I13: 1.3 | J13: 1
B14: Total fertility rate3
B16: Kadar kesuburan umur tertentu2
B17: Age-specific fertility rate2
B18: 15-19 | D18: 4.3 | E18: 4.3 | F18: 3.4 | G18: 28.3 | H18: 0.4 | I18: 3.8 | J18: 77.2
B19: 20-24 | D19: 23.8 | E19: 29.3 | F19: 28.1 | G19: 66.7 | H19: 7.3 | I19: 20.4 | J19: 23.6
B20: 25-29 | D20: 88.8 | E20: 112.9 | F20: 113.2 | G20: 102.1 | H20: 31 | I20: 73.3 | J20: 25.4
B21: 30-34 | D21: 106 | E21: 129.5 | F21: 130.1 | G21: 112.9 | H21: 53.9 | I21: 97.6 | J21: 31.9
B22: 35-39 | D22: 57.6 | E22: 71.1 | F22: 71.2 | G22: 68.8 | H22: 26.8 | I22: 47.3 | J22: 22.2
B23: 40-44 | D23: 15.9 | E23: 20.1 | F23: 20 | G23: 20.9 | H23: 6.8 | I23: 9.8 | J23: 21.2
B24: 45-49 | D24: 1.4 | E24: 1.6 | F24: 1.6 | G24: 1.6 | H24: 0.5 | I24: 1.3 | J24: 4.8
B26: 1 Termasuk bukan warganegara Malaysia | G26: 3 Kadar adalah bagi setiap perempuan berumur 15-49 tahun
B27: Includes non-Malaysian citizens | G27: The rates are per woman aged 15-49 years
B28: 2 Kadar adalah bagi setiap 1,000 perempuan berumur 15-49 tahun
B29: The rates are per 1,000 women aged 15-49 years

Sheet 3.21_ASFR_ETNIK_PAHANG
B1: Jadual 3.21: Kadar kesuburan jumlah dan kadar kesuburan umur tertentu mengikut kumpulan etnik, Pahang, 2025
B2: Table 3.21: Total fertility rate and age-specific fertility rate by ethnic group, Pahang, 2025
D5: Kumpulan etnik/Ethnic group
B6: Kumpulan umur ibu (tahun) | D6: Jumlah | E6: Bumiputera
B7: Age group of mother (years) | D7: Total | E7: Jumlah | F7: Melayu | G7: Bumiputera Lain | H7: Cina | I7: India | J7: Lain-lain1
E8: Total | F8: Malay | G8: Other Bumiputera | H8: Chinese | I8: Indians | J8: Others1
B11: Kadar kesuburan jumlah2 | D11: 1799 | E11: 1974 | F11: 1972 | G11: 2106 | H11: 724 | I11: 1136 | J11: 3700
B12: Total fertility rate2
B13: Kadar kesuburan jumlah3 | D13: 1.8 | E13: 2 | F13: 2 | G13: 2.1 | H13: 0.7 | I13: 1.1 | J13: 3.7
B14: Total fertility rate3
B16: Kadar kesuburan umur tertentu2
B17: Age-specific fertility rate2
B18: 15-19 | D18: 7.9 | E18: 8.2 | F18: 4.3 | G18: 61.1 | H18: 1.1 | I18: 4 | J18: 181
B19: 20-24 | D19: 35.2 | E19: 37.2 | F19: 32.5 | G19: 92 | H19: 8.9 | I19: 19.4 | J19: 282.4
B20: 25-29 | D20: 111.4 | E20: 122.7 | F20: 124.6 | G20: 103.7 | H20: 37.5 | I20: 51.5 | J20: 141.8
B21: 30-34 | D21: 122.5 | E21: 135.4 | F21: 139.8 | G21: 94.1 | H21: 53.9 | I21: 104 | J21: 77.4
B22: 35-39 | D22: 64.4 | E22: 70.7 | F22: 72.8 | G22: 47.5 | H22: 35.7 | I22: 40.9 | J22: 40.3
B23: 40-44 | D23: 17.1 | E23: 19.3 | F23: 19.3 | G23: 20 | H23: 7.2 | I23: 7 | J23: 14.7
B24: 45-49 | D24: 1.2 | E24: 1.4 | F24: 1.3 | G24: 2.8 | H24: 0.7 | I24: 0.5 | J24: 2.5
B26: 1 Termasuk bukan warganegara Malaysia | G26: 3 Kadar adalah bagi setiap perempuan berumur 15-49 tahun
B27: Includes non-Malaysian citizens | G27: The rates are per woman aged 15-49 years
B28: 2 Kadar adalah bagi setiap 1,000 perempuan berumur 15-49 tahun
B29: The rates are per 1,000 women aged 15-49 years

Sheet 3.22_ASFR_ETNIK_PERAK
B1: Jadual 3.22: Kadar kesuburan jumlah dan kadar kesuburan umur tertentu mengikut kumpulan etnik, Perak, 2025
B2: Table 3.22: Total fertility rate and age-specific fertility rate by ethnic group, Perak, 2025
D5: Kumpulan etnik/Ethnic group
B6: Kumpulan umur ibu (tahun) | D6: Jumlah | E6: Bumiputera
B7: Age group of mother (years) | D7: Total | E7: Jumlah | F7: Melayu | G7: Bumiputera Lain | H7: Cina | I7: India | J7: Lain-lain1
E8: Total | F8: Malay | G8: Other Bumiputera | H8: Chinese | I8: Indians | J8: Others1
B11: Kadar kesuburan jumlah2 | D11: 1457 | E11: 1809 | F11: 1836 | G11: 1495 | H11: 693 | I11: 1038 | J11: 1333
B12: Total fertility rate2
B13: Kadar kesuburan jumlah3 | D13: 1.5 | E13: 1.8 | F13: 1.8 | G13: 1.5 | H13: 0.7 | I13: 1 | J13: 1.3
B14: Total fertility rate3
B16: Kadar kesuburan umur tertentu2
B17: Age-specific fertility rate2
B18: 15-19 | D18: 4.3 | E18: 4.5 | F18: 3.4 | G18: 21.4 | H18: 1.3 | I18: 2.9 | J18: 77.4
B19: 20-24 | D19: 24.9 | E19: 31.4 | F19: 29.4 | G19: 70.2 | H19: 7.4 | I19: 15.5 | J19: 61
B20: 25-29 | D20: 81.2 | E20: 104.1 | F20: 107.5 | G20: 64.5 | H20: 28.4 | I20: 47.8 | J20: 57.6
B21: 30-34 | D21: 106.1 | E21: 130.4 | F21: 133.7 | G21: 82 | H21: 58.8 | I21: 83.8 | J21: 33.5
B22: 35-39 | D22: 58.2 | E22: 70.9 | F22: 72.5 | G22: 45 | H22: 33.7 | I22: 45.2 | J22: 23.2
B23: 40-44 | D23: 15.5 | E23: 19.4 | F23: 19.7 | G23: 14.7 | H23: 8.5 | I23: 11.6 | J23: 9
B24: 45-49 | D24: 1 | E24: 1 | F24: 1 | G24: 1.1 | H24: 0.6 | I24: 0.9 | J24: 5
B26: 1 Termasuk bukan warganegara Malaysia | G26: 3 Kadar adalah bagi setiap perempuan berumur 15-49 tahun
B27: Includes non-Malaysian citizens | G27: The rates are per woman aged 15-49 years
B28: 2 Kadar adalah bagi setiap 1,000 perempuan berumur 15-49 tahun
B29: The rates are per 1,000 women aged 15-49 years

Sheet 3.23_ASFR_ETNIK_PERLIS
B1: Jadual 3.23: Kadar kesuburan jumlah dan kadar kesuburan umur tertentu mengikut kumpulan etnik, Perlis, 2025
B2: Table 3.23: Total fertility rate and age-specific fertility rate by ethnic group, Perlis, 2025
D5: Kumpulan etnik/Ethnic group
B6: Kumpulan umur ibu (tahun) | D6: Jumlah | E6: Bumiputera
B7: Age group of mother (years) | D7: Total | E7: Jumlah | F7: Melayu | G7: Bumiputera Lain | H7: Cina | I7: India | J7: Lain-lain1
E8: Total | F8: Malay | G8: Other Bumiputera | H8: Chinese | I8: Indians | J8: Others1
B11: Kadar kesuburan jumlah2 | D11: 1439 | E11: 1594 | F11: 1600 | G11: 805 | H11: 660 | I11: 356 | J11: 972
B12: Total fertility rate2
B13: Kadar kesuburan jumlah3 | D13: 1.4 | E13: 1.6 | F13: 1.6 | G13: 0.8 | H13: 0.7 | I13: 0.4 | J13: 1
B14: Total fertility rate3
B16: Kadar kesuburan umur tertentu2
B17: Age-specific fertility rate2
B18: 15-19 | D18: 8.2 | E18: 7.3 | F18: 7.3 | G18: - | H18: - | I18: 13.8 | J18: 47.8
B19: 20-24 | D19: 25.6 | E19: 25.5 | F19: 25.5 | G19: 25.6 | H19: 9.3 | I19: - | J19: 55.5
B20: 25-29 | D20: 66.6 | E20: 75.8 | F20: 76.3 | G20: 31 | H20: 15.5 | I20: 10.7 | J20: 37.8
B21: 30-34 | D21: 106.5 | E21: 118.6 | F21: 118.9 | G21: 87.5 | H21: 50.9 | I21: 19.7 | J21: 35.9
B22: 35-39 | D22: 63.8 | E22: 71.5 | F22: 71.8 | G22: 16.9 | H22: 52.7 | I22: 27 | J22: 12.6
B23: 40-44 | D23: 16.7 | E23: 19.6 | F23: 19.7 | G23: - | H23: 3.7 | I23: - | J23: 3.6
B24: 45-49 | D24: 0.5 | E24: 0.5 | F24: 0.5 | G24: - | H24: - | I24: - | J24: 1.2
B26: 1 Termasuk bukan warganegara Malaysia | G26: 3 Kadar adalah bagi setiap perempuan berumur 15-49 tahun
B27: Includes non-Malaysian citizens | G27: The rates are per woman aged 15-49 years
B28: 2 Kadar adalah bagi setiap 1,000 perempuan berumur 15-49 tahun
B29: The rates are per 1,000 women aged 15-49 years

Sheet 3.24_ASFR_ETNIK_PPINANG
B1: Jadual 3.24: Kadar kesuburan jumlah dan kadar kesuburan umur tertentu mengikut kumpulan etnik, Pulau Pinang, 2025
B2: Table 3.24: Total fertility rate and age-specific fertility rate by ethnic group, Pulau Pinang, 2025
D5: Kumpulan etnik/Ethnic group
B6: Kumpulan umur ibu (tahun) | D6: Jumlah | E6: Bumiputera
B7: Age group of mother (years) | D7: Total | E7: Jumlah | F7: Melayu | G7: Bumiputera Lain | H7: Cina | I7: India | J7: Lain-lain1
E8: Total | F8: Malay | G8: Other Bumiputera | H8: Chinese | I8: Indians | J8: Others1
B11: Kadar kesuburan jumlah2 | D11: 1081 | E11: 1571 | F11: 1574 | G11: 1744 | H11: 617 | I11: 1122 | J11: 784
B12: Total fertility rate2
B13: Kadar kesuburan jumlah3 | D13: 1.1 | E13: 1.6 | F13: 1.6 | G13: 1.7 | H13: 0.6 | I13: 1.1 | J13: 0.8
B14: Total fertility rate3
B16: Kadar kesuburan umur tertentu2
B17: Age-specific fertility rate2
B18: 15-19 | D18: 5.1 | E18: 4.3 | F18: 4.3 | G18: 4.5 | H18: 1 | I18: 3.6 | J18: 37.8
B19: 20-24 | D19: 25.9 | E19: 39.8 | F19: 39.7 | G19: 55.3 | H19: 6.8 | I19: 16.6 | J19: 31.3
B20: 25-29 | D20: 64.2 | E20: 118.4 | F20: 117.9 | G20: 218 | H20: 22.5 | I20: 61.1 | J20: 24.1
B21: 30-34 | D21: 67.6 | E21: 91.7 | F21: 92.3 | G21: 51.4 | H21: 46.2 | I21: 83.3 | J21: 27
B22: 35-39 | D22: 40.5 | E22: 44.5 | F22: 45.1 | G22: 16.9 | H22: 37.4 | I22: 46.2 | J22: 22.6
B23: 40-44 | D23: 11.8 | E23: 14.4 | F23: 14.6 | G23: 2.7 | H23: 8.7 | I23: 12.3 | J23: 9.9
B24: 45-49 | D24: 1 | E24: 0.9 | F24: 0.9 | G24: - | H24: 0.7 | I24: 1.3 | J24: 4.2
B26: 1 Termasuk bukan warganegara Malaysia | G26: 3 Kadar adalah bagi setiap perempuan berumur 15-49 tahun
B27: Includes non-Malaysian citizens | G27: The rates are per woman aged 15-49 years
B28: 2 Kadar adalah bagi setiap 1,000 perempuan berumur 15-49 tahun
B29: The rates are per 1,000 women aged 15-49 years

Sheet 3.25_ASFR_ETNIK_SABAH
B1: Jadual 3.25: Kadar kesuburan jumlah dan kadar kesuburan umur tertentu mengikut kumpulan etnik, Sabah, 2025
B2: Table 3.25: Total fertility rate and age-specific fertility rate by ethnic group, Sabah, 2025
D5: Kumpulan etnik/Ethnic group
B6: Kumpulan umur ibu (tahun) | D6: Jumlah | E6: Bumiputera
B7: Age group of mother (years) | D7: Total | E7: Jumlah | F7: Melayu | G7: Bumiputera Lain | H7: Cina | I7: India | J7: Lain-lain1
E8: Total | F8: Malay | G8: Other Bumiputera | H8: Chinese | I8: Indians | J8: Others1
B11: Kadar kesuburan jumlah2 | D11: 1234 | E11: 1579 | F11: 3425 | G11: 1403 | H11: 491 | I11: 1105 | J11: 699
B12: Total fertility rate2
B13: Kadar kesuburan jumlah3 | D13: 1.2 | E13: 1.6 | F13: 3.4 | G13: 1.4 | H13: 0.5 | I13: 1.1 | J13: 0.7
B14: Total fertility rate3
B16: Kadar kesuburan umur tertentu2
B17: Age-specific fertility rate2
B18: 15-19 | D18: 6.5 | E18: 6.7 | F18: 7 | G18: 6.6 | H18: 0.6 | I18: - | J18: 7.8
B19: 20-24 | D19: 31.5 | E19: 38.5 | F19: 36.9 | G19: 38.8 | H19: 10.7 | I19: 12 | J19: 22.5
B20: 25-29 | D20: 60 | E20: 89.9 | F20: 237 | G20: 76.9 | H20: 23 | I20: 71.4 | J20: 23.7
B21: 30-34 | D21: 77.5 | E21: 97.3 | F21: 263.9 | G21: 82.4 | H21: 32.2 | I21: 65.7 | J21: 37.8
B22: 35-39 | D22: 50.8 | E22: 61.4 | F22: 101.2 | G22: 56 | H22: 23.5 | I22: 50.6 | J22: 27.8
B23: 40-44 | D23: 17.6 | E23: 19.2 | F23: 34.2 | G23: 17.4 | H23: 7.1 | I23: 14.4 | J23: 15.6
B24: 45-49 | D24: 2.9 | E24: 2.7 | F24: 4.8 | G24: 2.5 | H24: 1.2 | I24: 6.8 | J24: 4.6
B26: 1 Termasuk bukan warganegara Malaysia | G26: 3 Kadar adalah bagi setiap perempuan berumur 15-49 tahun
B27: Includes non-Malaysian citizens | G27: The rates are per woman aged 15-49 years
B28: 2 Kadar adalah bagi setiap 1,000 perempuan berumur 15-49 tahun
B29: The rates are per 1,000 women aged 15-49 years

Sheet 3.26_ASFR_ETNIK_SARAWAK
B1: Jadual 3.26: Kadar kesuburan jumlah dan kadar kesuburan umur tertentu mengikut kumpulan etnik, Sarawak, 2025
B2: Table 3.26: Total fertility rate and age-specific fertility rate by ethnic group, Sarawak, 2025
D5: Kumpulan etnik/Ethnic group
B6: Kumpulan umur ibu (tahun) | D6: Jumlah | E6: Bumiputera
B7: Age group of mother (years) | D7: Total | E7: Jumlah | F7: Melayu | G7: Bumiputera Lain | H7: Cina | I7: India | J7: Lain-lain1
E8: Total | F8: Malay | G8: Other Bumiputera | H8: Chinese | I8: Indians | J8: Others1
B11: Kadar kesuburan jumlah2 | D11: 1415 | E11: 1635 | F11: 1689 | G11: 1608 | H11: 958 | I11: 1083 | J11: 526
B12: Total fertility rate2
B13: Kadar kesuburan jumlah3 | D13: 1.4 | E13: 1.6 | F13: 1.7 | G13: 1.6 | H13: 1 | I13: 1.1 | J13: 0.5
B14: Total fertility rate3
B16: Kadar kesuburan umur tertentu2
B17: Age-specific fertility rate2
B18: 15-19 | D18: 11.2 | E18: 12.8 | F18: 8.3 | G18: 15 | H18: 3.4 | I18: - | J18: 36.4
B19: 20-24 | D19: 43.4 | E19: 50.9 | F19: 44.1 | G19: 54.5 | H19: 17.5 | I19: 53.7 | J19: 25.9
B20: 25-29 | D20: 78.2 | E20: 93.8 | F20: 96 | G20: 92.6 | H20: 45.6 | I20: 28.5 | J20: 11.6
B21: 30-34 | D21: 82.9 | E21: 93.7 | F21: 103.6 | G21: 88.7 | H21: 70.1 | I21: 53.3 | J21: 13
B22: 35-39 | D22: 51.1 | E22: 57.3 | F22: 63.4 | G22: 54.3 | H22: 43.4 | I22: 67.6 | J22: 10.1
B23: 40-44 | D23: 15.2 | E23: 17.3 | F23: 21 | G23: 15.5 | H23: 11 | I23: 13.4 | J23: 6.8
B24: 45-49 | D24: 1 | E24: 1.2 | F24: 1.4 | G24: 1.1 | H24: 0.4 | I24: - | J24: 1.3
B26: 1 Termasuk bukan warganegara Malaysia | G26: 3 Kadar adalah bagi setiap perempuan berumur 15-49 tahun
B27: Includes non-Malaysian citizens | G27: The rates are per woman aged 15-49 years
B28: 2 Kadar adalah bagi setiap 1,000 perempuan berumur 15-49 tahun
B29: The rates are per 1,000 women aged 15-49 years

Sheet 3.27_ASFR_ETNIK_SELANGOR
B1: Jadual 3.27: Kadar kesuburan jumlah dan kadar kesuburan umur tertentu mengikut kumpulan etnik, Selangor, 2025
B2: Table 3.27: Total fertility rate and age-specific fertility rate by ethnic group, Selangor, 2025
D5: Kumpulan etnik/Ethnic group
B6: Kumpulan umur ibu (tahun) | D6: Jumlah | E6: Bumiputera
B7: Age group of mother (years) | D7: Total | E7: Jumlah | F7: Melayu | G7: Bumiputera Lain | H7: Cina | I7: India | J7: Lain-lain1
E8: Total | F8: Malay | G8: Other Bumiputera | H8: Chinese | I8: Indians | J8: Others1
B11: Kadar kesuburan jumlah2 | D11: 1414 | E11: 1685 | F11: 1666 | G11: 2610 | H11: 652 | I11: 1020 | J11: 2857
B12: Total fertility rate2
B13: Kadar kesuburan jumlah3 | D13: 1.4 | E13: 1.7 | F13: 1.7 | G13: 2.6 | H13: 0.7 | I13: 1 | J13: 2.9
B14: Total fertility rate3
B16: Kadar kesuburan umur tertentu2
B17: Age-specific fertility rate2
B18: 15-19 | D18: 4.5 | E18: 3.3 | F18: 2.9 | G18: 20.8 | H18: 0.6 | I18: 2.2 | J18: 141.1
B19: 20-24 | D19: 25.5 | E19: 26.7 | F19: 25.9 | G19: 55.2 | H19: 6.8 | I19: 16.5 | J19: 82.6
B20: 25-29 | D20: 90.6 | E20: 120.9 | F20: 119.9 | G20: 178.6 | H20: 25.4 | I20: 51.4 | J20: 110.2
B21: 30-34 | D21: 99.4 | E21: 116.7 | F21: 115.6 | G21: 180.5 | H21: 56 | I21: 81.4 | J21: 112.3
B22: 35-39 | D22: 47.7 | E22: 52.1 | F22: 51.9 | G22: 61.6 | H22: 32.9 | I22: 41.1 | J22: 76.5
B23: 40-44 | D23: 13.8 | E23: 16.1 | F23: 15.9 | G23: 22.8 | H23: 7.8 | I23: 10.1 | J23: 38.3
B24: 45-49 | D24: 1.3 | E24: 1.1 | F24: 1.1 | G24: 2.4 | H24: 0.8 | I24: 1.3 | J24: 10.4
B26: 1 Termasuk bukan warganegara Malaysia | G26: 3 Kadar adalah bagi setiap perempuan berumur 15-49 tahun
B27: Includes non-Malaysian citizens | G27: The rates are per woman aged 15-49 years
B28: 2 Kadar adalah bagi setiap 1,000 perempuan berumur 15-49 tahun
B29: The rates are per 1,000 women aged 15-49 years

Sheet 3.28_ASFR_ETNIK_TERENGGANU
B1: Jadual 3.28: Kadar kesuburan jumlah dan kadar kesuburan umur tertentu mengikut kumpulan etnik, Terengganu, 2025
B2: Table 3.28: Total fertility rate and age-specific fertility rate by ethnic group, Terengganu, 2025
D5: Kumpulan etnik/Ethnic group
B6: Kumpulan umur ibu (tahun) | D6: Jumlah | E6: Bumiputera
B7: Age group of mother (years) | D7: Total | E7: Jumlah | F7: Melayu | G7: Bumiputera Lain | H7: Cina | I7: India | J7: Lain-lain1
E8: Total | F8: Malay | G8: Other Bumiputera | H8: Chinese | I8: Indians | J8: Others1
B11: Kadar kesuburan jumlah2 | D11: 2514 | E11: 2529 | F11: 2532 | G11: 1519 | H11: 715 | I11: 599 | J11: 6526
B12: Total fertility rate2
B13: Kadar kesuburan jumlah3 | D13: 2.5 | E13: 2.5 | F13: 2.5 | G13: 1.5 | H13: 0.7 | I13: 0.6 | J13: 6.5
B14: Total fertility rate3
B16: Kadar kesuburan umur tertentu2
B17: Age-specific fertility rate2
B18: 15-19 | D18: 7.2 | E18: 4.5 | F18: 4.4 | G18: 19.1 | H18: - | I18: - | J18: 619.4
B19: 20-24 | D19: 45.5 | E19: 41.6 | F19: 41.6 | G19: 41.7 | H19: 7.1 | I19: 9.3 | J19: 375.9
B20: 25-29 | D20: 136.4 | E20: 139 | F20: 139.3 | G20: 78.4 | H20: 24 | I20: 7.1 | J20: 163.5
B21: 30-34 | D21: 172.8 | E21: 176.5 | F21: 176.8 | G21: 94 | H21: 61.9 | I21: 63.5 | J21: 82.6
B22: 35-39 | D22: 106.7 | E22: 109.2 | F22: 109.3 | G22: 61.2 | H22: 42.1 | I22: 40 | J22: 47.8
B23: 40-44 | D23: 31.3 | E23: 32.3 | F23: 32.4 | G23: 9.3 | H23: 7.8 | I23: - | J23: 8.9
B24: 45-49 | D24: 2.7 | E24: 2.7 | F24: 2.7 | G24: - | H24: - | I24: - | J24: 7.1
B26: 1 Termasuk bukan warganegara Malaysia | G26: 3 Kadar adalah bagi setiap perempuan berumur 15-49 tahun
B27: Includes non-Malaysian citizens | G27: The rates are per woman aged 15-49 years
B28: 2 Kadar adalah bagi setiap 1,000 perempuan berumur 15-49 tahun
B29: The rates are per 1,000 women aged 15-49 years

Sheet 3.29_ASFR_ETNIK_WPKL
B1: Jadual 3.29: Kadar kesuburan jumlah dan kadar kesuburan umur tertentu mengikut kumpulan etnik, W. P. Kuala Lumpur, 2025
B2: Table 3.29: Total fertility rate and age-specific fertility rate by ethnic group, W. P. Kuala Lumpur, 2025
D5: Kumpulan etnik/Ethnic group
B6: Kumpulan umur ibu (tahun) | D6: Jumlah | E6: Bumiputera
B7: Age group of mother (years) | D7: Total | E7: Jumlah | F7: Melayu | G7: Bumiputera Lain | H7: Cina | I7: India | J7: Lain-lain1
E8: Total | F8: Malay | G8: Other Bumiputera | H8: Chinese | I8: Indians | J8: Others1
B11: Kadar kesuburan jumlah2 | D11: 1226 | E11: 1517 | F11: 1500 | G11: 2196 | H11: 574 | I11: 856 | J11: 3061
B12: Total fertility rate2
B13: Kadar kesuburan jumlah3 | D13: 1.2 | E13: 1.5 | F13: 1.5 | G13: 2.2 | H13: 0.6 | I13: 0.9 | J13: 3.1
B14: Total fertility rate3
B16: Kadar kesuburan umur tertentu2
B17: Age-specific fertility rate2
B18: 15-19 | D18: 4.4 | E18: 3.7 | F18: 3.4 | G18: 12.6 | H18: 0.4 | I18: 1.6 | J18: 70.9
B19: 20-24 | D19: 23.8 | E19: 24.2 | F19: 23.3 | G19: 75.5 | H19: 3.7 | I19: 12.9 | J19: 210.2
B20: 25-29 | D20: 85 | E20: 124.1 | F20: 122.7 | G20: 171.9 | H20: 21.9 | I20: 52.5 | J20: 136.7
B21: 30-34 | D21: 77 | E21: 89.1 | F21: 88.7 | G21: 100.3 | H21: 50.1 | I21: 63.5 | J21: 102.3
B22: 35-39 | D22: 43.7 | E22: 49.5 | F22: 49.4 | G22: 52.7 | H22: 31.7 | I22: 34.4 | J22: 63.4
B23: 40-44 | D23: 10.3 | E23: 12.2 | F23: 11.8 | G23: 24.8 | H23: 6.7 | I23: 5.7 | J23: 24.2
B24: 45-49 | D24: 0.8 | E24: 0.7 | F24: 0.7 | G24: 1.4 | H24: 0.4 | I24: 0.5 | J24: 4.6
B26: 1 Termasuk bukan warganegara Malaysia | G26: 3 Kadar adalah bagi setiap perempuan berumur 15-49 tahun
B27: Includes non-Malaysian citizens | G27: The rates are per woman aged 15-49 years
B28: 2 Kadar adalah bagi setiap 1,000 perempuan berumur 15-49 tahun
B29: The rates are per 1,000 women aged 15-49 years

Sheet 3.30_ASFR_ETNIK_LABUAN
B1: Jadual 3.30: Kadar kesuburan jumlah dan kadar kesuburan umur tertentu mengikut kumpulan etnik, W. P. Labuan, 2025
B2: Table 3.30: Total fertility rate and age-specific fertility rate by ethnic group, W. P. Labuan, 2025
D5: Kumpulan etnik/Ethnic group
B6: Kumpulan umur ibu (tahun) | D6: Jumlah | E6: Bumiputera
B7: Age group of mother (years) | D7: Total | E7: Jumlah | F7: Melayu | G7: Bumiputera Lain | H7: Cina | I7: India | J7: Lain-lain1
E8: Total | F8: Malay | G8: Other Bumiputera | H8: Chinese | I8: Indians | J8: Others1
B11: Kadar kesuburan jumlah2 | D11: 1302 | E11: 1452 | F11: 2156 | G11: 1132 | H11: 360 | I11: 202 | J11: 1403
B12: Total fertility rate2
B13: Kadar kesuburan jumlah3 | D13: 1.3 | E13: 1.5 | F13: 2.2 | G13: 1.1 | H13: 0.4 | I13: 0.2 | J13: 1.4
B14: Total fertility rate3
B16: Kadar kesuburan umur tertentu2
B17: Age-specific fertility rate2
B18: 15-19 | D18: 7.9 | E18: 7.4 | F18: 14.2 | G18: 4.5 | H18: 2.9 | I18: - | J18: 15.9
B19: 20-24 | D19: 30.8 | E19: 29.8 | F19: 40.7 | G19: 25.2 | H19: 12.7 | I19: - | J19: 55.2
B20: 25-29 | D20: 75 | E20: 89.4 | F20: 145.2 | G20: 65.4 | H20: 16.7 | I20: 9.1 | J20: 64.9
B21: 30-34 | D21: 79.7 | E21: 88.5 | F21: 124.4 | G21: 70.6 | H21: 31.7 | I21: 31.3 | J21: 66.5
B22: 35-39 | D22: 49.4 | E22: 57 | F22: 83.2 | G22: 45 | H22: 8.1 | I22: - | J22: 46.7
B23: 40-44 | D23: 14.3 | E23: 15.4 | F23: 19.6 | G23: 13.4 | H23: - | I23: - | J23: 24.1
B24: 45-49 | D24: 3.3 | E24: 2.9 | F24: 3.9 | G24: 2.4 | H24: - | I24: - | J24: 7.3
B26: 1 Termasuk bukan warganegara Malaysia | G26: 3 Kadar adalah bagi setiap perempuan berumur 15-49 tahun
B27: Includes non-Malaysian citizens | G27: The rates are per woman aged 15-49 years
B28: 2 Kadar adalah bagi setiap 1,000 perempuan berumur 15-49 tahun
B29: The rates are per 1,000 women aged 15-49 years

Sheet 3.31_ASFR_ETNIK_PUTRAJAYA
B1: Jadual 3.31: Kadar kesuburan jumlah dan kadar kesuburan umur tertentu mengikut kumpulan etnik, W. P. Putrajaya, 2025
B2: Table 3.31: Total fertility rate and age-specific fertility rate by ethnic group, W. P. Putrajaya, 2025
D5: Kumpulan etnik/Ethnic group
B6: Kumpulan umur ibu (tahun) | D6: Jumlah | E6: Bumiputera
B7: Age group of mother (years) | D7: Total | E7: Jumlah | F7: Melayu | G7: Bumiputera Lain | H7: Cina | I7: India | J7: Lain-lain1
E8: Total | F8: Malay | G8: Other Bumiputera | H8: Chinese | I8: Indians | J8: Others1
B11: Kadar kesuburan jumlah2 | D11: 1813 | E11: 1866 | F11: 1895 | G11: 944 | H11: 416 | I11: 909 | J11: 1002
B12: Total fertility rate2
B13: Kadar kesuburan jumlah3 | D13: 1.8 | E13: 1.9 | F13: 1.9 | G13: 0.9 | H13: 0.4 | I13: 0.9 | J13: 1
B14: Total fertility rate3
B16: Kadar kesuburan umur tertentu2
B17: Age-specific fertility rate2
B18: 15-19 | D18: 0.5 | E18: 0.5 | F18: 0.6 | G18: - | H18: - | I18: - | J18: -
B19: 20-24 | D19: 12.7 | E19: 12.9 | F19: 12.7 | G19: 21.7 | H19: - | I19: - | J19: 17.9
B20: 25-29 | D20: 133.8 | E20: 139.3 | F20: 141.5 | G20: 56.6 | H20: 24.4 | I20: - | J20: 79.4
B21: 30-34 | D21: 134.3 | E21: 137.7 | F21: 139.9 | G21: 78.7 | H21: 34.5 | I21: 117.6 | J21: 62.5
B22: 35-39 | D22: 65.1 | E22: 66.4 | F22: 67.5 | G22: 31.7 | H22: 24.4 | I22: 57.1 | J22: 25
B23: 40-44 | D23: 15.3 | E23: 15.5 | F23: 16 | G23: - | H23: - | I23: 7 | J23: 15.6
B24: 45-49 | D24: 0.9 | E24: 0.9 | F24: 0.9 | G24: - | H24: - | I24: - | J24: -
B26: 1 Termasuk bukan warganegara Malaysia | G26: 3 Kadar adalah bagi setiap perempuan berumur 15-49 tahun
B27: Includes non-Malaysian citizens | G27: The rates are per woman aged 15-49 years
B28: 2 Kadar adalah bagi setiap 1,000 perempuan berumur 15-49 tahun
B29: The rates are per 1,000 women aged 15-49 years

Sheet 3.32_GRR
B1: Jadual 3.32: Kadar reproduksi kasar mengikut kawasan dan kumpulan etnik, Malaysia, 2025
B2: Table 3.32: Gross reproductive rate by region and ethnic group, Malaysia, 2025
D5: Kumpulan etnik/Ethnic group
B6: Kawasan | D6: Jumlah | E6: Bumiputera
B7: Region | D7: Total | E7: Jumlah | F7: Melayu | G7: Bumiputera Lain | H7: Cina | I7: India | J7: Lain-lain1
E8: Total | F8: Malay | G8: Other Bumiputera | H8: Chinese | I8: Indians | J8: Others1
B11: Malaysia | D11: 719 | E11: 872 | F11: 905 | G11: 729 | H11: 328 | I11: 531 | J11: 568
B12: Semenanjung Malaysia | D12: 745 | E12: 900 | F12: 899 | G12: 967 | H12: 322 | I12: 532 | J12: 911
B13: Peninsular Malaysia
B14: Sabah | D14: 587 | E14: 753 | F14: 1651 | G14: 667 | H14: 215 | I14: 554 | J14: 329
B15: Sarawak | D15: 676 | E15: 782 | F15: 799 | G15: 773 | H15: 452 | I15: 554 | J15: 255
B16: W.P. Labuan | D16: 604 | E16: 676 | F16: 971 | G16: 542 | H16: 150 | I16: 45 | J16: 639
B18: Kadar adalah bagi setiap 1,000 perempuan berumur 15-49 tahun
B19: The rates are per 1,000 women aged 15-49 years
B20: 1Termasuk bukan warganegara Malaysia
B21: Includes non-Malaysian citizens

Sheet 3.33_NRR
B1: Jadual 3.33 Kadar reproduksi bersih mengikut kawasan dan kumpulan etnik, Malaysia, 2025
B2: Table 3.33: Net reproductive rate by region and ethnic group, Malaysia, 2025
D5: Kumpulan etnik/Ethnic group
B6: Kawasan | D6: Jumlah | E6: Bumiputera
B7: Region | D7: Total | E7: Jumlah | F7: Melayu | G7: Bumiputera Lain | H7: Cina | I7: India | J7: Lain-lain1
E8: Total | F8: Malay | G8: Other Bumiputera | H8: Chinese | I8: Indians | J8: Others1
B11: Malaysia | D11: 708 | E11: 857 | F11: 891 | G11: 714 | H11: 325 | I11: 522 | J11: 563
B12: Semenanjung Malaysia | D12: 735 | E12: 886 | F12: 885 | G12: 939 | H12: 319 | I12: 523 | J12: 902
B13: Peninsular Malaysia
B14: Sabah | D14: 577 | E14: 737 | F14: 1608 | G14: 653 | H14: 213 | I14: 537 | J14: 326
B15: Sarawak | D15: 666 | E15: 769 | F15: 789 | G15: 759 | H15: 448 | I15: 546 | J15: 252
B16: W.P. Labuan | D16: 593 | E16: 663 | F16: 949 | G16: 532 | H16: 143 | I16: 45 | J16: 635
B18: Kadar adalah bagi setiap 1,000 perempuan berumur 15-49 tahun
B19: The rates are per 1,000 women aged 15-49 years
B20: 1 Termasuk bukan warganegara Malaysia
B21: Includes non-Malaysian citizens

Sheet 3.34_LBO
B1: Jadual 3.34: Kelahiran hidup mengikut susunan kelahiran hidup dan jantina, Malaysia, 2025
B2: Table 3.34: Live births by live births order and sex, Malaysia, 2025
B5: Susunan kelahiran hidup | D5: Jumlah | E5: Lelaki | F5: Perempuan
B6: Live births order | D6: Total | E6: Male | F6: Female
B9: Jumlah | D9: 396175 | E9: 204934 | F9: 191241
B10: Total
B11: Pertama | D11: 143104 | E11: 74176 | F11: 68928
B12: First
B13: Kedua | D13: 113604 | E13: 58754 | F13: 54850
B14: Second
B15: Ketiga | D15: 72277 | E15: 37261 | F15: 35016
B16: Third
B17: Keempat | D17: 38190 | E17: 19853 | F17: 18337
B18: Fourth
B19: Kelima | D19: 17361 | E19: 8910 | F19: 8451
B20: Fifth
B21: Keenam | D21: 7124 | E21: 3652 | F21: 3472
B22: Sixth
B23: Ketujuh | D23: 2758 | E23: 1432 | F23: 1326
B24: Seventh
B25: Kelapan | D25: 1042 | E25: 535 | F25: 507
B26: Eighth
B27: Kesembilan | D27: 426 | E27: 213 | F27: 213
B28: Ninth
B29: Kesepuluh dan lebih | D29: 289 | E29: 148 | F29: 141
B30: Tenth and over

Sheet 3.35_LBO_negeri
B1: Jadual 3.35: Kelahiran hidup mengikut susunan kelahiran hidup dan negeri, Malaysia, 2025
B2: Table 3.35: Live births by live births order and state, Malaysia, 2025
B5: Negeri | C5: Susunan kelahiran hidup/Live births order
B6: State | C6: Jumlah | D6: Pertama | E6: Kedua | F6: Ketiga | G6: Keempat | H6: Kelima | I6: Keenam | J6: Ketujuh | K6: Kelapan | L6: Kesembilan | M6: Kesepuluh dan lebih
C7: Total | D7: First | E7: Second | F7: Third | G7: Fourth | H7: Fifth | I7: Sixth | J7: Seventh | K7: Eighth | L7: Ninth | M7: Tenth and over
B10: Malaysia | C10: 396175 | D10: 143104 | E10: 113604 | F10: 72277 | G10: 38190 | H10: 17361 | I10: 7124 | J10: 2758 | K10: 1042 | L10: 426 | M10: 289
B11: Johor | C11: 48093 | D11: 18195 | E11: 14298 | F11: 8495 | G11: 4152 | H11: 1877 | I11: 666 | J11: 246 | K11: 104 | L11: 43 | M11: 17
B12: Kedah | C12: 30163 | D12: 10911 | E12: 8947 | F12: 5659 | G12: 2843 | H12: 1169 | I12: 415 | J12: 146 | K12: 48 | L12: 17 | M12: 8
B13: Kelantan | C13: 31858 | D13: 9943 | E13: 8942 | F13: 6201 | G13: 3680 | H13: 1824 | I13: 826 | J13: 276 | K13: 92 | L13: 48 | M13: 26
B14: Melaka | C14: 11860 | D14: 4229 | E14: 3477 | F14: 2237 | G14: 1138 | H14: 505 | I14: 180 | J14: 61 | K14: 28 | L14: 3 | M14: 2
B15: Negeri Sembilan | C15: 14141 | D15: 4853 | E15: 4215 | F15: 2692 | G15: 1394 | H15: 592 | I15: 253 | J15: 95 | K15: 35 | L15: 6 | M15: 6
B16: Pahang | C16: 20654 | D16: 6762 | E16: 5887 | F16: 4095 | G16: 2223 | H16: 1026 | I16: 404 | J16: 171 | K16: 53 | L16: 21 | M16: 12
B17: Perak | C17: 26275 | D17: 9594 | E17: 7812 | F17: 4807 | G17: 2477 | H17: 953 | I17: 410 | J17: 163 | K17: 40 | L17: 10 | M17: 9
B18: Perlis | C18: 3508 | D18: 1245 | E18: 1039 | F18: 681 | G18: 344 | H18: 125 | I18: 47 | J18: 17 | K18: 6 | L18: 3 | M18: 1
B19: Pulau Pinang | C19: 16722 | D19: 7226 | E19: 5076 | F19: 2638 | G19: 1131 | H19: 429 | I19: 148 | J19: 48 | K19: 15 | L19: 8 | M19: 3
B20: Sabah | C20: 40768 | D20: 12812 | E20: 10397 | F20: 7386 | G20: 4801 | H20: 2734 | I20: 1382 | J20: 658 | K20: 322 | L20: 149 | M20: 127
B21: Sarawak | C21: 28678 | D21: 10116 | E21: 8147 | F21: 5407 | G21: 2901 | H21: 1291 | I21: 546 | J21: 181 | K21: 50 | L21: 26 | M21: 13
... B26: W.P. Putrajaya | C26: 1422 | D26: 431 | E26: 428 | F26: 289 | G26: 152 | H26: 77 | I26: 32 | J26: 8 | K26: 2 | L26: 2 | M26: 1

Sheet 3.36_LBO_etnik
B1: Jadual 3.36: Kelahiran hidup mengikut susunan kelahiran hidup dan kumpulan etnik, Malaysia, 2025
B2: Table 3.36: Live births by live births order and ethnic group, Malaysia, 2025
C5: Kumpulan etnik/Ethnic group
B6: Susunan kelahiran hidup | C6: Jumlah | D6: Bumiputera
B7: Live births order | C7: Total | D7: Jumlah | E7: Melayu | F7: Bumiputera Lain | G7: Cina | H7: India | I7: Lain-lain1
D8: Total | E8: Malay | F8: Other Bumiputera | G8: Chinese | H8: Indians | I8: Others1
B11: Jumlah | C11: 396175 | D11: 317126 | E11: 267196 | F11: 49930 | G11: 34164 | H11: 17266 | I11: 27619
B12: Total
B13: Pertama | C13: 143104 | D13: 102458 | E13: 86923 | F13: 15535 | G13: 17718 | H13: 7982 | I13: 14946
B14: First
B15: Kedua | C15: 113604 | D15: 91746 | E15: 78381 | F15: 13365 | G15: 10452 | H15: 5495 | I15: 5911
B16: Second
B17: Ketiga | C17: 72277 | D17: 62499 | E17: 52984 | F17: 9515 | G17: 4092 | H17: 2401 | I17: 3285
B18: Third
B19: Keempat | C19: 38190 | D19: 34369 | E19: 28490 | F19: 5879 | G19: 1290 | H19: 850 | I19: 1681
B20: Fourth
B21: Kelima | C21: 17361 | D21: 15757 | E21: 12668 | F21: 3089 | G21: 405 | H21: 322 | I21: 877
B22: Fifth
B23: Keenam | C23: 7124 | D23: 6403 | E23: 4948 | F23: 1455 | G23: 134 | H23: 134 | I23: 453
B24: Sixth
B25: Ketujuh | C25: 2758 | D25: 2448 | E25: 1842 | F25: 606 | G25: 45 | H25: 43 | I25: 222
B26: Seventh
B27: Kelapan | C27: 1042 | D27: 878 | E27: 620 | F27: 258 | G27: 18 | H27: 21 | I27: 125
B28: Eighth
B29: Kesembilan | C29: 426 | D29: 343 | E29: 221 | F29: 122 | G29: 6 | H29: 10 | I29: 67
B30: Ninth
B31: Kesepuluh dan lebih | C31: 289 | D31: 225 | E31: 119 | F31: 106 | G31: 4 | H31: 8 | I31: 52
B32: Tenth and over
B33: 1 Termasuk bukan warganegara Malaysia
B34: Includes non-Malaysian citizens

Sheet 3.37_LBO_kum. umur
B1: Jadual 3.37: Kelahiran hidup mengikut susunan kelahiran hidup dan kumpulan umur ibu, Malaysia, 2025
B2: Table 3.37: Live births by live births order and age group of mother, Malaysia, 2025
C5: Susunan kelahiran hidup/Live births order
B6: Kumpulan umur ibu (tahun) | C6: Jumlah | D6: Pertama | E6: Kedua | F6: Ketiga | G6: Keempat | H6: Kelima | I6: Keenam | J6: Ketujuh | K6: Kelapan | L6: Kesembilan | M6: Kesepuluh dan lebih
B7: Age group of | C7: Total | D7: First | E7: Second | F7: Third | G7: Fourth | H7: Fifth | I7: Sixth | J7: Seventh | K7: Eighth | L7: Ninth | M7: Tenth and over
B8: mother (years)
B11: Jumlah | C11: 396175 | D11: 143104 | E11: 113604 | F11: 72277 | G11: 38190 | H11: 17361 | I11: 7124 | J11: 2758 | K11: 1042 | L11: 426 | M11: 289
B12: Total
B13: Kurang 15 | C13: 131 | D13: 126 | E13: 3 | F13: 2 | G13: - | H13: - | I13: - | J13: - | K13: - | L13: - | M13: -
B14: Under 15
B15: 15-19 | C15: 7676 | D15: 6784 | E15: 842 | F15: 45 | G15: 5 | H15: - | I15: - | J15: - | K15: - | L15: - | M15: -
B16: 20-24 | C16: 43621 | D16: 28802 | E16: 11711 | F16: 2623 | G16: 427 | H16: 50 | I16: 7 | J16: 1 | K16: - | L16: - | M16: -
B17: 25-29 | C17: 118262 | D17: 58628 | E17: 38636 | F17: 14724 | G17: 4661 | H17: 1281 | I17: 270 | J17: 48 | K17: 11 | L17: 3 | M17: -
B18: 30-34 | C18: 128631 | D18: 33573 | E18: 42979 | F18: 31006 | G18: 13651 | H18: 4896 | I18: 1735 | J18: 546 | K18: 174 | L18: 45 | M18: 26
B19: 35-39 | C19: 75348 | D19: 11702 | E19: 16005 | F19: 19789 | G19: 15032 | H19: 7697 | I19: 3183 | J19: 1218 | K19: 460 | L19: 180 | M19: 82
B20: 40-44 | C20: 20378 | D20: 2635 | E20: 3203 | F20: 3882 | G20: 4184 | H20: 3188 | I20: 1781 | J20: 856 | K20: 342 | L20: 164 | M20: 143
B21: 45-49 | C21: 1314 | D21: 225 | E21: 129 | F21: 174 | G21: 211 | H21: 230 | I21: 141 | J21: 86 | K21: 50 | L21: 32 | M21: 36
B22: 50 dan lebih | C22: 66 | D22: 16 | E22: 10 | F22: 8 | G22: 8 | H22: 9 | I22: 4 | J22: 3 | K22: 4 | L22: 2 | M22: 2
B23: 50 and over
B24: Tidak diketahui | C24: 748 | D24: 613 | E24: 86 | F24: 24 | G24: 11 | H24: 10 | I24: 3 | J24: - | K24: 1 | L24: - | M24: -
B25: Unknown

Sheet 3.38_berat_jantina
B1: Jadual 3.38: Kelahiran hidup mengikut berat kelahiran dan jantina, Malaysia, 2025
B2: Table 3.38: Live births by birth weight and sex, Malaysia, 2025
B5: Berat kelahiran | D5: Jumlah | G5: Lelaki | J5: Perempuan
B6: Birth weight | D6: Total | G6: Male | J6: Female
B7: (grams) | D7: Bilangan | E7: % | G7: Bilangan | H7: % | J7: Bilangan | K7: %
D8: Number | G8: Number | J8: Number
B11: Jumlah | D11: 396175 | E11: 100 | G11: 204934 | H11: 100 | J11: 191241 | K11: 100
B12: Total
B13: Kurang 500 | D13: 23 | E13: 0 | G13: 7 | H13: 0 | J13: 16 | K13: 0
B14: Less than 500
B15: 500-999 | D15: 1330 | E15: 0.3 | G15: 678 | H15: 0.3 | J15: 652 | K15: 0.3
B16: 1000-1499 | D16: 2737 | E16: 0.7 | G16: 1372 | H16: 0.7 | J16: 1365 | K16: 0.7
B17: 1500-1999 | D17: 7993 | E17: 2 | G17: 3933 | H17: 1.9 | J17: 4060 | K17: 2.1
B18: 2000-2499 | D18: 40255 | E18: 10.2 | G18: 18546 | H18: 9 | J18: 21709 | K18: 11.4
B19: 2500-2999 | D19: 142520 | E19: 36 | G19: 68483 | H19: 33.4 | J19: 74037 | K19: 38.7
B20: 3000-3499 | D20: 152203 | E20: 38.4 | G20: 82574 | H20: 40.3 | J20: 69629 | K20: 36.4
B21: 3500-3999 | D21: 43411 | E21: 11 | G21: 25820 | H21: 12.6 | J21: 17591 | K21: 9.2
B22: 4000-4499 | D22: 4849 | E22: 1.2 | G22: 3019 | H22: 1.5 | J22: 1830 | K22: 1
B23: 4500-4999 | D23: 415 | E23: 0.1 | G23: 268 | H23: 0.1 | J23: 147 | K23: 0.1
B24: 5000 + | D24: 38 | E24: 0 | G24: 27 | H24: 0 | J24: 11 | K24: 0
B25: Tidak diketahui | D25: 401 | E25: 0.1 | G25: 207 | H25: 0 | J25: 194 | K25: 0.1
B26: Unknown

Sheet 3.39_berat_negeri
B1: Jadual 3.39: Kelahiran hidup mengikut berat kelahiran dan negeri, Malaysia, 2025
B2: Table 3.39: Live births by birth weight and state, Malaysia, 2025
B5: Negeri | D5: Jumlah | E5: Berat kelahiran/Birth weight (grams)
B6: State | D6: Total | E6: Kurang 500 | F6: 500-999 | G6: 1000-1499 | H6: 1500-1999 | I6: 2000-2499 | J6: 2500-2999
E7: Less than 500
B10: Malaysia | D10: 396175 | E10: 23 | F10: 1330 | G10: 2737 | H10: 7993 | I10: 40255 | J10: 142520
B11: Johor | D11: 48093 | E11: 2 | F11: 158 | G11: 304 | H11: 889 | I11: 4472 | J11: 16872
B12: Kedah | D12: 30163 | E12: - | F12: 108 | G12: 208 | H12: 609 | I12: 3041 | J12: 11037
B13: Kelantan | D13: 31858 | E13: 2 | F13: 97 | G13: 192 | H13: 547 | I13: 2615 | J13: 10041
B14: Melaka | D14: 11860 | E14: - | F14: 48 | G14: 90 | H14: 246 | I14: 1328 | J14: 4389
B15: Negeri Sembilan | D15: 14141 | E15: - | F15: 51 | G15: 98 | H15: 256 | I15: 1540 | J15: 5300
B16: Pahang | D16: 20654 | E16: 1 | F16: 76 | G16: 174 | H16: 436 | I16: 2289 | J16: 7472
B17: Perak | D17: 26275 | E17: 1 | F17: 112 | G17: 198 | H17: 536 | I17: 2620 | J17: 9451
B18: Perlis | D18: 3508 | E18: - | F18: 8 | G18: 26 | H18: 69 | I18: 324 | J18: 1278
B19: Pulau Pinang | D19: 16722 | E19: - | F19: 70 | G19: 111 | H19: 338 | I19: 1549 | J19: 6096
B20: Sabah | D20: 40768 | E20: - | F20: 89 | G20: 279 | H20: 846 | I20: 4146 | J20: 15253
B21: Sarawak | D21: 28678 | E21: 3 | F21: 137 | G21: 275 | H21: 896 | I21: 4260 | J21: 11376
B22: Selangor | D22: 78164 | E22: 8 | F22: 227 | G22: 509 | H22: 1512 | I22: 7796 | J22: 28132
B23: Terengganu | D23: 23292 | E23: 4 | F23: 70 | G23: 141 | H23: 416 | I23: 2206 | J23: 7852
B24: W.P. Kuala Lumpur | D24: 19430 | E24: - | F24: 69 | G24: 115 | H24: 362 | I24: 1842 | J24: 7060
B25: W.P. Labuan | D25: 1147 | E25: - | F25: 2 | G25: 8 | H25: 20 | I25: 113 | J25: 406
B26: W.P. Putrajaya | D26: 1422 | E26: 2 | F26: 8 | G26: 9 | H26: 15 | I26: 114 | J26: 505
B28: Jadual 3.39: Kelahiran hidup mengikut berat kelahiran dan negeri, Malaysia, 2025 (samb.)
B29: Table 3.39: Live births by birth weight and state, Malaysia, 2025 (cont'd)
B32: Negeri | D32: Berat kelahiran/Birth weight (grams)
B33: State | D33: 3000-3499 | E33: 3500-3999 | F33: 4000-4499 | G33: 4500-4999 | H33: 5000 + | I33: Tidak diketahui
I34: Unknown
B37: Malaysia | D37: 152203 | E37: 43411 | F37: 4849 | G37: 415 | H37: 38 | I37: 401
B38: Johor | D38: 19150 | E38: 5574 | F38: 598 | G38: 51 | H38: 4 | I38: 19
B39: Kedah | D39: 11595 | E39: 3165 | F39: 358 | G39: 33 | H39: 3 | I39: 6
B40: Kelantan | D40: 13024 | E40: 4659 | F40: 618 | G40: 54 | H40: 4 | I40: 5
B41: Melaka | D41: 4364 | E41: 1249 | F41: 124 | G41: 17 | H41: 4 | I41: 1
B42: Negeri Sembilan | D42: 5241 | E42: 1476 | F42: 163 | G42: 9 | H42: 1 | I42: 6
B43: Pahang | D43: 7772 | E43: 2177 | F43: 227 | G43: 21 | H43: - | I43: 9
B44: Perak | D44: 10124 | E44: 2893 | F44: 295 | G44: 34 | H44: 2 | I44: 9
B45: Perlis | D45: 1340 | E45: 412 | F45: 45 | G45: 4 | H45: - | I45: 2
B46: Pulau Pinang | D46: 6548 | E46: 1783 | F46: 206 | G46: 18 | H46: 2 | I46: 1
B47: Sabah | D47: 15486 | E47: 4013 | F47: 403 | G47: 34 | H47: 2 | I47: 217
B48: Sarawak | D48: 9404 | E48: 2128 | F48: 182 | G48: 11 | H48: 3 | I48: 3
B49: Selangor | D49: 30374 | E49: 8535 | F49: 924 | G49: 62 | H49: 7 | I49: 78
B50: Terengganu | D50: 9196 | E50: 2929 | F50: 406 | G50: 36 | H50: 5 | I50: 31
B51: W.P. Kuala Lumpur | D51: 7565 | E51: 2110 | F51: 265 | G51: 30 | H51: 1 | I51: 11
B52: W.P. Labuan | D52: 454 | E52: 131 | F52: 12 | G52: - | H52: - | I52: 1
B53: W.P. Putrajaya | D53: 566 | E53: 177 | F53: 23 | G53: 1 | H53: - | I53: 2

Sheet 3.40_berat_kum. umur
B1: Jadual 3.40: Kelahiran hidup mengikut berat kelahiran dan kumpulan umur ibu, Malaysia, 2025
B2: Table 3.40: Live births by birth weight and age group of mother, Malaysia, 2025
B5: Berat kelahiran | C5: Jumlah | E5: Kumpulan umur ibu (tahun)/Age group of mother (years)
B6: Birth weight | C6: Total | D6: Kurang 15 | E6: 15-19 | F6: 20-24 | G6: 25-29 | H6: 30-34 | I6: 35-39 | J6: 40-44 | K6: 45-49 | L6: 50 dan lebih | M6: Tidak diketahui
B7: (grams) | D7: Under 15 | L7: 50 and over | M7: Unknown
B9: Jumlah | C9: 396175 | D9: 131 | E9: 7676 | F9: 43621 | G9: 118262 | H9: 128631 | I9: 75348 | J9: 20378 | K9: 1314 | L9: 66 | M9: 748
B10: Total
B11: Kurang 500 | C11: 23 | D11: - | E11: - | F11: 2 | G11: 4 | H11: 7 | I11: 10 | J11: - | K11: - | L11: - | M11: -
B12: Less than 500
B13: 500-999 | C13: 1330 | D13: 1 | E13: 35 | F13: 140 | G13: 326 | H13: 405 | I13: 312 | J13: 103 | K13: 8 | L13: - | M13: -
B14: 1000-1499 | C14: 2737 | D14: 4 | E14: 81 | F14: 287 | G14: 638 | H14: 860 | I14: 601 | J14: 237 | K14: 23 | L14: - | M14: 6
B15: 1500-1999 | C15: 7993 | D15: 8 | E15: 275 | F15: 980 | G15: 2126 | H15: 2323 | I15: 1638 | J15: 563 | K15: 62 | L15: 1 | M15: 17
B16: 2000-2499 | C16: 40255 | D16: 24 | E16: 1468 | F16: 5632 | G16: 12028 | H16: 11602 | I16: 6986 | J16: 2237 | K16: 170 | L16: 11 | M16: 97
B17: 2500-2999 | C17: 142520 | D17: 60 | E17: 3498 | F17: 17917 | G17: 43647 | H17: 44378 | I17: 25372 | J17: 6885 | K17: 431 | L17: 15 | M17: 317
B18: 3000-3499 | C18: 152203 | D18: 29 | E18: 1996 | F18: 14941 | G18: 45965 | H18: 51473 | I18: 29503 | J18: 7565 | K18: 465 | L18: 22 | M18: 244
B19: 3500-3999 | C19: 43411 | D19: 5 | E19: 287 | F19: 3338 | G19: 12137 | H19: 15495 | I19: 9552 | J19: 2396 | K19: 132 | L19: 14 | M19: 55
B20: 4000-4499 | C20: 4849 | D20: - | E20: 19 | F20: 298 | G20: 1188 | H20: 1818 | I20: 1178 | J20: 327 | K20: 18 | L20: 2 | M20: 1
B21: 4500-4999 | C21: 415 | D21: - | E21: 2 | F21: 23 | G21: 98 | H21: 147 | I21: 108 | J21: 34 | K21: 1 | L21: 1 | M21: 1
B22: 5000 + | C22: 38 | D22: - | E22: - | F22: 4 | G22: 4 | H22: 13 | I22: 14 | J22: 3 | K22: - | L22: - | M22: -
B23: Tidak diketahui | C23: 401 | D23: - | E23: 15 | F23: 59 | G23: 101 | H23: 110 | I23: 74 | J23: 28 | K23: 4 | L23: - | M23: 10
B24: Unknown

Sheet 3.41_mean age
B1: Jadual 3.41: Purata umur ibu pada kelahiran hidup pertama mengikut negeri dan kumpulan etnik, Malaysia, 2025
B2: Table 3.41: Mean age of mother at first live birth by state and ethnic group, Malaysia, 2025
D5: Kumpulan etnik/Ethnic group
B6: Negeri | D6: Jumlah | E6: Bumiputera
B7: State | D7: Total | E7: Jumlah | F7: Melayu | G7: Bumiputera Lain | H7: Cina | I7: India | J7: Lain-lain1
E8: Total | F8: Malay | G8: Other Bumiputera | H8: Chinese | I8: Indians | J8: Others1
B10: Malaysia | D10: 28.4 | E10: 27.9 | F10: 28.1 | G10: 26.8 | H10: 31.4 | I10: 30.5 | J10: 27
B11: Johor | D11: 28.7 | E11: 27.9 | F11: 28 | G11: 27.5 | H11: 30.9 | I11: 30.6 | J11: 25.6
B12: Kedah | D12: 27.7 | E12: 27.7 | F12: 27.7 | G12: 26.9 | H12: 31.3 | I12: 30.3 | J12: 23.1
B13: Kelantan | D13: 28.3 | E13: 28.5 | F13: 28.5 | G13: 24.6 | H13: 30.9 | I13: 33.5 | J13: 23.3
B14: Melaka | D14: 28.5 | E14: 28.3 | F14: 28.3 | G14: 25.5 | H14: 31.3 | I14: 29.5 | J14: 21.4
B15: Negeri Sembilan | D15: 28.8 | E15: 28.3 | F15: 28.3 | G15: 25.5 | H15: 31.2 | I15: 30.1 | J15: 22.8
B16: Pahang | D16: 27.7 | E16: 27.5 | F16: 28 | G16: 22.3 | H16: 30.9 | I16: 30 | J16: 22.8
B17: Perak | D17: 28.8 | E17: 28.1 | F17: 28.4 | G17: 23.5 | H17: 31.4 | I17: 30.5 | J17: 24.1
B18: Perlis | D18: 28 | E18: 28.2 | F18: 28.2 | G18: 31.3 | H18: 32.7 | I18: 28.1 | J18: 23.1
B19: Pulau Pinang | D19: 28.7 | E19: 27.3 | F19: 27.4 | G19: 26.8 | H19: 31.8 | I19: 30.3 | J19: 26.3
B20: Sabah | D20: 28 | E20: 27.8 | F20: 29 | G20: 27.5 | H20: 30.8 | I20: 32.1 | J20: 27.5
B21: Sarawak | D21: 27.2 | E21: 26.6 | F21: 27.3 | G21: 26.2 | H21: 30.3 | I21: 29.3 | J21: 21.8
... B24: W.P. Kuala Lumpur | D24: 29.2 | E24: 28.3 | F24: 28.3 | G24: 27.4 | H24: 32.3 | I24: 30.3 | J24: 26
B25: W.P. Labuan | D25: 27.6 | E25: 27.9 | F25: 27.9 | G25: 27.9 | H25: 28.3 | I25: - | J25: 25.8
B26: W.P. Putrajaya | D26: 29.2 | E26: 29.1 | F26: 29.1 | G26: 28.2 | H26: 32.5 | I26: 34.1 | J26: 29.8
B28: 1 Termasuk bukan warganegara Malaysia
B29: Includes non-Malaysian citizens

Sheet 3.42_umur bapa_negeri
B1: Jadual 3.42: Kelahiran hidup mengikut kumpulan umur bapa dan negeri, Malaysia, 2025
B2: Table 3.42: Live births by age group of father and state, Malaysia, 2025
B5: Negeri | D5: Jumlah | E5: Kumpulan umur bapa (tahun)/Age group of father (years)
B6: State | D6: Total | E6: Kurang 20 | F6: 20-24 | G6: 25-29 | H6: 30-34 | I6: 35-39 | J6: 40-44
E7: Under 20
B10: Malaysia | D10: 396175 | E10: 1320 | F10: 20741 | G10: 93223 | H10: 125086 | I10: 87304 | J10: 39334
B11: Johor | D11: 48093 | E11: 138 | F11: 2407 | G11: 12099 | H11: 15776 | I11: 10320 | J11: 4374
B12: Kedah | D12: 30163 | E12: 71 | F12: 1802 | G12: 8395 | H12: 9645 | I12: 6112 | J12: 2552
B13: Kelantan | D13: 31858 | E13: 97 | F13: 1621 | G13: 7856 | H13: 10098 | I13: 6842 | J13: 3270
B14: Melaka | D14: 11860 | E14: 24 | F14: 586 | G14: 3081 | H14: 3889 | I14: 2535 | J14: 1096
B15: Negeri Sembilan | D15: 14141 | E15: 34 | F15: 590 | G15: 3469 | H15: 4691 | I15: 3233 | J15: 1336
B16: Pahang | D16: 20654 | E16: 143 | F16: 1313 | G16: 5032 | H16: 6199 | I16: 4370 | J16: 2124
B17: Perak | D17: 26275 | E17: 70 | F17: 1367 | G17: 6545 | H17: 8413 | I17: 5603 | J17: 2550
B18: Perlis | D18: 3508 | E18: 11 | F18: 250 | G18: 923 | H18: 1119 | I18: 714 | J18: 298
B19: Pulau Pinang | D19: 16722 | E19: 45 | F19: 815 | G19: 4186 | H19: 5427 | I19: 3669 | J19: 1591
B20: Sabah | D20: 40768 | E20: 266 | F20: 2776 | G20: 8165 | H20: 11725 | I20: 8867 | J20: 4497
B21: Sarawak | D21: 28678 | E21: 174 | F21: 2168 | G21: 6158 | H21: 7753 | I21: 5505 | J21: 2532
... B25: W.P. Labuan | D25: 1147 | E25: 6 | F25: 90 | G25: 266 | H25: 336 | I25: 225 | J25: 125
B26: W.P. Putrajaya | D26: 1422 | E26: - | F26: 22 | G26: 221 | H26: 460 | I26: 406 | J26: 244
B28: Jadual 3.42: Kelahiran hidup mengikut kumpulan umur bapa dan negeri, Malaysia, 2025 (samb.)
B29: Table 3.42: Live births by age group of father and state, Malaysia, 2025 (cont'd)
B32: Negeri | D32: Kumpulan umur bapa (tahun)/Age group of father (years)
B33: State | D33: 45-49 | E33: 50-54 | F33: 55-59 | G33: 60-64 | H33: 65 dan lebih | I33: Tidak diketahui
H34: 65 and over | I34: Unknown
B37: Malaysia | D37: 11454 | E37: 3561 | F37: 1202 | G37: 418 | H37: 189 | I37: 12343
B38: Johor | D38: 1247 | E38: 336 | F38: 120 | G38: 40 | H38: 14 | I38: 1222
B39: Kedah | D39: 698 | E39: 210 | F39: 74 | G39: 30 | H39: 12 | I39: 562
B40: Kelantan | D40: 1075 | E40: 380 | F40: 97 | G40: 50 | H40: 16 | I40: 456
B41: Melaka | D41: 251 | E41: 79 | F41: 28 | G41: 12 | H41: 1 | I41: 278
B42: Negeri Sembilan | D42: 329 | E42: 95 | F42: 43 | G42: 10 | H42: 6 | I42: 305
B43: Pahang | D43: 626 | E43: 201 | F43: 63 | G43: 18 | H43: 9 | I43: 556
B44: Perak | D44: 731 | E44: 228 | F44: 91 | G44: 23 | H44: 11 | I44: 643
B45: Perlis | D45: 84 | E45: 23 | F45: 15 | G45: 3 | H45: 1 | I45: 67
B46: Pulau Pinang | D46: 431 | E46: 114 | F46: 52 | G46: 10 | H46: 2 | I46: 380
B47: Sabah | D47: 1605 | E47: 551 | F47: 212 | G47: 91 | H47: 54 | I47: 1959
B48: Sarawak | D48: 806 | E48: 313 | F48: 79 | G48: 25 | H48: 10 | I48: 3155
... B51: W.P. Kuala Lumpur | D51: 577 | E51: 209 | F51: 66 | G51: 23 | H51: 9 | I51: 655
B52: W.P. Labuan | D52: 35 | E52: 12 | F52: 3 | G52: 2 | H52: - | I52: 47
B53: W.P. Putrajaya | D53: 46 | E53: 9 | F53: 4 | G53: - | H53: 1 | I53: 9

Sheet 3.43_umur bapa_etnik
B1: Jadual 3.43: Kelahiran hidup mengikut kumpulan umur bapa, kumpulan etnik dan jantina, Malaysia, 2025 | L1: Jadual 3.43: Kelahiran hidup mengikut kumpulan umur bapa, kumpulan etnik dan jantina, Malaysia, 2025 (samb.) | V1: =L1 -> Jadual 3.43: Kelahiran hidup mengikut kumpulan umur bapa, kumpulan etnik dan jantina, Malaysia, 2025 (samb.)
B2: Table 3.43: Live births by age group of father, ethnic group and sex, Malaysia, 2025 | L2: Table 3.43: Live births by age group of father, ethnic group and sex, Malaysia, 2025 (cont'd) | V2: =L2 -> Table 3.43: Live births by age group of father, ethnic group and sex, Malaysia, 2025 (cont'd)
B5: Jumlah/Total | L5: Lelaki/Male | V5: Perempuan/Female
D6: Kumpulan etnik/Ethnic group | N6: Kumpulan etnik/Ethnic group | X6: Kumpulan etnik/Ethnic group
B7: Kumpulan umur bapa (tahun) | D7: Jumlah | E7: Bumiputera | L7: Kumpulan umur bapa (tahun) | N7: Jumlah | O7: Bumiputera | V7: Kumpulan umur bapa (tahun) | X7: Jumlah | Y7: Bumiputera
B8: Age group of father (years) | D8: Total | E8: Jumlah | F8: Melayu | G8: Bumiputera Lain | H8: Cina | I8: India | J8: Lain-lain1 | L8: Age group of father (years) | N8: Total | O8: Jumlah | P8: Melayu | Q8: Bumiputera Lain | R8: Cina | S8: India | T8: Lain-lain1 | V8: Age group of father (years) | X8: Total | Y8: Jumlah | Z8: Melayu | AA8: Bumiputera Lain | AB8: Cina | AC8: India | AD8: Lain-lain1
E9: Total | F9: Malay | G9: Other Bumiputera | H9: Chinese | I9: Indians | J9: Others1 | O9: Total | P9: Malay | Q9: Other Bumiputera | R9: Chinese | S9: Indians | T9: Others1 | Y9: Total | Z9: Malay | AA9: Other Bumiputera | AB9: Chinese | AC9: Indians | AD9: Others1
B11: Jumlah | D11: 396175 | E11: 317126 | F11: 267196 | G11: 49930 | H11: 34164 | I11: 17266 | J11: 27619 | L11: Jumlah | N11: 204934 | O11: 163945 | P11: 137785 | Q11: 26160 | R11: 17922 | S11: 8821 | T11: 14246 | V11: Jumlah | X11: 191241 | Y11: 153181 | Z11: 129411 | AA11: 23770 | AB11: 16242 | AC11: 8445 | AD11: 13373
B12: Total | L12: Total | V12: Total
B13: Kurang 20 | D13: 1320 | E13: 989 | F13: 560 | G13: 429 | H13: 71 | I13: 65 | J13: 195 | L13: Kurang 20 | N13: 724 | O13: 544 | P13: 332 | Q13: 212 | R13: 38 | S13: 40 | T13: 102 | V13: Kurang 20 | X13: 596 | Y13: 445 | Z13: 228 | AA13: 217 | AB13: 33 | AC13: 25 | AD13: 93
B14: Under 20 | L14: Under 20 | V14: Under 20
B15: 20-24 | D15: 20741 | E15: 17091 | F15: 13104 | G15: 3987 | H15: 972 | I15: 652 | J15: 2026 | L15: 20-24 | N15: 10738 | O15: 8907 | P15: 6822 | Q15: 2085 | R15: 527 | S15: 322 | T15: 982 | V15: 20-24 | X15: 10003 | Y15: 8184 | Z15: 6282 | AA15: 1902 | AB15: 445 | AC15: 330 | AD15: 1044
B16: 25-29 | D16: 93223 | E16: 79925 | F16: 69550 | G16: 10375 | H16: 4560 | I16: 2471 | J16: 6267 | L16: 25-29 | N16: 47897 | O16: 41120 | P16: 35664 | Q16: 5456 | R16: 2331 | S16: 1221 | T16: 3225 | V16: 25-29 | X16: 45326 | Y16: 38805 | Z16: 33886 | AA16: 4919 | AB16: 2229 | AC16: 1250 | AD16: 3042
B17: 30-34 | D17: 125086 | E17: 100472 | F17: 86995 | G17: 13477 | H17: 10945 | I17: 6248 | J17: 7421 | L17: 30-34 | N17: 64684 | O17: 51890 | P17: 44923 | Q17: 6967 | R17: 5765 | S17: 3190 | T17: 3839 | V17: 30-34 | X17: 60402 | Y17: 48582 | Z17: 42072 | AA17: 6510 | AB17: 5180 | AC17: 3058 | AD17: 3582
B18: 35-39 | D18: 87304 | E18: 67420 | F18: 57367 | G18: 10053 | H18: 10089 | I18: 4750 | J18: 5045 | L18: 35-39 | N18: 45312 | O18: 34922 | P18: 29588 | Q18: 5334 | R18: 5333 | S18: 2462 | T18: 2595 | V18: 35-39 | X18: 41992 | Y18: 32498 | Z18: 27779 | AA18: 4719 | AB18: 4756 | AC18: 2288 | AD18: 2450
B19: 40-44 | D19: 39334 | E19: 30105 | F19: 25186 | G19: 4919 | H19: 4686 | I19: 1935 | J19: 2608 | L19: 40-44 | N19: 20360 | O19: 15569 | P19: 13001 | Q19: 2568 | R19: 2438 | S19: 1008 | T19: 1345 | V19: 40-44 | X19: 18974 | Y19: 14536 | Z19: 12185 | AA19: 2351 | AB19: 2248 | AC19: 927 | AD19: 1263
B20: 45-49 | D20: 11454 | E20: 8570 | F20: 6848 | G20: 1722 | H20: 1508 | I20: 411 | J20: 965 | L20: 45-49 | N20: 5983 | O20: 4431 | P20: 3535 | Q20: 896 | R20: 800 | S20: 213 | T20: 539 | V20: 45-49 | X20: 5471 | Y20: 4139 | Z20: 3313 | AA20: 826 | AB20: 708 | AC20: 198 | AD20: 426
B21: 50-54 | D21: 3561 | E21: 2689 | F21: 2096 | G21: 593 | H21: 422 | I21: 100 | J21: 350 | L21: 50-54 | N21: 1831 | O21: 1386 | P21: 1078 | Q21: 308 | R21: 217 | S21: 51 | T21: 177 | V21: 50-54 | X21: 1730 | Y21: 1303 | Z21: 1018 | AA21: 285 | AB21: 205 | AC21: 49 | AD21: 173
B22: 55-59 | D22: 1202 | E22: 846 | F22: 666 | G22: 180 | H22: 162 | I22: 21 | J22: 173 | L22: 55-59 | N22: 598 | O22: 421 | P22: 326 | Q22: 95 | R22: 80 | S22: 13 | T22: 84 | V22: 55-59 | X22: 604 | Y22: 425 | Z22: 340 | AA22: 85 | AB22: 82 | AC22: 8 | AD22: 89
B23: 60-64 | D23: 418 | E23: 307 | F23: 242 | G23: 65 | H23: 37 | I23: 9 | J23: 65 | L23: 60-64 | N23: 219 | O23: 159 | P23: 130 | Q23: 29 | R23: 21 | S23: 5 | T23: 34 | V23: 60-64 | X23: 199 | Y23: 148 | Z23: 112 | AA23: 36 | AB23: 16 | AC23: 4 | AD23: 31
B24: 65 dan lebih | D24: 189 | E24: 128 | F24: 102 | G24: 26 | H24: 16 | I24: 3 | J24: 42 | L24: 65 dan lebih | N24: 109 | O24: 73 | P24: 56 | Q24: 17 | R24: 9 | S24: 2 | T24: 25 | V24: 65 dan lebih | X24: 80 | Y24: 55 | Z24: 46 | AA24: 9 | AB24: 7 | AC24: 1 | AD24: 17
B25: 65 and over | L25: 65 and over | V25: 65 and over
B26: Tidak diketahui | D26: 12343 | E26: 8584 | F26: 4480 | G26: 4104 | H26: 696 | I26: 601 | J26: 2462 | L26: Tidak diketahui | N26: 6479 | O26: 4523 | P26: 2330 | Q26: 2193 | R26: 363 | S26: 294 | T26: 1299 | V26: Tidak diketahui | X26: 5864 | Y26: 4061 | Z26: 2150 | AA26: 1911 | AB26: 333 | AC26: 307 | AD26: 1163
B27: Unknown | L27: Unknown | V27: Unknown
B29: 1 Termasuk bukan warganegara Malaysia | L29: 1 Termasuk bukan warganegara Malaysia | V29: 1 Termasuk bukan warganegara Malaysia
B30: Includes non-Malaysian citizens | L30: Includes non-Malaysian citizens | V30: Includes non-Malaysian citizens

Sheet 3.44_kembar_negeri
B1: Jadual 3.44: Kelahiran hidup mengikut jenis kelahiran dan negeri, Malaysia, 2025
B2: Table 3.44: Live births by type of plurality and state, Malaysia, 2025
B5: Negeri | D5: Jenis kelahiran /Type of plurality
B6: State | D6: Jumlah | E6: Seorang | F6: Kembar dua | G6: Kembar tiga | H6: Kembar empat dan lebih
D7: Total | E7: Single | F7: Twin | G7: Triplet | H7: Quadruplets and over
B9: Malaysia | D9: 396175 | E9: 389267 | F9: 6746 | G9: 154 | H9: 8
B10: Johor | D10: 48093 | E10: 47226 | F10: 833 | G10: 34 | H10: -
B11: Kedah | D11: 30163 | E11: 29669 | F11: 490 | G11: - | H11: 4
B12: Kelantan | D12: 31858 | E12: 31352 | F12: 501 | G12: 5 | H12: -
B13: Melaka | D13: 11860 | E13: 11659 | F13: 192 | G13: 9 | H13: -
B14: Negeri Sembilan | D14: 14141 | E14: 13887 | F14: 254 | G14: - | H14: -
B15: Pahang | D15: 20654 | E15: 20333 | F15: 313 | G15: 4 | H15: 4
B16: Perak | D16: 26275 | E16: 25851 | F16: 418 | G16: 6 | H16: -
B17: Perlis | D17: 3508 | E17: 3463 | F17: 45 | G17: - | H17: -
B18: Pulau Pinang | D18: 16722 | E18: 16409 | F18: 301 | G18: 12 | H18: -
B19: Sabah | D19: 40768 | E19: 40011 | F19: 742 | G19: 15 | H19: -
B20: Sarawak | D20: 28678 | E20: 28201 | F20: 465 | G20: 12 | H20: -
B21: Selangor | D21: 78164 | E21: 76673 | F21: 1461 | G21: 30 | H21: -
B22: Terengganu | D22: 23292 | E22: 22929 | F22: 351 | G22: 12 | H22: -
B23: W.P. Kuala Lumpur | D23: 19430 | E23: 19062 | F23: 353 | G23: 15 | H23: -
B24: W.P. Labuan | D24: 1147 | E24: 1139 | F24: 8 | G24: - | H24: -
B25: W.P. Putrajaya | D25: 1422 | E25: 1403 | F25: 19 | G25: - | H25: -

Sheet 3.45_kembar_etnik
B1: Jadual 3.45: Kelahiran hidup mengikut jenis kelahiran, kumpulan etnik dan jantina, Malaysia, 2025 | L1: Jadual 3.45: Kelahiran hidup mengikut jenis kelahiran, kumpulan etnik dan jantina, Malaysia, 2025 (samb.) | V1: =L1 -> Jadual 3.45: Kelahiran hidup mengikut jenis kelahiran, kumpulan etnik dan jantina, Malaysia, 2025 (samb.)
B2: Table 3.45: Live births by type of plurality, ethnic group and sex, Malaysia, 2025 | L2: Table 3.45: Live births by type of plurality, ethnic group and sex, Malaysia, 2025 (cont'd) | V2: =L2 -> Table 3.45: Live births by type of plurality, ethnic group and sex, Malaysia, 2025 (cont'd)
B5: Jumlah/Total | L5: Lelaki/Male | V5: Perempuan/Female
D6: Kumpulan etnik/Ethnic group | N6: Kumpulan etnik/Ethnic group | X6: Kumpulan etnik/Ethnic group
B7: Jenis kelahiran | D7: Jumlah | E7: Bumiputera | L7: Jenis kelahiran | N7: Jumlah | O7: Bumiputera | V7: Jenis kelahiran | X7: Jumlah | Y7: Bumiputera
B8: Type of plurality | D8: Total | E8: Jumlah | F8: Melayu | G8: Bumiputera Lain | H8: Cina | I8: India | J8: Lain-lain1 | L8: Type of plurality | N8: Total | O8: Jumlah | P8: Melayu | Q8: Bumiputera Lain | R8: Cina | S8: India | T8: Lain-lain1 | V8: Type of plurality | X8: Total | Y8: Jumlah | Z8: Melayu | AA8: Bumiputera Lain | AB8: Cina | AC8: India | AD8: Lain-lain1
E9: Total | F9: Malay | G9: Other Bumiputera | H9: Chinese | I9: Indians | J9: Others1 | O9: Total | P9: Malay | Q9: Other Bumiputera | R9: Chinese | S9: Indians | T9: Others1 | Y9: Total | Z9: Malay | AA9: Other Bumiputera | AB9: Chinese | AC9: Indians | AD9: Others1
B12: Jumlah | D12: 396175 | E12: 317126 | F12: 267196 | G12: 49930 | H12: 34164 | I12: 17266 | J12: 27619 | L12: Jumlah | N12: 204934 | O12: 163945 | P12: 137785 | Q12: 26160 | R12: 17922 | S12: 8821 | T12: 14246 | V12: Jumlah | X12: 191241 | Y12: 153181 | Z12: 129411 | AA12: 23770 | AB12: 16242 | AC12: 8445 | AD12: 13373
B13: Total | L13: Total | V13: Total
B15: Seorang | D15: 389267 | E15: 311932 | F15: 262847 | G15: 49085 | H15: 33414 | I15: 16841 | J15: 27080 | L15: Seorang | N15: 201501 | O15: 161326 | P15: 135592 | Q15: 25734 | R15: 17572 | S15: 8623 | T15: 13980 | V15: Seorang | X15: 187766 | Y15: 150606 | Z15: 127255 | AA15: 23351 | AB15: 15842 | AC15: 8218 | AD15: 13100
B16: Single | L16: Single | V16: Single
B18: Kembar dua | D18: 6746 | E18: 5093 | F18: 4258 | G18: 835 | H18: 730 | I18: 401 | J18: 522 | L18: Kembar dua | N18: 3368 | O18: 2581 | P18: 2157 | Q18: 424 | R18: 344 | S18: 184 | T18: 259 | V18: Kembar dua | X18: 3378 | Y18: 2512 | Z18: 2101 | AA18: 411 | AB18: 386 | AC18: 217 | AD18: 263
B19: Twin | L19: Twin | V19: Twin
B21: Kembar tiga | D21: 154 | E21: 93 | F21: 83 | G21: 10 | H21: 20 | I21: 24 | J21: 17 | L21: Kembar tiga | N21: 63 | O21: 36 | P21: 34 | Q21: 2 | R21: 6 | S21: 14 | T21: 7 | V21: Kembar tiga | X21: 91 | Y21: 57 | Z21: 49 | AA21: 8 | AB21: 14 | AC21: 10 | AD21: 10
B22: Triplet | L22: Triplet | V22: Triplet
B24: Kembar empat dan lebih | D24: 8 | E24: 8 | F24: 8 | G24: - | H24: - | I24: - | J24: - | L24: Kembar empat dan lebih | N24: 2 | O24: 2 | P24: 2 | Q24: - | R24: - | S24: - | T24: - | V24: Kembar empat dan lebih | X24: 6 | Y24: 6 | Z24: 6 | AA24: - | AB24: - | AC24: - | AD24: -
B25: Quadruplets and over | L25: Quadruplets and over | V25: Quadruplets and over
B27: 1 Termasuk bukan warganegara Malaysia | L27: 1 Termasuk bukan warganegara Malaysia | V27: 1 Termasuk bukan warganegara Malaysia
B28: Includes non-Malaysian citizens | L28: Includes non-Malaysian citizens | V28: Includes non-Malaysian citizens
