Workbook
Name __123Graph_A_4: #REF!
Name __123Graph_A_4: #REF!
Name __123Graph_A_4: #REF!
Name __123Graph_A_4: #REF!
Name __123Graph_A_4: #REF!
Name __123Graph_A_4: #REF!
Name __123Graph_A_4: #REF!
Name __123Graph_A_4: #REF!
Name __123Graph_A_4: #REF!
Name __123Graph_A_4: #REF!
Name __123Graph_A_4: #REF!
Name __123Graph_A_4: #REF!
Name __123Graph_A_4: #REF!
Name __123Graph_A_4: #REF!
Name __123Graph_A_4: #REF!
Name __123Graph_A_4: #REF!
Name __123Graph_A_4: #REF!
Name __123Graph_A_4: #REF!
Name __123Graph_A_4: #REF!
Name __123Graph_A_4: #REF!
Name __123Graph_A_4: #REF!
Name __123Graph_A_4: #REF!
Name __123Graph_A_4: #REF!
Name __123Graph_A_4: #REF!
Name __123Graph_A_4: #REF!
Name __123Graph_A_4: #REF!
Name __123Graph_A_4: #REF!
Name __123Graph_A_4: #REF!
Name __123Graph_A_4: #REF!
Name __123Graph_A_4: #REF!
Name __123Graph_A_4: #REF!
Name __123Graph_A_4: #REF!
Name __123Graph_A_4: #REF!
Name __123Graph_A_4: #REF!
Name __123Graph_A_4: #REF!
Name __123Graph_A_4: #REF!
Name __123Graph_A_4: #REF!
Name __123Graph_A_4: #REF!
Name __123Graph_X_1: #REF!
Name __123Graph_X_1: #REF!
Name __123Graph_X_1: #REF!
Name __123Graph_X_1: #REF!
Name __123Graph_X_1: #REF!
Name __123Graph_X_1: #REF!
Name __123Graph_X_1: #REF!
Name __123Graph_X_1: #REF!
Name __123Graph_X_1: #REF!
Name __123Graph_X_1: #REF!
Name __123Graph_X_1: #REF!
Name __123Graph_X_1: #REF!
Name __123Graph_X_1: #REF!
Name __123Graph_X_1: #REF!
Name __123Graph_X_1: #REF!
Name __123Graph_X_1: #REF!
Name __123Graph_X_1: #REF!
Name __123Graph_X_1: #REF!
Name __123Graph_X_1: #REF!
Name __123Graph_X_1: #REF!
Name __123Graph_X_1: #REF!
Name __123Graph_X_1: #REF!

Sheet 3.1_LB_CBR_SRB
B1: Jadual 3.1: Kelahiran hidup, kadar kelahiran kasar (jantina dan negeri) dan nisbah jantina (negeri), Malaysia, 2025
B2: Table 3.1: Live births, crude birth rate (sex and state) and sex ratio (state), Malaysia, 2025
D5: Kelahiran hidup | H5: Kadar kelahiran kasar | L5: Nisbah jantina Sex ratio
B6: Negeri | D6: Live births | H6: Crude birth rate
B7: State | D7: Jumlah | E7: Lelaki | F7: Perempuan | H7: Jumlah | I7: Lelaki | J7: Perempuan
D8: Total | E8: Male | F8: Female | H8: Total | I8: Male | J8: Female
B10: Malaysia | D10: 396175 | E10: 204934 | F10: 191241 | H10: 11.6 | I10: 11.4 | J10: 11.8 | L10: 107.2
B11: Johor | D11: 48093 | E11: 24832 | F11: 23261 | H11: 11.4 | I11: 11 | J11: 11.9 | L11: 106.8
B12: Kedah | D12: 30163 | E12: 15457 | F12: 14706 | H12: 13.5 | I12: 13.6 | J12: 13.5 | L12: 105.1
B13: Kelantan | D13: 31858 | E13: 16469 | F13: 15389 | H13: 16.7 | I13: 17.2 | J13: 16.2 | L13: 107
B14: Melaka | D14: 11860 | E14: 6163 | F14: 5697 | H14: 11.3 | I14: 11.1 | J14: 11.5 | L14: 108.2
B15: Negeri Sembilan | D15: 14141 | E15: 7290 | F15: 6851 | H15: 11.4 | I15: 11.3 | J15: 11.4 | L15: 106.4
B16: Pahang | D16: 20654 | E16: 10631 | F16: 10023 | H16: 12.3 | I16: 11.9 | J16: 12.8 | L16: 106.1
B17: Perak | D17: 26275 | E17: 13568 | F17: 12707 | H17: 10.2 | I17: 10.1 | J17: 10.3 | L17: 106.8
B18: Perlis | D18: 3508 | E18: 1812 | F18: 1696 | H18: 11.8 | I18: 12.2 | J18: 11.4 | L18: 106.8
B19: Pulau Pinang | D19: 16722 | E19: 8617 | F19: 8105 | H19: 9.3 | I19: 9.3 | J19: 9.2 | L19: 106.3
B20: Sabah | D20: 40768 | E20: 21351 | F20: 19417 | H20: 10.9 | I20: 10.9 | J20: 10.8 | L20: 110
B21: Sarawak | D21: 28678 | E21: 14984 | F21: 13694 | H21: 11.3 | I21: 11.5 | J21: 11.2 | L21: 109.4
... B26: W.P. Putrajaya | D26: 1422 | E26: 724 | F26: 698 | H26: 11.8 | I26: 12.2 | J26: 11.4 | L26: 103.7
B28: Kadar adalah bagi setiap 1,000 penduduk
B29: The rates are per 1,000 population
B31: Nisbah jantina yang ditunjukkan merujuk kepada nisbah jantina ketika lahir, iaitu bilangan kelahiran hidup lelaki bagi setiap 100 kelahiran hidup perempuan
B32: The sex ratio shown refers to the sex ratio at birth, defined as the number of male live births for every 100 female live births

Sheet 3.2_by etnik_sex
B1: Jadual 3.2: Kelahiran hidup mengikut negeri, kumpulan etnik dan jantina, Malaysia, 2025 | L1: Jadual 3.2: Kelahiran hidup mengikut negeri, kumpulan etnik dan jantina, Malaysia, 2025 (samb.) | V1: =L1 -> Jadual 3.2: Kelahiran hidup mengikut negeri, kumpulan etnik dan jantina, Malaysia, 2025 (samb.)
B2: Table 3.2: Live births by state, ethnic group and sex, Malaysia, 2025 | L2: Table 3.2: Live births by state, ethnic group and sex, Malaysia, 2025 (cont'd) | V2: =L2 -> Table 3.2: Live births by state, ethnic group and sex, Malaysia, 2025 (cont'd)
B5: Jumlah/Total | L5: Lelaki/Male | V5: Perempuan/Female
D6: Kumpulan etnik/Ethnic group | N6: Kumpulan etnik/Ethnic group | X6: Kumpulan etnik/Ethnic group
B7: Negeri | D7: Jumlah | E7: Bumiputera | L7: Negeri | N7: Jumlah | O7: Bumiputera | V7: Negeri | X7: Jumlah | Y7: Bumiputera
B8: State | D8: Total | E8: Jumlah | F8: Melayu | G8: Bumiputera Lain | H8: Cina | I8: India | J8: Lain-lain1 | L8: State | N8: Total | O8: Jumlah | P8: Melayu | Q8: Bumiputera Lain | R8: Cina | S8: India | T8: Lain-lain1 | V8: State | X8: Total | Y8: Jumlah | Z8: Melayu | AA8: Bumiputera Lain | AB8: Cina | AC8: India | AD8: Lain-lain1
E9: Total | F9: Malay | G9: Other Bumiputera | H9: Chinese | I9: Indians | J9: Others1 | O9: Total | P9: Malay | Q9: Other Bumiputera | R9: Chinese | S9: Indians | T9: Others1 | Y9: Total | Z9: Malay | AA9: Other Bumiputera | AB9: Chinese | AC9: Indians | AD9: Others1
B11: Malaysia | D11: 396175 | E11: 317126 | F11: 267196 | G11: 49930 | H11: 34164 | I11: 17266 | J11: 27619 | L11: Malaysia | N11: 204934 | O11: 163945 | P11: 137785 | Q11: 26160 | R11: 17922 | S11: 8821 | T11: 14246 | V11: Malaysia | X11: 191241 | Y11: 153181 | Z11: 129411 | AA11: 23770 | AB11: 16242 | AC11: 8445 | AD11: 13373
B12: Johor | D12: 48093 | E12: 35309 | F12: 34100 | G12: 1209 | H12: 7541 | I12: 2914 | J12: 2329 | L12: Johor | N12: 24832 | O12: 18247 | P12: 17586 | Q12: 661 | R12: 3931 | S12: 1473 | T12: 1181 | V12: Johor | X12: 23261 | Y12: 17062 | Z12: 16514 | AA12: 548 | AB12: 3610 | AC12: 1441 | AD12: 1148
B13: Kedah | D13: 30163 | E13: 26675 | F13: 26572 | G13: 103 | H13: 993 | I13: 1033 | J13: 1462 | L13: Kedah | N13: 15457 | O13: 13677 | P13: 13622 | Q13: 55 | R13: 511 | S13: 535 | T13: 734 | V13: Kedah | X13: 14706 | Y13: 12998 | Z13: 12950 | AA13: 48 | AB13: 482 | AC13: 498 | AD13: 728
B14: Kelantan | D14: 31858 | E14: 30856 | F14: 30434 | G14: 422 | H14: 262 | I14: 15 | J14: 725 | L14: Kelantan | N14: 16469 | O14: 15940 | P14: 15707 | Q14: 233 | R14: 147 | S14: 4 | T14: 378 | V14: Kelantan | X14: 15389 | Y14: 14916 | Z14: 14727 | AA14: 189 | AB14: 115 | AC14: 11 | AD14: 347
B15: Melaka | D15: 11860 | E15: 10133 | F15: 9988 | G15: 145 | H15: 967 | I15: 459 | J15: 301 | L15: Melaka | N15: 6163 | O15: 5279 | P15: 5199 | Q15: 80 | R15: 502 | S15: 237 | T15: 145 | V15: Melaka | X15: 5697 | Y15: 4854 | Z15: 4789 | AA15: 65 | AB15: 465 | AC15: 222 | AD15: 156
B16: Negeri Sembilan | D16: 14141 | E16: 11171 | F16: 10796 | G16: 375 | H16: 986 | I16: 1539 | J16: 445 | L16: Negeri Sembilan | N16: 7290 | O16: 5727 | P16: 5540 | Q16: 187 | R16: 521 | S16: 828 | T16: 214 | V16: Negeri Sembilan | X16: 6851 | Y16: 5444 | Z16: 5256 | AA16: 188 | AB16: 465 | AC16: 711 | AD16: 231
B17: Pahang | D17: 20654 | E17: 18460 | F17: 16698 | G17: 1762 | H17: 970 | I17: 457 | J17: 767 | L17: Pahang | N17: 10631 | O17: 9503 | P17: 8556 | Q17: 947 | R17: 506 | S17: 234 | T17: 388 | V17: Pahang | X17: 10023 | Y17: 8957 | Z17: 8142 | AA17: 815 | AB17: 464 | AC17: 223 | AD17: 379
B18: Perak | D18: 26275 | E18: 21006 | F18: 19890 | G18: 1116 | H18: 2497 | I18: 2088 | J18: 684 | L18: Perak | N18: 13568 | O18: 10842 | P18: 10259 | Q18: 583 | R18: 1337 | S18: 1049 | T18: 340 | V18: Perak | X18: 12707 | Y18: 10164 | Z18: 9631 | AA18: 533 | AB18: 1160 | AC18: 1039 | AD18: 344
B19: Perlis | D19: 3508 | E19: 3264 | F19: 3251 | G19: 13 | H19: 82 | I19: 16 | J19: 146 | L19: Perlis | N19: 1812 | O19: 1689 | P19: 1681 | Q19: 8 | R19: 42 | S19: 11 | T19: 70 | V19: Perlis | X19: 1696 | Y19: 1575 | Z19: 1570 | AA19: 5 | AB19: 40 | AC19: 5 | AD19: 76
B20: Pulau Pinang | D20: 16722 | E20: 10586 | F20: 10507 | G20: 79 | H20: 3235 | I20: 1429 | J20: 1472 | L20: Pulau Pinang | N20: 8617 | O20: 5465 | P20: 5424 | Q20: 41 | R20: 1701 | S20: 694 | T20: 757 | V20: Pulau Pinang | X20: 8105 | Y20: 5121 | Z20: 5083 | AA20: 38 | AB20: 1534 | AC20: 735 | AD20: 715
B21: Sabah | D21: 40768 | E21: 32996 | F21: 6679 | G21: 26317 | H21: 921 | I21: 53 | J21: 6798 | L21: Sabah | N21: 21351 | O21: 17261 | P21: 3456 | Q21: 13805 | R21: 519 | S21: 26 | T21: 3545 | V21: Sabah | X21: 19417 | Y21: 15735 | Z21: 3223 | AA21: 12512 | AB21: 402 | AC21: 27 | AD21: 3253
B22: Sarawak | D22: 28678 | E22: 24348 | F22: 8615 | G22: 15733 | H22: 3835 | I22: 50 | J22: 445 | L22: Sarawak | N22: 14984 | O22: 12709 | P22: 4537 | Q22: 8172 | R22: 2025 | S22: 26 | T22: 224 | V22: Sarawak | X22: 13694 | Y22: 11639 | Z22: 4078 | AA22: 7561 | AB22: 1810 | AC22: 24 | AD22: 221
... B26: W.P. Labuan | D26: 1147 | E26: 941 | F26: 437 | G26: 504 | H26: 32 | I26: 2 | J26: 172 | L26: W.P. Labuan | N26: 614 | O26: 502 | P26: 239 | Q26: 263 | R26: 18 | S26: 1 | T26: 93 | V26: W.P. Labuan | X26: 533 | Y26: 439 | Z26: 198 | AA26: 241 | AB26: 14 | AC26: 1 | AD26: 79
B27: W.P. Putrajaya | D27: 1422 | E27: 1388 | F27: 1368 | G27: 20 | H27: 3 | I27: 11 | J27: 20 | L27: W.P. Putrajaya | N27: 724 | O27: 708 | P27: 698 | Q27: 10 | R27: - | S27: 7 | T27: 9 | V27: W.P. Putrajaya | X27: 698 | Y27: 680 | Z27: 670 | AA27: 10 | AB27: 3 | AC27: 4 | AD27: 11
B29: 1 Termasuk bukan warganegara Malaysia | L29: 1 Termasuk bukan warganegara Malaysia | V29: 1 Termasuk bukan warganegara Malaysia
B30: Includes non-Malaysian citizens | L30: Includes non-Malaysian citizens | V30: Includes non-Malaysian citizens

Sheet 3.3_kadar
B1: Jadual 3.3: Kadar kelahiran kasar mengikut negeri, kumpulan etnik dan jantina, Malaysia, 2025 | L1: Jadual 3.3: Kadar kelahiran kasar mengikut negeri, kumpulan etnik dan jantina, Malaysia, 2025 (samb.) | V1: =L1 -> Jadual 3.3: Kadar kelahiran kasar mengikut negeri, kumpulan etnik dan jantina, Malaysia, 2025 (samb.)
B2: Table 3.3: Crude birth rate by state, ethnic group and sex, Malaysia, 2025 | L2: Table 3.3: Crude birth rate by state, ethnic group and sex, Malaysia, 2025 (cont'd) | V2: =L2 -> Table 3.3: Crude birth rate by state, ethnic group and sex, Malaysia, 2025 (cont'd)
B5: Jumlah/Total | L5: Lelaki/Male | V5: Perempuan/Female
D6: Kumpulan etnik/Ethnic group | N6: Kumpulan etnik/Ethnic group | X6: Kumpulan etnik/Ethnic group
B7: Negeri | D7: Jumlah | E7: Bumiputera | L7: Negeri | N7: Jumlah | O7: Bumiputera | V7: Negeri | X7: Jumlah | Y7: Bumiputera
B8: State | D8: Total | E8: Jumlah | F8: Melayu | G8: Bumiputera Lain | H8: Cina | I8: India | J8: Lain-lain1 | L8: State | N8: Total | O8: Jumlah | P8: Melayu | Q8: Bumiputera Lain | R8: Cina | S8: India | T8: Lain-lain1 | V8: State | X8: Total | Y8: Jumlah | Z8: Melayu | AA8: Bumiputera Lain | AB8: Cina | AC8: India | AD8: Lain-lain1
E9: Total | F9: Malay | G9: Other Bumiputera | H9: Chinese | I9: Indians | J9: Others1 | O9: Total | P9: Malay | Q9: Other Bumiputera | R9: Chinese | S9: Indians | T9: Others1 | Y9: Total | Z9: Malay | AA9: Other Bumiputera | AB9: Chinese | AC9: Indians | AD9: Others1
B11: Malaysia | D11: 11.6 | E11: 14.6 | F11: 14.9 | G11: 13.2 | H11: 5 | I11: 8.6 | J11: 7.6 | L11: Malaysia | N11: 11.4 | O11: 14.9 | P11: 15.2 | Q11: 13.7 | R11: 5.2 | S11: 8.8 | T11: 5.8 | V11: Malaysia | X11: 11.8 | Y11: 14.2 | Z11: 14.6 | AA11: 12.7 | AB11: 4.8 | AC11: 8.4 | AD11: 11.7
B12: Johor | D12: 11.4 | E12: 15.1 | F12: 15 | G12: 19.7 | H12: 6.2 | I12: 11.7 | J12: 5.8 | L12: Johor | N12: 11 | O12: 15.4 | P12: 15.2 | Q12: 20.4 | R12: 6.4 | S12: 11.9 | T12: 3.7 | V12: Johor | X12: 11.9 | Y12: 14.8 | Z12: 14.7 | AA12: 18.9 | AB12: 6.1 | AC12: 11.6 | AD12: 14.2
B13: Kedah | D13: 13.5 | E13: 15.5 | F13: 15.5 | G13: 21.1 | H13: 4 | I13: 8 | J13: 10.7 | L13: Kedah | N13: 13.6 | O13: 15.9 | P13: 15.9 | Q13: 21.7 | R13: 4.2 | S13: 8.7 | T13: 7.8 | V13: Kedah | X13: 13.5 | Y13: 15.2 | Z13: 15.2 | AA13: 20.6 | AB13: 3.9 | AC13: 7.5 | AD13: 16.9
B14: Kelantan | D14: 16.7 | E14: 17.1 | F14: 17.1 | G14: 18.3 | H14: 5.9 | I14: 3.2 | J14: 12.5 | L14: Kelantan | N14: 17.2 | O14: 17.8 | P14: 17.7 | Q14: 19.9 | R14: 6.6 | S14: 1.8 | T14: 10.5 | V14: Kelantan | X14: 16.2 | Y14: 16.5 | Z14: 16.5 | AA14: 16.6 | AB14: 5.3 | AC14: 4.5 | AD14: 15.7
B15: Melaka | D15: 11.3 | E15: 14.5 | F15: 14.5 | G15: 14.5 | H15: 4.8 | I15: 8.8 | J15: 3.1 | L15: Melaka | N15: 11.1 | O15: 14.9 | P15: 14.9 | Q15: 15.3 | R15: 4.9 | S15: 9.1 | T15: 2 | V15: Melaka | X15: 11.5 | Y15: 14 | Z15: 14 | AA15: 13.5 | AB15: 4.6 | AC15: 8.4 | AD15: 6.8
B16: Negeri Sembilan | D16: 11.4 | E16: 14.8 | F16: 14.7 | G16: 16.2 | H16: 4 | I16: 9.4 | J16: 5.6 | L16: Negeri Sembilan | N16: 11.3 | O16: 15 | P16: 15 | Q16: 15.6 | R16: 4.2 | S16: 10.1 | T16: 3.7 | V16: Negeri Sembilan | X16: 11.4 | Y16: 14.6 | Z16: 14.5 | AA16: 16.8 | AB16: 3.8 | AC16: 8.8 | AD16: 10.4
B17: Pahang | D17: 12.3 | E17: 14.3 | F17: 14 | G17: 18.2 | H17: 4.4 | I17: 8.2 | J17: 6.9 | L17: Pahang | N17: 11.9 | O17: 14.5 | P17: 14.1 | Q17: 19.1 | R17: 4.5 | S17: 8.3 | T17: 4 | V17: Pahang | X17: 12.8 | Y17: 14.1 | Z17: 13.8 | AA17: 17.2 | AB17: 4.4 | AC17: 8.1 | AD17: 25.1
B18: Perak | D18: 10.2 | E18: 13.9 | F18: 13.9 | G18: 14.5 | H18: 4 | I18: 7.7 | J18: 4 | L18: Perak | N18: 10.1 | O18: 14.4 | P18: 14.3 | Q18: 15.1 | R18: 4.2 | S18: 8 | T18: 2.4 | V18: Perak | X18: 10.3 | Y18: 13.5 | Z18: 13.5 | AA18: 13.9 | AB18: 3.7 | AC18: 7.5 | AD18: 12.2
B19: Perlis | D19: 11.8 | E19: 12.8 | F19: 12.8 | G19: 8.6 | H19: 4.1 | I19: 3.2 | J19: 8.7 | L19: Perlis | N19: 12.2 | O19: 13.3 | P19: 13.3 | Q19: 9.2 | R19: 4.1 | S19: 4.3 | T19: 8.8 | V19: Perlis | X19: 11.4 | Y19: 12.3 | Z19: 12.3 | AA19: 7.8 | AB19: 4.1 | AC19: 2 | AD19: 8.7
B20: Pulau Pinang | D20: 9.3 | E20: 14.1 | F20: 14.2 | G20: 10.8 | H20: 4.6 | I20: 9.2 | J20: 7.7 | L20: Pulau Pinang | N20: 9.3 | O20: 14.4 | P20: 14.4 | Q20: 11.3 | R20: 4.8 | S20: 9 | T20: 6.9 | V20: Pulau Pinang | X20: 9.2 | Y20: 13.9 | Z20: 13.9 | AA20: 10.4 | AB20: 4.4 | AC20: 9.5 | AD20: 8.7
B21: Sabah | D21: 10.9 | E21: 13.6 | F21: 20.2 | G21: 12.6 | H21: 3.8 | I21: 8.9 | J21: 6.3 | L21: Sabah | N21: 10.9 | O21: 13.9 | P21: 18.7 | Q21: 13.1 | R21: 4.1 | S21: 7.9 | T21: 6 | V21: Sabah | X21: 10.8 | Y21: 13.3 | Z21: 22.1 | AA21: 12 | AB21: 3.5 | AC21: 10.2 | AD21: 6.6
B22: Sarawak | D22: 11.3 | E22: 13.3 | F22: 14.2 | G22: 12.8 | H22: 6.9 | I22: 9.9 | J22: 3.3 | L22: Sarawak | N22: 11.5 | O22: 13.7 | P22: 14.7 | Q22: 13.2 | R22: 7.1 | S22: 9.5 | T22: 2.5 | V22: Sarawak | X22: 11.2 | Y22: 12.8 | Z22: 13.7 | AA22: 12.4 | AB22: 6.6 | AC22: 10.4 | AD22: 5.1
... B26: W.P. Labuan | D26: 11.4 | E26: 12.2 | F26: 17.1 | G26: 9.7 | H26: 3.3 | I26: 2.3 | J26: 13.3 | L26: W.P. Labuan | N26: 11.9 | O26: 12.5 | P26: 17.7 | Q26: 9.8 | R26: 4.3 | S26: 2.3 | T26: 13.7 | V26: W.P. Labuan | X26: 10.8 | Y26: 11.8 | Z26: 16.5 | AA26: 9.6 | AB26: 2.6 | AC26: 2.2 | AD26: 12.8
B27: W.P. Putrajaya | D27: 11.8 | E27: 12.1 | F27: 12.1 | G27: 8.6 | H27: 4.7 | I27: 8 | J27: 5.4 | L27: W.P. Putrajaya | N27: 12.2 | O27: 12.7 | P27: 12.7 | Q27: 9.4 | R27: - | S27: 10.4 | T27: 3.4 | V27: W.P. Putrajaya | X27: 11.4 | Y27: 11.5 | Z27: 11.6 | AA27: 7.9 | AB27: 9 | AC27: 5.6 | AD27: 10.3
B29: Kadar adalah bagi setiap 1,000 penduduk mengikut kumpulan etnik | L29: Kadar adalah bagi setiap 1,000 penduduk mengikut kumpulan etnik | V29: Kadar adalah bagi setiap 1,000 penduduk mengikut kumpulan etnik
B30: The rates are per 1,000 population by ethnic group | L30: The rates are per 1,000 population by ethnic group | V30: The rates are per 1,000 population by ethnic group
B31: 1 Termasuk bukan warganegara Malaysia | L31: 1 Termasuk bukan warganegara Malaysia | V31: 1 Termasuk bukan warganegara Malaysia
B32: Includes non-Malaysian citizens | L32: Includes non-Malaysian citizens | V32: Includes non-Malaysian citizens

Sheet 3.4_bulan kejadian
B1: Jadual 3.4: Kelahiran hidup mengikut negeri dan bulan kejadian, Malaysia, 2025
B2: Table 3.4: Live births by state and month of occurrence, Malaysia, 2025
B5: Negeri | D5: Jumlah | E5: Januari | F5: Februari | G5: Mac | H5: April | I5: Mei | J5: Jun
B6: State | D6: Total | E6: January | F6: February | G6: March | I6: May | J6: June
B9: Malaysia | D9: 396175 | E9: 34025 | F9: 30736 | G9: 33179 | H9: 31786 | I9: 33086 | J9: 31797
B10: Johor | D10: 48093 | E10: 4182 | F10: 3864 | G10: 4098 | H10: 3822 | I10: 3983 | J10: 3886
B11: Kedah | D11: 30163 | E11: 2506 | F11: 2325 | G11: 2455 | H11: 2425 | I11: 2470 | J11: 2429
B12: Kelantan | D12: 31858 | E12: 2607 | F12: 2280 | G12: 2721 | H12: 2577 | I12: 2621 | J12: 2698
B13: Melaka | D13: 11860 | E13: 979 | F13: 921 | G13: 985 | H13: 907 | I13: 1032 | J13: 917
B14: Negeri Sembilan | D14: 14141 | E14: 1263 | F14: 1085 | G14: 1233 | H14: 1134 | I14: 1192 | J14: 1091
B15: Pahang | D15: 20654 | E15: 1697 | F15: 1524 | G15: 1665 | H15: 1703 | I15: 1739 | J15: 1647
B16: Perak | D16: 26275 | E16: 2236 | F16: 2020 | G16: 2252 | H16: 2135 | I16: 2245 | J16: 2135
B17: Perlis | D17: 3508 | E17: 300 | F17: 236 | G17: 292 | H17: 305 | I17: 297 | J17: 279
B18: Pulau Pinang | D18: 16722 | E18: 1481 | F18: 1278 | G18: 1406 | H18: 1309 | I18: 1338 | J18: 1251
B19: Sabah | D19: 40768 | E19: 3445 | F19: 3061 | G19: 3391 | H19: 3373 | I19: 3413 | J19: 3325
B20: Sarawak | D20: 28678 | E20: 2431 | F20: 2323 | G20: 2378 | H20: 2250 | I20: 2471 | J20: 2281
... B25: W.P. Putrajaya | D25: 1422 | E25: 145 | F25: 109 | G25: 108 | H25: 134 | I25: 112 | J25: 123
B27: Jadual 3.4: Kelahiran hidup mengikut negeri dan bulan kejadian, Malaysia, 2025 (samb.)
B28: Table 3.4: Live births by state and month of occurrence, Malaysia, 2025 (cont'd)
B31: Negeri | D31: Julai | E31: Ogos | F31: September | G31: Oktober | H31: November | I31: Disember
B32: State | D32: July | E32: August | G32: October | I32: December
B35: Malaysia | D35: 33381 | E35: 32894 | F35: 33511 | G35: 35911 | H35: 32105 | I35: 33764
B36: Johor | D36: 3964 | E36: 3892 | F36: 3958 | G36: 4343 | H36: 3890 | I36: 4211
B37: Kedah | D37: 2529 | E37: 2418 | F37: 2656 | G37: 2823 | H37: 2531 | I37: 2596
B38: Kelantan | D38: 2769 | E38: 2692 | F38: 2605 | G38: 2914 | H38: 2594 | I38: 2780
B39: Melaka | D39: 1037 | E39: 986 | F39: 977 | G39: 1114 | H39: 1023 | I39: 982
B40: Negeri Sembilan | D40: 1116 | E40: 1236 | F40: 1231 | G40: 1287 | H40: 1108 | I40: 1165
B41: Pahang | D41: 1798 | E41: 1842 | F41: 1747 | G41: 1824 | H41: 1734 | I41: 1734
B42: Perak | D42: 2151 | E42: 2208 | F42: 2207 | G42: 2435 | H42: 2095 | I42: 2156
B43: Perlis | D43: 289 | E43: 280 | F43: 318 | G43: 328 | H43: 285 | I43: 299
B44: Pulau Pinang | D44: 1450 | E44: 1416 | F44: 1464 | G44: 1557 | H44: 1332 | I44: 1440
B45: Sabah | D45: 3336 | E45: 3341 | F45: 3428 | G45: 3645 | H45: 3468 | I45: 3542
B46: Sarawak | D46: 2303 | E46: 2354 | F46: 2499 | G46: 2572 | H46: 2321 | I46: 2495
... B51: W.P. Putrajaya | D51: 153 | E51: 88 | F51: 90 | G51: 117 | H51: 115 | I51: 128

Sheet 3.5_AD_sex 
B1: Jadual 3.5: Kelahiran hidup (bilangan dan kadar) mengikut negeri, daerah pentadbiran dan jantina, Malaysia, 2025
B2: Table 3.5: Live births (number and rate) by state, administrative district and sex, Malaysia, 2025
C4: Kelahiran hidup | G4: Kadar kelahiran kasar
B5: Negeri dan daerah pentadbiran | C5: Live births | G5: Crude birth rate
B6: State and administrative district | C6: Jumlah | D6: Lelaki | E6: Perempuan | G6: Jumlah | H6: Lelaki | I6: Perempuan
C7: Total | D7: Male | E7: Female | G7: Total | H7: Male | I7: Female
B9: Malaysia | C9: 396175 | D9: 204934 | E9: 191241 | G9: 11.6 | H9: 11.4 | I9: 11.8
B11: Johor | C11: 48093 | D11: 24832 | E11: 23261 | G11: 11.4 | H11: 11 | I11: 11.9
B12: Batu Pahat | C12: 5567 | D12: 2865 | E12: 2702 | G12: 10.9 | H12: 10.6 | I12: 11.2
B13: Johor Bahru | C13: 21135 | D13: 10934 | E13: 10201 | G13: 11.7 | H13: 11.3 | I13: 12.1
B14: Kluang | C14: 3654 | D14: 1920 | E14: 1734 | G14: 10.9 | H14: 10.3 | I14: 11.6
B15: Kota Tinggi | C15: 3434 | D15: 1738 | E15: 1696 | G15: 14.6 | H15: 13.9 | I15: 15.5
B16: Mersing | C16: 1058 | D16: 553 | E16: 505 | G16: 13 | H16: 12.7 | I16: 13.3
B17: Muar | C17: 3377 | D17: 1700 | E17: 1677 | G17: 10.4 | H17: 9.5 | I17: 11.5
B18: Pontian | C18: 2389 | D18: 1253 | E18: 1136 | G18: 13.4 | H18: 13.2 | I18: 13.7
B19: Segamat | C19: 2295 | D19: 1182 | E19: 1113 | G19: 11.2 | H19: 11 | I19: 11.4
B20: Kulai | C20: 3385 | D20: 1739 | E20: 1646 | G20: 9.6 | H20: 9.1 | I20: 10.2
B21: Tangkak | C21: 1799 | D21: 948 | E21: 851 | G21: 10.6 | H21: 10.7 | I21: 10.5
... B62: Jempol | C62: 1522 | D62: 747 | E62: 775 | G62: 11.6 | H62: 11.1 | I62: 12.2
B64: Kadar adalah bagi setiap 1,000 penduduk
B65: The rates are per 1,000 population
B66: Jadual 3.5: Kelahiran hidup (bilangan dan kadar) mengikut negeri, daerah pentadbiran dan jantina, Malaysia, 2025 (samb.)
B67: Table 3.5: Live births (number and rate) by state, administrative district and sex, Malaysia, 2025 (cont'd)
C69: Kelahiran hidup | G69: Kadar kelahiran kasar
B70: Negeri dan daerah pentadbiran | C70: Live births | G70: Crude birth rate
B71: State and administrative district | C71: Jumlah | D71: Lelaki | E71: Perempuan | G71: Jumlah | H71: Lelaki | I71: Perempuan
C72: Total | D72: Male | E72: Female | G72: Total | H72: Male | I72: Female
B74: Pahang | C74: 20654 | D74: 10631 | E74: 10023 | G74: 12.3 | H74: 11.9 | I74: 12.8
B75: Bentong | C75: 1090 | D75: 560 | E75: 530 | G75: 9.1 | H75: 8.3 | I75: 10.2
B76: Cameron Highlands | C76: 434 | D76: 220 | E76: 214 | G76: 9.7 | H76: 8.1 | I76: 12.1
B77: Jerantut | C77: 1299 | D77: 691 | E77: 608 | G77: 13 | H77: 12.9 | I77: 13
B78: Kuantan | C78: 7014 | D78: 3669 | E78: 3345 | G78: 12.2 | H78: 12.2 | I78: 12.1
B79: Lipis | C79: 1248 | D79: 657 | E79: 591 | G79: 12.1 | H79: 11.8 | I79: 12.5
B80: Pekan | C80: 2042 | D80: 1044 | E80: 998 | G80: 15.8 | H80: 15 | I80: 16.8
B81: Raub | C81: 988 | D81: 508 | E81: 480 | G81: 9.9 | H81: 9.6 | I81: 10.3
B82: Temerloh | C82: 2217 | D82: 1121 | E82: 1096 | G82: 12.4 | H82: 12.1 | I82: 12.8
B83: Rompin | C83: 1805 | D83: 922 | E83: 883 | G83: 17.4 | H83: 16.4 | I83: 18.5
B84: Maran | C84: 1546 | D84: 735 | E84: 811 | G84: 12.9 | H84: 11.6 | I84: 14.4
B85: Bera | C85: 971 | D85: 504 | E85: 467 | G85: 9.6 | H85: 9.3 | I85: 9.9
... B139: Membakut | C139: 680 | D139: 352 | E139: 328 | G139: 12.6 | H139: 12.4 | I139: 12.8
...

Sheet 3.6_AD(total)_etnik
B1: Jadual 3.6: Kelahiran hidup mengikut negeri, daerah pentadbiran, kumpulan etnik dan jantina, Malaysia, 2025
B2: Table 3.6: Live births by state, administrative district, ethnic group and sex, Malaysia, 2025
B4: Jumlah/Total
C5: Kumpulan etnik/Ethnic group
B6: Negeri dan daerah pentadbiran | C6: Jumlah | D6: Bumiputera
B7: State and administrative district | C7: Total | D7: Jumlah | E7: Melayu | F7: Bumiputera Lain | G7: Cina | H7: India | I7: Lain-lain1
D8: Total | E8: Malay | F8: Other Bumiputera | G8: Chinese | H8: Indians | I8: Others1
B11: Malaysia | C11: 396175 | D11: 317126 | E11: 267196 | F11: 49930 | G11: 34164 | H11: 17266 | I11: 27619
B13: Johor | C13: 48093 | D13: 35309 | E13: 34100 | F13: 1209 | G13: 7541 | H13: 2914 | I13: 2329
B14: Batu Pahat | C14: 5567 | D14: 4698 | E14: 4620 | F14: 78 | G14: 704 | H14: 55 | I14: 110
B15: Johor Bahru | C15: 21135 | D15: 13541 | E15: 12809 | F15: 732 | G15: 4116 | H15: 2015 | I15: 1463
B16: Kluang | C16: 3654 | D16: 2893 | E16: 2822 | F16: 71 | G16: 471 | H16: 200 | I16: 90
B17: Kota Tinggi | C17: 3434 | D17: 3129 | E17: 3068 | F17: 61 | G17: 104 | H17: 63 | I17: 138
B18: Mersing | C18: 1058 | D18: 989 | E18: 959 | F18: 30 | G18: 42 | H18: 5 | I18: 22
B19: Muar | C19: 3377 | D19: 2654 | E19: 2620 | F19: 34 | G19: 589 | H19: 37 | I19: 97
B20: Pontian | C20: 2389 | D20: 1961 | E20: 1912 | F20: 49 | G20: 292 | H20: 24 | I20: 112
B21: Segamat | C21: 2295 | D21: 1769 | E21: 1715 | F21: 54 | G21: 328 | H21: 148 | I21: 50
B22: Kulai | C22: 3385 | D22: 2235 | E22: 2157 | F22: 78 | G22: 633 | H22: 313 | I22: 204
B23: Tangkak | C23: 1799 | D23: 1440 | E23: 1418 | F23: 22 | G23: 262 | H23: 54 | I23: 43
... B32: Langkawi | C32: 1692 | D32: 1563 | E32: 1553 | F32: 10 | G32: 23 | H32: 14 | I32: 92
B33: Padang Terap | C33: 1158 | D33: 1061 | E33: 1059 | F33: 2 | G33: 2 | H33: - | I33: 95
B34: Sik | C34: 1167 | D34: 1101 | E34: 1098 | F34: 3 | G34: 4 | H34: - | I34: 62
B35: Yan | C35: 1067 | D35: 1009 | E35: 1006 | F35: 3 | G35: 11 | H35: 1 | I35: 46
B36: Pendang | C36: 1698 | D36: 1567 | E36: 1559 | F36: 8 | G36: 15 | H36: 6 | I36: 110
B37: Pokok Sena | C37: 876 | D37: 806 | E37: 803 | F37: 3 | G37: 14 | H37: 1 | I37: 55
B39: Kelantan | C39: 31858 | D39: 30856 | E39: 30434 | F39: 422 | G39: 262 | H39: 15 | I39: 725
B40: Bachok | C40: 3170 | D40: 3089 | E40: 3085 | F40: 4 | G40: 15 | H40: - | I40: 66
B41: Kota Bharu | C41: 9299 | D41: 8959 | E41: 8944 | F41: 15 | G41: 89 | H41: 5 | I41: 246
B42: Machang | C42: 1834 | D42: 1805 | E42: 1800 | F42: 5 | G42: 12 | H42: - | I42: 17
B43: Pasir Mas | C43: 4031 | D43: 3957 | E43: 3953 | F43: 4 | G43: 18 | H43: - | I43: 56
B44: Pasir Puteh | C44: 2803 | D44: 2719 | E44: 2711 | F44: 8 | G44: 6 | H44: - | I44: 78
B45: Tanah Merah | C45: 2634 | D45: 2518 | E45: 2516 | F45: 2 | G45: 33 | H45: 2 | I45: 81
B46: Tumpat | C46: 3430 | D46: 3320 | E46: 3316 | F46: 4 | G46: 52 | H46: - | I46: 58
B47: Gua Musang | C47: 1689 | D47: 1627 | E47: 1497 | F47: 130 | G47: 20 | H47: 5 | I47: 37
B48: Kuala Krai | C48: 1975 | D48: 1887 | E48: 1877 | F48: 10 | G48: 17 | H48: 3 | I48: 68
B49: Jeli | C49: 734 | D49: 723 | E49: 711 | F49: 12 | G49: - | H49: - | I49: 11
B50: Lojing | C50: 259 | D50: 252 | E50: 24 | F50: 228 | G50: - | H50: - | I50: 7
B52: Melaka | C52: 11860 | D52: 10133 | E52: 9988 | F52: 145 | G52: 967 | H52: 459 | I52: 301
B53: Alor Gajah | C53: 2885 | D53: 2548 | E53: 2512 | F53: 36 | G53: 136 | H53: 145 | I53: 56
B54: Jasin | C54: 2363 | D54: 2084 | E54: 2057 | F54: 27 | G54: 102 | H54: 158 | I54: 19
...

Sheet 3.6_AD(male)_etnik
B1: Jadual 3.6: Kelahiran hidup mengikut negeri, daerah pentadbiran, kumpulan etnik dan jantina, Malaysia, 2025 (samb.)
B2: Table 3.6: Live births by state, administrative district, ethnic group and sex, Malaysia, 2025 (cont'd)
B4: Lelaki/Male
C5: Kumpulan etnik/Ethnic group
B6: Negeri dan daerah pentadbiran | C6: Jumlah | D6: Bumiputera
B7: State and administrative district | C7: Total | D7: Jumlah | E7: Melayu | F7: Bumiputera Lain | G7: Cina | H7: India | I7: Lain-lain1
D8: Total | E8: Malay | F8: Other Bumiputera | G8: Chinese | H8: Indians | I8: Others1
B11: Malaysia | C11: 204934 | D11: 163945 | E11: 137785 | F11: 26160 | G11: 17922 | H11: 8821 | I11: 14246
B13: Johor | C13: 24832 | D13: 18247 | E13: 17586 | F13: 661 | G13: 3931 | H13: 1473 | I13: 1181
B14: Batu Pahat | C14: 2865 | D14: 2410 | E14: 2370 | F14: 40 | G14: 376 | H14: 29 | I14: 50
B15: Johor Bahru | C15: 10934 | D15: 7026 | E15: 6632 | F15: 394 | G15: 2145 | H15: 1016 | I15: 747
B16: Kluang | C16: 1920 | D16: 1528 | E16: 1484 | F16: 44 | G16: 245 | H16: 97 | I16: 50
B17: Kota Tinggi | C17: 1738 | D17: 1594 | E17: 1562 | F17: 32 | G17: 52 | H17: 27 | I17: 65
B18: Mersing | C18: 553 | D18: 514 | E18: 495 | F18: 19 | G18: 20 | H18: 2 | I18: 17
B19: Muar | C19: 1700 | D19: 1335 | E19: 1318 | F19: 17 | G19: 294 | H19: 19 | I19: 52
B20: Pontian | C20: 1253 | D20: 1015 | E20: 989 | F20: 26 | G20: 166 | H20: 15 | I20: 57
B21: Segamat | C21: 1182 | D21: 913 | E21: 880 | F21: 33 | G21: 169 | H21: 74 | I21: 26
B22: Kulai | C22: 1739 | D22: 1154 | E22: 1112 | F22: 42 | G22: 328 | H22: 160 | I22: 97
B23: Tangkak | C23: 948 | D23: 758 | E23: 744 | F23: 14 | G23: 136 | H23: 34 | I23: 20
... B32: Langkawi | C32: 863 | D32: 798 | E32: 792 | F32: 6 | G32: 8 | H32: 6 | I32: 51
B33: Padang Terap | C33: 600 | D33: 555 | E33: 554 | F33: 1 | G33: 1 | H33: - | I33: 44
B34: Sik | C34: 584 | D34: 545 | E34: 543 | F34: 2 | G34: 3 | H34: - | I34: 36
B35: Yan | C35: 508 | D35: 480 | E35: 479 | F35: 1 | G35: 4 | H35: 1 | I35: 23
B36: Pendang | C36: 857 | D36: 787 | E36: 783 | F36: 4 | G36: 9 | H36: 3 | I36: 58
B37: Pokok Sena | C37: 462 | D37: 427 | E37: 426 | F37: 1 | G37: 10 | H37: 1 | I37: 24
B39: Kelantan | C39: 16469 | D39: 15940 | E39: 15707 | F39: 233 | G39: 147 | H39: 4 | I39: 378
B40: Bachok | C40: 1657 | D40: 1617 | E40: 1615 | F40: 2 | G40: 9 | H40: - | I40: 31
B41: Kota Bharu | C41: 4777 | D41: 4596 | E41: 4587 | F41: 9 | G41: 47 | H41: - | I41: 134
B42: Machang | C42: 947 | D42: 929 | E42: 928 | F42: 1 | G42: 8 | H42: - | I42: 10
B43: Pasir Mas | C43: 2103 | D43: 2070 | E43: 2068 | F43: 2 | G43: 12 | H43: - | I43: 21
B44: Pasir Puteh | C44: 1491 | D44: 1446 | E44: 1441 | F44: 5 | G44: 4 | H44: - | I44: 41
B45: Tanah Merah | C45: 1335 | D45: 1271 | E45: 1269 | F45: 2 | G45: 18 | H45: 1 | I45: 45
B46: Tumpat | C46: 1791 | D46: 1737 | E46: 1733 | F46: 4 | G46: 31 | H46: - | I46: 23
B47: Gua Musang | C47: 880 | D47: 844 | E47: 770 | F47: 74 | G47: 11 | H47: 2 | I47: 23
B48: Kuala Krai | C48: 985 | D48: 937 | E48: 931 | F48: 6 | G48: 7 | H48: 1 | I48: 40
B49: Jeli | C49: 363 | D49: 356 | E49: 354 | F49: 2 | G49: - | H49: - | I49: 7
B50: Lojing | C50: 140 | D50: 137 | E50: 11 | F50: 126 | G50: - | H50: - | I50: 3
B52: Melaka | C52: 6163 | D52: 5279 | E52: 5199 | F52: 80 | G52: 502 | H52: 237 | I52: 145
B53: Alor Gajah | C53: 1543 | D53: 1362 | E53: 1342 | F53: 20 | G53: 78 | H53: 76 | I53: 27
B54: Jasin | C54: 1196 | D54: 1067 | E54: 1052 | F54: 15 | G54: 44 | H54: 78 | I54: 7
...

Sheet 3.6_AD(female)_etnik
B1: ='3.6_AD(male)_etnik'!B1 -> Jadual 3.6: Kelahiran hidup mengikut negeri, daerah pentadbiran, kumpulan etnik dan jantina, Malaysia, 2025 (samb.)
B2: ='3.6_AD(male)_etnik'!B2 -> Table 3.6: Live births by state, administrative district, ethnic group and sex, Malaysia, 2025 (cont'd)
B4: Perempuan/Female
C5: Kumpulan etnik/Ethnic group
B6: Negeri dan daerah pentadbiran | C6: Jumlah | D6: Bumiputera
B7: State and administrative district | C7: Total | D7: Jumlah | E7: Melayu | F7: Bumiputera Lain | G7: Cina | H7: India | I7: Lain-lain1
D8: Total | E8: Malay | F8: Other Bumiputera | G8: Chinese | H8: Indians | I8: Others1
B11: Malaysia | C11: 191241 | D11: 153181 | E11: 129411 | F11: 23770 | G11: 16242 | H11: 8445 | I11: 13373
B13: Johor | C13: 23261 | D13: 17062 | E13: 16514 | F13: 548 | G13: 3610 | H13: 1441 | I13: 1148
B14: Batu Pahat | C14: 2702 | D14: 2288 | E14: 2250 | F14: 38 | G14: 328 | H14: 26 | I14: 60
B15: Johor Bahru | C15: 10201 | D15: 6515 | E15: 6177 | F15: 338 | G15: 1971 | H15: 999 | I15: 716
B16: Kluang | C16: 1734 | D16: 1365 | E16: 1338 | F16: 27 | G16: 226 | H16: 103 | I16: 40
B17: Kota Tinggi | C17: 1696 | D17: 1535 | E17: 1506 | F17: 29 | G17: 52 | H17: 36 | I17: 73
B18: Mersing | C18: 505 | D18: 475 | E18: 464 | F18: 11 | G18: 22 | H18: 3 | I18: 5
B19: Muar | C19: 1677 | D19: 1319 | E19: 1302 | F19: 17 | G19: 295 | H19: 18 | I19: 45
B20: Pontian | C20: 1136 | D20: 946 | E20: 923 | F20: 23 | G20: 126 | H20: 9 | I20: 55
B21: Segamat | C21: 1113 | D21: 856 | E21: 835 | F21: 21 | G21: 159 | H21: 74 | I21: 24
B22: Kulai | C22: 1646 | D22: 1081 | E22: 1045 | F22: 36 | G22: 305 | H22: 153 | I22: 107
B23: Tangkak | C23: 851 | D23: 682 | E23: 674 | F23: 8 | G23: 126 | H23: 20 | I23: 23
... B32: Langkawi | C32: 829 | D32: 765 | E32: 761 | F32: 4 | G32: 15 | H32: 8 | I32: 41
B33: Padang Terap | C33: 558 | D33: 506 | E33: 505 | F33: 1 | G33: 1 | H33: - | I33: 51
B34: Sik | C34: 583 | D34: 556 | E34: 555 | F34: 1 | G34: 1 | H34: - | I34: 26
B35: Yan | C35: 559 | D35: 529 | E35: 527 | F35: 2 | G35: 7 | H35: - | I35: 23
B36: Pendang | C36: 841 | D36: 780 | E36: 776 | F36: 4 | G36: 6 | H36: 3 | I36: 52
B37: Pokok Sena | C37: 414 | D37: 379 | E37: 377 | F37: 2 | G37: 4 | H37: - | I37: 31
B39: Kelantan | C39: 15389 | D39: 14916 | E39: 14727 | F39: 189 | G39: 115 | H39: 11 | I39: 347
B40: Bachok | C40: 1513 | D40: 1472 | E40: 1470 | F40: 2 | G40: 6 | H40: - | I40: 35
B41: Kota Bharu | C41: 4522 | D41: 4363 | E41: 4357 | F41: 6 | G41: 42 | H41: 5 | I41: 112
B42: Machang | C42: 887 | D42: 876 | E42: 872 | F42: 4 | G42: 4 | H42: - | I42: 7
B43: Pasir Mas | C43: 1928 | D43: 1887 | E43: 1885 | F43: 2 | G43: 6 | H43: - | I43: 35
B44: Pasir Puteh | C44: 1312 | D44: 1273 | E44: 1270 | F44: 3 | G44: 2 | H44: - | I44: 37
B45: Tanah Merah | C45: 1299 | D45: 1247 | E45: 1247 | F45: - | G45: 15 | H45: 1 | I45: 36
B46: Tumpat | C46: 1639 | D46: 1583 | E46: 1583 | F46: - | G46: 21 | H46: - | I46: 35
B47: Gua Musang | C47: 809 | D47: 783 | E47: 727 | F47: 56 | G47: 9 | H47: 3 | I47: 14
B48: Kuala Krai | C48: 990 | D48: 950 | E48: 946 | F48: 4 | G48: 10 | H48: 2 | I48: 28
B49: Jeli | C49: 371 | D49: 367 | E49: 357 | F49: 10 | G49: - | H49: - | I49: 4
B50: Lojing | C50: 119 | D50: 115 | E50: 13 | F50: 102 | G50: - | H50: - | I50: 4
B52: Melaka | C52: 5697 | D52: 4854 | E52: 4789 | F52: 65 | G52: 465 | H52: 222 | I52: 156
B53: Alor Gajah | C53: 1342 | D53: 1186 | E53: 1170 | F53: 16 | G53: 58 | H53: 69 | I53: 29
B54: Jasin | C54: 1167 | D54: 1017 | E54: 1005 | F54: 12 | G54: 58 | H54: 80 | I54: 12
...

Sheet 3.7_AD(total)_kadar etnik
B1: Jadual 3.7: Kadar kelahiran kasar mengikut negeri, daerah pentadbiran, kumpulan etnik dan jantina, Malaysia, 2025
B2: Table 3.7: Crude birth rate by state, administrative district, ethnic group and sex, Malaysia, 2025
B4: Jumlah/Total
C5: Kumpulan etnik/Ethnic group
B6: Negeri dan daerah pentadbiran | C6: Jumlah | D6: Bumiputera
B7: State and administrative district | C7: Total | D7: Jumlah | E7: Melayu | F7: Bumiputera Lain | G7: Cina | H7: India | I7: Lain-lain1
D8: Total | E8: Malay | F8: Other Bumiputera | G8: Chinese | H8: Indians | I8: Others1
B11: Malaysia | C11: 11.6 | D11: 14.6 | E11: 14.9 | F11: 13.2 | G11: 5 | H11: 8.6 | I11: 7.6
B13: Johor | C13: 11.4 | D13: 15.1 | E13: 15 | F13: 19.7 | G13: 6.2 | H13: 11.7 | I13: 5.8
B14: Batu Pahat | C14: 10.9 | D14: 14.3 | E14: 14.2 | F14: 16.7 | G14: 5 | H14: 7.9 | I14: 3.1
B15: Johor Bahru | C15: 11.7 | D15: 15.4 | E15: 15.1 | F15: 21.7 | G15: 6.7 | H15: 13.6 | I15: 8.6
B16: Kluang | C16: 10.9 | D16: 16 | E16: 16.1 | F16: 14.8 | G16: 5.2 | H16: 8.1 | I16: 2.3
B17: Kota Tinggi | C17: 14.6 | D17: 16.2 | E17: 16.2 | F17: 17.7 | G17: 5.7 | H17: 11.4 | I17: 7.7
B18: Mersing | C18: 13 | D18: 14.4 | E18: 14.6 | F18: 9.9 | G18: 6 | H18: 6 | I18: 4.7
B19: Muar | C19: 10.4 | D19: 14.6 | E19: 14.6 | F19: 22.5 | G19: 5.9 | H19: 6.9 | I19: 2.6
B20: Pontian | C20: 13.4 | D20: 16.3 | E20: 16.1 | F20: 28.8 | G20: 6.9 | H20: 17.8 | I20: 8
B21: Segamat | C21: 11.2 | D21: 15.8 | E21: 15.8 | F21: 17.7 | G21: 5.3 | H21: 9.5 | I21: 3.3
B22: Kulai | C22: 9.6 | D22: 13.6 | E22: 13.4 | F22: 18.9 | G22: 6.6 | H22: 10.1 | I22: 3.3
B23: Tangkak | C23: 10.6 | D23: 13.4 | E23: 13.3 | F23: 18.1 | G23: 6.1 | H23: 6.4 | I23: 4.1
... B32: Langkawi | C32: 16.8 | D32: 17.8 | E32: 17.7 | F32: 28.7 | G32: 5 | H32: 8.1 | I32: 14.9
B33: Padang Terap | C33: 17.1 | D33: 17.7 | E33: 17.7 | F33: 27.8 | G33: 4.1 | H33: - | I33: 12.7
B34: Sik | C34: 16.6 | D34: 17.1 | E34: 17.1 | F34: 51.7 | G34: 8.1 | H34: - | I34: 11
B35: Yan | C35: 14.2 | D35: 14.1 | E35: 14 | F35: 34.9 | G35: 4.1 | H35: 16.4 | I35: 78.5
B36: Pendang | C36: 16.7 | D36: 17.2 | E36: 17.1 | F36: 67.2 | G36: 5.4 | H36: 14.4 | I36: 14.7
B37: Pokok Sena | C37: 17.1 | D37: 17.9 | E37: 17.8 | F37: 44.1 | G37: 6.1 | H37: 1.3 | I37: 18.3
B39: Kelantan | C39: 16.7 | D39: 17.1 | E39: 17.1 | F39: 18.3 | G39: 5.9 | H39: 3.2 | I39: 12.5
B40: Bachok | C40: 18.9 | D40: 18.8 | E40: 18.8 | F40: 16.9 | G40: 11.2 | H40: - | I40: 36.3
B41: Kota Bharu | C41: 15.8 | D41: 16.1 | E41: 16.2 | F41: 7.3 | G41: 5.4 | H41: 3.4 | I41: 15.4
B42: Machang | C42: 15.6 | D42: 15.8 | E42: 15.8 | F42: 17.5 | G42: 6.2 | H42: - | I42: 12
B43: Pasir Mas | C43: 16.6 | D43: 16.8 | E43: 16.8 | F43: 17.1 | G43: 5.5 | H43: - | I43: 13.1
B44: Pasir Puteh | C44: 19.4 | D44: 19.2 | E44: 19.1 | F44: 43.7 | G44: 10.3 | H44: - | I44: 38.5
B45: Tanah Merah | C45: 16.5 | D45: 16.9 | E45: 16.9 | F45: 6.2 | G45: 7 | H45: 5.4 | I45: 13.8
B46: Tumpat | C46: 17.9 | D46: 18.9 | E46: 18.9 | F46: 21.9 | G46: 7.1 | H46: - | I46: 7.6
B47: Gua Musang | C47: 15.2 | D47: 17.2 | E47: 17.7 | F47: 12.8 | G47: 4.2 | H47: 6 | I47: 3.3
B48: Kuala Krai | C48: 17.6 | D48: 18.4 | E48: 18.3 | F48: 72.5 | G48: 4.9 | H48: 3.6 | I48: 12.6
B49: Jeli | C49: 12.6 | D49: 12.9 | E49: 12.9 | F49: 11.8 | G49: - | H49: - | I49: 5.9
B50: Lojing | C50: 22.1 | D50: 24.2 | E50: 11.3 | F50: 27.5 | G50: - | H50: - | I50: 10
B52: Melaka | C52: 11.3 | D52: 14.5 | E52: 14.5 | F52: 14.5 | G52: 4.8 | H52: 8.8 | I52: 3.1
B53: Alor Gajah | C53: 11 | D53: 13.2 | E53: 13.2 | F53: 13.5 | G53: 4.9 | H53: 7.9 | I53: 2.4
B54: Jasin | C54: 15 | D54: 17.4 | E54: 17.4 | F54: 22.8 | G54: 8 | H54: 13 | I54: 1.5
...

Sheet 3.7_AD(male)_kadar etnik
B1: Jadual 3.7: Kadar kelahiran kasar mengikut negeri, daerah pentadbiran, kumpulan etnik dan jantina, Malaysia, 2025 (samb.)
B2: Table 3.7: Crude birth rate by state, administrative district, ethnic group and sex, Malaysia, 2025 (cont'd)
B4: Lelaki/Male
C5: Kumpulan etnik/Ethnic group
B6: Negeri dan daerah pentadbiran | C6: Jumlah | D6: Bumiputera
B7: State and administrative district | C7: Total | D7: Jumlah | E7: Melayu | F7: Bumiputera Lain | G7: Cina | H7: India | I7: Lain-lain1
D8: Total | E8: Malay | F8: Other Bumiputera | G8: Chinese | H8: Indians | I8: Others1
B11: Malaysia | C11: 11.4 | D11: 14.9 | E11: 15.2 | F11: 13.7 | G11: 5.2 | H11: 8.8 | I11: 5.8
B13: Johor | C13: 11 | D13: 15.4 | E13: 15.2 | F13: 20.4 | G13: 6.4 | H13: 11.9 | I13: 3.7
B14: Batu Pahat | C14: 10.6 | D14: 14.5 | E14: 14.5 | F14: 16.7 | G14: 5.3 | H14: 8 | I14: 1.7
B15: Johor Bahru | C15: 11.3 | D15: 15.6 | E15: 15.3 | F15: 22.2 | G15: 6.8 | H15: 13.7 | I15: 5.8
B16: Kluang | C16: 10.3 | D16: 16.6 | E16: 16.6 | F16: 16.7 | G16: 5.3 | H16: 8.2 | I16: 1.4
B17: Kota Tinggi | C17: 13.9 | D17: 16.3 | E17: 16.3 | F17: 16.5 | G17: 5.5 | H17: 9.9 | I17: 4.3
B18: Mersing | C18: 12.7 | D18: 14.6 | E18: 14.7 | F18: 11.7 | G18: 5.6 | H18: 4.4 | I18: 4
B19: Muar | C19: 9.5 | D19: 14.7 | E19: 14.7 | F19: 21.8 | G19: 5.8 | H19: 7 | I19: 1.5
B20: Pontian | C20: 13.2 | D20: 16.7 | E20: 16.5 | F20: 30.3 | G20: 7.7 | H20: 22 | I20: 4.7
B21: Segamat | C21: 11 | D21: 16.6 | E21: 16.4 | F21: 21.2 | G21: 5.4 | H21: 9.5 | I21: 2
B22: Kulai | C22: 9.1 | D22: 13.7 | E22: 13.6 | F22: 18.7 | G22: 6.7 | H22: 10.3 | I22: 2.3
B23: Tangkak | C23: 10.7 | D23: 14.1 | E23: 14 | F23: 21.7 | G23: 6.2 | H23: 8 | I23: 2.4
... B32: Langkawi | C32: 16.6 | D32: 17.8 | E32: 17.8 | F32: 31.9 | G32: 3.3 | H32: 6.8 | I32: 12.8
B33: Padang Terap | C33: 17.1 | D33: 18.5 | E33: 18.5 | F33: 26.3 | G33: 4.3 | H33: - | I33: 9.2
B34: Sik | C34: 16.3 | D34: 17 | E34: 16.9 | F34: 69 | G34: 11.2 | H34: - | I34: 10.4
B35: Yan | C35: 13.2 | D35: 13 | E35: 13 | F35: 23.3 | G35: 2.8 | H35: 38.5 | I35: 75.4
B36: Pendang | C36: 15.9 | D36: 16.5 | E36: 16.4 | F36: 65.6 | G36: 6.2 | H36: 13.3 | I36: 13.5
B37: Pokok Sena | C37: 16.6 | D37: 17.7 | E37: 17.7 | F37: 24.4 | G37: 7.9 | H37: 2 | I37: 11.9
B39: Kelantan | C39: 17.2 | D39: 17.8 | E39: 17.7 | F39: 19.9 | G39: 6.6 | H39: 1.8 | I39: 10.5
B40: Bachok | C40: 20.4 | D40: 20.3 | E40: 20.3 | F40: 17.5 | G40: 14 | H40: - | I40: 38.1
B41: Kota Bharu | C41: 16.2 | D41: 16.6 | E41: 16.7 | F41: 8.7 | G41: 5.7 | H41: - | I41: 13.8
B42: Machang | C42: 16.2 | D42: 16.4 | E42: 16.4 | F42: 6.7 | G42: 7.9 | H42: - | I42: 11.8
B43: Pasir Mas | C43: 17.1 | D43: 17.4 | E43: 17.4 | F43: 16.4 | G43: 7.3 | H43: - | I43: 9.5
B44: Pasir Puteh | C44: 20.8 | D44: 20.6 | E44: 20.5 | F44: 52.6 | G44: 14 | H44: - | I44: 37.1
B45: Tanah Merah | C45: 16.3 | D45: 16.8 | E45: 16.8 | F45: 11 | G45: 7.4 | H45: 5.1 | I45: 12.8
B46: Tumpat | C46: 18.9 | D46: 19.9 | E46: 19.8 | F46: 46 | G46: 8.4 | H46: - | I46: 6.6
B47: Gua Musang | C47: 14.6 | D47: 17.5 | E47: 17.8 | F47: 14.3 | G47: 4.3 | H47: 4.8 | I47: 2.6
B48: Kuala Krai | C48: 17.4 | D48: 18.3 | E48: 18.2 | F48: 88.2 | G48: 4.1 | H48: 2.4 | I48: 11.6
B49: Jeli | C49: 12.5 | D49: 12.8 | E49: 13 | F49: 3.9 | G49: - | H49: - | I49: 5.7
B50: Lojing | C50: 22.9 | D50: 26.1 | E50: 10.1 | F50: 30.2 | G50: - | H50: - | I50: 5.6
B52: Melaka | C52: 11.1 | D52: 14.9 | E52: 14.9 | F52: 15.3 | G52: 4.9 | H52: 9.1 | I52: 2
B53: Alor Gajah | C53: 11.4 | D53: 14.1 | E53: 14.1 | F53: 13.5 | G53: 5.5 | H53: 8.5 | I53: 1.8
B54: Jasin | C54: 14.3 | D54: 17.7 | E54: 17.6 | F54: 25.4 | G54: 6.6 | H54: 13.2 | I54: 0.7
...

Sheet 3.7_AD(female)_kadar etnik
B1: ='3.7_AD(male)_kadar etnik'!B1 -> Jadual 3.7: Kadar kelahiran kasar mengikut negeri, daerah pentadbiran, kumpulan etnik dan jantina, Malaysia, 2025 (samb.)
B2: ='3.7_AD(male)_kadar etnik'!B2 -> Table 3.7: Crude birth rate by state, administrative district, ethnic group and sex, Malaysia, 2025 (cont'd)
B4: Perempuan/Female
C5: Kumpulan etnik/Ethnic group
B6: Negeri dan daerah pentadbiran | C6: Jumlah | D6: Bumiputera
B7: State and administrative district | C7: Total | D7: Jumlah | E7: Melayu | F7: Bumiputera Lain | G7: Cina | H7: India | I7: Lain-lain1
D8: Total | E8: Malay | F8: Other Bumiputera | G8: Chinese | H8: Indians | I8: Others1
B11: Malaysia | C11: 11.8 | D11: 14.2 | E11: 14.6 | F11: 12.7 | G11: 4.8 | H11: 8.4 | I11: 11.7
B13: Johor | C13: 11.9 | D13: 14.8 | E13: 14.7 | F13: 18.9 | G13: 6.1 | H13: 11.6 | I13: 14.2
B14: Batu Pahat | C14: 11.2 | D14: 14 | E14: 14 | F14: 16.8 | G14: 4.8 | H14: 7.9 | I14: 10.4
B15: Johor Bahru | C15: 12.1 | D15: 15.1 | E15: 14.9 | F15: 21.1 | G15: 6.6 | H15: 13.5 | I15: 17.1
B16: Kluang | C16: 11.6 | D16: 15.5 | E16: 15.5 | F16: 12.4 | G16: 5 | H16: 8 | I16: 11.5
B17: Kota Tinggi | C17: 15.5 | D17: 16.2 | E17: 16.1 | F17: 19.2 | G17: 5.8 | H17: 13 | I17: 25.2
B18: Mersing | C18: 13.3 | D18: 14.1 | E18: 14.4 | F18: 7.8 | G18: 6.5 | H18: 7.8 | I18: 10.3
B19: Muar | C19: 11.5 | D19: 14.5 | E19: 14.5 | F19: 23.4 | G19: 5.9 | H19: 6.7 | I19: 24.4
B20: Pontian | C20: 13.7 | D20: 15.9 | E20: 15.7 | F20: 27.3 | G20: 6.1 | H20: 13.5 | I20: 28.3
B21: Segamat | C21: 11.4 | D21: 15.1 | E21: 15.2 | F21: 14 | G21: 5.1 | H21: 9.5 | I21: 12.1
B22: Kulai | C22: 10.2 | D22: 13.4 | E22: 13.3 | F22: 19.1 | G22: 6.5 | H22: 9.9 | I22: 5.8
B23: Tangkak | C23: 10.5 | D23: 12.7 | E23: 12.7 | F23: 14 | G23: 6 | H23: 4.8 | I23: 11.1
... B32: Langkawi | C32: 17.1 | D32: 17.7 | E32: 17.6 | F32: 25 | G32: 6.9 | H32: 9.4 | I32: 18.8
B33: Padang Terap | C33: 17 | D33: 17 | E33: 17 | F33: 29.4 | G33: 4 | H33: - | I33: 18.8
B34: Sik | C34: 16.9 | D34: 17.3 | E34: 17.3 | F34: 34.5 | G34: 4.4 | H34: - | I34: 12.1
B35: Yan | C35: 15.3 | D35: 15.1 | E35: 15.1 | F35: 46.5 | G35: 5.7 | H35: - | I35: 81.9
B36: Pendang | C36: 17.5 | D36: 17.9 | E36: 17.9 | F36: 69 | G36: 4.6 | H36: 15.5 | I36: 16.4
B37: Pokok Sena | C37: 17.7 | D37: 18 | E37: 17.9 | F37: 74.1 | G37: 3.8 | H37: - | I37: 31.3
B39: Kelantan | C39: 16.2 | D39: 16.5 | E39: 16.5 | F39: 16.6 | G39: 5.3 | H39: 4.5 | I39: 15.7
B40: Bachok | C40: 17.5 | D40: 17.4 | E40: 17.4 | F40: 16.3 | G40: 8.6 | H40: - | I40: 34.8
B41: Kota Bharu | C41: 15.3 | D41: 15.6 | E41: 15.6 | F41: 5.9 | G41: 5.1 | H41: 6 | I41: 18
B42: Machang | C42: 15 | D42: 15.2 | E42: 15.2 | F42: 29.4 | G42: 4.3 | H42: - | I42: 12.4
B43: Pasir Mas | C43: 16.1 | D43: 16.3 | E43: 16.3 | F43: 17.9 | G43: 3.7 | H43: - | I43: 17.1
B44: Pasir Puteh | C44: 18 | D44: 17.8 | E44: 17.7 | F44: 34.1 | G44: 6.7 | H44: - | I44: 40.2
B45: Tanah Merah | C45: 16.7 | D45: 17.1 | E45: 17.1 | F45: - | G45: 6.6 | H45: 5.6 | I45: 15.4
B46: Tumpat | C46: 17 | D46: 17.9 | E46: 17.9 | F46: - | G46: 5.8 | H46: - | I46: 8.4
B47: Gua Musang | C47: 15.9 | D47: 16.9 | E47: 17.6 | F47: 11.2 | G47: 4.2 | H47: 7.2 | I47: 6.5
B48: Kuala Krai | C48: 17.8 | D48: 18.4 | E48: 18.4 | F48: 57.1 | G48: 5.7 | H48: 4.8 | I48: 14.4
B49: Jeli | C49: 12.8 | D49: 13 | E49: 12.9 | F49: 19.9 | G49: - | H49: - | I49: 6.1
B50: Lojing | C50: 21.3 | D50: 22.3 | E50: 12.4 | F50: 24.8 | G50: - | H50: - | I50: 24.7
B52: Melaka | C52: 11.5 | D52: 14 | E52: 14 | F52: 13.5 | G52: 4.6 | H52: 8.4 | I52: 6.8
B53: Alor Gajah | C53: 10.6 | D53: 12.3 | E53: 12.3 | F53: 13.4 | G53: 4.3 | H53: 7.4 | I53: 3.6
B54: Jasin | C54: 15.8 | D54: 17.2 | E54: 17.1 | F54: 20.3 | G54: 9.6 | H54: 12.9 | I54: 5.1
...

Sheet 3.8_strata
B1: Jadual 3.8: Kelahiran hidup mengikut negeri, strata dan jantina, Malaysia, 2025
B2: Table 3.8: Live births by state, stratum and sex, Malaysia, 2025
B5: Negeri | C5: Jumlah/Total | G5: Bandar/Urban | K5: Luar Bandar/Rural
B6: State | C6: Jumlah | D6: Lelaki | E6: Perempuan | G6: Jumlah | H6: Lelaki | I6: Perempuan | K6: Jumlah | L6: Lelaki | M6: Perempuan
C7: Total | D7: Male | E7: Female | G7: Total | H7: Male | I7: Female | K7: Total | L7: Male | M7: Female
B9: Malaysia | C9: 396175 | D9: 204934 | E9: 191241 | G9: 273757 | H9: 141666 | I9: 132091 | K9: 122418 | L9: 63268 | M9: 59150
B10: Johor | C10: 48093 | D10: 24832 | E10: 23261 | G10: 35273 | H10: 18264 | I10: 17009 | K10: 12820 | L10: 6568 | M10: 6252
B11: Kedah | C11: 30163 | D11: 15457 | E11: 14706 | G11: 18096 | H11: 9298 | I11: 8798 | K11: 12067 | L11: 6159 | M11: 5908
B12: Kelantan | C12: 31858 | D12: 16469 | E12: 15389 | G12: 13288 | H12: 6834 | I12: 6454 | K12: 18570 | L12: 9635 | M12: 8935
B13: Melaka | C13: 11860 | D13: 6163 | E13: 5697 | G13: 10712 | H13: 5536 | I13: 5176 | K13: 1148 | L13: 627 | M13: 521
B14: Negeri Sembilan | C14: 14141 | D14: 7290 | E14: 6851 | G14: 9208 | H14: 4778 | I14: 4430 | K14: 4933 | L14: 2512 | M14: 2421
B15: Pahang | C15: 20654 | D15: 10631 | E15: 10023 | G15: 9457 | H15: 4876 | I15: 4581 | K15: 11197 | L15: 5755 | M15: 5442
B16: Perak | C16: 26275 | D16: 13568 | E16: 12707 | G16: 16754 | H16: 8692 | I16: 8062 | K16: 9521 | L16: 4876 | M16: 4645
B17: Perlis | C17: 3508 | D17: 1812 | E17: 1696 | G17: 1899 | H17: 972 | I17: 927 | K17: 1609 | L17: 840 | M17: 769
B18: Pulau Pinang | C18: 16722 | D18: 8617 | E18: 8105 | G18: 14312 | H18: 7378 | I18: 6934 | K18: 2410 | L18: 1239 | M18: 1171
B19: Sabah | C19: 40768 | D19: 21351 | E19: 19417 | G19: 21460 | H19: 11193 | I19: 10267 | K19: 19308 | L19: 10158 | M19: 9150
B20: Sarawak | C20: 28678 | D20: 14984 | E20: 13694 | G20: 13707 | H20: 7240 | I20: 6467 | K20: 14971 | L20: 7744 | M20: 7227
... B22: Terengganu | C22: 23292 | D22: 12021 | E22: 11271 | G22: 14737 | H22: 7655 | I22: 7082 | K22: 8555 | L22: 4366 | M22: 4189
B23: W.P. Kuala Lumpur | C23: 19430 | D23: 9967 | E23: 9463 | G23: 19430 | H23: 9967 | I23: 9463 | K23: - | L23: - | M23: -
B24: W.P. Labuan | C24: 1147 | D24: 614 | E24: 533 | G24: 1023 | H24: 549 | I24: 474 | K24: 124 | L24: 65 | M24: 59
B25: W.P. Putrajaya | C25: 1422 | D25: 724 | E25: 698 | G25: 1422 | H25: 724 | I25: 698 | K25: - | L25: - | M25: -

Sheet 3.9_umur ibu
B1: Jadual 3.9: Kelahiran hidup mengikut kumpulan umur ibu dan negeri, Malaysia, 2025
B2: Table 3.9: Live births by age group of mother and state, Malaysia, 2025
B5: Negeri | C5: Jumlah | D5: Kumpulan umur ibu (tahun)/Age group of mother (years)
B6: State | C6: Total | D6: Kurang 15 | E6: 15-19 | F6: 20-24 | G6: 25-29 | H6: 30-34 | I6: 35-39 | J6: 40-44 | K6: 45-49 | L6: 50 dan lebih | M6: Tidak diketahui
D7: Under 15 | L7: 50 and over | M7: Unknown
B10: Malaysia | C10: 396175 | D10: 131 | E10: 7676 | F10: 43621 | G10: 118262 | H10: 128631 | I10: 75348 | J10: 20378 | K10: 1314 | L10: 66 | M10: 748
B11: Johor | C11: 48093 | D11: 16 | E11: 840 | F11: 5186 | G11: 15073 | H11: 15942 | I11: 8573 | J11: 2241 | K11: 147 | L11: 2 | M11: 73
B12: Kedah | C12: 30163 | D12: 8 | E12: 582 | F12: 3680 | G12: 10128 | H12: 9290 | I12: 5010 | J12: 1326 | K12: 76 | L12: 3 | M12: 60
B13: Kelantan | C13: 31858 | D13: 7 | E13: 521 | F13: 3575 | G13: 10055 | H13: 10026 | I13: 5922 | J13: 1646 | K13: 88 | L13: 1 | M13: 17
B14: Melaka | C14: 11860 | D14: 3 | E14: 149 | F14: 1199 | G14: 3786 | H14: 3947 | I14: 2210 | J14: 538 | K14: 18 | L14: - | M14: 10
B15: Negeri Sembilan | C15: 14141 | D15: 2 | E15: 189 | F15: 1215 | G15: 4364 | H15: 4830 | I15: 2774 | J15: 717 | K15: 48 | L15: 1 | M15: 1
B16: Pahang | C16: 20654 | D16: 10 | E16: 556 | F16: 2612 | G16: 6196 | H16: 6397 | I16: 3769 | J16: 1033 | K16: 67 | L16: 2 | M16: 12
B17: Perak | C17: 26275 | D17: 7 | E17: 404 | F17: 2695 | G17: 8284 | H17: 8598 | I17: 4851 | J17: 1340 | K17: 77 | L17: 1 | M17: 18
B18: Perlis | C18: 3508 | D18: 3 | E18: 78 | F18: 465 | G18: 1103 | H18: 1059 | I18: 629 | J18: 163 | K18: 5 | L18: 1 | M18: 2
B19: Pulau Pinang | C19: 16722 | D19: 8 | E19: 283 | F19: 1753 | G19: 5045 | H19: 5354 | I19: 3030 | J19: 825 | K19: 53 | L19: 3 | M19: 368
B20: Sabah | C20: 40768 | D20: 14 | E20: 1233 | F20: 5854 | G20: 11157 | H20: 12510 | I20: 7487 | J20: 2221 | K20: 213 | L20: 38 | M20: 41
B21: Sarawak | C21: 28678 | D21: 14 | E21: 1075 | F21: 4534 | G21: 8143 | H21: 8583 | I21: 4926 | J21: 1313 | K21: 75 | L21: 1 | M21: 14
B22: Selangor | C22: 78164 | D22: 23 | E22: 1049 | F22: 6674 | G22: 22100 | H22: 27006 | I22: 16514 | J22: 4418 | K22: 284 | L22: 9 | M22: 87
B23: Terengganu | C23: 23292 | D23: 8 | E23: 384 | F23: 2473 | G23: 7164 | H23: 7400 | I23: 4491 | J23: 1257 | K23: 85 | L23: 1 | M23: 29
B24: W.P. Kuala Lumpur | C24: 19430 | D24: 8 | E24: 301 | F24: 1522 | G24: 5025 | H24: 6843 | I24: 4519 | J24: 1128 | K24: 66 | L24: 3 | M24: 15
B25: W.P. Labuan | C25: 1147 | D25: - | E25: 29 | F25: 147 | G25: 345 | H25: 343 | I25: 212 | J25: 62 | K25: 8 | L25: - | M25: 1
B26: W.P. Putrajaya | C26: 1422 | D26: - | E26: 3 | F26: 37 | G26: 294 | H26: 503 | I26: 431 | J26: 150 | K26: 4 | L26: - | M26: -

Sheet 3.10_umur ibu_etnik
B1: Jadual 3.10: Kelahiran hidup mengikut kumpulan umur ibu, kumpulan etnik dan jantina, Malaysia, 2025 | K1: Jadual 3.10: Kelahiran hidup mengikut kumpulan umur ibu, kumpulan etnik dan jantina, Malaysia, 2025 (samb.) | T1: =K1 -> Jadual 3.10: Kelahiran hidup mengikut kumpulan umur ibu, kumpulan etnik dan jantina, Malaysia, 2025 (samb.)
B2: Table 3.10: Live births by age group of mother, ethnic group and sex, Malaysia, 2025 | K2: Table 3.10: Live births by age group of mother, ethnic group and sex, Malaysia, 2025 (cont'd) | T2: =K2 -> Table 3.10: Live births by age group of mother, ethnic group and sex, Malaysia, 2025 (cont'd)
B5: Jumlah/Total | K5: Lelaki/Male | T5: Perempuan/Female
C6: Kumpulan etnik/Ethnic group | L6: Kumpulan etnik/Ethnic group | U6: Kumpulan etnik/Ethnic group
B7: Kumpulan umur ibu (tahun) | C7: Jumlah | D7: Bumiputera | K7: Kumpulan umur ibu (tahun) | L7: Jumlah | M7: Bumiputera | T7: Kumpulan umur ibu (tahun) | U7: Jumlah | V7: Bumiputera
B8: Age group of mother (years) | C8: Total | D8: Jumlah | E8: Melayu | F8: Bumiputera Lain | G8: Cina | H8: India | I8: Lain-lain1 | K8: Age group of mother (years) | L8: Total | M8: Jumlah | N8: Melayu | O8: Bumiputera Lain | P8: Cina | Q8: India | R8: Lain-lain1 | T8: Age group of mother (years) | U8: Total | V8: Jumlah | W8: Melayu | X8: Bumiputera Lain | Y8: Cina | Z8: India | AA8: Lain-lain1
D9: Total | E9: Malay | F9: Other Bumiputera | G9: Chinese | H9: Indians | I9: Others1 | M9: Total | N9: Malay | O9: Other Bumiputera | P9: Chinese | Q9: Indians | R9: Others1 | V9: Total | W9: Malay | X9: Other Bumiputera | Y9: Chinese | Z9: Indians | AA9: Others1
B12: Jumlah | C12: 396175 | D12: 317126 | E12: 267196 | F12: 49930 | G12: 34164 | H12: 17266 | I12: 27619 | K12: Jumlah | L12: 204934 | M12: 163945 | N12: 137785 | O12: 26160 | P12: 17922 | Q12: 8821 | R12: 14246 | T12: Jumlah | U12: 191241 | V12: 153181 | W12: 129411 | X12: 23770 | Y12: 16242 | Z12: 8445 | AA12: 13373
B13: Total | K13: Total | T13: Total
B14: Kurang 15 | C14: 131 | D14: 65 | E14: 38 | F14: 27 | G14: 6 | H14: 2 | I14: 58 | K14: Kurang 15 | L14: 67 | M14: 33 | N14: 20 | O14: 13 | P14: 3 | Q14: - | R14: 31 | T14: Kurang 15 | U14: 64 | V14: 32 | W14: 18 | X14: 14 | Y14: 3 | Z14: 2 | AA14: 27
B15: Under 15 | K15: Under 15 | T15: Under 15
B16: 15-19 | C16: 7676 | D16: 4827 | E16: 2835 | F16: 1992 | G16: 290 | H16: 203 | I16: 2356 | K16: 15-19 | L16: 3971 | M16: 2521 | N16: 1495 | O16: 1026 | P16: 157 | Q16: 109 | R16: 1184 | T16: 15-19 | U16: 3705 | V16: 2306 | W16: 1340 | X16: 966 | Y16: 133 | Z16: 94 | AA16: 1172
B17: 20-24 | C17: 43621 | D17: 33842 | E17: 25899 | F17: 7943 | G17: 2085 | H17: 1349 | I17: 6345 | K17: 20-24 | L17: 22702 | M17: 17564 | N17: 13401 | O17: 4163 | P17: 1138 | Q17: 680 | R17: 3320 | T17: 20-24 | U17: 20919 | V17: 16278 | W17: 12498 | X17: 3780 | Y17: 947 | Z17: 669 | AA17: 3025
B18: 25-29 | C18: 118262 | D18: 100152 | E18: 86278 | F18: 13874 | G18: 7105 | H18: 4191 | I18: 6814 | K18: 25-29 | L18: 60975 | M18: 51676 | N18: 44384 | O18: 7292 | P18: 3668 | Q18: 2134 | R18: 3497 | T18: 25-29 | U18: 57287 | V18: 48476 | W18: 41894 | X18: 6582 | Y18: 3437 | Z18: 2057 | AA18: 3317
B19: 30-34 | C19: 128631 | D19: 102599 | E19: 87841 | F19: 14758 | G19: 13139 | H19: 6818 | I19: 6075 | K19: 30-34 | L19: 66600 | M19: 53115 | N19: 45395 | O19: 7720 | P19: 6903 | Q19: 3495 | R19: 3087 | T19: 30-34 | U19: 62031 | V19: 49484 | W19: 42446 | X19: 7038 | Y19: 6236 | Z19: 3323 | AA19: 2988
B20: 35-39 | C20: 75348 | D20: 58751 | E20: 50087 | F20: 8664 | G20: 9071 | H20: 3756 | I20: 3770 | K20: 35-39 | L20: 38890 | M20: 30254 | N20: 25720 | O20: 4534 | P20: 4733 | Q20: 1930 | R20: 1973 | T20: 35-39 | U20: 36458 | V20: 28497 | W20: 24367 | X20: 4130 | Y20: 4338 | Z20: 1826 | AA20: 1797
B21: 40-44 | C21: 20378 | D21: 15914 | E21: 13467 | F21: 2447 | G21: 2315 | H21: 869 | I21: 1280 | K21: 40-44 | L21: 10570 | M21: 8245 | N21: 6955 | O21: 1290 | P21: 1235 | Q21: 433 | R21: 657 | T21: 40-44 | U21: 9808 | V21: 7669 | W21: 6512 | X21: 1157 | Y21: 1080 | Z21: 436 | AA21: 623
B22: 45-49 | C22: 1314 | D22: 925 | E22: 727 | F22: 198 | G22: 133 | H22: 73 | I22: 183 | K22: 45-49 | L22: 714 | M22: 506 | N22: 402 | O22: 104 | P22: 76 | Q22: 38 | R22: 94 | T22: 45-49 | U22: 600 | V22: 419 | W22: 325 | X22: 94 | Y22: 57 | Z22: 35 | AA22: 89
B23: 50 dan lebih | C23: 66 | D23: 22 | E23: 9 | F23: 13 | G23: 12 | H23: 5 | I23: 27 | K23: 50 dan lebih | L23: 43 | M23: 14 | N23: 4 | O23: 10 | P23: 5 | Q23: 2 | R23: 22 | T23: 50 dan lebih | U23: 23 | V23: 8 | W23: 5 | X23: 3 | Y23: 7 | Z23: 3 | AA23: 5
B24: 50 and over | K24: 50 and over | T24: 50 and over
B25: Tidak diketahui | C25: 748 | D25: 29 | E25: 15 | F25: 14 | G25: 8 | H25: - | I25: 711 | K25: Tidak diketahui | L25: 402 | M25: 17 | N25: 9 | O25: 8 | P25: 4 | Q25: - | R25: 381 | T25: Tidak diketahui | U25: 346 | V25: 12 | W25: 6 | X25: 6 | Y25: 4 | Z25: - | AA25: 330
B26: Unknown | K26: Unknown | T26: Unknown
B28: 1 Termasuk bukan warganegara Malaysia | K28: 1 Termasuk bukan warganegara Malaysia | T28: 1 Termasuk bukan warganegara Malaysia
B29: Includes non-Malaysian citizens | K29: Includes non-Malaysian citizens | T29: Includes non-Malaysian citizens

Sheet 3.11_negeri kejadian
B1: Jadual 3.11: Kelahiran hidup mengikut negeri kejadian, Malaysia, 2025
B2: Table 3.11: Live births by state of occurrence, Malaysia, 2025
B5: Negeri | H5: Kelahiran hidup
B6: State | H6: Live births
B9: Jumlah/Total | H9: 396175
B10: Malaysia | H10: 396156
B11: Johor | H11: 49640
B12: Kedah | H12: 28176
B13: Kelantan | H13: 29125
B14: Melaka | H14: 11187
B15: Negeri Sembilan | H15: 13328
B16: Pahang | H16: 19174
B17: Perak | H17: 25593
B18: Perlis | H18: 4111
B19: Pulau Pinang | H19: 17598
B20: Sabah | H20: 39384
... B27: Luar Negara/Other Countries | H27: 19

Sheet 3.12_TFR_ASFR_STATE
B1: Jadual 3.12: Kadar kesuburan jumlah dan kadar kesuburan umur tertentu mengikut negeri, Malaysia, 2025
B2: Table 3.12: Total fertility rate and age-specific fertility rate by state, Malaysia, 2025
B5: Negeri | D5: Kadar kesuburan jumlah1 | F5: Kadar kesuburan jumlah2 | H5: Kadar kesuburan umur tertentu1/Age-specific fertility rate1
B6: State | H6: 15-19 | I6: 20-24 | J6: 25-29 | K6: 30-34 | L6: 35-39 | M6: 40-44 | N6: 45-49
D7: Total fertility rate1 | F7: Total fertility rate2
B10: Malaysia | D10: 1489 | F10: 1.5 | H10: 6 | I10: 30.9 | J10: 87.5 | K10: 99.3 | L10: 56.5 | M10: 16.2 | N10: 1.4
B11: Johor | D11: 1533 | F11: 1.5 | H11: 5.2 | I11: 30.2 | J11: 91.1 | K11: 104.3 | L11: 58.8 | M11: 15.6 | N11: 1.3
B12: Kedah | D12: 1704 | F12: 1.7 | H12: 6.9 | I12: 40.9 | J12: 100.2 | K12: 103.6 | L12: 67.3 | M12: 20.4 | N12: 1.4
B13: Kelantan | D13: 2279 | F13: 2.3 | H13: 6.1 | I13: 34.7 | J13: 115.6 | K13: 160 | L13: 105.3 | M13: 32 | N13: 2.1
B14: Melaka | D14: 1405 | F14: 1.4 | H14: 4.5 | I14: 23.7 | J14: 87.9 | K14: 86.1 | L14: 62.3 | M14: 15.9 | N14: 0.5
B15: Negeri Sembilan | D15: 1489 | F15: 1.5 | H15: 4.3 | I15: 23.8 | J15: 88.8 | K15: 106 | L15: 57.6 | M15: 15.9 | N15: 1.4
B16: Pahang | D16: 1799 | F16: 1.8 | H16: 7.9 | I16: 35.2 | J16: 111.4 | K16: 122.5 | L16: 64.4 | M16: 17.1 | N16: 1.2
B17: Perak | D17: 1457 | F17: 1.5 | H17: 4.3 | I17: 24.9 | J17: 81.2 | K17: 106.1 | L17: 58.2 | M17: 15.5 | N17: 1
B18: Perlis | D18: 1439 | F18: 1.4 | H18: 8.2 | I18: 25.6 | J18: 66.6 | K18: 106.5 | L18: 63.8 | M18: 16.7 | N18: 0.5
B19: Pulau Pinang | D19: 1081 | F19: 1.1 | H19: 5.1 | I19: 25.9 | J19: 64.2 | K19: 67.6 | L19: 40.5 | M19: 11.8 | N19: 1
B20: Sabah | D20: 1234 | F20: 1.2 | H20: 6.5 | I20: 31.5 | J20: 60 | K20: 77.5 | L20: 50.8 | M20: 17.6 | N20: 2.9
B21: Sarawak | D21: 1415 | F21: 1.4 | H21: 11.2 | I21: 43.4 | J21: 78.2 | K21: 82.9 | L21: 51.1 | M21: 15.2 | N21: 1
... B26: W.P. Putrajaya | D26: 1813 | F26: 1.8 | H26: 0.5 | I26: 12.7 | J26: 133.8 | K26: 134.3 | L26: 65.1 | M26: 15.3 | N26: 0.9
B28: 1 Kadar adalah bagi setiap 1,000 perempuan berumur 15-49 tahun
B29: The rates are per 1,000 women aged 15-49 years
B30: 2 Kadar adalah bagi setiap perempuan berumur 15-49 tahun
B31: The rates are per woman aged 15-49 years

Sheet 3.13_TFR_ASFR_AD
B1: Jadual 3.13: Kadar kesuburan jumlah dan kadar kesuburan umur tertentu mengikut negeri dan daerah pentadbiran, Malaysia, 2025
B2: Table 3.13: Total fertility rate and age-specific fertility rate by state and administrative district, Malaysia, 2025
B5: Negeri dan daerah pentadbiran | D5: Kadar kesuburan jumlah1 | F5: Kadar kesuburan jumlah2 | H5: Kadar kesuburan umur tertentu1/Age-specific fertility rate1
B6: State and administrative district | H6: 15-19 | I6: 20-24 | J6: 25-29 | K6: 30-34 | L6: 35-39 | M6: 40-44 | N6: 45-49
D7: Total fertility rate1 | F7: Total fertility rate2
B9: Malaysia | D9: 1489 | F9: 1.5 | H9: 6 | I9: 30.9 | J9: 87.5 | K9: 99.3 | L9: 56.5 | M9: 16.2 | N9: 1.4
B11: Johor | D11: 1533 | F11: 1.5 | H11: 5.2 | I11: 30.2 | J11: 91.1 | K11: 104.3 | L11: 58.8 | M11: 15.6 | N11: 1.3
B12: Batu Pahat | D12: 1373 | F12: 1.4 | H12: 3.4 | I12: 28.2 | J12: 90.6 | K12: 92.3 | L12: 46.3 | M12: 12.8 | N12: 1
B13: Johor Bahru | D13: 1617 | F13: 1.6 | H13: 6 | I13: 31.2 | J13: 90.1 | K13: 111.7 | L13: 66.2 | M13: 16.9 | N13: 1.4
B14: Kluang | D14: 1514 | F14: 1.5 | H14: 4.3 | I14: 29.7 | J14: 94.7 | K14: 104.1 | L14: 54.9 | M14: 13.9 | N14: 1.2
B15: Kota Tinggi | D15: 1916 | F15: 1.9 | H15: 5.7 | I15: 46.6 | J15: 118.1 | K15: 119.4 | L15: 69.6 | M15: 21.3 | N15: 2.4
B16: Mersing | D16: 1707 | F16: 1.7 | H16: 6.6 | I16: 32.6 | J16: 103.4 | K16: 106.1 | L16: 66.5 | M16: 23.4 | N16: 2.7
B17: Muar | D17: 1464 | F17: 1.5 | H17: 3.6 | I17: 25.5 | J17: 91 | K17: 104.2 | L17: 53 | M17: 14.6 | N17: 0.9
B18: Pontian | D18: 1781 | F18: 1.8 | H18: 6.2 | I18: 40.9 | J18: 111 | K18: 116 | L18: 65.5 | M18: 15.5 | N18: 1
B19: Segamat | D19: 1391 | F19: 1.4 | H19: 4.3 | I19: 25.1 | J19: 85.6 | K19: 96.2 | L19: 51.8 | M19: 14.9 | N19: 0.3
B20: Kulai | D20: 1226 | F20: 1.2 | H20: 6.1 | I20: 21.4 | J20: 72.1 | K20: 84.3 | L20: 46.6 | M20: 13.2 | N20: 1.4
B21: Tangkak | D21: 1323 | F21: 1.3 | H21: 3.7 | I21: 27.7 | J21: 81.5 | K21: 88.3 | L21: 50.5 | M21: 11.7 | N21: 1.2
... B60: Seremban | D60: 1369 | F60: 1.4 | H60: 4.4 | I60: 20.7 | J60: 75.8 | K60: 101.5 | L60: 54.9 | M60: 15.2 | N60: 1.2
B61: Tampin | D61: 1875 | F61: 1.9 | H61: 3.1 | I61: 37.1 | J61: 141.4 | K61: 116.6 | L61: 62.8 | M61: 14 | N61: -
B62: Jempol | D62: 1857 | F62: 1.9 | H62: 5.4 | I62: 29 | J62: 149.7 | K62: 103.5 | L62: 64.2 | M62: 17.3 | N62: 2.2
