Workbook
Name __123Graph_A_4: #REF!
Name __123Graph_A_4: #REF!
Name __123Graph_A_4: #REF!
Name __123Graph_A_4: #REF!
Name __123Graph_X_1: #REF!
Name __123Graph_X_1: #REF!
Name __123Graph_X_1: #REF!
Name __123Graph_X_1: #REF!
Name _123jfhqweufh: #REF!
Name _123jfhqweufh: #REF!
Name _123jfhqweufh: #REF!
Name _123jfhqweufh: #REF!
Name aaa: #REF!
Name aaa: #REF!
Name aaa: #REF!
Name aaa: #REF!
Name aaab: #REF!
Name aaab: #REF!
Name aaab: #REF!
Name aaab: #REF!
Name aaad: #REF!
Name aaad: #REF!
Name aaad: #REF!
Name aaad: #REF!
Name aaart: #REF!
Name aaart: #REF!
Name aaart: #REF!
Name aaart: #REF!
Name aaatr: #REF!
Name aaatr: #REF!
Name aaatr: #REF!
Name aaatr: #REF!
Name apara: #REF!
Name apara: #REF!
Name apara: #REF!
Name apara: #REF!
Name asas: #REF!
Name asas: #REF!
Name asas: #REF!
Name asas: #REF!
Name Asset91: #REF!
Name Asset91: #REF!
Name Asset91: #REF!
Name Asset91: #REF!
Name Asset92: #REF!
Name Asset92: #REF!
Name Asset92: #REF!
Name Asset92: #REF!
Name ax: #REF!
Name ax: #REF!
Name ax: #REF!
Name ax: #REF!
Name bab: #REF!
Name bab: #REF!
Name bab: #REF!
Name bab: #REF!
Name Banci: #REF!
Name Banci: #REF!
Name Banci: #REF!
Name Banci: #REF!

Sheet Jadual 1.1
A1: Jadual 1.1: Jangkaan hayat ketika lahir mengikut jantina dan negeri, Malaysia, 2020-2026
A2: Table 1.1: Life expectancy at birth by sex and state, Malaysia, 2020-2026
A5: Negeri State | D5: 2020 | E5: 2021 | F5: 2022 | G5: 2023 | H5: 2024 | I5: 2025p | J5: 2026e
A8: Lelaki dan Perempuan
A9: Both sexes
A11: Malaysia | D11: 74.7 | E11: 74 | F11: 73.8 | G11: 74 | H11: =+'Jadual 1.11'!D17 -> 74.9 | I11: =+'Jadual 1.12'!D17 -> 75.2 | J11: =+'Jadual 1.13'!D17 -> 75.5
A12: Johor | D12: 74.3 | E12: 73.6 | F12: 73.5 | G12: 73.7 | H12: =+'Jadual 1.11'!D18 -> 74.4 | I12: =+'Jadual 1.12'!D18 -> 74.6 | J12: =+'Jadual 1.13'!D18 -> 74.9
A13: Kedah | D13: 73.1 | E13: 72.2 | F13: 71.7 | G13: 71.7 | H13: =+'Jadual 1.11'!D19 -> 72.7 | I13: =+'Jadual 1.12'!D19 -> 72.9 | J13: =+'Jadual 1.13'!D19 -> 73
A14: Kelantan | D14: 72.2 | E14: 71.6 | F14: 71.4 | G14: 71.8 | H14: =+'Jadual 1.11'!D20 -> 72.9 | I14: =+'Jadual 1.12'!D20 -> 73.5 | J14: =+'Jadual 1.13'!D20 -> 73.6
A15: Melaka | D15: 74 | E15: 73.1 | F15: 73 | G15: 73.1 | H15: =+'Jadual 1.11'!D21 -> 73.9 | I15: =+'Jadual 1.12'!D21 -> 74.5 | J15: =+'Jadual 1.13'!D21 -> 74.8
A16: Negeri Sembilan | D16: 73.3 | E16: 73.1 | F16: 72.9 | G16: 72.9 | H16: =+'Jadual 1.11'!D22 -> 73.5 | I16: =+'Jadual 1.12'!D22 -> 73.9 | J16: =+'Jadual 1.13'!D22 -> 74.2
A17: Pahang | D17: 72.9 | E17: 72.6 | F17: 72.4 | G17: 72.3 | H17: =+'Jadual 1.11'!D23 -> 72.8 | I17: =+'Jadual 1.12'!D23 -> 73.3 | J17: =+'Jadual 1.13'!D23 -> 73.6
A18: Perak | D18: 73.7 | E18: 73.3 | F18: 73 | G18: 72.9 | H18: =+'Jadual 1.11'!D24 -> 73.5 | I18: =+'Jadual 1.12'!D24 -> 73.8 | J18: =+'Jadual 1.13'!D24 -> 74
A19: Perlis | D19: 72.8 | E19: 72.4 | F19: 72.3 | G19: 72.4 | H19: =+'Jadual 1.11'!D25 -> 73 | I19: =+'Jadual 1.12'!D25 -> 73.3 | J19: =+'Jadual 1.13'!D25 -> 73.4
A20: Pulau Pinang | D20: 74.2 | E20: 73.7 | F20: 73.5 | G20: 73.7 | H20: =+'Jadual 1.11'!D26 -> 74.6 | I20: =+'Jadual 1.12'!D26 -> 75.1 | J20: =+'Jadual 1.13'!D26 -> 75.5
A21: Sabah | D21: 74.3 | E21: 73.4 | F21: 73.1 | G21: 73.7 | H21: =+'Jadual 1.11'!D27 -> 74.7 | I21: =+'Jadual 1.12'!D27 -> 75 | J21: =+'Jadual 1.13'!D27 -> 75.1
A22: Sarawak | D22: 75.1 | E22: 74.5 | F22: 74.3 | G22: 74.5 | H22: =+'Jadual 1.11'!D28 -> 75 | I22: =+'Jadual 1.12'!D28 -> 75.3 | J22: =+'Jadual 1.13'!D28 -> 75.5
... A27: W.P. Putrajaya | D27: 74.5 | E27: 74.6 | F27: 74.2 | G27: 73.8 | H27: =+'Jadual 1.11'!D33 -> 73.5 | I27: =+'Jadual 1.12'!D33 -> 73.6 | J27: =+'Jadual 1.13'!D33 -> 74.6
A29: Lelaki
A30: Male
A32: Malaysia | D32: 72.5 | E32: 71.8 | F32: 71.5 | G32: 71.7 | H32: =+'Jadual 1.11'!D38 -> 72.6 | I32: =+'Jadual 1.12'!D38 -> 73 | J32: =+'Jadual 1.13'!D38 -> 73.2
A33: Johor | D33: 72.1 | E33: 71.5 | F33: 71.4 | G33: 71.6 | H33: =+'Jadual 1.11'!D39 -> 72.3 | I33: =+'Jadual 1.12'!D39 -> 72.5 | J33: =+'Jadual 1.13'!D39 -> 72.7
A34: Kedah | D34: 70.4 | E34: 69.6 | F34: 69 | G34: 69.1 | H34: =+'Jadual 1.11'!D40 -> 70 | I34: =+'Jadual 1.12'!D40 -> 70.2 | J34: =+'Jadual 1.13'!D40 -> 70.3
A35: Kelantan | D35: 69.6 | E35: 69 | F35: 68.9 | G35: 69.3 | H35: =+'Jadual 1.11'!D41 -> 70.3 | I35: =+'Jadual 1.12'!D41 -> 70.8 | J35: =+'Jadual 1.13'!D41 -> 70.9
A36: Melaka | D36: 71.8 | E36: 70.8 | F36: 70.5 | G36: 70.6 | H36: =+'Jadual 1.11'!D42 -> 71.4 | I36: =+'Jadual 1.12'!D42 -> 71.9 | J36: =+'Jadual 1.13'!D42 -> 72
A37: Negeri Sembilan | D37: 70.4 | E37: 70.7 | F37: 70.3 | G37: 70.3 | H37: =+'Jadual 1.11'!D43 -> 70.9 | I37: =+'Jadual 1.12'!D43 -> 71.3 | J37: =+'Jadual 1.13'!D43 -> 71.5
A38: Pahang | D38: 70.7 | E38: 70.4 | F38: 70 | G38: 69.9 | H38: =+'Jadual 1.11'!D44 -> 70.5 | I38: =+'Jadual 1.12'!D44 -> 71 | J38: =+'Jadual 1.13'!D44 -> 71.3
A39: Perak | D39: 71.1 | E39: 70.6 | F39: 70.2 | G39: 70.1 | H39: =+'Jadual 1.11'!D45 -> 70.7 | I39: =+'Jadual 1.12'!D45 -> 71.1 | J39: =+'Jadual 1.13'!D45 -> 71.2
A40: Perlis | D40: 70.2 | E40: 69.6 | F40: 69.3 | G40: 69.5 | H40: =+'Jadual 1.11'!D46 -> 70.2 | I40: =+'Jadual 1.12'!D46 -> 70.4 | J40: =+'Jadual 1.13'!D46 -> 70
A41: Pulau Pinang | D41: 72 | E41: 71.3 | F41: 71.1 | G41: 71.3 | H41: =+'Jadual 1.11'!D47 -> 72.2 | I41: =+'Jadual 1.12'!D47 -> 72.8 | J41: =+'Jadual 1.13'!D47 -> 73.1
A42: Sabah | D42: 72.6 | E42: 71.7 | F42: 71.3 | G42: 71.9 | H42: =+'Jadual 1.11'!D48 -> 72.7 | I42: =+'Jadual 1.12'!D48 -> 72.9 | J42: =+'Jadual 1.13'!D48 -> 73
A43: Sarawak | D43: 72.9 | E43: 72.1 | F43: 71.9 | G43: 72.1 | H43: =+'Jadual 1.11'!D49 -> 72.6 | I43: =+'Jadual 1.12'!D49 -> 72.9 | J43: =+'Jadual 1.13'!D49 -> 73.3
... A48: W.P. Putrajaya | D48: 72.2 | E48: 71.6 | F48: 71.7 | G48: 71.4 | H48: =+'Jadual 1.11'!D54 -> 71.9 | I48: =+'Jadual 1.12'!D54 -> 71.8 | J48: =+'Jadual 1.13'!D54 -> 72.5
A50: Nota: | B50: p Permulaan | E50: e Anggaran
A51: Notes: | B51: Preliminary | E51: Estimates
A53: 2020-2026: | B53: Berdasarkan Banci Penduduk dan Perumahan Malaysia 2020 (Banci 2020)
B54: Based on Population and Housing Census of Malaysia 2020 (Census 2020)
A58: Jadual 1.1: Jangkaan hayat ketika lahir mengikut jantina dan negeri, Malaysia, 2020-2026 (samb.)
A59: Table 1.1: Life expectancy at birth by sex and state, Malaysia, 2020-2026 (cont'd)
A62: Negeri State | D62: 2020 | E62: 2021 | F62: 2022 | G62: 2023 | H62: 2024 | I62: 2025p | J62: 2026e
A65: Perempuan
A66: Female
A68: Malaysia | D68: 77.2 | E68: 76.5 | F68: 76.4 | G68: 76.6 | H68: =+'Jadual 1.11'!D79 -> 77.5 | I68: =+'Jadual 1.12'!D79 -> 77.8 | J68: =+'Jadual 1.13'!D79 -> 78.1
A69: Johor | D69: 76.9 | E69: 76.2 | F69: 76 | G69: 76.2 | H69: =+'Jadual 1.11'!D80 -> 77 | I69: =+'Jadual 1.12'!D80 -> 77.2 | J69: =+'Jadual 1.13'!D80 -> 77.4
A70: Kedah | D70: 76.1 | E70: 75 | F70: 74.7 | G70: 74.6 | H70: =+'Jadual 1.11'!D81 -> 75.7 | I70: =+'Jadual 1.12'!D81 -> 75.8 | J70: =+'Jadual 1.13'!D81 -> 76
A71: Kelantan | D71: 75.1 | E71: 74.3 | F71: 74.1 | G71: 74.6 | H71: =+'Jadual 1.11'!D82 -> 75.7 | I71: =+'Jadual 1.12'!D82 -> 76.3 | J71: =+'Jadual 1.13'!D82 -> 76.5
A72: Melaka | D72: 76.4 | E72: 75.6 | F72: 75.6 | G72: 75.9 | H72: =+'Jadual 1.11'!D83 -> 76.8 | I72: =+'Jadual 1.12'!D83 -> 77.4 | J72: =+'Jadual 1.13'!D83 -> 77.8
A73: Negeri Sembilan | D73: 76.4 | E73: 75.9 | F73: 75.9 | G73: 75.9 | H73: =+'Jadual 1.11'!D84 -> 76.5 | I73: =+'Jadual 1.12'!D84 -> 76.9 | J73: =+'Jadual 1.13'!D84 -> 77.3
A74: Pahang | D74: 75.7 | E74: 75.4 | F74: 75.2 | G74: 75.1 | H74: =+'Jadual 1.11'!D85 -> 75.6 | I74: =+'Jadual 1.12'!D85 -> 76.1 | J74: =+'Jadual 1.13'!D85 -> 76.3
A75: Perak | D75: 76.7 | E75: 76.4 | F75: 76.3 | G75: 76.2 | H75: =+'Jadual 1.11'!D86 -> 76.7 | I75: =+'Jadual 1.12'!D86 -> 77 | J75: =+'Jadual 1.13'!D86 -> 77.2
A76: Perlis | D76: 75.6 | E76: 75.4 | F76: 75.4 | G76: 75.5 | H76: =+'Jadual 1.11'!D87 -> 75.9 | I76: =+'Jadual 1.12'!D87 -> 76.4 | J76: =+'Jadual 1.13'!D87 -> 77
A77: Pulau Pinang | D77: 76.7 | E77: 76.3 | F77: 76.2 | G77: 76.5 | H77: =+'Jadual 1.11'!D88 -> 77.3 | I77: =+'Jadual 1.12'!D88 -> 77.8 | J77: =+'Jadual 1.13'!D88 -> 78
A78: Sabah | D78: 76.4 | E78: 75.5 | F78: 75.2 | G78: 75.9 | H78: =+'Jadual 1.11'!D89 -> 77 | I78: =+'Jadual 1.12'!D89 -> 77.5 | J78: =+'Jadual 1.13'!D89 -> 77.6
A79: Sarawak | D79: 77.6 | E79: 77.2 | F79: 77.1 | G79: 77.2 | H79: =+'Jadual 1.11'!D90 -> 77.7 | I79: =+'Jadual 1.12'!D90 -> 78 | J79: =+'Jadual 1.13'!D90 -> 78.1
... A84: W.P. Putrajaya | D84: 76.7 | E84: 77.6 | F84: 76.7 | G84: 76.1 | H84: =+'Jadual 1.11'!D95 -> 75 | I84: =+'Jadual 1.12'!D95 -> 75.4 | J84: =+'Jadual 1.13'!D95 -> 76.6
A86: Nota: | B86: p Permulaan | E86: e Anggaran
A87: Notes: | B87: Preliminary | E87: Estimates
A89: 2020-2026: | B89: Berdasarkan Banci Penduduk dan Perumahan Malaysia 2020 (Banci 2020)
B90: Based on Population and Housing Census of Malaysia 2020 (Census 2020)

Sheet Jadual 1.2
A1: Jadual 1.2: Jangkaan hayat ketika lahir mengikut jantina dan kumpulan etnik, Malaysia, 1991-2026
A2: Table 1.2: Life expectancy at birth by sex and ethnic group, Malaysia, 1991-2026
E5: Warganegara
A6: Tahun | D6: Jumlah | E6: Citizens | R6: Bukan
A7: Year | R7: warganegara Non-citizens
D8: Total | F8: Jumlah1 Total1 | H8: Bumiputera | N8: Cina Chinese | P8: India Indians
H10: Jumlah | J10: Melayu | L10: Bumiputera lain
H11: Total | J11: Malay | L11: Other Bumiputera
A14: Lelaki dan Perempuan
A15: Both sexes
A16: 1991 | D16: 71.2 | F16: 71.2 | H16: 70.8 | J16: 70.8 | L16: 70.7 | N16: 73.4 | P16: 67.3 | R16: 70.7
A17: 1992 | D17: 71.5 | F17: 71.5 | H17: 71.2 | J17: 71.2 | L17: 71.1 | N17: 73.6 | P17: 67.7 | R17: 72.2
A18: 1993 | D18: 71.7 | F18: 71.7 | H18: 71.3 | J18: 71.4 | L18: 71.2 | N18: 73.9 | P18: 68 | R18: 71.7
A19: 1994 | D19: 71.7 | F19: 71.8 | H19: 71.4 | J19: 71.4 | L19: 71.2 | N19: 74.1 | P19: 68.1 | R19: 69.5
A20: 1995 | D20: 71.8 | F20: 72 | H20: 71.4 | J20: 71.4 | L20: 71.2 | N20: 74.4 | P20: 68.4 | R20: 67.3
A21: 1996 | D21: 71.8 | F21: 72 | H21: 71.3 | J21: 71.3 | L21: 71.6 | N21: 74.4 | P21: 68.3 | R21: 66.9
A22: 1997 | D22: 72 | F22: 72.1 | H22: 71.4 | J22: 71.4 | L22: 71.9 | N22: 74.6 | P22: 68.8 | R22: 68
A23: 1998 | D23: 71.8 | F23: 71.8 | H23: 71 | J23: 70.8 | L23: 72.3 | N23: 74.5 | P23: 68.7 | R23: 70.4
A24: 1999 | D24: 71.9 | F24: 71.9 | H24: 70.9 | J24: 70.7 | L24: 72.2 | N24: 74.7 | P24: 69 | R24: 72.9
A25: 2000 | D25: 72.2 | F25: 72 | H25: 71.1 | J25: 70.7 | L25: 72.8 | N25: 74.8 | P25: 69.3 | R25: 75
A26: 2001 | D26: 72.8 | F26: 72.6 | H26: 71.7 | J26: 71.3 | L26: 73.9 | N26: 75.2 | P26: 70.1 | R26: 75.4
A27: 2002 | D27: 72.8 | F27: 72.6 | H27: 71.7 | J27: 71.2 | L27: 74 | N27: 75.3 | P27: 70.2 | R27: 75.6
... A48: 2023 | D48: 74 | F48: 73.6 | H48: 73.1 | J48: 73.1 | L48: 73.1 | N48: 76.4 | P48: 70.5 | R48: 78.4
A49: 2024 | D49: =+'Jadual 1.11'!D17 -> 74.9 | F49: =+'Jadual 1.11'!F17 -> 74.4 | H49: =+'Jadual 1.11'!H17 -> 74 | J49: =+'Jadual 1.11'!J17 -> 74 | L49: =+'Jadual 1.11'!L17 -> 73.8 | N49: =+'Jadual 1.11'!N17 -> 77 | P49: =+'Jadual 1.11'!P17 -> 71.4 | R49: =+'Jadual 1.11'!R17 -> 81.8
A50: 2025p | D50: =+'Jadual 1.12'!D17 -> 75.2 | F50: =+'Jadual 1.12'!F17 -> 74.8 | H50: =+'Jadual 1.12'!H17 -> 74.3 | J50: =+'Jadual 1.12'!J17 -> 74.4 | L50: =+'Jadual 1.12'!L17 -> 74.2 | N50: =+'Jadual 1.12'!N17 -> 77.4 | P50: =+'Jadual 1.12'!P17 -> 71.8 | R50: =+'Jadual 1.12'!R17 -> 81.9
A51: 2026e | D51: =+'Jadual 1.13'!D17 -> 75.5 | F51: =+'Jadual 1.13'!F17 -> 75 | H51: =+'Jadual 1.13'!H17 -> 74.5 | J51: =+'Jadual 1.13'!J17 -> 74.5 | L51: =+'Jadual 1.13'!L17 -> 74.5 | N51: =+'Jadual 1.13'!N17 -> 77.7 | P51: =+'Jadual 1.13'!P17 -> 72.1 | R51: =+'Jadual 1.13'!R17 -> 82
A54: Nota: | C54: 1 Termasuk etnik Lain-lain (Warganegara) | K54: p Permulaan | Q54: e Anggaran
A55: Notes: | C55: Includes Others (Citizens) | K55: Preliminary | Q55: Estimates
A57: 2010-2019: | C57: Berdasarkan Banci Penduduk dan Perumahan Malaysia 2010 (Banci 2010)
C58: Based on Population and Housing Census of Malaysia 2010 (Census 2010)
A60: 2020-2026: | C60: Berdasarkan Banci Penduduk dan Perumahan Malaysia 2020 (Banci 2020)
C61: Based on Population and Housing Census of Malaysia 2020 (Census 2020)
A62: Jadual 1.2: Jangkaan hayat ketika lahir mengikut jantina dan kumpulan etnik, Malaysia, 1991-2026 (samb.)
A63: Table 1.2: Life expectancy at birth by sex and ethnic group, Malaysia, 1991-2026 (cont'd)
E66: Warganegara
A67: Tahun | D67: Jumlah | E67: Citizens | R67: Bukan
A68: Year | R68: warganegara Non-citizens
D69: Total | F69: Jumlah1 Total1 | H69: Bumiputera | N69: Cina Chinese | P69: India Indians
H71: Jumlah | J71: Melayu | L71: Bumiputera lain
H72: Total | J72: Malay | L72: Other Bumiputera
A75: Lelaki
A76: Male
A77: 1991 | D77: 69.2 | F77: 69 | H77: 69.4 | J77: 69.5 | L77: 68.8 | N77: 70.7 | P77: 64.2 | R77: 71.2
A78: 1992 | D78: 69.4 | F78: 69.3 | H78: 69.6 | J78: 69.7 | L78: 69.2 | N78: 70.9 | P78: 64.4 | R78: 72.1
A79: 1993 | D79: 69.6 | F79: 69.5 | H79: 69.6 | J79: 69.7 | L79: 69.3 | N79: 71.4 | P79: 64.7 | R79: 71.1
A80: 1994 | D80: 69.5 | F80: 69.6 | H80: 69.6 | J80: 69.6 | L80: 69.2 | N80: 71.6 | P80: 64.7 | R80: 68.2
A81: 1995 | D81: 69.5 | F81: 69.7 | H81: 69.5 | J81: 69.5 | L81: 69.3 | N81: 71.9 | P81: 64.9 | R81: 65.5
A82: 1996 | D82: 69.5 | F82: 69.7 | H82: 69.4 | J82: 69.3 | L82: 69.7 | N82: 71.9 | P82: 64.8 | R82: 65
A83: 1997 | D83: 69.7 | F83: 69.9 | H83: 69.5 | J83: 69.4 | L83: 70.2 | N83: 72.2 | P83: 65.2 | R83: 66.2
A84: 1998 | D84: 69.5 | F84: 69.5 | H84: 69 | J84: 68.7 | L84: 70.6 | N84: 72.1 | P84: 65.1 | R84: 69.1
A85: 1999 | D85: 69.7 | F85: 69.5 | H85: 68.9 | J85: 68.6 | L85: 70.5 | N85: 72.2 | P85: 65.3 | R85: 72
A86: 2000 | D86: 70 | F86: 69.7 | H86: 69 | J86: 68.6 | L86: 71.2 | N86: 72.4 | P86: 65.7 | R86: 74.6
A87: 2001 | D87: 70.6 | F87: 70.3 | H87: 69.6 | J87: 69.1 | L87: 72.3 | N87: 72.8 | P87: 66.6 | R87: 75.1
A88: 2002 | D88: 70.7 | F88: 70.4 | H88: 69.6 | J88: 69 | L88: 72.5 | N88: 73 | P88: 66.7 | R88: 75.4
... A109: 2023 | D109: 71.7 | F109: 71.2 | H109: 70.8 | J109: 70.8 | L109: 70.9 | N109: 73.7 | P109: 66.9 | R109: 78.3
A110: 2024 | D110: =+'Jadual 1.11'!D38 -> 72.6 | F110: =+'Jadual 1.11'!F38 -> 71.9 | H110: =+'Jadual 1.11'!H38 -> 71.6 | J110: =+'Jadual 1.11'!J38 -> 71.7 | L110: =+'Jadual 1.11'!L38 -> 71.6 | N110: =+'Jadual 1.11'!N38 -> 74.3 | P110: =+'Jadual 1.11'!P38 -> 67.9 | R110: =+'Jadual 1.11'!R38 -> 81.5
A111: 2025p | D111: =+'Jadual 1.12'!D38 -> 73 | F111: =+'Jadual 1.12'!F38 -> 72.3 | H111: =+'Jadual 1.12'!H38 -> 72 | J111: =+'Jadual 1.12'!J38 -> 72 | L111: =+'Jadual 1.12'!L38 -> 71.9 | N111: =+'Jadual 1.12'!N38 -> 74.7 | P111: =+'Jadual 1.12'!P38 -> 68.4 | R111: =+'Jadual 1.12'!R38 -> 81.5
A112: 2026e | D112: =+'Jadual 1.13'!D38 -> 73.2 | F112: =+'Jadual 1.13'!F38 -> 72.5 | H112: =+'Jadual 1.13'!H38 -> 72.1 | J112: =+'Jadual 1.13'!J38 -> 72.1 | L112: =+'Jadual 1.13'!L38 -> 72.2 | N112: =+'Jadual 1.13'!N38 -> 75.1 | P112: =+'Jadual 1.13'!P38 -> 68.8 | R112: =+'Jadual 1.13'!R38 -> 81.7
A115: Nota: | C115: 1 Termasuk etnik Lain-lain (Warganegara) | K115: p Permulaan | Q115: e Anggaran
A116: Notes: | C116: Includes Others (Citizens) | K116: Preliminary | Q116: Estimates
A118: 2010-2019: | C118: Berdasarkan Banci Penduduk dan Perumahan Malaysia 2010 (Banci 2010)
C119: Based on Population and Housing Census of Malaysia 2010 (Census 2010)
A121: 2020-2026: | C121: Berdasarkan Banci Penduduk dan Perumahan Malaysia 2020 (Banci 2020)
C122: Based on Population and Housing Census of Malaysia 2020 (Census 2020)
A123: Jadual 1.2: Jangkaan hayat ketika lahir mengikut jantina dan kumpulan etnik, Malaysia, 1991-2026 (samb.)
A124: Table 1.2: Life expectancy at birth by sex and ethnic group, Malaysia, 1991-2026 (cont'd)
E127: Warganegara
A128: Tahun | D128: Jumlah | E128: Citizens | R128: Bukan
A129: Year | R129: warganegara Non-citizens
D130: Total | F130: Jumlah1 Total1 | H130: Bumiputera | N130: Cina Chinese | P130: India Indians
H132: Jumlah | J132: Melayu | L132: Bumiputera lain
H133: Total | J133: Malay | L133: Other Bumiputera
A136: Perempuan
A137: Female
A138: 1991 | D138: 73.4 | F138: 73.5 | H138: 72.3 | J138: 72.2 | L138: 73.1 | N138: 76.4 | P138: 71.3 | R138: 70.7
A139: 1992 | D139: 73.8 | F139: 73.8 | H139: 72.9 | J139: 72.8 | L139: 73.3 | N139: 76.6 | P139: 71.8 | R139: 72.6
A140: 1993 | D140: 74 | F140: 74 | H140: 73.1 | J140: 73.1 | L140: 73.5 | N140: 76.7 | P140: 72 | R140: 72.6
A141: 1994 | D141: 74.1 | F141: 74.2 | H141: 73.2 | J141: 73.3 | L141: 73.4 | N141: 76.8 | P141: 72.3 | R141: 71.4
A142: 1995 | D142: 74.3 | F142: 74.4 | H142: 73.4 | J142: 73.4 | L142: 73.5 | N142: 77.1 | P142: 72.4 | R142: 70
A143: 1996 | D143: 74.3 | F143: 74.4 | H143: 73.4 | J143: 73.3 | L143: 73.7 | N143: 77.2 | P143: 72.5 | R143: 69.6
A144: 1997 | D144: 74.5 | F144: 74.6 | H144: 73.5 | J144: 73.4 | L144: 73.9 | N144: 77.3 | P144: 73 | R144: 70.5
A145: 1998 | D145: 74.3 | F145: 74.4 | H145: 73.2 | J145: 73 | L145: 74.2 | N145: 77.3 | P145: 73 | R145: 72.2
A146: 1999 | D146: 74.4 | F146: 74.4 | H146: 73.1 | J146: 73 | L146: 74.2 | N146: 77.4 | P146: 73.4 | R146: 74.2
A147: 2000 | D147: 74.6 | F147: 74.6 | H147: 73.3 | J147: 73 | L147: 74.7 | N147: 77.6 | P147: 73.5 | R147: 75.7
A148: 2001 | D148: 75.1 | F148: 75.1 | H148: 73.9 | J148: 73.6 | L148: 75.6 | N148: 77.8 | P148: 74.1 | R148: 75.8
A149: 2002 | D149: 75.2 | F149: 75.1 | H149: 73.9 | J149: 73.6 | L149: 75.6 | N149: 77.9 | P149: 74.2 | R149: 75.9
... A170: 2023 | D170: 76.6 | F170: 76.5 | H170: 75.6 | J170: 75.7 | L170: 75.4 | N170: 79.7 | P170: 74.5 | R170: 78.2
A171: 2024 | D171: =+'Jadual 1.11'!D79 -> 77.5 | F171: =+'Jadual 1.11'!F79 -> 77.3 | H171: =+'Jadual 1.11'!H79 -> 76.6 | J171: =+'Jadual 1.11'!J79 -> 76.6 | L171: =+'Jadual 1.11'!L79 -> 76.3 | N171: =+'Jadual 1.11'!N79 -> 80.2 | P171: =+'Jadual 1.11'!P79 -> 75.4 | R171: =+'Jadual 1.11'!R79 -> 82.4
A172: 2025p | D172: =+'Jadual 1.12'!D79 -> 77.8 | F172: =+'Jadual 1.12'!F79 -> 77.6 | H172: =+'Jadual 1.12'!H79 -> 76.9 | J172: =+'Jadual 1.12'!J79 -> 76.9 | L172: =+'Jadual 1.12'!L79 -> 76.7 | N172: =+'Jadual 1.12'!N79 -> 80.5 | P172: =+'Jadual 1.12'!P79 -> 75.6 | R172: =+'Jadual 1.12'!R79 -> 82.5
A173: 2026e | D173: =+'Jadual 1.13'!D79 -> 78.1 | F173: =+'Jadual 1.13'!F79 -> 77.9 | H173: =+'Jadual 1.13'!H79 -> 77.1 | J173: =+'Jadual 1.13'!J79 -> 77.2 | L173: =+'Jadual 1.13'!L79 -> 76.9 | N173: =+'Jadual 1.13'!N79 -> 80.8 | P173: =+'Jadual 1.13'!P79 -> 75.8 | R173: =+'Jadual 1.13'!R79 -> 82.4
A176: Nota: | C176: 1 Termasuk etnik Lain-lain (Warganegara) | K176: p Permulaan | Q176: e Anggaran
A177: Notes: | C177: Includes Others (Citizens) | K177: Preliminary | Q177: Estimates
A179: 2010-2019: | C179: Berdasarkan Banci Penduduk dan Perumahan Malaysia 2010 (Banci 2010)
C180: Based on Population and Housing Census of Malaysia 2010 (Census 2010)
A182: 2020-2026: | C182: Berdasarkan Banci Penduduk dan Perumahan Malaysia 2020 (Banci 2020)
C183: Based on Population and Housing Census of Malaysia 2020 (Census 2020)

Sheet Jadual 1.3
A1: Jadual 1.3: Jangkaan hayat mengikut jantina, umur dan kumpulan etnik, Malaysia, 2024
A2: Table 1.3: Life expectancy by sex, age and ethnic group, Malaysia, 2024
F4: Bumiputera
A5: Umur | D5: Jumlah1 | L5: Cina | N5: India
A7: Age | D7: Total1 | F7: Jumlah | H7: Melayu | J7: Bumiputera lain | L7: Chinese | N7: Indians
F8: Total | H8: Malay | J8: Other Bumiputera
A11: Lelaki
A12: Male
A14: 0 | D14: 72.6 | F14: 71.6 | H14: 71.7 | J14: 71.6 | L14: 74.3 | N14: 67.9
A15: 1 | D15: 72.2 | F15: 71.2 | H15: 71.2 | J15: 71.3 | L15: 73.7 | N15: 67.4
A16: 5 | D16: 68.3 | F16: 67.4 | H16: 67.3 | J16: 67.5 | L16: 69.7 | N16: 63.5
A17: 10 | D17: 63.3 | F17: 62.4 | H17: 62.4 | J17: 62.6 | L17: 64.8 | N17: 58.5
A18: 15 | D18: 58.4 | F18: 57.5 | H18: 57.5 | J18: 57.8 | L18: 59.8 | N18: 53.6
A19: 20 | D19: 53.7 | F19: 52.8 | H19: 52.8 | J19: 53 | L19: 54.9 | N19: 48.8
A20: 25 | D20: 48.9 | F20: 48.1 | H20: 48.1 | J20: 48.3 | L20: 50 | N20: 44.2
A21: 30 | D21: 44.1 | F21: 43.4 | H21: 43.4 | J21: 43.7 | L21: 45.2 | N21: 39.7
A22: 35 | D22: 39.4 | F22: 38.8 | H22: 38.7 | J22: 39.1 | L22: 40.4 | N22: 35.3
A23: 40 | D23: 34.8 | F23: 34.3 | H23: 34.2 | J23: 34.7 | L23: 35.7 | N23: 31
A24: 45 | D24: 30.3 | F24: 29.9 | H24: 29.8 | J24: 30.4 | L24: 31.1 | N24: 26.9
A25: 50 | D25: 26.1 | F25: 25.7 | H25: 25.6 | J25: 26.4 | L25: 26.6 | N25: 23.1
... A31: 80+ | D31: 6.2 | F31: 6.1 | H31: 6.1 | J31: 6.3 | L31: 6.2 | N31: 5.5
A33: Perempuan
A34: Female
A36: 0 | D36: 77.5 | F36: 76.6 | H36: 76.6 | J36: 76.3 | L36: 80.2 | N36: 75.4
A37: 1 | D37: 77 | F37: 76.1 | H37: 76.1 | J37: 76 | L37: 79.5 | N37: 74.8
A38: 5 | D38: 73.1 | F38: 72.2 | H38: 72.2 | J38: 72.1 | L38: 75.5 | N38: 70.9
A39: 10 | D39: 68.2 | F39: 67.2 | H39: 67.2 | J39: 67.2 | L39: 70.6 | N39: 65.9
A40: 15 | D40: 63.2 | F40: 62.3 | H40: 62.3 | J40: 62.3 | L40: 65.6 | N40: 61
A41: 20 | D41: 58.3 | F41: 57.4 | H41: 57.4 | J41: 57.5 | L41: 60.7 | N41: 56.1
A42: 25 | D42: 53.4 | F42: 52.5 | H42: 52.5 | J42: 52.6 | L42: 55.7 | N42: 51.2
A43: 30 | D43: 48.5 | F43: 47.7 | H43: 47.7 | J43: 47.8 | L43: 50.8 | N43: 46.4
A44: 35 | D44: 43.7 | F44: 42.9 | H44: 42.8 | J44: 43 | L44: 45.9 | N44: 41.6
A45: 40 | D45: 38.9 | F45: 38.1 | H45: 38.1 | J45: 38.3 | L45: 41 | N45: 36.8
A46: 45 | D46: 34.2 | F46: 33.5 | H46: 33.4 | J46: 33.7 | L46: 36.2 | N46: 32.2
A47: 50 | D47: 29.7 | F47: 29 | H47: 29 | J47: 29.2 | L47: 31.5 | N47: 27.7
... A53: 80+ | D53: 7.1 | F53: 7 | H53: 7 | J53: 7 | L53: 7.5 | N53: 6.6
A56: Nota: | B56: 1 Termasuk etnik Lain-lain (Warganegara) dan Bukan warganegara
A57: Notes: | B57: Includes Others (Citizens) and Non-citizens

Sheet Jadual 1.4
A1: Jadual 1.4: Jangkaan hayat mengikut jantina, umur dan kumpulan etnik, Malaysia, 2025p
A2: Table 1.4: Life expectancy by sex, age and ethnic group, Malaysia, 2025p
F4: Bumiputera
A5: Umur | D5: Jumlah1 | L5: Cina | N5: India
A7: Age | D7: Total1 | F7: Jumlah | H7: Melayu | J7: Bumiputera lain | L7: Chinese | N7: Indians
F8: Total | H8: Malay | J8: Other Bumiputera
A11: Lelaki
A12: Male
A14: 0 | D14: 73 | F14: 72 | H14: 72 | J14: 71.9 | L14: 74.7 | N14: 68.4
A15: 1 | D15: 72.5 | F15: 71.6 | H15: 71.5 | J15: 71.7 | L15: 74.1 | N15: 67.9
A16: 5 | D16: 68.6 | F16: 67.7 | H16: 67.6 | J16: 67.8 | L16: 70.1 | N16: 64
A17: 10 | D17: 63.7 | F17: 62.8 | H17: 62.7 | J17: 62.9 | L17: 65.2 | N17: 59
A18: 15 | D18: 58.8 | F18: 57.9 | H18: 57.8 | J18: 58.1 | L18: 60.2 | N18: 54.1
A19: 20 | D19: 54 | F19: 53.1 | H19: 53.1 | J19: 53.3 | L19: 55.3 | N19: 49.4
A20: 25 | D20: 49.2 | F20: 48.4 | H20: 48.4 | J20: 48.6 | L20: 50.4 | N20: 44.8
A21: 30 | D21: 44.5 | F21: 43.7 | H21: 43.7 | J21: 44 | L21: 45.6 | N21: 40.2
A22: 35 | D22: 39.8 | F22: 39.1 | H22: 39.1 | J22: 39.4 | L22: 40.8 | N22: 35.8
A23: 40 | D23: 35.1 | F23: 34.6 | H23: 34.5 | J23: 35 | L23: 36.1 | N23: 31.5
A24: 45 | D24: 30.6 | F24: 30.2 | H24: 30.1 | J24: 30.7 | L24: 31.5 | N24: 27.4
A25: 50 | D25: 26.4 | F25: 26 | H25: 25.9 | J25: 26.7 | L25: 27 | N25: 23.6
... A31: 80+ | D31: 6.3 | F31: 6.2 | H31: 6.2 | J31: 6.4 | L31: 6.3 | N31: 5.6
A33: Perempuan
A34: Female
A36: 0 | D36: 77.8 | F36: 76.9 | H36: 76.9 | J36: 76.7 | L36: 80.5 | N36: 75.6
A37: 1 | D37: 77.3 | F37: 76.4 | H37: 76.4 | J37: 76.4 | L37: 79.8 | N37: 75.1
A38: 5 | D38: 73.4 | F38: 72.5 | H38: 72.5 | J38: 72.5 | L38: 75.9 | N38: 71.2
A39: 10 | D39: 68.5 | F39: 67.6 | H39: 67.6 | J39: 67.6 | L39: 70.9 | N39: 66.2
A40: 15 | D40: 63.5 | F40: 62.7 | H40: 62.6 | J40: 62.7 | L40: 66 | N40: 61.3
A41: 20 | D41: 58.6 | F41: 57.8 | H41: 57.7 | J41: 57.8 | L41: 61 | N41: 56.4
A42: 25 | D42: 53.7 | F42: 52.9 | H42: 52.8 | J42: 53 | L42: 56.1 | N42: 51.5
A43: 30 | D43: 48.9 | F43: 48 | H43: 48 | J43: 48.1 | L43: 51.1 | N43: 46.7
A44: 35 | D44: 44 | F44: 43.2 | H44: 43.2 | J44: 43.4 | L44: 46.2 | N44: 41.9
A45: 40 | D45: 39.2 | F45: 38.5 | H45: 38.4 | J45: 38.7 | L45: 41.4 | N45: 37.1
A46: 45 | D46: 34.6 | F46: 33.8 | H46: 33.8 | J46: 34.1 | L46: 36.5 | N46: 32.5
A47: 50 | D47: 30 | F47: 29.3 | H47: 29.3 | J47: 29.6 | L47: 31.8 | N47: 28
... A53: 80+ | D53: 7.2 | F53: 7.1 | H53: 7.1 | J53: 7.1 | L53: 7.6 | N53: 6.7
A56: Nota: | B56: 1 Termasuk etnik Lain-lain (Warganegara) dan Bukan warganegara | L56: p Permulaan
A57: Notes: | B57: Includes Others (Citizens) and Non-citizens | L57: Preliminary

Sheet Jadual 1.5
A1: Jadual 1.5: Jangkaan hayat mengikut jantina, umur dan kumpulan etnik, Malaysia, 2026e
A2: Table 1.5: Life expectancy by sex, age and ethnic group, Malaysia, 2026e
F4: Bumiputera
A5: Umur | D5: Jumlah1 | L5: Cina | N5: India
A7: Age | D7: Total1 | F7: Jumlah | H7: Melayu | J7: Bumiputera lain | L7: Chinese | N7: Indians
F8: Total | H8: Malay | J8: Other Bumiputera
A11: Lelaki
A12: Male
A14: 0 | D14: 73.2 | F14: 72.1 | H14: 72.1 | J14: 72.2 | L14: 75.1 | N14: 68.8
A15: 1 | D15: 72.7 | F15: 71.7 | H15: 71.6 | J15: 71.8 | L15: 74.4 | N15: 68.3
A16: 5 | D16: 68.8 | F16: 67.8 | H16: 67.7 | J16: 68 | L16: 70.5 | N16: 64.3
A17: 10 | D17: 63.9 | F17: 62.9 | H17: 62.8 | J17: 63.1 | L17: 65.5 | N17: 59.4
A18: 15 | D18: 59 | F18: 58 | H18: 57.9 | J18: 58.2 | L18: 60.5 | N18: 54.4
A19: 20 | D19: 54.2 | F19: 53.2 | H19: 53.2 | J19: 53.4 | L19: 55.6 | N19: 49.7
A20: 25 | D20: 49.4 | F20: 48.5 | H20: 48.5 | J20: 48.7 | L20: 50.8 | N20: 45.1
A21: 30 | D21: 44.6 | F21: 43.8 | H21: 43.8 | J21: 44.1 | L21: 45.9 | N21: 40.6
A22: 35 | D22: 39.9 | F22: 39.2 | H22: 39.2 | J22: 39.6 | L22: 41.1 | N22: 36.1
A23: 40 | D23: 35.3 | F23: 34.7 | H23: 34.6 | J23: 35.2 | L23: 36.5 | N23: 31.8
A24: 45 | D24: 30.8 | F24: 30.3 | H24: 30.2 | J24: 30.9 | L24: 31.8 | N24: 27.7
A25: 50 | D25: 26.5 | F25: 26.1 | H25: 26 | J25: 26.8 | L25: 27.4 | N25: 23.9
... A31: 80+ | D31: 6.3 | F31: 6.3 | H31: 6.2 | J31: 6.4 | L31: 6.4 | N31: 5.7
A33: Perempuan
A34: Female
A36: 0 | D36: 78.1 | F36: 77.1 | H36: 77.2 | J36: 76.9 | L36: 80.8 | N36: 75.8
A37: 1 | D37: 77.5 | F37: 76.6 | H37: 76.6 | J37: 76.6 | L37: 80.1 | N37: 75.3
A38: 5 | D38: 73.6 | F38: 72.7 | H38: 72.7 | J38: 72.7 | L38: 76.1 | N38: 71.4
A39: 10 | D39: 68.7 | F39: 67.8 | H39: 67.8 | J39: 67.8 | L39: 71.2 | N39: 66.4
A40: 15 | D40: 63.7 | F40: 62.8 | H40: 62.8 | J40: 62.9 | L40: 66.2 | N40: 61.5
A41: 20 | D41: 58.8 | F41: 57.9 | H41: 57.9 | J41: 58 | L41: 61.3 | N41: 56.6
A42: 25 | D42: 53.9 | F42: 53 | H42: 53 | J42: 53.1 | L42: 56.3 | N42: 51.7
A43: 30 | D43: 49 | F43: 48.2 | H43: 48.2 | J43: 48.2 | L43: 51.4 | N43: 46.9
A44: 35 | D44: 44.2 | F44: 43.4 | H44: 43.3 | J44: 43.5 | L44: 46.5 | N44: 42
A45: 40 | D45: 39.4 | F45: 38.6 | H45: 38.6 | J45: 38.8 | L45: 41.6 | N45: 37.3
A46: 45 | D46: 34.7 | F46: 34 | H46: 33.9 | J46: 34.2 | L46: 36.8 | N46: 32.7
A47: 50 | D47: 30.2 | F47: 29.5 | H47: 29.5 | J47: 29.8 | L47: 32.1 | N47: 28.2
... A53: 80+ | D53: 7.3 | F53: 7.1 | H53: 7.1 | J53: 7.2 | L53: 7.7 | N53: 6.7
A56: Nota: | B56: 1 Termasuk etnik Lain-lain (Warganegara) dan Bukan warganegara | L56: e Anggaran
A57: Notes: | B57: Includes Others (Citizens) and Non-citizens | L57: Estimates

Sheet Jadual 1.6
A1: Jadual 1.6: Penakat mengikut jantina dan umur, Malaysia, 2024-2026
A2: Table 1.6: Survivors by sex and age, Malaysia, 2024-2026
A5: Umur | D5: 2024 | F5: 2025p | H5: 2026e
A6: Age
A9: Lelaki
A10: Male
A12: 0 | D12: =+'Jadual 1.7'!D14 -> 100000 | F12: =+'Jadual 1.8'!D14 -> 100000 | H12: =+'Jadual 1.9'!D14 -> 100000
A13: 1 | D13: =+'Jadual 1.7'!D15 -> 99254 | F13: =+'Jadual 1.8'!D15 -> 99261 | H13: =+'Jadual 1.9'!D15 -> 99309
A14: 5 | D14: =+'Jadual 1.7'!D16 -> 99106 | F14: =+'Jadual 1.8'!D16 -> 99124 | H14: =+'Jadual 1.9'!D16 -> 99180
A15: 10 | D15: =+'Jadual 1.7'!D17 -> 99009 | F15: =+'Jadual 1.8'!D17 -> 99032 | H15: =+'Jadual 1.9'!D17 -> 99086
A16: 15 | D16: =+'Jadual 1.7'!D18 -> 98858 | F16: =+'Jadual 1.8'!D18 -> 98888 | H16: =+'Jadual 1.9'!D18 -> 98957
A17: 20 | D17: =+'Jadual 1.7'!D19 -> 98440 | F17: =+'Jadual 1.8'!D19 -> 98470 | H17: =+'Jadual 1.9'!D19 -> 98550
A18: 25 | D18: =+'Jadual 1.7'!D20 -> 97999 | F18: =+'Jadual 1.8'!D20 -> 98037 | H18: =+'Jadual 1.9'!D20 -> 98120
A19: 30 | D19: =+'Jadual 1.7'!D21 -> 97515 | F19: =+'Jadual 1.8'!D21 -> 97566 | H19: =+'Jadual 1.9'!D21 -> 97675
A20: 35 | D20: =+'Jadual 1.7'!D22 -> 96859 | F20: =+'Jadual 1.8'!D22 -> 96899 | H20: =+'Jadual 1.9'!D22 -> 96995
A21: 40 | D21: =+'Jadual 1.7'!D23 -> 95877 | F21: =+'Jadual 1.8'!D23 -> 95916 | H21: =+'Jadual 1.9'!D23 -> 95999
A22: 45 | D22: =+'Jadual 1.7'!D24 -> 94394 | F22: =+'Jadual 1.8'!D24 -> 94440 | H22: =+'Jadual 1.9'!D24 -> 94526
A23: 50 | D23: =+'Jadual 1.7'!D25 -> 91919 | F23: =+'Jadual 1.8'!D25 -> 92043 | H23: =+'Jadual 1.9'!D25 -> 92194
... A29: 80+ | D29: =+'Jadual 1.7'!D31 -> 39137 | F29: =+'Jadual 1.8'!D31 -> 40826 | H29: =+'Jadual 1.9'!D31 -> 41760
A31: Perempuan
A32: Female
A34: 0 | D34: =+'Jadual 1.7'!D36 -> 100000 | F34: =+'Jadual 1.8'!D36 -> 100000 | H34: =+'Jadual 1.9'!D36 -> 100000
A35: 1 | D35: =+'Jadual 1.7'!D37 -> 99379 | F35: =+'Jadual 1.8'!D37 -> 99364 | H35: =+'Jadual 1.9'!D37 -> 99389
A36: 5 | D36: =+'Jadual 1.7'!D38 -> 99255 | F36: =+'Jadual 1.8'!D38 -> 99253 | H36: =+'Jadual 1.9'!D38 -> 99288
A37: 10 | D37: =+'Jadual 1.7'!D39 -> 99181 | F37: =+'Jadual 1.8'!D39 -> 99181 | H37: =+'Jadual 1.9'!D39 -> 99213
A38: 15 | D38: =+'Jadual 1.7'!D40 -> 99082 | F38: =+'Jadual 1.8'!D40 -> 99083 | H38: =+'Jadual 1.9'!D40 -> 99121
A39: 20 | D39: =+'Jadual 1.7'!D41 -> 98938 | F39: =+'Jadual 1.8'!D41 -> 98948 | H39: =+'Jadual 1.9'!D41 -> 98998
A40: 25 | D40: =+'Jadual 1.7'!D42 -> 98763 | F40: =+'Jadual 1.8'!D42 -> 98777 | H40: =+'Jadual 1.9'!D42 -> 98837
A41: 30 | D41: =+'Jadual 1.7'!D43 -> 98508 | F41: =+'Jadual 1.8'!D43 -> 98538 | H41: =+'Jadual 1.9'!D43 -> 98621
A42: 35 | D42: =+'Jadual 1.7'!D44 -> 98152 | F42: =+'Jadual 1.8'!D44 -> 98184 | H42: =+'Jadual 1.9'!D44 -> 98280
A43: 40 | D43: =+'Jadual 1.7'!D45 -> 97620 | F43: =+'Jadual 1.8'!D45 -> 97654 | H43: =+'Jadual 1.9'!D45 -> 97753
A44: 45 | D44: =+'Jadual 1.7'!D46 -> 96798 | F44: =+'Jadual 1.8'!D46 -> 96842 | H44: =+'Jadual 1.9'!D46 -> 96947
A45: 50 | D45: =+'Jadual 1.7'!D47 -> 95414 | F45: =+'Jadual 1.8'!D47 -> 95462 | H45: =+'Jadual 1.9'!D47 -> 95530
... A51: 80+ | D51: =+'Jadual 1.7'!D53 -> 54332 | F51: =+'Jadual 1.8'!D53 -> 55898 | H51: =+'Jadual 1.9'!D53 -> 56784
A54: Nota: | B54: p Permulaan | E54: e Anggaran
A55: Notes: | B55: Preliminary | E55: Estimates

Sheet Jadual 1.7
A1: Jadual 1.7: Penakat mengikut jantina, umur dan kumpulan etnik, Malaysia, 2024
A2: Table 1.7: Survivors by sex, age and ethnic group, Malaysia, 2024
F4: Bumiputera
A5: Umur | D5: Jumlah1 | L5: Cina | N5: India
A7: Age | D7: Total1 | F7: Jumlah | H7: Melayu | J7: Bumiputera lain | L7: Chinese | N7: Indians
F8: Total | H8: Malay | J8: Other Bumiputera
A11: Lelaki
A12: Male
A14: 0 | D14: 100000 | F14: 100000 | H14: 100000 | J14: 100000 | L14: 100000 | N14: 100000
A15: 1 | D15: 99254 | F15: 99194 | H15: 99230 | J15: 99003 | L15: 99517 | N15: 99344
A16: 5 | D16: 99106 | F16: 99020 | H16: 99074 | J16: 98734 | L16: 99429 | N16: 99186
A17: 10 | D17: 99009 | F17: 98899 | H17: 98961 | J17: 98570 | L17: 99387 | N17: 99133
A18: 15 | D18: 98858 | F18: 98717 | H18: 98790 | J18: 98334 | L18: 99332 | N18: 99039
A19: 20 | D19: 98440 | F19: 98203 | H19: 98253 | J19: 97919 | L19: 99170 | N19: 98519
A20: 25 | D20: 97999 | F20: 97635 | H20: 97693 | J20: 97303 | L20: 98935 | N20: 97652
A21: 30 | D21: 97515 | F21: 96967 | H21: 97048 | J21: 96535 | L21: 98590 | N21: 96514
A22: 35 | D22: 96859 | F22: 96095 | H22: 96212 | J22: 95509 | L22: 98100 | N22: 95150
A23: 40 | D23: 95877 | F23: 94876 | H23: 95040 | J23: 94064 | L23: 97368 | N23: 93080
A24: 45 | D24: 94394 | F24: 93125 | H24: 93357 | J24: 91989 | L24: 96286 | N24: 90248
A25: 50 | D25: 91919 | F25: 90291 | H25: 90596 | J25: 88791 | L25: 94375 | N25: 85992
... A31: 80+ | D31: 39137 | F31: 38165 | H31: 37625 | J31: 40814 | L31: 39121 | N31: 28479
A33: Perempuan
A34: Female
A36: 0 | D36: 100000 | F36: 100000 | H36: 100000 | J36: 100000 | L36: 100000 | N36: 100000
A37: 1 | D37: 99379 | F37: 99332 | H37: 99370 | J37: 99126 | L37: 99607 | N37: 99455
A38: 5 | D38: 99255 | F38: 99187 | H38: 99239 | J38: 98907 | L38: 99533 | N38: 99334
A39: 10 | D39: 99181 | F39: 99102 | H39: 99161 | J39: 98784 | L39: 99487 | N39: 99261
A40: 15 | D40: 99082 | F40: 98990 | H40: 99061 | J40: 98613 | L40: 99432 | N40: 99169
A41: 20 | D41: 98938 | F41: 98829 | H41: 98910 | J41: 98415 | L41: 99356 | N41: 98996
A42: 25 | D42: 98763 | F42: 98628 | H42: 98719 | J42: 98163 | L42: 99257 | N42: 98733
A43: 30 | D43: 98508 | F43: 98329 | H43: 98431 | J43: 97821 | L43: 99108 | N43: 98389
A44: 35 | D44: 98152 | F44: 97912 | H44: 98020 | J44: 97377 | L44: 98914 | N44: 97957
A45: 40 | D45: 97620 | F45: 97288 | H45: 97414 | J45: 96669 | L45: 98615 | N45: 97335
A46: 45 | D46: 96798 | F46: 96313 | H46: 96454 | J46: 95626 | L46: 98152 | N46: 96351
A47: 50 | D47: 95414 | F47: 94704 | H47: 94872 | J47: 93884 | L47: 97289 | N47: 94660
... A53: 80+ | D53: 54332 | F53: 51692 | H53: 51666 | J53: 51846 | L53: 60838 | N53: 46422
A56: Nota: | B56: 1 Termasuk etnik Lain-lain (Warganegara) dan Bukan warganegara
A57: Notes: | B57: Includes Others (Citizens) and Non-citizens

Sheet Jadual 1.8
A1: Jadual 1.8: Penakat mengikut jantina, umur dan kumpulan etnik, Malaysia, 2025p
A2: Table 1.8: Survivors by sex, age and ethnic group, Malaysia, 2025p
F4: Bumiputera
A5: Umur | D5: Jumlah1 | L5: Cina | N5: India
A7: Age | D7: Total1 | F7: Jumlah | H7: Melayu | J7: Bumiputera lain | L7: Chinese | N7: Indians
F8: Total | H8: Malay | J8: Other Bumiputera
A11: Lelaki
A12: Male
A14: 0 | D14: 100000 | F14: 100000 | H14: 100000 | J14: 100000 | L14: 100000 | N14: 100000
A15: 1 | D15: 99261 | F15: 99205 | H15: 99243 | J15: 99010 | L15: 99504 | N15: 99332
A16: 5 | D16: 99124 | F16: 99049 | H16: 99103 | J16: 98763 | L16: 99420 | N16: 99189
A17: 10 | D17: 99032 | F17: 98936 | H17: 98996 | J17: 98618 | L17: 99383 | N17: 99120
A18: 15 | D18: 98888 | F18: 98761 | H18: 98828 | J18: 98408 | L18: 99332 | N18: 99022
A19: 20 | D19: 98470 | F19: 98247 | H19: 98288 | J19: 97997 | L19: 99168 | N19: 98492
A20: 25 | D20: 98037 | F20: 97687 | H20: 97738 | J20: 97387 | L20: 98931 | N20: 97663
A21: 30 | D21: 97566 | F21: 97036 | H21: 97113 | J21: 96613 | L21: 98591 | N21: 96566
A22: 35 | D22: 96899 | F22: 96144 | H22: 96256 | J22: 95573 | L22: 98076 | N22: 95154
A23: 40 | D23: 95916 | F23: 94925 | H23: 95093 | J23: 94091 | L23: 97321 | N23: 93134
A24: 45 | D24: 94440 | F24: 93188 | H24: 93403 | J24: 92135 | L24: 96255 | N24: 90310
A25: 50 | D25: 92043 | F25: 90470 | H25: 90756 | J25: 89062 | L25: 94411 | N25: 86268
... A31: 80+ | D31: 40826 | F31: 39919 | H31: 39384 | J31: 42508 | L31: 40956 | N31: 30272
A33: Perempuan
A34: Female
A36: 0 | D36: 100000 | F36: 100000 | H36: 100000 | J36: 100000 | L36: 100000 | N36: 100000
A37: 1 | D37: 99364 | F37: 99313 | H37: 99351 | J37: 99115 | L37: 99622 | N37: 99374
A38: 5 | D38: 99253 | F38: 99189 | H38: 99239 | J38: 98927 | L38: 99545 | N38: 99236
A39: 10 | D39: 99181 | F39: 99106 | H39: 99163 | J39: 98805 | L39: 99492 | N39: 99193
A40: 15 | D40: 99083 | F40: 98996 | H40: 99067 | J40: 98621 | L40: 99432 | N40: 99100
A41: 20 | D41: 98948 | F41: 98841 | H41: 98917 | J41: 98445 | L41: 99366 | N41: 98947
A42: 25 | D42: 98777 | F42: 98646 | H42: 98731 | J42: 98206 | L42: 99270 | N42: 98654
A43: 30 | D43: 98538 | F43: 98365 | H43: 98459 | J43: 97886 | L43: 99127 | N43: 98346
A44: 35 | D44: 98184 | F44: 97949 | H44: 98056 | J44: 97419 | L44: 98932 | N44: 97915
A45: 40 | D45: 97654 | F45: 97322 | H45: 97446 | J45: 96711 | L45: 98655 | N45: 97269
A46: 45 | D46: 96842 | F46: 96368 | H46: 96513 | J46: 95663 | L46: 98196 | N46: 96281
A47: 50 | D47: 95462 | F47: 94770 | H47: 94938 | J47: 93951 | L47: 97344 | N47: 94585
... A53: 80+ | D53: 55898 | F53: 53457 | H53: 53377 | J53: 53872 | L53: 62412 | N53: 47448
A56: Nota: | B56: 1 Termasuk etnik Lain-lain (Warganegara) dan Bukan warganegara | L56: p Permulaan
A57: Notes: | B57: Includes Others (Citizens) and Non-citizens | L57: Preliminary

Sheet Jadual 1.9
A1: Jadual 1.9: Penakat mengikut jantina, umur dan kumpulan etnik, Malaysia, 2026e
A2: Table 1.9: Survivors by sex, age and ethnic group, Malaysia, 2026e
F4: Bumiputera
A5: Umur | D5: Jumlah1 | L5: Cina | N5: India
A7: Age | D7: Total1 | F7: Jumlah | H7: Melayu | J7: Bumiputera lain | L7: Chinese | N7: Indians
F8: Total | H8: Malay | J8: Other Bumiputera
A11: Lelaki
A12: Male
A14: 0 | D14: 100000 | F14: 100000 | H14: 100000 | J14: 100000 | L14: 100000 | N14: 100000
A15: 1 | D15: 99309 | F15: 99263 | H15: 99287 | J15: 99139 | L15: 99516 | N15: 99357
A16: 5 | D16: 99180 | F16: 99116 | H16: 99154 | J16: 98913 | L16: 99438 | N16: 99271
A17: 10 | D17: 99086 | F17: 99007 | H17: 99047 | J17: 98792 | L17: 99390 | N17: 99185
A18: 15 | D18: 98957 | F18: 98848 | H18: 98887 | J18: 98642 | L18: 99337 | N18: 99087
A19: 20 | D19: 98550 | F19: 98335 | H19: 98350 | J19: 98230 | L19: 99185 | N19: 98628
A20: 25 | D20: 98120 | F20: 97755 | H20: 97778 | J20: 97609 | L20: 98964 | N20: 97811
A21: 30 | D21: 97675 | F21: 97126 | H21: 97184 | J21: 96811 | L21: 98645 | N21: 96723
A22: 35 | D22: 96995 | F22: 96204 | H22: 96308 | J22: 95698 | L22: 98105 | N22: 95256
A23: 40 | D23: 95999 | F23: 94962 | H23: 95129 | J23: 94163 | L23: 97307 | N23: 93322
A24: 45 | D24: 94526 | F24: 93234 | H24: 93434 | J24: 92280 | L24: 96269 | N24: 90505
A25: 50 | D25: 92194 | F25: 90608 | H25: 90850 | J25: 89445 | L25: 94481 | N25: 86602
... A31: 80+ | D31: 41760 | F31: 40721 | H31: 40160 | J31: 43427 | L31: 42351 | N31: 31569
A33: Perempuan
A34: Female
A36: 0 | D36: 100000 | F36: 100000 | H36: 100000 | J36: 100000 | L36: 100000 | N36: 100000
A37: 1 | D37: 99389 | F37: 99344 | H37: 99381 | J37: 99138 | L37: 99621 | N37: 99365
A38: 5 | D38: 99288 | F38: 99234 | H38: 99278 | J38: 98990 | L38: 99558 | N38: 99219
A39: 10 | D39: 99213 | F39: 99150 | H39: 99204 | J39: 98850 | L39: 99487 | N39: 99176
A40: 15 | D40: 99121 | F40: 99044 | H40: 99112 | J40: 98678 | L40: 99429 | N40: 99086
A41: 20 | D41: 98998 | F41: 98898 | H41: 98965 | J41: 98533 | L41: 99363 | N41: 98964
A42: 25 | D42: 98837 | F42: 98711 | H42: 98779 | J42: 98346 | L42: 99268 | N42: 98686
A43: 30 | D43: 98621 | F43: 98449 | H43: 98516 | J43: 98084 | L43: 99145 | N43: 98402
A44: 35 | D44: 98280 | F44: 98045 | H44: 98130 | J44: 97612 | L44: 98948 | N44: 98002
A45: 40 | D45: 97753 | F45: 97419 | H45: 97519 | J45: 96917 | L45: 98679 | N45: 97311
A46: 45 | D46: 96947 | F46: 96472 | H46: 96595 | J46: 95863 | L46: 98249 | N46: 96302
A47: 50 | D47: 95530 | F47: 94832 | H47: 94988 | J47: 94064 | L47: 97417 | N47: 94575
... A53: 80+ | D53: 56784 | F53: 54412 | H53: 54304 | J53: 54987 | L53: 63468 | N53: 48203
A56: Nota: | B56: 1 Termasuk etnik Lain-lain (Warganegara) dan Bukan warganegara | L56: e Anggaran
A57: Notes: | B57: Includes Others (Citizens) and Non-citizens | L57: Estimates

Sheet Jadual 1.10
A1: Jadual 1.10: Jangkaan hayat ketika lahir mengikut kumpulan etnik utama dan jantina, Malaysia, 1957-2026
A2: Table 1.10: Life expectancy at birth by major ethnic group and sex, Malaysia, 1957-2026
A5: Tahun Year | B5: Lelaki dan Perempuan | E5: Jumlah1 | H5: Bumiputera | K5: Cina | N5: India
E6: Total1 | K6: Chinese | N6: Indians
C8: Both sexes
E9: Lelaki | F9: Perempuan | H9: Lelaki | I9: Perempuan | K9: Lelaki | L9: Perempuan | N9: Lelaki | O9: Perempuan
E10: Male | F10: Female | H10: Male | I10: Female | K10: Male | L10: Female | N10: Male | O10: Female
A13: 1957 | C13: .. | E13: 55.8 | F13: 58.2 | H13: 50.2 | I13: 53.4 | K13: 59.5 | L13: 66.7 | N13: 57.5 | O13: 54.6
A14: 1966 | C14: .. | E14: 63.1 | F14: 66 | H14: 61.3 | I14: 62.5 | K14: 66.2 | L14: 72.2 | N14: 62.5 | O14: 61.9
A15: 1967 | C15: .. | E15: 63.5 | F15: 66.3 | H15: 61.7 | I15: 63 | K15: 66.6 | L15: 71.9 | N15: 62.2 | O15: 62.1
A16: 1968 | C16: .. | E16: 63.3 | F16: 66.1 | H16: 61.7 | I16: 62.9 | K16: 66.2 | L16: 71.7 | N16: 61.4 | O16: 60.2
A17: 1969 | C17: .. | E17: 63.8 | F17: 66.7 | H17: 62.4 | I17: 63.8 | K17: 66.6 | L17: 72 | N17: 61.6 | O17: 61.2
A18: 1970 | C18: .. | E18: 61.6 | F18: 65.6 | H18: 60.8 | I18: 62.7 | K18: 64 | L18: 71.3 | N18: 59 | O18: 61.3
A19: 1971 | C19: .. | E19: 62.6 | F19: 66.5 | H19: 62.3 | I19: 64.1 | K19: 64.6 | L19: 71.5 | N19: 59.2 | O19: 61.8
A20: 1972 | C20: .. | E20: 62.8 | F20: 66.8 | H20: 62.6 | I20: 64.5 | K20: 64.8 | L20: 71.6 | N20: 59.2 | O20: 61.8
A21: 1973 | C21: .. | E21: 63.2 | F21: 67.4 | H21: 63.3 | I21: 65.3 | K21: 65 | L21: 71.9 | N21: 59.2 | O21: 62
A22: 1974 | C22: .. | E22: 63.6 | F22: 68 | H22: 63.7 | I22: 66 | K22: 65.5 | L22: 72.4 | N22: 59.3 | O22: 62.4
A23: 1975 | C23: .. | E23: 64.3 | F23: 68.7 | H23: 64.4 | I23: 66.6 | K23: 66 | L23: 72.9 | N23: 59.9 | O23: 63.3
A24: 1976 | C24: .. | E24: 64.7 | F24: 69.2 | H24: 64.7 | I24: 67.2 | K24: 66.5 | L24: 73.2 | N24: 60.6 | O24: 64.4
... A38: 1990 | C38: .. | E38: 68.9 | F38: 73.5 | H38: 69 | I38: 72.4 | K38: 70.6 | L38: 76.3 | N38: 64.4 | O38: 70.4
A39: 1991 | C39: 71.2 | E39: 69.2 | F39: 73.4 | H39: 69.4 | I39: 72.3 | K39: 70.7 | L39: 76.4 | N39: 64.2 | O39: 71.3
A40: 1992 | C40: 71.5 | E40: 69.4 | F40: 73.8 | H40: 69.6 | I40: 72.9 | K40: 70.9 | L40: 76.6 | N40: 64.4 | O40: 71.8
A41: 1993 | C41: 71.7 | E41: 69.6 | F41: 74 | H41: 69.6 | I41: 73.1 | K41: 71.4 | L41: 76.7 | N41: 64.7 | O41: 72
A42: 1994 | C42: 71.7 | E42: 69.5 | F42: 74.1 | H42: 69.6 | I42: 73.2 | K42: 71.6 | L42: 76.8 | N42: 64.7 | O42: 72.3
A43: 1995 | C43: 71.8 | E43: 69.5 | F43: 74.3 | H43: 69.5 | I43: 73.4 | K43: 71.9 | L43: 77.1 | N43: 64.9 | O43: 72.4
A44: 1996 | C44: 71.8 | E44: 69.5 | F44: 74.3 | H44: 69.4 | I44: 73.4 | K44: 71.9 | L44: 77.2 | N44: 64.8 | O44: 72.5
A45: 1997 | C45: 72 | E45: 69.7 | F45: 74.5 | H45: 69.5 | I45: 73.5 | K45: 72.2 | L45: 77.3 | N45: 65.2 | O45: 73
A46: 1998 | C46: 71.8 | E46: 69.5 | F46: 74.3 | H46: 69 | I46: 73.2 | K46: 72.1 | L46: 77.3 | N46: 65.1 | O46: 73
A47: 1999 | C47: 71.9 | E47: 69.7 | F47: 74.4 | H47: 68.9 | I47: 73.1 | K47: 72.2 | L47: 77.4 | N47: 65.3 | O47: 73.4
A50: Nota: | B50: Data bagi tahun 1957-1990 adalah merujuk kepada Semenanjung Malaysia
A51: Notes: | B51: Data for year 1957-1990 refers to Peninsular Malaysia
B53: 1 Termasuk etnik Lain-lain (Warganegara) dan Bukan warganegara
B54: Includes Others (Citizens) and Non-citizens
B56: .. Data tidak diperoleh
B57: Data not acquired
A58: Jadual 1.10: Jangkaan hayat ketika lahir mengikut kumpulan etnik utama dan jantina, Malaysia, 1957-2026 (samb.)
A59: Table 1.10: Life expectancy at birth by major ethnic group and sex, Malaysia, 1957-2026 (cont'd)
A62: Tahun Year | B62: Lelaki dan Perempuan | E62: Jumlah1 | H62: Bumiputera | K62: Cina | N62: India
E63: Total1 | K63: Chinese | N63: Indians
C65: Both sexes
E66: Lelaki | F66: Perempuan | H66: Lelaki | I66: Perempuan | K66: Lelaki | L66: Perempuan | N66: Lelaki | O66: Perempuan
E67: Male | F67: Female | H67: Male | I67: Female | K67: Male | L67: Female | N67: Male | O67: Female
A70: 2000 | C70: 72.2 | E70: 70 | F70: 74.6 | H70: 69 | I70: 73.3 | K70: 72.4 | L70: 77.6 | N70: 65.7 | O70: 73.5
A71: 2001 | C71: 72.8 | E71: 70.6 | F71: 75.1 | H71: 69.6 | I71: 73.9 | K71: 72.8 | L71: 77.8 | N71: 66.6 | O71: 74.1
A72: 2002 | C72: 72.8 | E72: 70.7 | F72: 75.2 | H72: 69.6 | I72: 73.9 | K72: 73 | L72: 77.9 | N72: 66.7 | O72: 74.2
A73: 2003 | C73: 73 | E73: 70.8 | F73: 75.5 | H73: 69.7 | I73: 74.2 | K73: 73.2 | L73: 78.1 | N73: 66.7 | O73: 74.5
A74: 2004 | C74: 73.3 | E74: 71.1 | F74: 75.8 | H74: 70 | I74: 74.6 | K74: 73.4 | L74: 78.3 | N74: 67.1 | O74: 75
A75: 2005 | C75: 73.6 | E75: 71.4 | F75: 76 | H75: 70.2 | I75: 74.8 | K75: 73.7 | L75: 78.5 | N75: 67.5 | O75: 75.2
A76: 2006 | C76: 73.7 | E76: 71.6 | F76: 76.1 | H76: 70.3 | I76: 74.9 | K76: 73.9 | L76: 78.7 | N76: 67.8 | O76: 75.3
A77: 2007 | C77: 73.7 | E77: 71.6 | F77: 76.2 | H77: 70.3 | I77: 74.9 | K77: 74 | L77: 78.8 | N77: 67.7 | O77: 75.4
A78: 2008 | C78: 73.7 | E78: 71.6 | F78: 76.2 | H78: 70.2 | I78: 75 | K78: 74.1 | L78: 78.9 | N78: 67.6 | O78: 75.5
A79: 2009 | C79: 73.9 | E79: 71.7 | F79: 76.3 | H79: 70.4 | I79: 75.1 | K79: 74.2 | L79: 78.9 | N79: 67.5 | O79: 75.5
A80: 2010 | C80: 74.1 | E80: 71.9 | F80: 76.6 | H80: 70.7 | I80: 75.4 | K80: 74.4 | L80: 79.1 | N80: 67.6 | O80: 75.7
A81: 2011 | C81: 74.3 | E81: 72.1 | F81: 76.8 | H81: 70.9 | I81: 75.6 | K81: 74.6 | L81: 79.3 | N81: 67.6 | O81: 75.8
... A91: 2021 | C91: 74 | E91: 71.8 | F91: 76.5 | H91: 71 | I91: 75.6 | K91: 73.6 | L91: 79.4 | N91: 67.2 | O91: 74.7
A92: 2022 | C92: =+'Jadual 1.2'!D47 -> 73.8 | E92: =+'Jadual 1.2'!D108 -> 71.5 | F92: =+'Jadual 1.2'!D169 -> 76.4 | H92: =+'Jadual 1.2'!H108 -> 70.7 | I92: =+'Jadual 1.2'!H169 -> 75.5 | K92: =+'Jadual 1.2'!N108 -> 73.6 | L92: =+'Jadual 1.2'!N169 -> 79.5 | N92: =+'Jadual 1.2'!P108 -> 67 | O92: =+'Jadual 1.2'!P169 -> 74.6
A93: 2023 | C93: =+'Jadual 1.2'!D48 -> 74 | E93: =+'Jadual 1.2'!D109 -> 71.7 | F93: =+'Jadual 1.2'!D170 -> 76.6 | H93: =+'Jadual 1.2'!H109 -> 70.8 | I93: =+'Jadual 1.2'!H170 -> 75.6 | K93: =+'Jadual 1.2'!N109 -> 73.7 | L93: =+'Jadual 1.2'!N170 -> 79.7 | N93: =+'Jadual 1.2'!P109 -> 66.9 | O93: =+'Jadual 1.2'!P170 -> 74.5
A94: 2024 | C94: =+'Jadual 1.2'!D49 -> 74.9 | E94: =+'Jadual 1.2'!D110 -> 72.6 | F94: =+'Jadual 1.2'!D171 -> 77.5 | H94: =+'Jadual 1.2'!H110 -> 71.6 | I94: =+'Jadual 1.2'!H171 -> 76.6 | K94: =+'Jadual 1.2'!N110 -> 74.3 | L94: =+'Jadual 1.2'!N171 -> 80.2 | N94: =+'Jadual 1.2'!P110 -> 67.9 | O94: =+'Jadual 1.2'!P171 -> 75.4
A95: 2025p | C95: =+'Jadual 1.2'!D50 -> 75.2 | E95: =+'Jadual 1.2'!D111 -> 73 | F95: =+'Jadual 1.2'!D172 -> 77.8 | H95: =+'Jadual 1.2'!H111 -> 72 | I95: =+'Jadual 1.2'!H172 -> 76.9 | K95: =+'Jadual 1.2'!N111 -> 74.7 | L95: =+'Jadual 1.2'!N172 -> 80.5 | N95: =+'Jadual 1.2'!P111 -> 68.4 | O95: =+'Jadual 1.2'!P172 -> 75.6
A96: 2026e | C96: =+'Jadual 1.2'!D51 -> 75.5 | E96: =+'Jadual 1.2'!D112 -> 73.2 | F96: =+'Jadual 1.2'!D173 -> 78.1 | H96: =+'Jadual 1.2'!H112 -> 72.1 | I96: =+'Jadual 1.2'!H173 -> 77.1 | K96: =+'Jadual 1.2'!N112 -> 75.1 | L96: =+'Jadual 1.2'!N173 -> 80.8 | N96: =+'Jadual 1.2'!P112 -> 68.8 | O96: =+'Jadual 1.2'!P173 -> 75.8
A99: Nota: | B99: 1 Termasuk etnik Lain-lain (Warganegara) dan Bukan warganegara | K99: p Permulaan | N99: e Anggaran
A100: Notes: | B100: Includes Others (Citizens) and Non-citizens | K100: Preliminary | N100: Estimates
A102: 2010-2019: | B102: Berdasarkan Banci Penduduk dan Perumahan Malaysia 2010 (Banci 2010)
B103: Based on Population and Housing Census of Malaysia 2010 (Census 2010)
A105: 2020-2025: | B105: Berdasarkan Banci Penduduk dan Perumahan Malaysia 2020 (Banci 2020)
B106: Based on Population and Housing Census of Malaysia 2020 (Census 2020)

Sheet Jadual 1.11
A1: Jadual 1.11: Jangkaan hayat ketika lahir mengikut jantina, kumpulan etnik dan negeri, Malaysia, 2024
A2: Table 1.11: Life expectancy at birth by sex, ethnic group and state, Malaysia, 2024
E5: Warganegara
A6: Tahun | D6: Jumlah | E6: Citizens | R6: Bukan
A7: Year | R7: warganegara Non-citizens
D8: Total | F8: Jumlah1 Total1 | H8: Bumiputera | N8: Cina Chinese | P8: India Indians
H10: Jumlah | J10: Melayu | L10: Bumiputera lain
H11: Total | J11: Malay | L11: Other Bumiputera
A14: Lelaki dan Perempuan
A15: Both sexes
A17: Malaysia | D17: 74.9 | F17: 74.4 | H17: 74 | J17: 74 | L17: 73.8 | N17: 77 | P17: 71.4 | R17: 81.8
A18: Johor | D18: 74.4 | F18: 73.8 | H18: 73.1 | J18: 73.1 | L18: 74.2 | N18: 76 | P18: 70 | R18: 82.5
A19: Kedah | D19: 72.7 | F19: 72.4 | H19: 72.2 | J19: 72.2 | L19: 77.3 | N19: 75.1 | P19: 70.1 | R19: 83.9
A20: Kelantan | D20: 72.9 | F20: 72.7 | H20: 72.6 | J20: 72.7 | L20: N/A | N20: 75.7 | P20: 72.2 | R20: 81.7
A21: Melaka | D21: 73.9 | F21: 73.7 | H21: 72.8 | J21: 72.8 | L21: 76.5 | N21: 76.7 | P21: 70.4 | R21: 73.1
A22: Negeri Sembilan | D22: 73.5 | F22: 73.3 | H22: 72.7 | J22: 72.8 | L22: 69.9 | N22: 76.7 | P22: 70.5 | R22: 79
A23: Pahang | D23: 72.8 | F23: 72.6 | H23: 72.4 | J23: 72.7 | L23: 70.1 | N23: 74.2 | P23: 70.5 | R23: 66.8
A24: Perak | D24: 73.5 | F24: 73.2 | H24: 72 | J24: 72.1 | L24: 70.3 | N24: 76.6 | P24: 70.8 | R24: 73.7
A25: Perlis | D25: 73 | F25: 72.7 | H25: 72.4 | J25: 72.4 | L25: N/A | N25: 75.1 | P25: 72.8 | R25: 77.8
A26: Pulau Pinang | D26: 74.6 | F26: 74.3 | H26: 72.2 | J26: 72.1 | L26: 80.4 | N26: 77.1 | P26: 69 | R26: 79.7
A27: Sabah | D27: 74.7 | F27: 73 | H27: 73.3 | J27: 68.1 | L27: 74.2 | N27: 72.5 | P27: 68.7 | R27: 84
A28: Sarawak | D28: 75 | F28: 74.7 | H28: 73.8 | J28: 74.4 | L28: 73.5 | N28: 77.4 | P28: 71.8 | R28: 80.7
A29: Selangor | D29: 77.6 | F29: 77.3 | H29: 78 | J29: 78.1 | L29: 72.4 | N29: 78.4 | P29: 72.7 | R29: 80.1
A30: Terengganu | D30: 72 | F30: 71.8 | H30: 71.8 | J30: 71.8 | L30: 75 | N30: 75.3 | P30: 66.7 | R30: 78.4
A31: W.P. Kuala Lumpur | D31: 76.8 | F31: 76.6 | H31: 77.4 | J31: 77.5 | L31: 76 | N31: 76.9 | P31: 72.8 | R31: 76.2
A32: W.P. Labuan | D32: 76.4 | F32: 76.3 | H32: 76.1 | J32: 69.8 | L32: 79.6 | N32: 76.4 | P32: 75.7 | R32: 76.7
A33: W.P. Putrajaya | D33: 73.5 | F33: 73.3 | H33: 73.3 | J33: 73.3 | L33: 71.1 | N33: N/A | P33: N/A | R33: N/A
A35: Lelaki
A36: Male
A38: Malaysia | D38: 72.6 | F38: 71.9 | H38: 71.6 | J38: 71.7 | L38: 71.6 | N38: 74.3 | P38: 67.9 | R38: 81.5
A39: Johor | D39: 72.3 | F39: 71.3 | H39: 70.8 | J39: 70.8 | L39: 72.6 | N39: 73.3 | P39: 66.4 | R39: 82.2
A40: Kedah | D40: 70 | F40: 69.5 | H40: 69.5 | J40: 69.4 | L40: 75.1 | N40: 72 | P40: 65.6 | R40: 83.9
A41: Kelantan | D41: 70.3 | F41: 70.1 | H41: 70 | J41: 70 | L41: N/A | N41: 72.9 | P41: 68.7 | R41: 79.9
A42: Melaka | D42: 71.4 | F42: 70.9 | H42: 70.3 | J42: 70.2 | L42: 72.6 | N42: 74.1 | P42: 66.4 | R42: 72
A43: Negeri Sembilan | D43: 70.9 | F43: 70.5 | H43: 70.2 | J43: 70.3 | L43: 68.5 | N43: 73.7 | P43: 67.1 | R43: 78.6
A44: Pahang | D44: 70.5 | F44: 70 | H44: 70 | J44: 70.1 | L44: 68.3 | N44: 71.2 | P44: 67.1 | R44: 65.1
A45: Perak | D45: 70.7 | F45: 70.1 | H45: 69.1 | J45: 69.3 | L45: 67.4 | N45: 73.4 | P45: 66.5 | R45: 71.7
A46: Perlis | D46: 70.2 | F46: 69.9 | H46: 69.6 | J46: 69.5 | L46: N/A | N46: 72.6 | P46: 70.8 | R46: 74.5
A47: Pulau Pinang | D47: 72.2 | F47: 71.8 | H47: 70.1 | J47: 70 | L47: 78.6 | N47: 74.5 | P47: 65.4 | R47: 79.6
A48: Sabah | D48: 72.7 | F48: 70.7 | H48: 71.1 | J48: 65.8 | L48: 72.1 | N48: 70 | P48: 64.7 | R48: 83.5
A49: Sarawak | D49: 72.6 | F49: 72.2 | H49: 71.4 | J49: 72.3 | L49: 70.9 | N49: 74.6 | P49: 68.1 | R49: 80.3
A50: Selangor | D50: 75.7 | F50: 75.1 | H50: 76.1 | J50: 76.2 | L50: 68.1 | N50: 75.9 | P50: 69.5 | R50: 80.8
A51: Terengganu | D51: 69.7 | F51: 69.3 | H51: 69.3 | J51: 69.2 | L51: 74.3 | N51: 72.2 | P51: 64.7 | R51: 77
A52: W.P. Kuala Lumpur | D52: 74.8 | F52: 74.3 | H52: 75.4 | J52: 75.5 | L52: 73.8 | N52: 74.6 | P52: 70.1 | R52: 73.8
A53: W.P. Labuan | D53: 74.4 | F53: 74.1 | H53: 74.2 | J53: 67.6 | L53: 78.1 | N53: 74.8 | P53: 74 | R53: 75.8
A54: W.P. Putrajaya | D54: 71.9 | F54: 71.6 | H54: 71.7 | J54: 71.8 | L54: 66.6 | N54: N/A | P54: N/A | R54: N/A
A57: Nota: | B57: 1 Termasuk etnik Lain-lain (Warganegara) | K57: e | L57: Anggaran
A58: Notes: | B58: Includes Others (Citizens) | L58: Estimates
B60: N/A - Jangkaan hayat ketika lahir tidak dapat dikira disebabkan kekurangan data untuk membuat pengiraan
B61: Life expectancy at birth cannot be calculated due to insufficient data to make calculation
A63: Jadual 1.11: Jangkaan hayat ketika lahir mengikut jantina, kumpulan etnik dan negeri, Malaysia, 2024 (samb.)
A64: Table 1.11: Life expectancy at birth by sex, ethnic group and state, Malaysia, 2024 (cont'd)
E67: Warganegara
A68: Tahun | D68: Jumlah | E68: Citizens | R68: Bukan
A69: Year | R69: warganegara Non-citizens
D70: Total | F70: Jumlah1 Total1 | H70: Bumiputera | N70: Cina Chinese | P70: India Indians
H72: Jumlah | J72: Melayu | L72: Bumiputera lain
H73: Total | J73: Malay | L73: Other Bumiputera
A76: Perempuan
A77: Female
A79: Malaysia | D79: 77.5 | F79: 77.3 | H79: 76.6 | J79: 76.6 | L79: 76.3 | N79: 80.2 | P79: 75.4 | R79: 82.4
A80: Johor | D80: 77 | F80: 76.7 | H80: 75.7 | J80: 75.7 | L80: 75.5 | N80: 79.2 | P80: 74 | R80: 82.7
A81: Kedah | D81: 75.7 | F81: 75.6 | H81: 75.1 | J81: 75.1 | L81: 78.9 | N81: 78.7 | P81: 74.8 | R81: 83.8
A82: Kelantan | D82: 75.7 | F82: 75.6 | H82: 75.5 | J82: 75.5 | L82: N/A | N82: 79.3 | P82: 77.4 | R82: 82.8
A83: Melaka | D83: 76.8 | F83: 76.7 | H83: 75.6 | J83: 75.6 | L83: 80.4 | N83: 79.8 | P83: 74.6 | R83: 74.3
A84: Negeri Sembilan | D84: 76.5 | F84: 76.5 | H84: 75.5 | J84: 75.7 | L84: 71.3 | N84: 80.2 | P84: 74.3 | R84: 79.7
A85: Pahang | D85: 75.6 | F85: 75.6 | H85: 75.2 | J85: 75.5 | L85: 72.1 | N85: 77.9 | P85: 74.6 | R85: 70.5
A86: Perak | D86: 76.7 | F86: 76.7 | H86: 75 | J86: 75.1 | L86: 73.7 | N86: 80.4 | P86: 75.4 | R86: 75.9
A87: Perlis | D87: 75.9 | F87: 75.6 | H87: 75.4 | J87: 75.3 | L87: N/A | N87: 78.1 | P87: 74.8 | R87: 81.8
A88: Pulau Pinang | D88: 77.3 | F88: 77.1 | H88: 74.4 | J88: 74.4 | L88: 82.5 | N88: 80 | P88: 72.9 | R88: 79.8
A89: Sabah | D89: 77 | F89: 75.6 | H89: 75.8 | J89: 70.4 | L89: 76.4 | N89: 76 | P89: 76.9 | R89: 84.5
A90: Sarawak | D90: 77.7 | F90: 77.6 | H90: 76.5 | J90: 76.8 | L90: 76.3 | N90: 80.8 | P90: 78.1 | R90: 81
A91: Selangor | D91: 80 | F91: 79.9 | H91: 80.1 | J91: 80.1 | L91: 75.1 | N91: 81.3 | P91: 76.4 | R91: 77.1
A92: Terengganu | D92: 74.7 | F92: 74.6 | H92: 74.5 | J92: 74.5 | L92: 75.9 | N92: 79.2 | P92: 69.3 | R92: 79.9
A93: W.P. Kuala Lumpur | D93: 79.2 | F93: 79.1 | H93: 79.5 | J93: 79.6 | L93: 78.1 | N93: 79.6 | P93: 76 | R93: 79.7
A94: W.P. Labuan | D94: 78.8 | F94: 78.9 | H94: 78.4 | J94: 72.2 | L94: 81.5 | N94: 78.3 | P94: 85.4 | R94: 77.3
A95: W.P. Putrajaya | D95: 75 | F95: 74.8 | H95: 74.8 | J95: 74.7 | L95: 84 | N95: N/A | P95: N/A | R95: N/A
A98: Nota: | B98: 1 Termasuk etnik Lain-lain (Warganegara) | K98: e | L98: Anggaran
A99: Notes: | B99: Includes Others (Citizens) | L99: Estimates
B101: N/A - Jangkaan hayat ketika lahir tidak dapat dikira disebabkan kekurangan data untuk membuat pengiraan
B102: Life expectancy at birth cannot be calculated due to insufficient data to make calculation

Sheet Jadual 1.12
A1: Jadual 1.12: Jangkaan hayat ketika lahir mengikut jantina, kumpulan etnik dan negeri, Malaysia, 2025p
A2: Table 1.12: Life expectancy at birth by sex, ethnic group and state, Malaysia, 2025p
E5: Warganegara
A6: Tahun | D6: Jumlah | E6: Citizens | R6: Bukan
A7: Year | R7: warganegara Non-citizens
D8: Total | F8: Jumlah1 Total1 | H8: Bumiputera | N8: Cina Chinese | P8: India Indians
H10: Jumlah | J10: Melayu | L10: Bumiputera lain
H11: Total | J11: Malay | L11: Other Bumiputera
A14: Lelaki dan Perempuan
A15: Both sexes
A17: Malaysia | D17: 75.2 | F17: 74.8 | H17: 74.3 | J17: 74.4 | L17: 74.2 | N17: 77.4 | P17: 71.8 | R17: 81.9
A18: Johor | D18: 74.6 | F18: 74.1 | H18: 73.4 | J18: 73.4 | L18: 73.8 | N18: 76.2 | P18: 70.1 | R18: 82.9
A19: Kedah | D19: 72.9 | F19: 72.6 | H19: 72.3 | J19: 72.3 | L19: N/A | N19: 75.5 | P19: 70.2 | R19: 84
A20: Kelantan | D20: 73.5 | F20: 73.3 | H20: 73.2 | J20: 73.2 | L20: 68.3 | N20: 76.6 | P20: 71.9 | R20: 81.3
A21: Melaka | D21: 74.5 | F21: 74.2 | H21: 73.4 | J21: 73.4 | L21: 75.8 | N21: 77.3 | P21: 70.8 | R21: 74.5
A22: Negeri Sembilan | D22: 73.9 | F22: 73.6 | H22: 73.1 | J22: 73.2 | L22: 70.2 | N22: 77.2 | P22: 70.7 | R22: 79
A23: Pahang | D23: 73.3 | F23: 73.1 | H23: 72.9 | J23: 73.2 | L23: 70.3 | N23: 74.8 | P23: 71.2 | R23: 66.9
A24: Perak | D24: 73.8 | F24: 73.6 | H24: 72.3 | J24: 72.4 | L24: 72.1 | N24: 76.9 | P24: 71.1 | R24: 75.3
A25: Perlis | D25: 73.3 | F25: 73.1 | H25: 72.8 | J25: 72.7 | L25: N/A | N25: 76 | P25: 73.9 | R25: 76
A26: Pulau Pinang | D26: 75.1 | F26: 74.9 | H26: 72.9 | J26: 72.8 | L26: 80 | N26: 77.6 | P26: 69.7 | R26: 80.2
A27: Sabah | D27: 75 | F27: 73.4 | H27: 73.7 | J27: 68 | L27: 74.6 | N27: 72.7 | P27: 68.2 | R27: 84
A28: Sarawak | D28: 75.3 | F28: 75 | H28: 74.1 | J28: 74.6 | L28: 73.8 | N28: 77.7 | P28: 73.1 | R28: 79.8
A29: Selangor | D29: 77.9 | F29: 77.6 | H29: 78.1 | J29: 78.2 | L29: 71.7 | N29: 78.7 | P29: 73.1 | R29: 80.3
A30: Terengganu | D30: 72.6 | F30: 72.4 | H30: 72.3 | J30: 72.3 | L30: 73.5 | N30: 76.3 | P30: 68.9 | R30: 79.4
A31: W.P. Kuala Lumpur | D31: 77.2 | F31: 76.9 | H31: 77.5 | J31: 77.6 | L31: 75 | N31: 77.3 | P31: 73.6 | R31: 76.3
A32: W.P. Labuan | D32: 76.6 | F32: 76.6 | H32: 76.6 | J32: 70.6 | L32: 79.8 | N32: 76.9 | P32: 75.7 | R32: 73.4
A33: W.P. Putrajaya | D33: 73.6 | F33: 73.5 | H33: 73.5 | J33: 73.5 | L33: N/A | N33: N/A | P33: N/A | R33: N/A
A35: Lelaki
A36: Male
A38: Malaysia | D38: 73 | F38: 72.3 | H38: 72 | J38: 72 | L38: 71.9 | N38: 74.7 | P38: 68.4 | R38: 81.5
A39: Johor | D39: 72.5 | F39: 71.5 | H39: 71 | J39: 71 | L39: 72 | N39: 73.5 | P39: 66.5 | R39: 82.8
A40: Kedah | D40: 70.2 | F40: 69.8 | H40: 69.7 | J40: 69.6 | L40: N/A | N40: 72.4 | P40: 65.8 | R40: 83.7
A41: Kelantan | D41: 70.8 | F41: 70.6 | H41: 70.5 | J41: 70.5 | L41: 67.7 | N41: 74 | P41: 67.4 | R41: 78.9
A42: Melaka | D42: 71.9 | F42: 71.4 | H42: 70.8 | J42: 70.8 | L42: 73.4 | N42: 74.4 | P42: 66.9 | R42: 73.5
A43: Negeri Sembilan | D43: 71.3 | F43: 70.8 | H43: 70.6 | J43: 70.7 | L43: 68.4 | N43: 74.2 | P43: 67.1 | R43: 78.6
A44: Pahang | D44: 71 | F44: 70.6 | H44: 70.5 | J44: 70.7 | L44: 68.2 | N44: 71.7 | P44: 68 | R44: 65.7
A45: Perak | D45: 71.1 | F45: 70.5 | H45: 69.6 | J45: 69.6 | L45: 69.6 | N45: 73.7 | P45: 66.8 | R45: 74.1
A46: Perlis | D46: 70.4 | F46: 70.1 | H46: 69.7 | J46: 69.7 | L46: N/A | N46: 73.8 | P46: 72.6 | R46: 71.5
A47: Pulau Pinang | D47: 72.8 | F47: 72.4 | H47: 70.8 | J47: 70.8 | L47: 79.7 | N47: 75 | P47: 66.5 | R47: 80.2
A48: Sabah | D48: 72.9 | F48: 71 | H48: 71.4 | J48: 65.9 | L48: 72.4 | N48: 70.1 | P48: 63.6 | R48: 83.3
A49: Sarawak | D49: 72.9 | F49: 72.5 | H49: 71.6 | J49: 72.2 | L49: 71.3 | N49: 75.1 | P49: 69.5 | R49: 79.7
A50: Selangor | D50: 76 | F50: 75.4 | H50: 76.3 | J50: 76.4 | L50: 66.1 | N50: 76.3 | P50: 70.1 | R50: 80.9
A51: Terengganu | D51: 70.2 | F51: 69.9 | H51: 69.8 | J51: 69.8 | L51: 70.9 | N51: 73.8 | P51: 65 | R51: 77
A52: W.P. Kuala Lumpur | D52: 75 | F52: 74.6 | H52: 75.6 | J52: 75.6 | L52: 73.4 | N52: 74.8 | P52: 70.7 | R52: 74
A53: W.P. Labuan | D53: 74.4 | F53: 74.2 | H53: 74.4 | J53: 67.7 | L53: 78.3 | N53: 74.3 | P53: 72.1 | R53: 73.2
A54: W.P. Putrajaya | D54: 71.8 | F54: 71.6 | H54: 71.6 | J54: 71.7 | L54: N/A | N54: N/A | P54: N/A | R54: N/A
A57: Nota: | B57: 1 Termasuk etnik Lain-lain (Warganegara) | K57: e | L57: Anggaran
A58: Notes: | B58: Includes Others (Citizens) | L58: Estimates
B60: N/A - Jangkaan hayat ketika lahir tidak dapat dikira disebabkan kekurangan data untuk membuat pengiraan
B61: Life expectancy at birth cannot be calculated due to insufficient data to make calculation
A63: Jadual 1.12: Jangkaan hayat ketika lahir mengikut jantina, kumpulan etnik dan negeri, Malaysia, 2025p (samb.)
A64: Table 1.12: Life expectancy at birth by sex, ethnic group and state, Malaysia, 2025p (cont'd)
E67: Warganegara
A68: Tahun | D68: Jumlah | E68: Citizens | R68: Bukan
A69: Year | R69: warganegara Non-citizens
D70: Total | F70: Jumlah1 Total1 | H70: Bumiputera | N70: Cina Chinese | P70: India Indians
H72: Jumlah | J72: Melayu | L72: Bumiputera lain
H73: Total | J73: Malay | L73: Other Bumiputera
A76: Perempuan
A77: Female
A79: Malaysia | D79: 77.8 | F79: 77.6 | H79: 76.9 | J79: 76.9 | L79: 76.7 | N79: 80.5 | P79: 75.6 | R79: 82.5
A80: Johor | D80: 77.2 | F80: 77 | H80: 76 | J80: 76.1 | L80: 75.3 | N80: 79.4 | P80: 74.1 | R80: 82.5
A81: Kedah | D81: 75.8 | F81: 75.7 | H81: 75.2 | J81: 75.2 | L81: N/A | N81: 79 | P81: 74.7 | R81: 84.3
A82: Kelantan | D82: 76.3 | F82: 76.2 | H82: 76.1 | J82: 76.1 | L82: 69.1 | N82: 79.8 | P82: 76.4 | R82: 83.1
A83: Melaka | D83: 77.4 | F83: 77.3 | H83: 76.1 | J83: 76.1 | L83: 78.3 | N83: 80.7 | P83: 74.9 | R83: 75.7
A84: Negeri Sembilan | D84: 76.9 | F84: 76.8 | H84: 75.8 | J84: 76 | L84: 71.9 | N84: 80.7 | P84: 74.7 | R84: 79.6
A85: Pahang | D85: 76.1 | F85: 76.1 | H85: 75.7 | J85: 75.9 | L85: 72.6 | N85: 78.7 | P85: 75 | R85: 69.6
A86: Perak | D86: 77 | F86: 77 | H86: 75.3 | J86: 75.3 | L86: 74.8 | N86: 80.7 | P86: 75.6 | R86: 76.4
A87: Perlis | D87: 76.4 | F87: 76.2 | H87: 76 | J87: 75.9 | L87: N/A | N87: 78.4 | P87: 74.7 | R87: 80.3
A88: Pulau Pinang | D88: 77.8 | F88: 77.6 | H88: 75.1 | J88: 75 | L88: 80.9 | N88: 80.6 | P88: 73.3 | R88: 80.3
A89: Sabah | D89: 77.5 | F89: 76.1 | H89: 76.3 | J89: 70.1 | L89: 77 | N89: 76.2 | P89: 78 | R89: 84.8
A90: Sarawak | D90: 78 | F90: 77.9 | H90: 76.8 | J90: 77.3 | L90: 76.6 | N90: 80.8 | P90: 79.9 | R90: 79.9
A91: Selangor | D91: 80.2 | F91: 80.1 | H91: 80.2 | J91: 80.3 | L91: 76.3 | N91: 81.5 | P91: 76.5 | R91: 77.3
A92: Terengganu | D92: 75.2 | F92: 75.2 | H92: 75.1 | J92: 75.1 | L92: 76.7 | N92: 79.4 | P92: 74.7 | R92: 82.6
A93: W.P. Kuala Lumpur | D93: 79.6 | F93: 79.5 | H93: 79.6 | J93: 79.6 | L93: 77 | N93: 80.1 | P93: 77 | R93: 79.6
A94: W.P. Labuan | D94: 79.2 | F94: 79.4 | H94: 79.1 | J94: 74.2 | L94: 81.5 | N94: 78.3 | P94: 86.8 | R94: 73.7
A95: W.P. Putrajaya | D95: 75.4 | F95: 75.3 | H95: 75.3 | J95: 75.2 | L95: N/A | N95: N/A | P95: N/A | R95: N/A
A98: Nota: | B98: 1 Termasuk etnik Lain-lain (Warganegara) | K98: e | L98: Anggaran
A99: Notes: | B99: Includes Others (Citizens) | L99: Estimates
B101: N/A - Jangkaan hayat ketika lahir tidak dapat dikira disebabkan kekurangan data untuk membuat pengiraan
B102: Life expectancy at birth cannot be calculated due to insufficient data to make calculation

Sheet Jadual 1.13
A1: Jadual 1.13: Jangkaan hayat ketika lahir mengikut jantina, kumpulan etnik dan negeri, Malaysia, 2026e
A2: Table 1.13: Life expectancy at birth by sex, ethnic group and state, Malaysia, 2026e
E5: Warganegara
A6: Tahun | D6: Jumlah | E6: Citizens | R6: Bukan
A7: Year | R7: warganegara Non-citizens
D8: Total | F8: Jumlah1 Total1 | H8: Bumiputera | N8: Cina Chinese | P8: India Indians
H10: Jumlah | J10: Melayu | L10: Bumiputera lain
H11: Total | J11: Malay | L11: Other Bumiputera
A14: Lelaki dan Perempuan
A15: Both sexes
A17: Malaysia | D17: 75.5 | F17: 75 | H17: 74.5 | J17: 74.5 | L17: 74.5 | N17: 77.7 | P17: 72.1 | R17: 82
A18: Johor | D18: 74.9 | F18: 74.3 | H18: 73.6 | J18: 73.6 | L18: 73.2 | N18: 76.6 | P18: 70.2 | R18: 83.1
A19: Kedah | D19: 73 | F19: 72.8 | H19: 72.4 | J19: 72.4 | L19: 80.5 | N19: 76.1 | P19: 70.5 | R19: 84.6
A20: Kelantan | D20: 73.6 | F20: 73.5 | H20: 73.3 | J20: 73.4 | L20: 67.7 | N20: 77.3 | P20: 75.1 | R20: 80.9
A21: Melaka | D21: 74.8 | F21: 74.5 | H21: 73.6 | J21: 73.6 | L21: 75.8 | N21: 77.6 | P21: 71.2 | R21: 75.2
A22: Negeri Sembilan | D22: 74.2 | F22: 74 | H22: 73.5 | J22: 73.6 | L22: 69.8 | N22: 77.5 | P22: 70.8 | R22: 78.6
A23: Pahang | D23: 73.6 | F23: 73.4 | H23: 73.1 | J23: 73.3 | L23: 70.6 | N23: 75.5 | P23: 71.7 | R23: 66.5
A24: Perak | D24: 74 | F24: 73.7 | H24: 72.6 | J24: 72.6 | L24: 73.3 | N24: 76.9 | P24: 71.1 | R24: 76.7
A25: Perlis | D25: 73.4 | F25: 73.2 | H25: 72.8 | J25: 72.8 | L25: N/A | N25: 76.8 | P25: 78.4 | R25: 77.6
A26: Pulau Pinang | D26: 75.5 | F26: 75.2 | H26: 73.1 | J26: 73.1 | L26: N/A | N26: 78 | P26: 70 | R26: 81
A27: Sabah | D27: 75.1 | F27: 73.6 | H27: 73.9 | J27: 68.4 | L27: 74.8 | N27: 72.9 | P27: 69.3 | R27: 83.6
A28: Sarawak | D28: 75.5 | F28: 75.3 | H28: 74.4 | J28: 74.7 | L28: 74.2 | N28: 78.1 | P28: 74 | R28: 78.6
A29: Selangor | D29: 78.2 | F29: 77.9 | H29: 78.3 | J29: 78.4 | L29: 72.4 | N29: 79.2 | P29: 73.6 | R29: 80.8
A30: Terengganu | D30: 72.8 | F30: 72.7 | H30: 72.6 | J30: 72.6 | L30: 73.2 | N30: 76.5 | P30: 68.9 | R30: 80.2
A31: W.P. Kuala Lumpur | D31: 77.3 | F31: 77.1 | H31: 77.5 | J31: 77.6 | L31: 74.1 | N31: 77.4 | P31: 74.4 | R31: 74.6
A32: W.P. Labuan | D32: 77 | F32: 77.1 | H32: 77.2 | J32: 71.3 | L32: 80.5 | N32: 78.3 | P32: 71.3 | R32: 71.4
A33: W.P. Putrajaya | D33: 74.6 | F33: 74.6 | H33: 74.7 | J33: 74.6 | L33: N/A | N33: N/A | P33: 71.2 | R33: N/A
A35: Lelaki
A36: Male
A38: Malaysia | D38: 73.2 | F38: 72.5 | H38: 72.1 | J38: 72.1 | L38: 72.2 | N38: 75.1 | P38: 68.8 | R38: 81.7
A39: Johor | D39: 72.7 | F39: 71.8 | H39: 71.2 | J39: 71.2 | L39: 71.4 | N39: 74 | P39: 66.8 | R39: 83.2
A40: Kedah | D40: 70.3 | F40: 69.8 | H40: 69.6 | J40: 69.6 | L40: 85.4 | N40: 73.1 | P40: 66.2 | R40: 84
A41: Kelantan | D41: 70.9 | F41: 70.7 | H41: 70.6 | J41: 70.6 | L41: 65.9 | N41: 74.8 | P41: 72.3 | R41: 77.9
A42: Melaka | D42: 72 | F42: 71.6 | H42: 70.9 | J42: 70.9 | L42: 76 | N42: 74.4 | P42: 67 | R42: 75
A43: Negeri Sembilan | D43: 71.5 | F43: 71.1 | H43: 70.9 | J43: 71 | L43: 65.7 | N43: 74.7 | P43: 67.2 | R43: 78.5
A44: Pahang | D44: 71.3 | F44: 70.8 | H44: 70.6 | J44: 70.8 | L44: 68.6 | N44: 72.4 | P44: 68.2 | R44: 65.4
A45: Perak | D45: 71.2 | F45: 70.6 | H45: 69.8 | J45: 69.8 | L45: 71.4 | N45: 73.7 | P45: 66.6 | R45: 76.5
A46: Perlis | D46: 70 | F46: 69.7 | H46: 69.3 | J46: 69.2 | L46: N/A | N46: 74.8 | P46: 75.8 | R46: 76.2
A47: Pulau Pinang | D47: 73.1 | F47: 72.7 | H47: 71.1 | J47: 71 | L47: N/A | N47: 75.4 | P47: 66.9 | R47: 81.8
A48: Sabah | D48: 73 | F48: 71.2 | H48: 71.6 | J48: 66.2 | L48: 72.5 | N48: 70.5 | P48: 65.1 | R48: 82.7
A49: Sarawak | D49: 73.3 | F49: 72.9 | H49: 72 | J49: 72.3 | L49: 71.8 | N49: 75.6 | P49: 70.3 | R49: 78.6
A50: Selangor | D50: 76.4 | F50: 75.8 | H50: 76.5 | J50: 76.6 | L50: 65.7 | N50: 76.9 | P50: 70.9 | R50: 81.3
A51: Terengganu | D51: 70.3 | F51: 70 | H51: 69.9 | J51: 69.9 | L51: 69 | N51: 73.8 | P51: 63.5 | R51: 77.9
A52: W.P. Kuala Lumpur | D52: 75.1 | F52: 74.6 | H52: 75.6 | J52: 75.7 | L52: 71.9 | N52: 74.7 | P52: 71.3 | R52: 72.6
A53: W.P. Labuan | D53: 75.1 | F53: 75 | H53: 75.4 | J53: 68.7 | L53: 79.4 | N53: 73.9 | P53: 64.6 | R53: 71.5
A54: W.P. Putrajaya | D54: 72.5 | F54: 72.5 | H54: 72.7 | J54: 72.6 | L54: N/A | N54: N/A | P54: 68.7 | R54: N/A
A57: Nota: | B57: 1 Termasuk etnik Lain-lain (Warganegara) | K57: e | L57: Anggaran
A58: Notes: | B58: Includes Others (Citizens) | L58: Estimates
B60: N/A - Jangkaan hayat ketika lahir tidak dapat dikira disebabkan kekurangan data untuk membuat pengiraan
B61: Life expectancy at birth cannot be calculated due to insufficient data to make calculation
A63: Jadual 1.13: Jangkaan hayat ketika lahir mengikut jantina, kumpulan etnik dan negeri, Malaysia, 2026e (samb.)
A64: Table 1.13: Life expectancy at birth by sex, ethnic group and state, Malaysia, 2026e (cont'd)
E67: Warganegara
A68: Tahun | D68: Jumlah | E68: Citizens | R68: Bukan
A69: Year | R69: warganegara Non-citizens
D70: Total | F70: Jumlah1 Total1 | H70: Bumiputera | N70: Cina Chinese | P70: India Indians
H72: Jumlah | J72: Melayu | L72: Bumiputera lain
H73: Total | J73: Malay | L73: Other Bumiputera
A76: Perempuan
A77: Female
A79: Malaysia | D79: 78.1 | F79: 77.9 | H79: 77.1 | J79: 77.2 | L79: 76.9 | N79: 80.8 | P79: 75.8 | R79: 82.4
A80: Johor | D80: 77.4 | F80: 77.2 | H80: 76.3 | J80: 76.3 | L80: 74.5 | N80: 79.7 | P80: 74 | R80: 81.9
A81: Kedah | D81: 76 | F81: 75.9 | H81: 75.4 | J81: 75.4 | L81: 76.1 | N81: 79.4 | P81: 74.9 | R81: 85
A82: Kelantan | D82: 76.5 | F82: 76.4 | H82: 76.3 | J82: 76.3 | L82: 70 | N82: 80.4 | P82: 78.2 | R82: 83.5
A83: Melaka | D83: 77.8 | F83: 77.7 | H83: 76.5 | J83: 76.5 | L83: 76.9 | N83: 81.3 | P83: 75.5 | R83: 75.4
A84: Negeri Sembilan | D84: 77.3 | F84: 77.2 | H84: 76.4 | J84: 76.4 | L84: 74.6 | N84: 80.8 | P84: 74.9 | R84: 79.1
A85: Pahang | D85: 76.3 | F85: 76.3 | H85: 75.9 | J85: 76.1 | L85: 72.8 | N85: 79.3 | P85: 75.7 | R85: 69.3
A86: Perak | D86: 77.2 | F86: 77.1 | H86: 75.5 | J86: 75.5 | L86: 75.2 | N86: 80.7 | P86: 75.8 | R86: 76.7
A87: Perlis | D87: 77 | F87: 76.8 | H87: 76.5 | J87: 76.5 | L87: N/A | N87: 79.2 | P87: 81 | R87: 79.3
A88: Pulau Pinang | D88: 78 | F88: 77.9 | H88: 75.3 | J88: 75.3 | L88: N/A | N88: 81 | P88: 73.4 | R88: 80.3
A89: Sabah | D89: 77.6 | F89: 76.4 | H89: 76.6 | J89: 70.6 | L89: 77.2 | N89: 76.2 | P89: 78.2 | R89: 84.7
A90: Sarawak | D90: 78.1 | F90: 78 | H90: 77 | J90: 77.4 | L90: 76.8 | N90: 80.9 | P90: 81.5 | R90: 78.8
A91: Selangor | D91: 80.4 | F91: 80.2 | H91: 80.3 | J91: 80.4 | L91: 77.6 | N91: 81.8 | P91: 76.6 | R91: 77.6
A92: Terengganu | D92: 75.7 | F92: 75.6 | H92: 75.5 | J92: 75.5 | L92: 78.2 | N92: 79.8 | P92: 78.8 | R92: 83.2
A93: W.P. Kuala Lumpur | D93: 79.9 | F93: 79.8 | H93: 79.6 | J93: 79.7 | L93: 76.5 | N93: 80.5 | P93: 77.9 | R93: 77.6
A94: W.P. Labuan | D94: 79.3 | F94: 79.5 | H94: 79.2 | J94: 74.5 | L94: 81.7 | N94: 82.8 | P94: 80.8 | R94: 71.2
A95: W.P. Putrajaya | D95: 76.6 | F95: 76.6 | H95: 76.6 | J95: 76.5 | L95: N/A | N95: N/A | P95: 74 | R95: N/A
A98: Nota: | B98: 1 Termasuk etnik Lain-lain (Warganegara) | K98: e | L98: Anggaran
A99: Notes: | B99: Includes Others (Citizens) | L99: Estimates
B101: N/A - Jangkaan hayat ketika lahir tidak dapat dikira disebabkan kekurangan data untuk membuat pengiraan
B102: Life expectancy at birth cannot be calculated due to insufficient data to make calculation

Sheet Jadual 1.14
B2: Jadual 1.14: Jangkaan hayat ketika lahir mengikut negeri, daerah pentadbiran dan jantina, Malaysia, 2024
B3: Table 1.14: Life expectancy at birth by state, administrative district and sex, Malaysia, 2024
D5: Jangkaan hayat ketika lahir
B6: Negeri dan daerah pentadbiran | D6: Life expectancy at birth
B7: State and administrative district | D7: Lelaki dan Perempuan | E7: Lelaki | F7: Perempuan
D8: Both Sexes | E8: Male | F8: Female
B11: Malaysia | D11: 74.9 | E11: 72.6 | F11: 77.5
B13: Johor | D13: 74.4 | E13: 72.3 | F13: 77
B14: Batu Pahat | D14: 74.4 | E14: 72.1 | F14: 77
B15: Johor Bahru | D15: 76.1 | E15: 74.1 | F15: 78.5
B16: Kluang | D16: 72.4 | E16: 70.6 | F16: 74.7
B17: Kota Tinggi | D17: 69.8 | E17: 67.7 | F17: 72.2
B18: Mersing | D18: 69.7 | E18: 67.4 | F18: 72.9
B19: Muar | D19: 74.6 | E19: 72.8 | F19: 76.9
B20: Pontian | D20: 71.6 | E20: 68.9 | F20: 74.8
B21: Segamat | D21: 71.7 | E21: 69 | F21: 75
B22: Kulai | D22: 76.8 | E22: 74.7 | F22: 79.3
B23: Tangkak | D23: 74.2 | E23: 71.9 | F23: 76.9
... B64: Jempol | D64: 71.4 | E64: 68.7 | F64: 74.6
B67: Nota/Note: 1 Jajahan
B70: Jadual 1.14: Jangkaan hayat ketika lahir mengikut negeri, daerah pentadbiran dan jantina, Malaysia, 2024 (samb.)
B71: Table 1.14: Life expectancy at birth by state, administrative district and sex, Malaysia, 2024 (cont'd)
D73: Jangkaan hayat ketika lahir
B74: Negeri dan daerah pentadbiran | D74: Life expectancy at birth
B75: State and administrative district | D75: Lelaki dan Perempuan | E75: Lelaki | F75: Perempuan
D76: Both Sexes | E76: Male | F76: Female
B79: Pahang | D79: 72.8 | E79: 70.5 | F79: 75.6
B80: Bentong | D80: 73.4 | E80: 71.1 | F80: 76.3
B81: Cameron Highlands | D81: 76.2 | E81: 74.4 | F81: 78.6
B82: Jerantut | D82: 71.1 | E82: 68.5 | F82: 74.3
B83: Kuantan | D83: 75.5 | E83: 73.3 | F83: 78.1
B84: Lipis | D84: 73.5 | E84: 72 | F84: 75.4
B85: Pekan | D85: 69.6 | E85: 67.5 | F85: 72
B86: Raub | D86: 72.7 | E86: 69.8 | F86: 76.3
B87: Temerloh | D87: 71.7 | E87: 69.1 | F87: 74.7
B88: Rompin | D88: 68.2 | E88: 65.8 | F88: 71.1
B89: Maran | D89: 69.7 | E89: 67.2 | F89: 72.5
B90: Bera | D90: 72 | E90: 69 | F90: 75.6
... B144: Membakut | D144: 69.9 | E144: 67.9 | F144: 72.4
B149: Jadual 1.14: Jangkaan hayat ketika lahir mengikut negeri, daerah pentadbiran dan jantina, Malaysia, 2024 (samb.)
B150: Table 1.14: Life expectancy at birth by state, administrative district and sex, Malaysia, 2024 (cont'd)
D152: Jangkaan hayat ketika lahir
B153: Negeri dan daerah pentadbiran | D153: Life expectancy at birth
B154: State and administrative district | D154: Lelaki dan Perempuan | E154: Lelaki | F154: Perempuan
D155: Both Sexes | E155: Male | F155: Female
B158: Sarawak | D158: 75 | E158: 72.6 | F158: 77.7
B159: Kuching | D159: 77 | E159: 74.4 | F159: 80
B160: Bau | D160: 74.6 | E160: 71.7 | F160: 78.2
B161: Lundu | D161: 74.4 | E161: 72.1 | F161: 77.3
B162: Samarahan | D162: 80.3 | E162: 79.2 | F162: 81.4
B163: Serian | D163: 71.7 | E163: 68.6 | F163: 75.5
B164: Simunjan | D164: 72.6 | E164: 70.2 | F164: 75.6
B165: Sri Aman | D165: 72.9 | E165: 69.5 | F165: 76.9
B166: Lubok Antu | D166: 73 | E166: 69.7 | F166: 76.9
B167: Betong | D167: 72.3 | E167: 71 | F167: 73.8
B168: Saratok | D168: 73.6 | E168: 70.9 | F168: 76.3
B169: Sarikei | D169: 73.7 | E169: 70.4 | F169: 77.5
... B230: W.P. Putrajaya | D230: 73.5 | E230: 71.9 | F230: 75

Sheet Jadual 1.15
B2: Jadual 1.15: Jangkaan hayat ketika lahir mengikut negeri, daerah pentadbiran dan jantina, Malaysia, 2025p
B3: Table 1.15: Life expectancy at birth by state, administrative district and sex, Malaysia, 2025p
D5: Jangkaan hayat ketika lahir
B6: Negeri dan daerah pentadbiran | D6: Life expectancy at birth
B7: State and administrative district | D7: Lelaki dan Perempuan | E7: Lelaki | F7: Perempuan
D8: Both Sexes | E8: Male | F8: Female
B11: Malaysia | D11: 75.2 | E11: 73 | F11: 77.8
B13: Johor | D13: 74.6 | E13: 72.5 | F13: 77.2
B14: Batu Pahat | D14: 74.6 | E14: 72.3 | F14: 77.2
B15: Johor Bahru | D15: 76.2 | E15: 74.3 | F15: 78.5
B16: Kluang | D16: 72.5 | E16: 70.5 | F16: 75.1
B17: Kota Tinggi | D17: 69.9 | E17: 67.7 | F17: 72.5
B18: Mersing | D18: 69.9 | E18: 67.4 | F18: 73.1
B19: Muar | D19: 75.3 | E19: 73.6 | F19: 77.4
B20: Pontian | D20: 71.9 | E20: 69 | F20: 75.5
B21: Segamat | D21: 72.3 | E21: 69.5 | F21: 75.6
B22: Kulai | D22: 77.2 | E22: 75 | F22: 79.7
B23: Tangkak | D23: 73.8 | E23: 71.2 | F23: 76.9
... B64: Jempol | D64: 71.6 | E64: 68.7 | F64: 75.1
B67: Nota/Note: 1 Jajahan | D67: p Permulaan/Preliminary
B70: Jadual 1.15: Jangkaan hayat ketika lahir mengikut negeri, daerah pentadbiran dan jantina, Malaysia, 2025p (samb.)
B71: Table 1.15: Life expectancy at birth by state, administrative district and sex, Malaysia, 2025p (cont'd)
D73: Jangkaan hayat ketika lahir
B74: Negeri dan daerah pentadbiran | D74: Life expectancy at birth
B75: State and administrative district | D75: Lelaki dan Perempuan | E75: Lelaki | F75: Perempuan
D76: Both Sexes | E76: Male | F76: Female
B79: Pahang | D79: 73.3 | E79: 71 | F79: 76.1
B80: Bentong | D80: 73.6 | E80: 71.5 | F80: 76.3
B81: Cameron Highlands | D81: 76.5 | E81: 75.2 | F81: 78
B82: Jerantut | D82: 71.4 | E82: 68.5 | F82: 74.8
B83: Kuantan | D83: 76 | E83: 73.9 | F83: 78.6
B84: Lipis | D84: 73.9 | E84: 72.2 | F84: 76.1
B85: Pekan | D85: 69.6 | E85: 67.5 | F85: 72.1
B86: Raub | D86: 73.1 | E86: 70 | F86: 77
B87: Temerloh | D87: 72.4 | E87: 69.8 | F87: 75.5
B88: Rompin | D88: 68.8 | E88: 66.7 | F88: 71.3
B89: Maran | D89: 70 | E89: 67.6 | F89: 72.7
B90: Bera | D90: 72.6 | E90: 69.8 | F90: 75.9
... B144: Membakut | D144: 69.1 | E144: 66.9 | F144: 71.8
B146: p Permulaan/Preliminary
B149: Jadual 1.15: Jangkaan hayat ketika lahir mengikut negeri, daerah pentadbiran dan jantina, Malaysia, 2025p (samb.)
B150: Table 1.15: Life expectancy at birth by state, administrative district and sex, Malaysia, 2025p (cont'd)
D152: Jangkaan hayat ketika lahir
B153: Negeri dan daerah pentadbiran | D153: Life expectancy at birth
B154: State and administrative district | D154: Lelaki dan Perempuan | E154: Lelaki | F154: Perempuan
D155: Both Sexes | E155: Male | F155: Female
B158: Sarawak | D158: 75.3 | E158: 72.9 | F158: 78
B159: Kuching | D159: 77.3 | E159: 74.8 | F159: 79.9
B160: Bau | D160: 74.4 | E160: 71.1 | F160: 78.3
B161: Lundu | D161: 74.6 | E161: 72.4 | F161: 77.2
B162: Samarahan | D162: 80.6 | E162: 79.3 | F162: 82
B163: Serian | D163: 71 | E163: 67.5 | F163: 75.1
B164: Simunjan | D164: 72.6 | E164: 70.4 | F164: 75.2
B165: Sri Aman | D165: 73.7 | E165: 70.5 | F165: 77.4
B166: Lubok Antu | D166: 73.7 | E166: 70.9 | F166: 76.9
B167: Betong | D167: 72.7 | E167: 70.3 | F167: 75.4
B168: Saratok | D168: 73.1 | E168: 70.5 | F168: 76
B169: Sarikei | D169: 73.7 | E169: 69.9 | F169: 78.1
... B230: W.P. Putrajaya | D230: 73.6 | E230: 71.8 | F230: 75.4
B232: p Permulaan/Preliminary

Sheet Jadual 1.16
B2: Jadual 1.16: Jangkaan hayat ketika lahir mengikut negeri, daerah pentadbiran dan jantina, Malaysia, 2026e
B3: Table 1.16: Life expectancy at birth by state, administrative district and sex, Malaysia, 2026e
D5: Jangkaan hayat ketika lahir
B6: Negeri dan daerah pentadbiran | D6: Life expectancy at birth
B7: State and administrative district | D7: Lelaki dan Perempuan | E7: Lelaki | F7: Perempuan
D8: Both Sexes | E8: Male | F8: Female
B11: Malaysia | D11: 75.5 | E11: 73.2 | F11: 78.1
B13: Johor | D13: 74.9 | E13: 72.7 | F13: 77.4
B14: Batu Pahat | D14: 74.8 | E14: 72.4 | F14: 77.5
B15: Johor Bahru | D15: 76.3 | E15: 74.5 | F15: 78.4
B16: Kluang | D16: 72.5 | E16: 70.2 | F16: 75.5
B17: Kota Tinggi | D17: 70.4 | E17: 68.3 | F17: 72.8
B18: Mersing | D18: 70 | E18: 67.5 | F18: 73.2
B19: Muar | D19: 76.2 | E19: 74.6 | F19: 78.1
B20: Pontian | D20: 72.2 | E20: 69 | F20: 76.4
B21: Segamat | D21: 73 | E21: 70 | F21: 76.6
B22: Kulai | D22: 77.4 | E22: 75.4 | F22: 79.8
B23: Tangkak | D23: 73.2 | E23: 70.4 | F23: 76.7
... B64: Jempol | D64: 71.7 | E64: 68.6 | F64: 75.3
B67: Nota/Note: 1 Jajahan | D67: e Anggaran/Estimates
B70: Jadual 1.16: Jangkaan hayat ketika lahir mengikut negeri, daerah pentadbiran dan jantina, Malaysia, 2026e (samb.)
B71: Table 1.16: Life expectancy at birth by state, administrative district and sex, Malaysia, 2026e (cont'd)
D73: Jangkaan hayat ketika lahir
B74: Negeri dan daerah pentadbiran | D74: Life expectancy at birth
B75: State and administrative district | D75: Lelaki dan Perempuan | E75: Lelaki | F75: Perempuan
D76: Both Sexes | E76: Male | F76: Female
B79: Pahang | D79: 73.6 | E79: 71.3 | F79: 76.3
B80: Bentong | D80: 73.5 | E80: 71.5 | F80: 76
B81: Cameron Highlands | D81: 77.3 | E81: 76.9 | F81: 77.5
B82: Jerantut | D82: 71.9 | E82: 68.8 | F82: 75.6
B83: Kuantan | D83: 76.5 | E83: 74.3 | F83: 79
B84: Lipis | D84: 74.1 | E84: 71.9 | F84: 76.7
B85: Pekan | D85: 69.6 | E85: 67.3 | F85: 72.2
B86: Raub | D86: 73.9 | E86: 70.5 | F86: 78
B87: Temerloh | D87: 72.8 | E87: 70 | F87: 76.2
B88: Rompin | D88: 69.1 | E88: 67.2 | F88: 71.2
B89: Maran | D89: 69.9 | E89: 67.4 | F89: 72.8
B90: Bera | D90: 72.4 | E90: 70.1 | F90: 74.9
... B144: Membakut | D144: 68 | E144: 65.7 | F144: 71.1
B146: e Anggaran/Estimates
B149: Jadual 1.16: Jangkaan hayat ketika lahir mengikut negeri, daerah pentadbiran dan jantina, Malaysia, 2026e (samb.)
B150: Table 1.16: Life expectancy at birth by state, administrative district and sex, Malaysia, 2026e (cont'd)
D152: Jangkaan hayat ketika lahir
B153: Negeri dan daerah pentadbiran | D153: Life expectancy at birth
B154: State and administrative district | D154: Lelaki dan Perempuan | E154: Lelaki | F154: Perempuan
D155: Both Sexes | E155: Male | F155: Female
B158: Sarawak | D158: 75.5 | E158: 73.3 | F158: 78.1
B159: Kuching | D159: 77.3 | E159: 75.1 | F159: 79.7
B160: Bau | D160: 74.7 | E160: 71.3 | F160: 79
B161: Lundu | D161: 74.2 | E161: 71.9 | F161: 77.1
B162: Samarahan | D162: 80.9 | E162: 79.1 | F162: 82.8
B163: Serian | D163: 70.5 | E163: 67.1 | F163: 74.6
B164: Simunjan | D164: 72 | E164: 69.7 | F164: 74.8
B165: Sri Aman | D165: 75.6 | E165: 73.2 | F165: 78.2
B166: Lubok Antu | D166: 74.7 | E166: 72.9 | F166: 76.6
B167: Betong | D167: 72.9 | E167: 69.4 | F167: 77.1
B168: Saratok | D168: 73.2 | E168: 70.9 | F168: 75.5
B169: Sarikei | D169: 73.7 | E169: 69.5 | F169: 78.5
... B230: W.P. Putrajaya | D230: 74.6 | E230: 72.5 | F230: 76.6
B232: e Anggaran/Estimates
