Workbook

Sheet Jadual 10
A1: Jadual 10: Bilangan ketua isi rumah yang menyewa tempat kediaman mengikut jenis unit perumahan, kadar sewa bulanan, daerah pentadbiran dan negeri, Malaysia, 2020
A2: Table 10: Number of head of household who rent a living quarters by type of housing units, monthly rental rates, administrative district and state, Malaysia, 2020
A4: Negeri/ Daerah Pentadbiran State/ Administrative District | B4: Jumlah Total | C4: Kadar sewa bulanan tempat kediaman Monthly rental rates for living quarters
C5: RM500 dan kurang/ and below | D5: RM501 - RM999 | E5: RM1,000 - RM1,499 | F5: RM1,500 - RM1,999 | G5: RM2,000 - RM2,499 | H5: RM2,500 - RM2,999 | I5: RM3,000 dan lebih/ and over | J5: Tidak diketahui Unknown
A6: MALAYSIA
A7: Unit perumahan Housing unit | B7: ='Jadual 10'!B13+'Jadual 10'!B84+'Jadual 10'!B162+'Jadual 10'!B234+'Jadual 10'!B258+'Jadual 10'!B306+'Jadual 10'!B378+'Jadual 10'!B414+'Jadual 10'!B498+'Jadual 10'!B504+'Jadual 10'!B564+'Jadual 10'!B618+'Jadual 10'!B786+'Jadual 10'!B1032+'Jadual 10'!B1038+'Jadual 10'!B1044 -> 1313798 | C7: ='Jadual 10'!C13+'Jadual 10'!C84+'Jadual 10'!C162+'Jadual 10'!C234+'Jadual 10'!C258+'Jadual 10'!C306+'Jadual 10'!C378+'Jadual 10'!C414+'Jadual 10'!C498+'Jadual 10'!C504+'Jadual 10'!C564+'Jadual 10'!C618+'Jadual 10'!C786+'Jadual 10'!C1032+'Jadual 10'!C1038+'Jadual 10'!C1044 -> 675146 | D7: ='Jadual 10'!D13+'Jadual 10'!D84+'Jadual 10'!D162+'Jadual 10'!D234+'Jadual 10'!D258+'Jadual 10'!D306+'Jadual 10'!D378+'Jadual 10'!D414+'Jadual 10'!D498+'Jadual 10'!D504+'Jadual 10'!D564+'Jadual 10'!D618+'Jadual 10'!D786+'Jadual 10'!D1032+'Jadual 10'!D1038+'Jadual 10'!D1044 -> 376533 | E7: ='Jadual 10'!E13+'Jadual 10'!E84+'Jadual 10'!E162+'Jadual 10'!E234+'Jadual 10'!E258+'Jadual 10'!E306+'Jadual 10'!E378+'Jadual 10'!E414+'Jadual 10'!E498+'Jadual 10'!E504+'Jadual 10'!E564+'Jadual 10'!E618+'Jadual 10'!E786+'Jadual 10'!E1032+'Jadual 10'!E1038+'Jadual 10'!E1044 -> 159088 | F7: ='Jadual 10'!F13+'Jadual 10'!F84+'Jadual 10'!F162+'Jadual 10'!F234+'Jadual 10'!F258+'Jadual 10'!F306+'Jadual 10'!F378+'Jadual 10'!F414+'Jadual 10'!F498+'Jadual 10'!F504+'Jadual 10'!F564+'Jadual 10'!F618+'Jadual 10'!F786+'Jadual 10'!F1032+'Jadual 10'!F1038+'Jadual 10'!F1044 -> 57165 | G7: ='Jadual 10'!G13+'Jadual 10'!G84+'Jadual 10'!G162+'Jadual 10'!G234+'Jadual 10'!G258+'Jadual 10'!G306+'Jadual 10'!G378+'Jadual 10'!G414+'Jadual 10'!G498+'Jadual 10'!G504+'Jadual 10'!G564+'Jadual 10'!G618+'Jadual 10'!G786+'Jadual 10'!G1032+'Jadual 10'!G1038+'Jadual 10'!G1044 -> 16652 | H7: ='Jadual 10'!H13+'Jadual 10'!H84+'Jadual 10'!H162+'Jadual 10'!H234+'Jadual 10'!H258+'Jadual 10'!H306+'Jadual 10'!H378+'Jadual 10'!H414+'Jadual 10'!H498+'Jadual 10'!H504+'Jadual 10'!H564+'Jadual 10'!H618+'Jadual 10'!H786+'Jadual 10'!H1032+'Jadual 10'!H1038+'Jadual 10'!H1044 -> 6665 | I7: ='Jadual 10'!I13+'Jadual 10'!I84+'Jadual 10'!I162+'Jadual 10'!I234+'Jadual 10'!I258+'Jadual 10'!I306+'Jadual 10'!I378+'Jadual 10'!I414+'Jadual 10'!I498+'Jadual 10'!I504+'Jadual 10'!I564+'Jadual 10'!I618+'Jadual 10'!I786+'Jadual 10'!I1032+'Jadual 10'!I1038+'Jadual 10'!I1044 -> 12787 | J7: ='Jadual 10'!J13+'Jadual 10'!J84+'Jadual 10'!J162+'Jadual 10'!J234+'Jadual 10'!J258+'Jadual 10'!J306+'Jadual 10'!J378+'Jadual 10'!J414+'Jadual 10'!J498+'Jadual 10'!J504+'Jadual 10'!J564+'Jadual 10'!J618+'Jadual 10'!J786+'Jadual 10'!J1032+'Jadual 10'!J1038+'Jadual 10'!J1044 -> 9762
A8: Landed | B8: ='Jadual 10'!B14+'Jadual 10'!B85+'Jadual 10'!B163+'Jadual 10'!B235+'Jadual 10'!B259+'Jadual 10'!B307+'Jadual 10'!B379+'Jadual 10'!B415+'Jadual 10'!B499+'Jadual 10'!B505+'Jadual 10'!B565+'Jadual 10'!B619+'Jadual 10'!B787+'Jadual 10'!B1033+'Jadual 10'!B1039+'Jadual 10'!B1045 -> 745668 | C8: ='Jadual 10'!C14+'Jadual 10'!C85+'Jadual 10'!C163+'Jadual 10'!C235+'Jadual 10'!C259+'Jadual 10'!C307+'Jadual 10'!C379+'Jadual 10'!C415+'Jadual 10'!C499+'Jadual 10'!C505+'Jadual 10'!C565+'Jadual 10'!C619+'Jadual 10'!C787+'Jadual 10'!C1033+'Jadual 10'!C1039+'Jadual 10'!C1045 -> 450708 | D8: ='Jadual 10'!D14+'Jadual 10'!D85+'Jadual 10'!D163+'Jadual 10'!D235+'Jadual 10'!D259+'Jadual 10'!D307+'Jadual 10'!D379+'Jadual 10'!D415+'Jadual 10'!D499+'Jadual 10'!D505+'Jadual 10'!D565+'Jadual 10'!D619+'Jadual 10'!D787+'Jadual 10'!D1033+'Jadual 10'!D1039+'Jadual 10'!D1045 -> 203792 | E8: ='Jadual 10'!E14+'Jadual 10'!E85+'Jadual 10'!E163+'Jadual 10'!E235+'Jadual 10'!E259+'Jadual 10'!E307+'Jadual 10'!E379+'Jadual 10'!E415+'Jadual 10'!E499+'Jadual 10'!E505+'Jadual 10'!E565+'Jadual 10'!E619+'Jadual 10'!E787+'Jadual 10'!E1033+'Jadual 10'!E1039+'Jadual 10'!E1045 -> 61301 | F8: ='Jadual 10'!F14+'Jadual 10'!F85+'Jadual 10'!F163+'Jadual 10'!F235+'Jadual 10'!F259+'Jadual 10'!F307+'Jadual 10'!F379+'Jadual 10'!F415+'Jadual 10'!F499+'Jadual 10'!F505+'Jadual 10'!F565+'Jadual 10'!F619+'Jadual 10'!F787+'Jadual 10'!F1033+'Jadual 10'!F1039+'Jadual 10'!F1045 -> 15299 | G8: ='Jadual 10'!G14+'Jadual 10'!G85+'Jadual 10'!G163+'Jadual 10'!G235+'Jadual 10'!G259+'Jadual 10'!G307+'Jadual 10'!G379+'Jadual 10'!G415+'Jadual 10'!G499+'Jadual 10'!G505+'Jadual 10'!G565+'Jadual 10'!G619+'Jadual 10'!G787+'Jadual 10'!G1033+'Jadual 10'!G1039+'Jadual 10'!G1045 -> 4444 | H8: ='Jadual 10'!H14+'Jadual 10'!H85+'Jadual 10'!H163+'Jadual 10'!H235+'Jadual 10'!H259+'Jadual 10'!H307+'Jadual 10'!H379+'Jadual 10'!H415+'Jadual 10'!H499+'Jadual 10'!H505+'Jadual 10'!H565+'Jadual 10'!H619+'Jadual 10'!H787+'Jadual 10'!H1033+'Jadual 10'!H1039+'Jadual 10'!H1045 -> 1357 | I8: ='Jadual 10'!I14+'Jadual 10'!I85+'Jadual 10'!I163+'Jadual 10'!I235+'Jadual 10'!I259+'Jadual 10'!I307+'Jadual 10'!I379+'Jadual 10'!I415+'Jadual 10'!I499+'Jadual 10'!I505+'Jadual 10'!I565+'Jadual 10'!I619+'Jadual 10'!I787+'Jadual 10'!I1033+'Jadual 10'!I1039+'Jadual 10'!I1045 -> 3123 | J8: ='Jadual 10'!J14+'Jadual 10'!J85+'Jadual 10'!J163+'Jadual 10'!J235+'Jadual 10'!J259+'Jadual 10'!J307+'Jadual 10'!J379+'Jadual 10'!J415+'Jadual 10'!J499+'Jadual 10'!J505+'Jadual 10'!J565+'Jadual 10'!J619+'Jadual 10'!J787+'Jadual 10'!J1033+'Jadual 10'!J1039+'Jadual 10'!J1045 -> 5644
A9: High-rise | B9: ='Jadual 10'!B15+'Jadual 10'!B86+'Jadual 10'!B164+'Jadual 10'!B236+'Jadual 10'!B260+'Jadual 10'!B308+'Jadual 10'!B380+'Jadual 10'!B416+'Jadual 10'!B500+'Jadual 10'!B506+'Jadual 10'!B566+'Jadual 10'!B620+'Jadual 10'!B788+'Jadual 10'!B1034+'Jadual 10'!B1040+'Jadual 10'!B1046 -> 504570 | C9: ='Jadual 10'!C15+'Jadual 10'!C86+'Jadual 10'!C164+'Jadual 10'!C236+'Jadual 10'!C260+'Jadual 10'!C308+'Jadual 10'!C380+'Jadual 10'!C416+'Jadual 10'!C500+'Jadual 10'!C506+'Jadual 10'!C566+'Jadual 10'!C620+'Jadual 10'!C788+'Jadual 10'!C1034+'Jadual 10'!C1040+'Jadual 10'!C1046 -> 184075 | D9: ='Jadual 10'!D15+'Jadual 10'!D86+'Jadual 10'!D164+'Jadual 10'!D236+'Jadual 10'!D260+'Jadual 10'!D308+'Jadual 10'!D380+'Jadual 10'!D416+'Jadual 10'!D500+'Jadual 10'!D506+'Jadual 10'!D566+'Jadual 10'!D620+'Jadual 10'!D788+'Jadual 10'!D1034+'Jadual 10'!D1040+'Jadual 10'!D1046 -> 154855 | E9: ='Jadual 10'!E15+'Jadual 10'!E86+'Jadual 10'!E164+'Jadual 10'!E236+'Jadual 10'!E260+'Jadual 10'!E308+'Jadual 10'!E380+'Jadual 10'!E416+'Jadual 10'!E500+'Jadual 10'!E506+'Jadual 10'!E566+'Jadual 10'!E620+'Jadual 10'!E788+'Jadual 10'!E1034+'Jadual 10'!E1040+'Jadual 10'!E1046 -> 94142 | F9: ='Jadual 10'!F15+'Jadual 10'!F86+'Jadual 10'!F164+'Jadual 10'!F236+'Jadual 10'!F260+'Jadual 10'!F308+'Jadual 10'!F380+'Jadual 10'!F416+'Jadual 10'!F500+'Jadual 10'!F506+'Jadual 10'!F566+'Jadual 10'!F620+'Jadual 10'!F788+'Jadual 10'!F1034+'Jadual 10'!F1040+'Jadual 10'!F1046 -> 41204 | G9: ='Jadual 10'!G15+'Jadual 10'!G86+'Jadual 10'!G164+'Jadual 10'!G236+'Jadual 10'!G260+'Jadual 10'!G308+'Jadual 10'!G380+'Jadual 10'!G416+'Jadual 10'!G500+'Jadual 10'!G506+'Jadual 10'!G566+'Jadual 10'!G620+'Jadual 10'!G788+'Jadual 10'!G1034+'Jadual 10'!G1040+'Jadual 10'!G1046 -> 12081 | H9: ='Jadual 10'!H15+'Jadual 10'!H86+'Jadual 10'!H164+'Jadual 10'!H236+'Jadual 10'!H260+'Jadual 10'!H308+'Jadual 10'!H380+'Jadual 10'!H416+'Jadual 10'!H500+'Jadual 10'!H506+'Jadual 10'!H566+'Jadual 10'!H620+'Jadual 10'!H788+'Jadual 10'!H1034+'Jadual 10'!H1040+'Jadual 10'!H1046 -> 5308 | I9: ='Jadual 10'!I15+'Jadual 10'!I86+'Jadual 10'!I164+'Jadual 10'!I236+'Jadual 10'!I260+'Jadual 10'!I308+'Jadual 10'!I380+'Jadual 10'!I416+'Jadual 10'!I500+'Jadual 10'!I506+'Jadual 10'!I566+'Jadual 10'!I620+'Jadual 10'!I788+'Jadual 10'!I1034+'Jadual 10'!I1040+'Jadual 10'!I1046 -> 9664 | J9: ='Jadual 10'!J15+'Jadual 10'!J86+'Jadual 10'!J164+'Jadual 10'!J236+'Jadual 10'!J260+'Jadual 10'!J308+'Jadual 10'!J380+'Jadual 10'!J416+'Jadual 10'!J500+'Jadual 10'!J506+'Jadual 10'!J566+'Jadual 10'!J620+'Jadual 10'!J788+'Jadual 10'!J1034+'Jadual 10'!J1040+'Jadual 10'!J1046 -> 3241
A10: Lain-lain | B10: ='Jadual 10'!B16+'Jadual 10'!B87+'Jadual 10'!B165+'Jadual 10'!B237+'Jadual 10'!B261+'Jadual 10'!B309+'Jadual 10'!B381+'Jadual 10'!B417+'Jadual 10'!B501+'Jadual 10'!B507+'Jadual 10'!B567+'Jadual 10'!B621+'Jadual 10'!B789+'Jadual 10'!B1035+'Jadual 10'!B1041+'Jadual 10'!B1047 -> 63560 | C10: ='Jadual 10'!C16+'Jadual 10'!C87+'Jadual 10'!C165+'Jadual 10'!C237+'Jadual 10'!C261+'Jadual 10'!C309+'Jadual 10'!C381+'Jadual 10'!C417+'Jadual 10'!C501+'Jadual 10'!C507+'Jadual 10'!C567+'Jadual 10'!C621+'Jadual 10'!C789+'Jadual 10'!C1035+'Jadual 10'!C1041+'Jadual 10'!C1047 -> 40363 | D10: ='Jadual 10'!D16+'Jadual 10'!D87+'Jadual 10'!D165+'Jadual 10'!D237+'Jadual 10'!D261+'Jadual 10'!D309+'Jadual 10'!D381+'Jadual 10'!D417+'Jadual 10'!D501+'Jadual 10'!D507+'Jadual 10'!D567+'Jadual 10'!D621+'Jadual 10'!D789+'Jadual 10'!D1035+'Jadual 10'!D1041+'Jadual 10'!D1047 -> 17886 | E10: ='Jadual 10'!E16+'Jadual 10'!E87+'Jadual 10'!E165+'Jadual 10'!E237+'Jadual 10'!E261+'Jadual 10'!E309+'Jadual 10'!E381+'Jadual 10'!E417+'Jadual 10'!E501+'Jadual 10'!E507+'Jadual 10'!E567+'Jadual 10'!E621+'Jadual 10'!E789+'Jadual 10'!E1035+'Jadual 10'!E1041+'Jadual 10'!E1047 -> 3645 | F10: ='Jadual 10'!F16+'Jadual 10'!F87+'Jadual 10'!F165+'Jadual 10'!F237+'Jadual 10'!F261+'Jadual 10'!F309+'Jadual 10'!F381+'Jadual 10'!F417+'Jadual 10'!F501+'Jadual 10'!F507+'Jadual 10'!F567+'Jadual 10'!F621+'Jadual 10'!F789+'Jadual 10'!F1035+'Jadual 10'!F1041+'Jadual 10'!F1047 -> 662 | G10: ='Jadual 10'!G16+'Jadual 10'!G87+'Jadual 10'!G165+'Jadual 10'!G237+'Jadual 10'!G261+'Jadual 10'!G309+'Jadual 10'!G381+'Jadual 10'!G417+'Jadual 10'!G501+'Jadual 10'!G507+'Jadual 10'!G567+'Jadual 10'!G621+'Jadual 10'!G789+'Jadual 10'!G1035+'Jadual 10'!G1041+'Jadual 10'!G1047 -> 127 | H10: ='Jadual 10'!H16+'Jadual 10'!H87+'Jadual 10'!H165+'Jadual 10'!H237+'Jadual 10'!H261+'Jadual 10'!H309+'Jadual 10'!H381+'Jadual 10'!H417+'Jadual 10'!H501+'Jadual 10'!H507+'Jadual 10'!H567+'Jadual 10'!H621+'Jadual 10'!H789+'Jadual 10'!H1035+'Jadual 10'!H1041+'Jadual 10'!H1047 -> 0 | I10: ='Jadual 10'!I16+'Jadual 10'!I87+'Jadual 10'!I165+'Jadual 10'!I237+'Jadual 10'!I261+'Jadual 10'!I309+'Jadual 10'!I381+'Jadual 10'!I417+'Jadual 10'!I501+'Jadual 10'!I507+'Jadual 10'!I567+'Jadual 10'!I621+'Jadual 10'!I789+'Jadual 10'!I1035+'Jadual 10'!I1041+'Jadual 10'!I1047 -> 0 | J10: ='Jadual 10'!J16+'Jadual 10'!J87+'Jadual 10'!J165+'Jadual 10'!J237+'Jadual 10'!J261+'Jadual 10'!J309+'Jadual 10'!J381+'Jadual 10'!J417+'Jadual 10'!J501+'Jadual 10'!J507+'Jadual 10'!J567+'Jadual 10'!J621+'Jadual 10'!J789+'Jadual 10'!J1035+'Jadual 10'!J1041+'Jadual 10'!J1047 -> 877
A12: JOHOR
A13: Unit perumahan Housing unit | B13: =SUM(B14:B16) -> 189332 | C13: =SUM(C14:C16) -> 99037 | D13: =SUM(D14:D16) -> 58696 | E13: =SUM(E14:E16) -> 23663 | F13: =SUM(F14:F16) -> 5819 | G13: =SUM(G14:G16) -> 800 | H13: =SUM(H14:H16) -> 294 | I13: =SUM(I14:I16) -> 242 | J13: =SUM(J14:J16) -> 781
A14: Landed | B14: =B20+B26+B32+B38+B44+B50+B61+B67+B73+B79 -> 125371 | C14: =C20+C26+C32+C38+C44+C50+C61+C67+C73+C79 -> 69161 | D14: =D20+D26+D32+D38+D44+D50+D61+D67+D73+D79 -> 39436 | E14: =E20+E26+E32+E38+E44+E50+E61+E67+E73+E79 -> 13221 | F14: =F20+F26+F32+F38+F44+F50+F61+F67+F73+F79 -> 2118 | G14: =G20+G26+G32+G38+G44+G50+G61+G67+G73+G79 -> 423 | H14: =H20+H26+H32+H38+H44+H50+H61+H67+H73+H79 -> 148 | I14: =I20+I26+I32+I38+I44+I50+I61+I67+I73+I79 -> 184 | J14: =J20+J26+J32+J38+J44+J50+J61+J67+J73+J79 -> 680
A15: High-rise | B15: =B21+B27+B33+B39+B45+B51+B62+B68+B74+B80 -> 56854 | C15: =C21+C27+C33+C39+C45+C51+C62+C68+C74+C80 -> 25560 | D15: =D21+D27+D33+D39+D45+D51+D62+D68+D74+D80 -> 17120 | E15: =E21+E27+E33+E39+E45+E51+E62+E68+E74+E80 -> 9880 | F15: =F21+F27+F33+F39+F45+F51+F62+F68+F74+F80 -> 3624 | G15: =G21+G27+G33+G39+G45+G51+G62+G68+G74+G80 -> 377 | H15: =H21+H27+H33+H39+H45+H51+H62+H68+H74+H80 -> 146 | I15: =I21+I27+I33+I39+I45+I51+I62+I68+I74+I80 -> 58 | J15: =J21+J27+J33+J39+J45+J51+J62+J68+J74+J80 -> 89
A16: Lain-lain | B16: =B22+B28+B34+B40+B46+B52+B63+B69+B75+B81 -> 7107 | C16: =C22+C28+C34+C40+C46+C52+C63+C69+C75+C81 -> 4316 | D16: =D22+D28+D34+D40+D46+D52+D63+D69+D75+D81 -> 2140 | E16: =E22+E28+E34+E40+E46+E52+E63+E69+E75+E81 -> 562 | F16: =F22+F28+F34+F40+F46+F52+F63+F69+F75+F81 -> 77 | G16: =G22+G28+G34+G40+G46+G52+G63+G69+G75+G81 -> 0 | H16: =H22+H28+H34+H40+H46+H52+H63+H69+H75+H81 -> 0 | I16: =I22+I28+I34+I40+I46+I52+I63+I69+I75+I81 -> 0 | J16: =J22+J28+J34+J40+J46+J52+J63+J69+J75+J81 -> 12
A18: Batu Pahat
A19: Unit perumahan Housing unit | B19: =SUM(B20:B22) -> 12501 | C19: =SUM(C20:C22) -> 9305 | D19: =SUM(D20:D22) -> 2599 | E19: =SUM(E20:E22) -> 285 | F19: =SUM(F20:F22) -> 67 | G19: =SUM(G20:G22) -> 25 | H19: =SUM(H20:H22) -> 0 | I19: =SUM(I20:I22) -> 0 | J19: =SUM(J20:J22) -> 220
A20: Landed | B20: 11335 | C20: 8542 | D20: 2323 | E20: 206 | F20: 25 | G20: 25 | H20: 0 | I20: 0 | J20: 214
A21: High-rise | B21: 668 | C21: 459 | D21: 115 | E21: 54 | F21: 38 | G21: 0 | H21: 0 | I21: 0 | J21: 2
A22: Lain-lain | B22: 498 | C22: 304 | D22: 161 | E22: 25 | F22: 4 | G22: 0 | H22: 0 | I22: 0 | J22: 4
A24: Johor Bahru
A25: Unit perumahan Housing unit | B25: =SUM(B26:B28) -> 109583 | C25: =SUM(C26:C28) -> 38957 | D25: =SUM(D26:D28) -> 42262 | E25: =SUM(E26:E28) -> 21558 | F25: =SUM(F26:F28) -> 5511 | G25: =SUM(G26:G28) -> 699 | H25: =SUM(H26:H28) -> 267 | I25: =SUM(I26:I28) -> 223 | J25: =SUM(J26:J28) -> 106
A26: Landed | B26: 54433 | C26: 16152 | D26: 24347 | E26: 11395 | F26: 1901 | G26: 329 | H26: 121 | I26: 165 | J26: 23
A27: High-rise | B27: 50971 | C27: 20713 | D27: 16358 | E27: 9687 | F27: 3560 | G27: 370 | H27: 146 | I27: 58 | J27: 79
A28: Lain-lain | B28: 4179 | C28: 2092 | D28: 1557 | E28: 476 | F28: 50 | G28: 0 | H28: 0 | I28: 0 | J28: 4
A30: Kluang
A31: Unit perumahan Housing unit | B31: =SUM(B32:B34) -> 13435 | C31: =SUM(C32:C34) -> 11744 | D31: =SUM(D32:D34) -> 1444 | E31: =SUM(E32:E34) -> 95 | F31: =SUM(F32:F34) -> 19 | G31: =SUM(G32:G34) -> 6 | H31: =SUM(H32:H34) -> 0 | I31: =SUM(I32:I34) -> 0 | J31: =SUM(J32:J34) -> 127
A32: Landed | B32: 11856 | C32: 10342 | D32: 1312 | E32: 62 | F32: 12 | G32: 6 | H32: 0 | I32: 0 | J32: 122
A33: High-rise | B33: 1185 | C33: 1091 | D33: 66 | E33: 25 | F33: 0 | G33: 0 | H33: 0 | I33: 0 | J33: 3
A34: Lain-lain | B34: 394 | C34: 311 | D34: 66 | E34: 8 | F34: 7 | G34: 0 | H34: 0 | I34: 0 | J34: 2
A36: Kota Tinggi
A37: Unit perumahan Housing unit | B37: =SUM(B38:B40) -> 9203 | C37: =SUM(C38:C40) -> 7000 | D37: =SUM(D38:D40) -> 1791 | E37: =SUM(E38:E40) -> 227 | F37: =SUM(F38:F40) -> 59 | G37: =SUM(G38:G40) -> 12 | H37: =SUM(H38:H40) -> 9 | I37: =SUM(I38:I40) -> 0 | J37: =SUM(J38:J40) -> 105
A38: Landed | B38: 8258 | C38: 6152 | D38: 1719 | E38: 217 | F38: 45 | G38: 12 | H38: 9 | I38: 0 | J38: 104
A39: High-rise | B39: 529 | C39: 489 | D39: 23 | E39: 6 | F39: 11 | G39: 0 | H39: 0 | I39: 0 | J39: 0
A40: Lain-lain | B40: 416 | C40: 359 | D40: 49 | E40: 4 | F40: 3 | G40: 0 | H40: 0 | I40: 0 | J40: 1
A42: Mersing
A43: Unit perumahan Housing unit | B43: =SUM(B44:B46) -> 3740 | C43: =SUM(C44:C46) -> 3404 | D43: =SUM(D44:D46) -> 282 | E43: =SUM(E44:E46) -> 27 | F43: =SUM(F44:F46) -> 4 | G43: =SUM(G44:G46) -> 0 | H43: =SUM(H44:H46) -> 0 | I43: =SUM(I44:I46) -> 0 | J43: =SUM(J44:J46) -> 23
A44: Landed | B44: 3440 | C44: 3125 | D44: 270 | E44: 20 | F44: 4 | G44: 0 | H44: 0 | I44: 0 | J44: 21
A45: High-rise | B45: 232 | C45: 217 | D45: 9 | E45: 5 | F45: 0 | G45: 0 | H45: 0 | I45: 0 | J45: 1
A46: Lain-lain | B46: 68 | C46: 62 | D46: 3 | E46: 2 | F46: 0 | G46: 0 | H46: 0 | I46: 0 | J46: 1
A48: Muar
A49: Unit perumahan Housing unit | B49: =SUM(B50:B52) -> 6745 | C49: =SUM(C50:C52) -> 5280 | D49: =SUM(D50:D52) -> 1173 | E49: =SUM(E50:E52) -> 117 | F49: =SUM(F50:F52) -> 22 | G49: =SUM(G50:G52) -> 14 | H49: =SUM(H50:H52) -> 0 | I49: =SUM(I50:I52) -> 0 | J49: =SUM(J50:J52) -> 139
A50: Landed | B50: 5993 | C50: 4669 | D50: 1066 | E50: 89 | F50: 20 | G50: 10 | H50: 0 | I50: 0 | J50: 139
A51: High-rise | B51: 649 | C51: 516 | D51: 102 | E51: 25 | F51: 2 | G51: 4 | H51: 0 | I51: 0 | J51: 0
A52: Lain-lain | B52: 103 | C52: 95 | D52: 5 | E52: 3 | F52: 0 | G52: 0 | H52: 0 | I52: 0 | J52: 0
A54: Jadual 10: Bilangan ketua isi rumah yang menyewa tempat kediaman mengikut jenis unit perumahan, kadar sewa bulanan, daerah pentadbiran dan negeri, Malaysia, 2020 (samb.)
A55: Table 10: Number of head of household who rent a living quarters by type of housing units, monthly rental rates, administrative district and state, Malaysia, 2020 (cont'd)
A57: Negeri/ Daerah Pentadbiran State/ Administrative District | B57: Jumlah Total | C57: Kadar sewa bulanan tempat kediaman Monthly rental rates for living quarters
C58: RM500 dan kurang/ and below | D58: RM501 - RM999 | E58: RM1,000 - RM1,499 | F58: RM1,500 - RM1,999 | G58: RM2,000 - RM2,499 | H58: RM2,500 - RM2,999 | I58: RM3,000 dan lebih/ and over | J58: Tidak diketahui Unknown
A59: Pontian
A60: Unit perumahan Housing unit | B60: =SUM(B61:B63) -> 7872 | C60: =SUM(C61:C63) -> 6268 | D60: =SUM(D61:D63) -> 1449 | E60: =SUM(E61:E63) -> 132 | F60: =SUM(F61:F63) -> 12 | G60: =SUM(G61:G63) -> 1 | H60: =SUM(H61:H63) -> 2 | I60: =SUM(I61:I63) -> 5 | J60: =SUM(J61:J63) -> 3
A61: Landed | B61: 7254 | C61: 5701 | D61: 1407 | E61: 125 | F61: 10 | G61: 1 | H61: 2 | I61: 5 | J61: 3
A62: High-rise | B62: 516 | C62: 472 | D62: 37 | E62: 5 | F62: 2 | G62: 0 | H62: 0 | I62: 0 | J62: 0
A63: Lain-lain | B63: 102 | C63: 95 | D63: 5 | E63: 2 | F63: 0 | G63: 0 | H63: 0 | I63: 0 | J63: 0
A65: Segamat
A66: Unit perumahan Housing unit | B66: =SUM(B67:B69) -> 7403 | C66: =SUM(C67:C69) -> 6203 | D66: =SUM(D67:D69) -> 1104 | E66: =SUM(E67:E69) -> 78 | F66: =SUM(F67:F69) -> 8 | G66: =SUM(G67:G69) -> 10 | H66: =SUM(H67:H69) -> 0 | I66: =SUM(I67:I69) -> 0 | J66: =SUM(J67:J69) -> 0
A67: Landed | B67: 6909 | C67: 5743 | D67: 1074 | E67: 74 | F67: 8 | G67: 10 | H67: 0 | I67: 0 | J67: 0
A68: High-rise | B68: 251 | C68: 243 | D68: 8 | E68: 0 | F68: 0 | G68: 0 | H68: 0 | I68: 0 | J68: 0
A69: Lain-lain | B69: 243 | C69: 217 | D69: 22 | E69: 4 | F69: 0 | G69: 0 | H69: 0 | I69: 0 | J69: 0
A71: Kulai
A72: Unit perumahan Housing unit | B72: =SUM(B73:B75) -> 14389 | C72: =SUM(C73:C75) -> 7083 | D72: =SUM(D73:D75) -> 6060 | E72: =SUM(E73:E75) -> 1058 | F72: =SUM(F73:F75) -> 106 | G72: =SUM(G73:G75) -> 28 | H72: =SUM(H73:H75) -> 13 | I72: =SUM(I73:I75) -> 11 | J72: =SUM(J73:J75) -> 30
A73: Landed | B73: 11743 | C73: 5194 | D73: 5440 | E73: 952 | F73: 82 | G73: 25 | H73: 13 | I73: 11 | J73: 26
A74: High-rise | B74: 1707 | C74: 1234 | D74: 385 | E74: 70 | F74: 11 | G74: 3 | H74: 0 | I74: 0 | J74: 4
A75: Lain-lain | B75: 939 | C75: 655 | D75: 235 | E75: 36 | F75: 13 | G75: 0 | H75: 0 | I75: 0 | J75: 0
A77: Tangkak
A78: Unit perumahan Housing unit | B78: =SUM(B79:B81) -> 4461 | C78: =SUM(C79:C81) -> 3793 | D78: =SUM(D79:D81) -> 532 | E78: =SUM(E79:E81) -> 86 | F78: =SUM(F79:F81) -> 11 | G78: =SUM(G79:G81) -> 5 | H78: =SUM(H79:H81) -> 3 | I78: =SUM(I79:I81) -> 3 | J78: =SUM(J79:J81) -> 28
A79: Landed | B79: 4150 | C79: 3541 | D79: 478 | E79: 81 | F79: 11 | G79: 5 | H79: 3 | I79: 3 | J79: 28
A80: High-rise | B80: 146 | C80: 126 | D80: 17 | E80: 3 | F80: 0 | G80: 0 | H80: 0 | I80: 0 | J80: 0
A81: Lain-lain | B81: 165 | C81: 126 | D81: 37 | E81: 2 | F81: 0 | G81: 0 | H81: 0 | I81: 0 | J81: 0
A83: KEDAH
A84: Unit perumahan Housing unit | B84: =SUM(C84:J84) -> 69668 | C84: =SUM(C85:C87) -> 60453 | D84: =SUM(D85:D87) -> 7912 | E84: =SUM(E85:E87) -> 979 | F84: =SUM(F85:F87) -> 205 | G84: =SUM(G85:G87) -> 84 | H84: =SUM(H85:H87) -> 15 | I84: =SUM(I85:I87) -> 0 | J84: =SUM(J85:J87) -> 20
A85: Landed | B85: =SUM(C85:J85) -> 62677 | C85: =C91+C97+C103+C109+C115+C121+C127+C133+C139+C145+C151+C157 -> 54403 | D85: =D91+D97+D103+D109+D115+D121+D127+D133+D139+D145+D151+D157 -> 7314 | E85: =E91+E97+E103+E109+E115+E121+E127+E133+E139+E145+E151+E157 -> 763 | F85: =F91+F97+F103+F109+F115+F121+F127+F133+F139+F145+F151+F157 -> 119 | G85: =G91+G97+G103+G109+G115+G121+G127+G133+G139+G145+G151+G157 -> 52 | H85: =H91+H97+H103+H109+H115+H121+H127+H133+H139+H145+H151+H157 -> 10 | I85: =I91+I97+I103+I109+I115+I121+I127+I133+I139+I145+I151+I157 -> 0 | J85: =J91+J97+J103+J109+J115+J121+J127+J133+J139+J145+J151+J157 -> 16
A86: High-rise | B86: =SUM(C86:J86) -> 5570 | C86: =C92+C98+C104+C110+C116+C122+C128+C134+C140+C146+C152+C158 -> 4791 | D86: =D92+D98+D104+D110+D116+D122+D128+D134+D140+D146+D152+D158 -> 463 | E86: =E92+E98+E104+E110+E116+E122+E128+E134+E140+E146+E152+E158 -> 189 | F86: =F92+F98+F104+F110+F116+F122+F128+F134+F140+F146+F152+F158 -> 86 | G86: =G92+G98+G104+G110+G116+G122+G128+G134+G140+G146+G152+G158 -> 32 | H86: =H92+H98+H104+H110+H116+H122+H128+H134+H140+H146+H152+H158 -> 5 | I86: =I92+I98+I104+I110+I116+I122+I128+I134+I140+I146+I152+I158 -> 0 | J86: =J92+J98+J104+J110+J116+J122+J128+J134+J140+J146+J152+J158 -> 4
A87: Lain-lain | B87: =SUM(C87:J87) -> 1421 | C87: =C93+C99+C105+C111+C117+C123+C129+C135+C141+C147+C153+C159 -> 1259 | D87: =D93+D99+D105+D111+D117+D123+D129+D135+D141+D147+D153+D159 -> 135 | E87: =E93+E99+E105+E111+E117+E123+E129+E135+E141+E147+E153+E159 -> 27 | F87: =F93+F99+F105+F111+F117+F123+F129+F135+F141+F147+F153+F159 -> 0 | G87: =G93+G99+G105+G111+G117+G123+G129+G135+G141+G147+G153+G159 -> 0 | H87: =H93+H99+H105+H111+H117+H123+H129+H135+H141+H147+H153+H159 -> 0 | I87: =I93+I99+I105+I111+I117+I123+I129+I135+I141+I147+I153+I159 -> 0 | J87: =J93+J99+J105+J111+J117+J123+J129+J135+J141+J147+J153+J159 -> 0
A89: Baling
A90: Unit perumahan Housing unit | B90: =SUM(C90:J90) -> 3688 | C90: =SUM(C91:C93) -> 3550 | D90: =SUM(D91:D93) -> 130 | E90: =SUM(E91:E93) -> 8 | F90: =SUM(F91:F93) -> 0 | G90: =SUM(G91:G93) -> 0 | H90: =SUM(H91:H93) -> 0 | I90: =SUM(I91:I93) -> 0 | J90: =SUM(J91:J93) -> 0
A91: Landed | B91: =SUM(C91:J91) -> 3595 | C91: 3460 | D91: 127 | E91: 8 | F91: 0 | G91: 0 | H91: 0 | I91: 0 | J91: 0
A92: High-rise | B92: =SUM(C92:J92) -> 31 | C92: 30 | D92: 1 | E92: 0 | F92: 0 | G92: 0 | H92: 0 | I92: 0 | J92: 0
A93: Lain-lain | B93: =SUM(C93:J93) -> 62 | C93: 60 | D93: 2 | E93: 0 | F93: 0 | G93: 0 | H93: 0 | I93: 0 | J93: 0
A95: Bandar Baharu
A96: Unit perumahan Housing unit | B96: =SUM(C96:J96) -> 1004 | C96: =SUM(C97:C99) -> 947 | D96: =SUM(D97:D99) -> 52 | E96: =SUM(E97:E99) -> 2 | F96: =SUM(F97:F99) -> 2 | G96: =SUM(G97:G99) -> 0 | H96: =SUM(H97:H99) -> 0 | I96: =SUM(I97:I99) -> 0 | J96: =SUM(J97:J99) -> 1
A97: Landed | B97: =SUM(C97:J97) -> 948 | C97: 894 | D97: 51 | E97: 0 | F97: 2 | G97: 0 | H97: 0 | I97: 0 | J97: 1
A98: High-rise | B98: =SUM(C98:J98) -> 34 | C98: 34 | D98: 0 | E98: 0 | F98: 0 | G98: 0 | H98: 0 | I98: 0 | J98: 0
A99: Lain-lain | B99: =SUM(C99:J99) -> 22 | C99: 19 | D99: 1 | E99: =1+1 -> 2 | F99: 0 | G99: 0 | H99: 0 | I99: 0 | J99: 0
A101: Kota Setar
A102: Unit perumahan Housing unit | B102: =SUM(C102:J102) -> 12080 | C102: =SUM(C103:C105) -> 10056 | D102: =SUM(D103:D105) -> 1796 | E102: =SUM(E103:E105) -> 164 | F102: =SUM(F103:F105) -> 30 | G102: =SUM(G103:G105) -> 26 | H102: =SUM(H103:H105) -> 0 | I102: =SUM(I103:I105) -> 0 | J102: =SUM(J103:J105) -> 8
A103: Landed | B103: =SUM(C103:J103) -> 10580 | C103: 8636 | D103: 1742 | E103: 149 | F103: 25 | G103: 21 | H103: 0 | I103: 0 | J103: 7
A104: High-rise | B104: =SUM(C104:J104) -> 1357 | C104: 1294 | D104: 39 | E104: 13 | F104: 5 | G104: 5 | H104: 0 | I104: 0 | J104: 1
A105: Lain-lain | B105: =SUM(C105:J105) -> 143 | C105: 126 | D105: 15 | E105: 2 | F105: 0 | G105: 0 | H105: 0 | I105: 0 | J105: 0
A107: Kuala Muda
A108: Unit perumahan Housing unit | B108: =SUM(C108:J108) -> 18917 | C108: =SUM(C109:C111) -> 17136 | D108: =SUM(D109:D111) -> 1516 | E108: =SUM(E109:E111) -> 237 | F108: =SUM(F109:F111) -> 21 | G108: =SUM(G109:G111) -> 6 | H108: =SUM(H109:H111) -> 0 | I108: =SUM(I109:I111) -> 0 | J108: =SUM(J109:J111) -> 1
A109: Landed | B109: =SUM(C109:J109) -> 17228 | C109: 15531 | D109: 1441 | E109: 228 | F109: 21 | G109: 6 | H109: 0 | I109: 0 | J109: 1
A110: High-rise | B110: =SUM(C110:J110) -> 1561 | C110: 1503 | D110: 56 | E110: 2 | F110: 0 | G110: 0 | H110: 0 | I110: 0 | J110: 0
A111: Lain-lain | B111: =SUM(C111:J111) -> 128 | C111: 102 | D111: 19 | E111: =5+1 +1 -> 7 | F111: 0 | G111: 0 | H111: 0 | I111: 0 | J111: 0
A113: Kubang Pasu
A114: Unit perumahan Housing unit | B114: =SUM(C114:J114) -> 6738 | C114: =SUM(C115:C117) -> 5909 | D114: =SUM(D115:D117) -> 728 | E114: =SUM(E115:E117) -> 80 | F114: =SUM(F115:F117) -> 11 | G114: =SUM(G115:G117) -> 4 | H114: =SUM(H115:H117) -> 0 | I114: =SUM(I115:I117) -> 0 | J114: =SUM(J115:J117) -> 6
A115: Landed | B115: =SUM(C115:J115) -> 6454 | C115: 5646 | D115: 716 | E115: 74 | F115: 11 | G115: 4 | H115: 0 | I115: 0 | J115: 3
A116: High-rise | B116: =SUM(C116:J116) -> 179 | C116: 169 | D116: 5 | E116: 2 | F116: 0 | G116: 0 | H116: 0 | I116: 0 | J116: 3
A117: Lain-lain | B117: =SUM(C117:J117) -> 105 | C117: 94 | D117: 7 | E117: =1+3 -> 4 | F117: 0 | G117: 0 | H117: 0 | I117: 0 | J117: 0
A119: Kulim
A120: Unit perumahan Housing unit | B120: =SUM(C120:J120) -> 12557 | C120: =SUM(C121:C123) -> 10104 | D120: =SUM(D121:D123) -> 2283 | E120: =SUM(E121:E123) -> 135 | F120: =SUM(F121:F123) -> 27 | G120: =SUM(G121:G123) -> 4 | H120: =SUM(H121:H123) -> 0 | I120: =SUM(I121:I123) -> 0 | J120: =SUM(J121:J123) -> 4
...
