Workbook

Sheet Jadual 10
A1: Jadual 10: Bilangan ketua isi rumah yang menyewa tempat kediaman mengikut jenis unit perumahan, kadar sewa bulanan, daerah pentadbiran dan negeri, Malaysia, 2020
A2: Table 10: Number of head of household who rent a living quarters by type of housing units, monthly rental rates, administrative district and state, Malaysia, 2020
A4: Negeri/ Daerah Pentadbiran State/ Administrative District | B4: Jumlah Total | C4: Kadar sewa bulanan tempat kediaman Monthly rental rates for living quarters
C5: RM500 dan kurang/ and below | D5: RM501 - RM999 | E5: RM1,000 - RM1,499 | F5: RM1,500 - RM1,999 | G5: RM2,000 - RM2,499 | H5: RM2,500 - RM2,999 | I5: RM3,000 dan lebih/ and over | J5: Tidak diketahui Unknown
A6: MALAYSIA
A7: Unit perumahan Housing unit | B7: ='Jadual 10'!B13+'Jadual 10'!B84+'Jadual 10'!B162+'Jadual 10'!B234+'Jadual 10'!B258+'Jadual 10'!B306+'Jadual 10'!B378+'Jadual 10'!B414+'Jadual 10'!B498+'Jadual 10'!B504+'Jadual 10'!B564+'Jadual 10'!B618+'Jadual 10'!B786+'Jadual 10'!B1032+'Jadual 10'!B1038+'Jadual 10'!B1044 -> 1313798 | C7: ='Jadual 10'!C13+'Jadual 10'!C84+'Jadual 10'!C162+'Jadual 10'!C234+'Jadual 10'!C258+'Jadual 10'!C306+'Jadual 10'!C378+'Jadual 10'!C414+'Jadual 10'!C498+'Jadual 10'!C504+'Jadual 10'!C564+'Jadual 10'!C618+'Jadual 10'!C786+'Jadual 10'!C1032+'Jadual 10'!C1038+'Jadual 10'!C1044 -> 675146 | D7: ='Jadual 10'!D13+'Jadual 10'!D84+'Jadual 10'!D162+'Jadual 10'!D234+'Jadual 10'!D258+'Jadual 10'!D306+'Jadual 10'!D378+'Jadual 10'!D414+'Jadual 10'!D498+'Jadual 10'!D504+'Jadual 10'!D564+'Jadual 10'!D618+'Jadual 10'!D786+'Jadual 10'!D1032+'Jadual 10'!D1038+'Jadual 10'!D1044 -> 376533 | E7: ='Jadual 10'!E13+'Jadual 10'!E84+'Jadual 10'!E162+'Jadual 10'!E234+'Jadual 10'!E258+'Jadual 10'!E306+'Jadual 10'!E378+'Jadual 10'!E414+'Jadual 10'!E498+'Jadual 10'!E504+'Jadual 10'!E564+'Jadual 10'!E618+'Jadual 10'!E786+'Jadual 10'!E1032+'Jadual 10'!E1038+'Jadual 10'!E1044 -> 159088 | F7: ='Jadual 10'!F13+'Jadual 10'!F84+'Jadual 10'!F162+'Jadual 10'!F234+'Jadual 10'!F258+'Jadual 10'!F306+'Jadual 10'!F378+'Jadual 10'!F414+'Jadual 10'!F498+'Jadual 10'!F504+'Jadual 10'!F564+'Jadual 10'!F618+'Jadual 10'!F786+'Jadual 10'!F1032+'Jadual 10'!F1038+'Jadual 10'!F1044 -> 57165 | G7: ='Jadual 10'!G13+'Jadual 10'!G84+'Jadual 10'!G162+'Jadual 10'!G234+'Jadual 10'!G258+'Jadual 10'!G306+'Jadual 10'!G378+'Jadual 10'!G414+'Jadual 10'!G498+'Jadual 10'!G504+'Jadual 10'!G564+'Jadual 10'!G618+'Jadual 10'!G786+'Jadual 10'!G1032+'Jadual 10'!G1038+'Jadual 10'!G1044 -> 16652 | H7: ='Jadual 10'!H13+'Jadual 10'!H84+'Jadual 10'!H162+'Jadual 10'!H234+'Jadual 10'!H258+'Jadual 10'!H306+'Jadual 10'!H378+'Jadual 10'!H414+'Jadual 10'!H498+'Jadual 10'!H504+'Jadual 10'!H564+'Jadual 10'!H618+'Jadual 10'!H786+'Jadual 10'!H1032+'Jadual 10'!H1038+'Jadual 10'!H1044 -> 6665 | I7: ='Jadual 10'!I13+'Jadual 10'!I84+'Jadual 10'!I162+'Jadual 10'!I234+'Jadual 10'!I258+'Jadual 10'!I306+'Jadual 10'!I378+'Jadual 10'!I414+'Jadual 10'!I498+'Jadual 10'!I504+'Jadual 10'!I564+'Jadual 10'!I618+'Jadual 10'!I786+'Jadual 10'!I1032+'Jadual 10'!I1038+'Jadual 10'!I1044 -> 12787 | J7: ='Jadual 10'!J13+'Jadual 10'!J84+'Jadual 10'!J162+'Jadual 10'!J234+'Jadual 10'!J258+'Jadual 10'!J306+'Jadual 10'!J378+'Jadual 10'!J414+'Jadual 10'!J498+'Jadual 10'!J504+'Jadual 10'!J564+'Jadual 10'!J618+'Jadual 10'!J786+'Jadual 10'!J1032+'Jadual 10'!J1038+'Jadual 10'!J1044 -> 9762
A8: Landed | B8: ='Jadual 10'!B14+'Jadual 10'!B85+'Jadual 10'!B163+'Jadual 10'!B235+'Jadual 10'!B259+'Jadual 10'!B307+'Jadual 10'!B379+'Jadual 10'!B415+'Jadual 10'!B499+'Jadual 10'!B505+'Jadual 10'!B565+'Jadual 10'!B619+'Jadual 10'!B787+'Jadual 10'!B1033+'Jadual 10'!B1039+'Jadual 10'!B1045 -> 745668 | C8: ='Jadual 10'!C14+'Jadual 10'!C85+'Jadual 10'!C163+'Jadual 10'!C235+'Jadual 10'!C259+'Jadual 10'!C307+'Jadual 10'!C379+'Jadual 10'!C415+'Jadual 10'!C499+'Jadual 10'!C505+'Jadual 10'!C565+'Jadual 10'!C619+'Jadual 10'!C787+'Jadual 10'!C1033+'Jadual 10'!C1039+'Jadual 10'!C1045 -> 450708 | D8: ='Jadual 10'!D14+'Jadual 10'!D85+'Jadual 10'!D163+'Jadual 10'!D235+'Jadual 10'!D259+'Jadual 10'!D307+'Jadual 10'!D379+'Jadual 10'!D415+'Jadual 10'!D499+'Jadual 10'!D505+'Jadual 10'!D565+'Jadual 10'!D619+'Jadual 10'!D787+'Jadual 10'!D1033+'Jadual 10'!D1039+'Jadual 10'!D1045 -> 203792 | E8: ='Jadual 10'!E14+'Jadual 10'!E85+'Jadual 10'!E163+'Jadual 10'!E235+'Jadual 10'!E259+'Jadual 10'!E307+'Jadual 10'!E379+'Jadual 10'!E415+'Jadual 10'!E499+'Jadual 10'!E505+'Jadual 10'!E565+'Jadual 10'!E619+'Jadual 10'!E787+'Jadual 10'!E1033+'Jadual 10'!E1039+'Jadual 10'!E1045 -> 61301 | F8: ='Jadual 10'!F14+'Jadual 10'!F85+'Jadual 10'!F163+'Jadual 10'!F235+'Jadual 10'!F259+'Jadual 10'!F307+'Jadual 10'!F379+'Jadual 10'!F415+'Jadual 10'!F499+'Jadual 10'!F505+'Jadual 10'!F565+'Jadual 10'!F619+'Jadual 10'!F787+'Jadual 10'!F1033+'Jadual 10'!F1039+'Jadual 10'!F1045 -> 15299 | G8: ='Jadual 10'!G14+'Jadual 10'!G85+'Jadual 10'!G163+'Jadual 10'!G235+'Jadual 10'!G259+'Jadual 10'!G307+'Jadual 10'!G379+'Jadual 10'!G415+'Jadual 10'!G499+'Jadual 10'!G505+'Jadual 10'!G565+'Jadual 10'!G619+'Jadual 10'!G787+'Jadual 10'!G1033+'Jadual 10'!G1039+'Jadual 10'!G1045 -> 4444 | H8: ='Jadual 10'!H14+'Jadual 10'!H85+'Jadual 10'!H163+'Jadual 10'!H235+'Jadual 10'!H259+'Jadual 10'!H307+'Jadual 10'!H379+'Jadual 10'!H415+'Jadual 10'!H499+'Jadual 10'!H505+'Jadual 10'!H565+'Jadual 10'!H619+'Jadual 10'!H787+'Jadual 10'!H1033+'Jadual 10'!H1039+'Jadual 10'!H1045 -> 1357 | I8: ='Jadual 10'!I14+'Jadual 10'!I85+'Jadual 10'!I163+'Jadual 10'!I235+'Jadual 10'!I259+'Jadual 10'!I307+'Jadual 10'!I379+'Jadual 10'!I415+'Jadual 10'!I499+'Jadual 10'!I505+'Jadual 10'!I565+'Jadual 10'!I619+'Jadual 10'!I787+'Jadual 10'!I1033+'Jadual 10'!I1039+'Jadual 10'!I1045 -> 3123 | J8: ='Jadual 10'!J14+'Jadual 10'!J85+'Jadual 10'!J163+'Jadual 10'!J235+'Jadual 10'!J259+'Jadual 10'!J307+'Jadual 10'!J379+'Jadual 10'!J415+'Jadual 10'!J499+'Jadual 10'!J505+'Jadual 10'!J565+'Jadual 10'!J619+'Jadual 10'!J787+'Jadual 10'!J1033+'Jadual 10'!J1039+'Jadual 10'!J1045 -> 5644
A9: High-rise | B9: ='Jadual 10'!B15+'Jadual 10'!B86+'Jadual 10'!B164+'Jadual 10'!B236+'Jadual 10'!B260+'Jadual 10'!B308+'Jadual 10'!B380+'Jadual 10'!B416+'Jadual 10'!B500+'Jadual 10'!B506+'Jadual 10'!B566+'Jadual 10'!B620+'Jadual 10'!B788+'Jadual 10'!B1034+'Jadual 10'!B1040+'Jadual 10'!B1046 -> 504570 | C9: ='Jadual 10'!C15+'Jadual 10'!C86+'Jadual 10'!C164+'Jadual 10'!C236+'Jadual 10'!C260+'Jadual 10'!C308+'Jadual 10'!C380+'Jadual 10'!C416+'Jadual 10'!C500+'Jadual 10'!C506+'Jadual 10'!C566+'Jadual 10'!C620+'Jadual 10'!C788+'Jadual 10'!C1034+'Jadual 10'!C1040+'Jadual 10'!C1046 -> 184075 | D9: ='Jadual 10'!D15+'Jadual 10'!D86+'Jadual 10'!D164+'Jadual 10'!D236+'Jadual 10'!D260+'Jadual 10'!D308+'Jadual 10'!D380+'Jadual 10'!D416+'Jadual 10'!D500+'Jadual 10'!D506+'Jadual 10'!D566+'Jadual 10'!D620+'Jadual 10'!D788+'Jadual 10'!D1034+'Jadual 10'!D1040+'Jadual 10'!D1046 -> 154855 | E9: ='Jadual 10'!E15+'Jadual 10'!E86+'Jadual 10'!E164+'Jadual 10'!E236+'Jadual 10'!E260+'Jadual 10'!E308+'Jadual 10'!E380+'Jadual 10'!E416+'Jadual 10'!E500+'Jadual 10'!E506+'Jadual 10'!E566+'Jadual 10'!E620+'Jadual 10'!E788+'Jadual 10'!E1034+'Jadual 10'!E1040+'Jadual 10'!E1046 -> 94142 | F9: ='Jadual 10'!F15+'Jadual 10'!F86+'Jadual 10'!F164+'Jadual 10'!F236+'Jadual 10'!F260+'Jadual 10'!F308+'Jadual 10'!F380+'Jadual 10'!F416+'Jadual 10'!F500+'Jadual 10'!F506+'Jadual 10'!F566+'Jadual 10'!F620+'Jadual 10'!F788+'Jadual 10'!F1034+'Jadual 10'!F1040+'Jadual 10'!F1046 -> 41204 | G9: ='Jadual 10'!G15+'Jadual 10'!G86+'Jadual 10'!G164+'Jadual 10'!G236+'Jadual 10'!G260+'Jadual 10'!G308+'Jadual 10'!G380+'Jadual 10'!G416+'Jadual 10'!G500+'Jadual 10'!G506+'Jadual 10'!G566+'Jadual 10'!G620+'Jadual 10'!G788+'Jadual 10'!G1034+'Jadual 10'!G1040+'Jadual 10'!G1046 -> 12081 | H9: ='Jadual 10'!H15+'Jadual 10'!H86+'Jadual 10'!H164+'Jadual 10'!H236+'Jadual 10'!H260+'Jadual 10'!H308+'Jadual 10'!H380+'Jadual 10'!H416+'Jadual 10'!H500+'Jadual 10'!H506+'Jadual 10'!H566+'Jadual 10'!H620+'Jadual 10'!H788+'Jadual 10'!H1034+'Jadual 10'!H1040+'Jadual 10'!H1046 -> 5308 | I9: ='Jadual 10'!I15+'Jadual 10'!I86+'Jadual 10'!I164+'Jadual 10'!I236+'Jadual 10'!I260+'Jadual 10'!I308+'Jadual 10'!I380+'Jadual 10'!I416+'Jadual 10'!I500+'Jadual 10'!I506+'Jadual 10'!I566+'Jadual 10'!I620+'Jadual 10'!I788+'Jadual 10'!I1034+'Jadual 10'!I1040+'Jadual 10'!I1046 -> 9664 | J9: ='Jadual 10'!J15+'Jadual 10'!J86+'Jadual 10'!J164+'Jadual 10'!J236+'Jadual 10'!J260+'Jadual 10'!J308+'Jadual 10'!J380+'Jadual 10'!J416+'Jadual 10'!J500+'Jadual 10'!J506+'Jadual 10'!J566+'Jadual 10'!J620+'Jadual 10'!J788+'Jadual 10'!J1034+'Jadual 10'!J1040+'Jadual 10'!J1046 -> 3241
A10: Lain-lain | B10: ='Jadual 10'!B16+'Jadual 10'!B87+'Jadual 10'!B165+'Jadual 10'!B237+'Jadual 10'!B261+'Jadual 10'!B309+'Jadual 10'!B381+'Jadual 10'!B417+'Jadual 10'!B501+'Jadual 10'!B507+'Jadual 10'!B567+'Jadual 10'!B621+'Jadual 10'!B789+'Jadual 10'!B1035+'Jadual 10'!B1041+'Jadual 10'!B1047 -> 63560 | C10: ='Jadual 10'!C16+'Jadual 10'!C87+'Jadual 10'!C165+'Jadual 10'!C237+'Jadual 10'!C261+'Jadual 10'!C309+'Jadual 10'!C381+'Jadual 10'!C417+'Jadual 10'!C501+'Jadual 10'!C507+'Jadual 10'!C567+'Jadual 10'!C621+'Jadual 10'!C789+'Jadual 10'!C1035+'Jadual 10'!C1041+'Jadual 10'!C1047 -> 40363 | D10: ='Jadual 10'!D16+'Jadual 10'!D87+'Jadual 10'!D165+'Jadual 10'!D237+'Jadual 10'!D261+'Jadual 10'!D309+'Jadual 10'!D381+'Jadual 10'!D417+'Jadual 10'!D501+'Jadual 10'!D507+'Jadual 10'!D567+'Jadual 10'!D621+'Jadual 10'!D789+'Jadual 10'!D1035+'Jadual 10'!D1041+'Jadual 10'!D1047 -> 17886 | E10: ='Jadual 10'!E16+'Jadual 10'!E87+'Jadual 10'!E165+'Jadual 10'!E237+'Jadual 10'!E261+'Jadual 10'!E309+'Jadual 10'!E381+'Jadual 10'!E417+'Jadual 10'!E501+'Jadual 10'!E507+'Jadual 10'!E567+'Jadual 10'!E621+'Jadual 10'!E789+'Jadual 10'!E1035+'Jadual 10'!E1041+'Jadual 10'!E1047 -> 3645 | F10: ='Jadual 10'!F16+'Jadual 10'!F87+'Jadual 10'!F165+'Jadual 10'!F237+'Jadual 10'!F261+'Jadual 10'!F309+'Jadual 10'!F381+'Jadual 10'!F417+'Jadual 10'!F501+'Jadual 10'!F507+'Jadual 10'!F567+'Jadual 10'!F621+'Jadual 10'!F789+'Jadual 10'!F1035+'Jadual 10'!F1041+'Jadual 10'!F1047 -> 662 | G10: ='Jadual 10'!G16+'Jadual 10'!G87+'Jadual 10'!G165+'Jadual 10'!G237+'Jadual 10'!G261+'Jadual 10'!G309+'Jadual 10'!G381+'Jadual 10'!G417+'Jadual 10'!G501+'Jadual 10'!G507+'Jadual 10'!G567+'Jadual 10'!G621+'Jadual 10'!G789+'Jadual 10'!G1035+'Jadual 10'!G1041+'Jadual 10'!G1047 -> 127 | H10: ='Jadual 10'!H16+'Jadual 10'!H87+'Jadual 10'!H165+'Jadual 10'!H237+'Jadual 10'!H261+'Jadual 10'!H309+'Jadual 10'!H381+'Jadual 10'!H417+'Jadual 10'!H501+'Jadual 10'!H507+'Jadual 10'!H567+'Jadual 10'!H621+'Jadual 10'!H789+'Jadual 10'!H1035+'Jadual 10'!H1041+'Jadual 10'!H1047 -> 0 | I10: ='Jadual 10'!I16+'Jadual 10'!I87+'Jadual 10'!I165+'Jadual 10'!I237+'Jadual 10'!I261+'Jadual 10'!I309+'Jadual 10'!I381+'Jadual 10'!I417+'Jadual 10'!I501+'Jadual 10'!I507+'Jadual 10'!I567+'Jadual 10'!I621+'Jadual 10'!I789+'Jadual 10'!I1035+'Jadual 10'!I1041+'Jadual 10'!I1047 -> 0 | J10: ='Jadual 10'!J16+'Jadual 10'!J87+'Jadual 10'!J165+'Jadual 10'!J237+'Jadual 10'!J261+'Jadual 10'!J309+'Jadual 10'!J381+'Jadual 10'!J417+'Jadual 10'!J501+'Jadual 10'!J507+'Jadual 10'!J567+'Jadual 10'!J621+'Jadual 10'!J789+'Jadual 10'!J1035+'Jadual 10'!J1041+'Jadual 10'!J1047 -> 877
A12: JOHOR
A13: Unit perumahan Housing unit | B13: =SUM(B14:B16) -> 189332 | C13: =SUM(C14:C16) -> 99037 | D13: =SUM(D14:D16) -> 58696 | E13: =SUM(E14:E16) -> 23663 | F13: =SUM(F14:F16) -> 5819 | G13: =SUM(G14:G16) -> 800 | H13: =SUM(H14:H16) -> 294 | I13: =SUM(I14:I16) -> 242 | J13: =SUM(J14:J16) -> 781
A14: Landed | B14: =B20+B26+B32+B38+B44+B50+B61+B67+B73+B79 -> 125371 | C14: =C20+C26+C32+C38+C44+C50+C61+C67+C73+C79 -> 69161 | D14: =D20+D26+D32+D38+D44+D50+D61+D67+D73+D79 -> 39436 | E14: =E20+E26+E32+E38+E44+E50+E61+E67+E73+E79 -> 13221 | F14: =F20+F26+F32+F38+F44+F50+F61+F67+F73+F79 -> 2118 | G14: =G20+G26+G32+G38+G44+G50+G61+G67+G73+G79 -> 423 | H14: =H20+H26+H32+H38+H44+H50+H61+H67+H73+H79 -> 148 | I14: =I20+I26+I32+I38+I44+I50+I61+I67+I73+I79 -> 184 | J14: =J20+J26+J32+J38+J44+J50+J61+J67+J73+J79 -> 680
A15: High-rise | B15: =B21+B27+B33+B39+B45+B51+B62+B68+B74+B80 -> 56854 | C15: =C21+C27+C33+C39+C45+C51+C62+C68+C74+C80 -> 25560 | D15: =D21+D27+D33+D39+D45+D51+D62+D68+D74+D80 -> 17120 | E15: =E21+E27+E33+E39+E45+E51+E62+E68+E74+E80 -> 9880 | F15: =F21+F27+F33+F39+F45+F51+F62+F68+F74+F80 -> 3624 | G15: =G21+G27+G33+G39+G45+G51+G62+G68+G74+G80 -> 377 | H15: =H21+H27+H33+H39+H45+H51+H62+H68+H74+H80 -> 146 | I15: =I21+I27+I33+I39+I45+I51+I62+I68+I74+I80 -> 58 | J15: =J21+J27+J33+J39+J45+J51+J62+J68+J74+J80 -> 89
A16: Lain-lain | B16: =B22+B28+B34+B40+B46+B52+B63+B69+B75+B81 -> 7107 | C16: =C22+C28+C34+C40+C46+C52+C63+C69+C75+C81 -> 4316 | D16: =D22+D28+D34+D40+D46+D52+D63+D69+D75+D81 -> 2140 | E16: =E22+E28+E34+E40+E46+E52+E63+E69+E75+E81 -> 562 | F16: =F22+F28+F34+F40+F46+F52+F63+F69+F75+F81 -> 77 | G16: =G22+G28+G34+G40+G46+G52+G63+G69+G75+G81 -> 0 | H16: =H22+H28+H34+H40+H46+H52+H63+H69+H75+H81 -> 0 | I16: =I22+I28+I34+I40+I46+I52+I63+I69+I75+I81 -> 0 | J16: =J22+J28+J34+J40+J46+J52+J63+J69+J75+J81 -> 12
A18: Batu Pahat
A19: Unit perumahan Housing unit | B19: =SUM(B20:B22) -> 12501 | C19: =SUM(C20:C22) -> 9305 | D19: =SUM(D20:D22) -> 2599 | E19: =SUM(E20:E22) -> 285 | F19: =SUM(F20:F22) -> 67 | G19: =SUM(G20:G22) -> 25 | H19: =SUM(H20:H22) -> 0 | I19: =SUM(I20:I22) -> 0 | J19: =SUM(J20:J22) -> 220
A20: Landed | B20: 11335 | C20: 8542 | D20: 2323 | E20: 206 | F20: 25 | G20: 25 | H20: 0 | I20: 0 | J20: 214
A21: High-rise | B21: 668 | C21: 459 | D21: 115 | E21: 54 | F21: 38 | G21: 0 | H21: 0 | I21: 0 | J21: 2
A22: Lain-lain | B22: 498 | C22: 304 | D22: 161 | E22: 25 | F22: 4 | G22: 0 | H22: 0 | I22: 0 | J22: 4
A24: Johor Bahru
A25: Unit perumahan Housing unit | B25: =SUM(B26:B28) -> 109583 | C25: =SUM(C26:C28) -> 38957 | D25: =SUM(D26:D28) -> 42262 | E25: =SUM(E26:E28) -> 21558 | F25: =SUM(F26:F28) -> 5511 | G25: =SUM(G26:G28) -> 699 | H25: =SUM(H26:H28) -> 267 | I25: =SUM(I26:I28) -> 223 | J25: =SUM(J26:J28) -> 106
A26: Landed | B26: 54433 | C26: 16152 | D26: 24347 | E26: 11395 | F26: 1901 | G26: 329 | H26: 121 | I26: 165 | J26: 23
A27: High-rise | B27: 50971 | C27: 20713 | D27: 16358 | E27: 9687 | F27: 3560 | G27: 370 | H27: 146 | I27: 58 | J27: 79
A28: Lain-lain | B28: 4179 | C28: 2092 | D28: 1557 | E28: 476 | F28: 50 | G28: 0 | H28: 0 | I28: 0 | J28: 4
A30: Kluang
A31: Unit perumahan Housing unit | B31: =SUM(B32:B34) -> 13435 | C31: =SUM(C32:C34) -> 11744 | D31: =SUM(D32:D34) -> 1444 | E31: =SUM(E32:E34) -> 95 | F31: =SUM(F32:F34) -> 19 | G31: =SUM(G32:G34) -> 6 | H31: =SUM(H32:H34) -> 0 | I31: =SUM(I32:I34) -> 0 | J31: =SUM(J32:J34) -> 127
A32: Landed | B32: 11856 | C32: 10342 | D32: 1312 | E32: 62 | F32: 12 | G32: 6 | H32: 0 | I32: 0 | J32: 122
A33: High-rise | B33: 1185 | C33: 1091 | D33: 66 | E33: 25 | F33: 0 | G33: 0 | H33: 0 | I33: 0 | J33: 3
A34: Lain-lain | B34: 394 | C34: 311 | D34: 66 | E34: 8 | F34: 7 | G34: 0 | H34: 0 | I34: 0 | J34: 2
A36: Kota Tinggi
A37: Unit perumahan Housing unit | B37: =SUM(B38:B40) -> 9203 | C37: =SUM(C38:C40) -> 7000 | D37: =SUM(D38:D40) -> 1791 | E37: =SUM(E38:E40) -> 227 | F37: =SUM(F38:F40) -> 59 | G37: =SUM(G38:G40) -> 12 | H37: =SUM(H38:H40) -> 9 | I37: =SUM(I38:I40) -> 0 | J37: =SUM(J38:J40) -> 105
A38: Landed | B38: 8258 | C38: 6152 | D38: 1719 | E38: 217 | F38: 45 | G38: 12 | H38: 9 | I38: 0 | J38: 104
A39: High-rise | B39: 529 | C39: 489 | D39: 23 | E39: 6 | F39: 11 | G39: 0 | H39: 0 | I39: 0 | J39: 0
A40: Lain-lain | B40: 416 | C40: 359 | D40: 49 | E40: 4 | F40: 3 | G40: 0 | H40: 0 | I40: 0 | J40: 1
A42: Mersing
A43: Unit perumahan Housing unit | B43: =SUM(B44:B46) -> 3740 | C43: =SUM(C44:C46) -> 3404 | D43: =SUM(D44:D46) -> 282 | E43: =SUM(E44:E46) -> 27 | F43: =SUM(F44:F46) -> 4 | G43: =SUM(G44:G46) -> 0 | H43: =SUM(H44:H46) -> 0 | I43: =SUM(I44:I46) -> 0 | J43: =SUM(J44:J46) -> 23
A44: Landed | B44: 3440 | C44: 3125 | D44: 270 | E44: 20 | F44: 4 | G44: 0 | H44: 0 | I44: 0 | J44: 21
A45: High-rise | B45: 232 | C45: 217 | D45: 9 | E45: 5 | F45: 0 | G45: 0 | H45: 0 | I45: 0 | J45: 1
A46: Lain-lain | B46: 68 | C46: 62 | D46: 3 | E46: 2 | F46: 0 | G46: 0 | H46: 0 | I46: 0 | J46: 1
A48: Muar
...
