Workbook

Sheet Malaysia
A1: Jadual 5: Bilangan dan peratus unit perumahan mengikut jenis unit perumahan, sebab kekosongan, daerah pentadbiran dan negeri, Malaysia, 2020
A2: Table 5: Number and percentage of housing units by type of housing units, reason for vacancy, administrative district and state, Malaysia, 2020
A4: Negeri/ Daerah Pentadbiran/ Jenis tempat kediaman State/ Administrative District/ Type of living quarters | B4: Jumlah Total | C4: Sebab kekosongan Reason for vacancy
C5: Baru siap/ untuk disewa atau dijual New completed/ for rent or sale | D5: % | E5: Untuk dibaiki/ ubahsuai For repair/ renovation | F5: % | G5: Rumah peranginan/ Persinggahan Holiday resort/ Transit | H5: % | I5: Homestay | J5: % | K5: Rumah pekerja bermusim Seasonal workers quarters | L5: % | M5: Hampir roboh Dilapidated | N5: % | O5: Lain-lain Others | P5: %
A6: MALAYSIA
A7: Unit perumahan Housing unit | B7: =Johor!B7+Kedah!B7+Kelantan!B7+Melaka!B7+'Negeri Sembilan'!B7+Pahang!B7+P.Pinang!B7+Perak!B7+Perlis!B7+Selangor!B7+Terengganu!B7+Sabah!B7+Sarawak!B7+WPKL!B7+'WP Labuan'!B7+'WP Putrajaya'!B7 -> 1852482 | C7: =Johor!C7+Kedah!C7+Kelantan!C7+Melaka!C7+'Negeri Sembilan'!C7+Pahang!C7+P.Pinang!C7+Perak!C7+Perlis!C7+Selangor!C7+Terengganu!C7+Sabah!C7+Sarawak!C7+WPKL!C7+'WP Labuan'!C7+'WP Putrajaya'!C7 -> 706968 | D7: =C7/B7*100 -> 38.163286 | E7: =Johor!E7+Kedah!E7+Kelantan!E7+Melaka!E7+'Negeri Sembilan'!E7+Pahang!E7+P.Pinang!E7+Perak!E7+Perlis!E7+Selangor!E7+Terengganu!E7+Sabah!E7+Sarawak!E7+WPKL!E7+'WP Labuan'!E7+'WP Putrajaya'!E7 -> 101460 | F7: =E7/B7*100 -> 5.4769763 | G7: =Johor!G7+Kedah!G7+Kelantan!G7+Melaka!G7+'Negeri Sembilan'!G7+Pahang!G7+P.Pinang!G7+Perak!G7+Perlis!G7+Selangor!G7+Terengganu!G7+Sabah!G7+Sarawak!G7+WPKL!G7+'WP Labuan'!G7+'WP Putrajaya'!G7 -> 436138 | H7: =G7/B7*100 -> 23.543441 | I7: =Johor!I7+Kedah!I7+Kelantan!I7+Melaka!I7+'Negeri Sembilan'!I7+Pahang!I7+P.Pinang!I7+Perak!I7+Perlis!I7+Selangor!I7+Terengganu!I7+Sabah!I7+Sarawak!I7+WPKL!I7+'WP Labuan'!I7+'WP Putrajaya'!I7 -> 42853 | J7: =I7/B7*100 -> 2.3132748 | K7: =Johor!K7+Kedah!K7+Kelantan!K7+Melaka!K7+'Negeri Sembilan'!K7+Pahang!K7+P.Pinang!K7+Perak!K7+Perlis!K7+Selangor!K7+Terengganu!K7+Sabah!K7+Sarawak!K7+WPKL!K7+'WP Labuan'!K7+'WP Putrajaya'!K7 -> 40775 | L7: =K7/B7*100 -> 2.201101 | M7: =Johor!M7+Kedah!M7+Kelantan!M7+Melaka!M7+'Negeri Sembilan'!M7+Pahang!M7+P.Pinang!M7+Perak!M7+Perlis!M7+Selangor!M7+Terengganu!M7+Sabah!M7+Sarawak!M7+WPKL!M7+'WP Labuan'!M7+'WP Putrajaya'!M7 -> 37622 | N7: =M7/B7*100 -> 2.0308969 | O7: =Johor!O7+Kedah!O7+Kelantan!O7+Melaka!O7+'Negeri Sembilan'!O7+Pahang!O7+P.Pinang!O7+Perak!O7+Perlis!O7+Selangor!O7+Terengganu!O7+Sabah!O7+Sarawak!O7+WPKL!O7+'WP Labuan'!O7+'WP Putrajaya'!O7 -> 486644 | P7: =O7/B7*100 -> 26.269837
A8: Sesebuah Detached | B8: =Johor!B8+Kedah!B8+Kelantan!B8+Melaka!B8+'Negeri Sembilan'!B8+Pahang!B8+P.Pinang!B8+Perak!B8+Perlis!B8+Selangor!B8+Terengganu!B8+Sabah!B8+Sarawak!B8+WPKL!B8+'WP Labuan'!B8+'WP Putrajaya'!B8 -> 419133 | C8: =Johor!C8+Kedah!C8+Kelantan!C8+Melaka!C8+'Negeri Sembilan'!C8+Pahang!C8+P.Pinang!C8+Perak!C8+Perlis!C8+Selangor!C8+Terengganu!C8+Sabah!C8+Sarawak!C8+WPKL!C8+'WP Labuan'!C8+'WP Putrajaya'!C8 -> 74187 | D8: =C8/B8*100 -> 17.70011 | E8: =Johor!E8+Kedah!E8+Kelantan!E8+Melaka!E8+'Negeri Sembilan'!E8+Pahang!E8+P.Pinang!E8+Perak!E8+Perlis!E8+Selangor!E8+Terengganu!E8+Sabah!E8+Sarawak!E8+WPKL!E8+'WP Labuan'!E8+'WP Putrajaya'!E8 -> 24404 | F8: =E8/B8*100 -> 5.8224955 | G8: =Johor!G8+Kedah!G8+Kelantan!G8+Melaka!G8+'Negeri Sembilan'!G8+Pahang!G8+P.Pinang!G8+Perak!G8+Perlis!G8+Selangor!G8+Terengganu!G8+Sabah!G8+Sarawak!G8+WPKL!G8+'WP Labuan'!G8+'WP Putrajaya'!G8 -> 146570 | H8: =G8/B8*100 -> 34.969807 | I8: =Johor!I8+Kedah!I8+Kelantan!I8+Melaka!I8+'Negeri Sembilan'!I8+Pahang!I8+P.Pinang!I8+Perak!I8+Perlis!I8+Selangor!I8+Terengganu!I8+Sabah!I8+Sarawak!I8+WPKL!I8+'WP Labuan'!I8+'WP Putrajaya'!I8 -> 9147 | J8: =I8/B8*100 -> 2.1823622 | K8: =Johor!K8+Kedah!K8+Kelantan!K8+Melaka!K8+'Negeri Sembilan'!K8+Pahang!K8+P.Pinang!K8+Perak!K8+Perlis!K8+Selangor!K8+Terengganu!K8+Sabah!K8+Sarawak!K8+WPKL!K8+'WP Labuan'!K8+'WP Putrajaya'!K8 -> 8301 | L8: =K8/B8*100 -> 1.9805169 | M8: =Johor!M8+Kedah!M8+Kelantan!M8+Melaka!M8+'Negeri Sembilan'!M8+Pahang!M8+P.Pinang!M8+Perak!M8+Perlis!M8+Selangor!M8+Terengganu!M8+Sabah!M8+Sarawak!M8+WPKL!M8+'WP Labuan'!M8+'WP Putrajaya'!M8 -> 27043 | N8: =M8/B8*100 -> 6.4521286 | O8: =Johor!O8+Kedah!O8+Kelantan!O8+Melaka!O8+'Negeri Sembilan'!O8+Pahang!O8+P.Pinang!O8+Perak!O8+Perlis!O8+Selangor!O8+Terengganu!O8+Sabah!O8+Sarawak!O8+WPKL!O8+'WP Labuan'!O8+'WP Putrajaya'!O8 -> 129481 | P8: =O8/B8*100 -> 30.892581
A9: Berkembar Semi-detached | B9: =Johor!B9+Kedah!B9+Kelantan!B9+Melaka!B9+'Negeri Sembilan'!B9+Pahang!B9+P.Pinang!B9+Perak!B9+Perlis!B9+Selangor!B9+Terengganu!B9+Sabah!B9+Sarawak!B9+WPKL!B9+'WP Labuan'!B9+'WP Putrajaya'!B9 -> 124601 | C9: =Johor!C9+Kedah!C9+Kelantan!C9+Melaka!C9+'Negeri Sembilan'!C9+Pahang!C9+P.Pinang!C9+Perak!C9+Perlis!C9+Selangor!C9+Terengganu!C9+Sabah!C9+Sarawak!C9+WPKL!C9+'WP Labuan'!C9+'WP Putrajaya'!C9 -> 44143 | D9: =C9/B9*100 -> 35.427485 | E9: =Johor!E9+Kedah!E9+Kelantan!E9+Melaka!E9+'Negeri Sembilan'!E9+Pahang!E9+P.Pinang!E9+Perak!E9+Perlis!E9+Selangor!E9+Terengganu!E9+Sabah!E9+Sarawak!E9+WPKL!E9+'WP Labuan'!E9+'WP Putrajaya'!E9 -> 6498 | F9: =E9/B9*100 -> 5.2150464 | G9: =Johor!G9+Kedah!G9+Kelantan!G9+Melaka!G9+'Negeri Sembilan'!G9+Pahang!G9+P.Pinang!G9+Perak!G9+Perlis!G9+Selangor!G9+Terengganu!G9+Sabah!G9+Sarawak!G9+WPKL!G9+'WP Labuan'!G9+'WP Putrajaya'!G9 -> 29408 | H9: =G9/B9*100 -> 23.601737 | I9: =Johor!I9+Kedah!I9+Kelantan!I9+Melaka!I9+'Negeri Sembilan'!I9+Pahang!I9+P.Pinang!I9+Perak!I9+Perlis!I9+Selangor!I9+Terengganu!I9+Sabah!I9+Sarawak!I9+WPKL!I9+'WP Labuan'!I9+'WP Putrajaya'!I9 -> 3327 | J9: =I9/B9*100 -> 2.670123 | K9: =Johor!K9+Kedah!K9+Kelantan!K9+Melaka!K9+'Negeri Sembilan'!K9+Pahang!K9+P.Pinang!K9+Perak!K9+Perlis!K9+Selangor!K9+Terengganu!K9+Sabah!K9+Sarawak!K9+WPKL!K9+'WP Labuan'!K9+'WP Putrajaya'!K9 -> 6371 | L9: =K9/B9*100 -> 5.1131211 | M9: =Johor!M9+Kedah!M9+Kelantan!M9+Melaka!M9+'Negeri Sembilan'!M9+Pahang!M9+P.Pinang!M9+Perak!M9+Perlis!M9+Selangor!M9+Terengganu!M9+Sabah!M9+Sarawak!M9+WPKL!M9+'WP Labuan'!M9+'WP Putrajaya'!M9 -> 2006 | N9: =M9/B9*100 -> 1.6099389 | O9: =Johor!O9+Kedah!O9+Kelantan!O9+Melaka!O9+'Negeri Sembilan'!O9+Pahang!O9+P.Pinang!O9+Perak!O9+Perlis!O9+Selangor!O9+Terengganu!O9+Sabah!O9+Sarawak!O9+WPKL!O9+'WP Labuan'!O9+'WP Putrajaya'!O9 -> 32848 | P9: =O9/B9*100 -> 26.362549
A10: Teres/ Berangkai/ Berkelompok Terrace/ Link/ Cluster | B10: =Johor!B10+Kedah!B10+Kelantan!B10+Melaka!B10+'Negeri Sembilan'!B10+Pahang!B10+P.Pinang!B10+Perak!B10+Perlis!B10+Selangor!B10+Terengganu!B10+Sabah!B10+Sarawak!B10+WPKL!B10+'WP Labuan'!B10+'WP Putrajaya'!B10 -> 645564 | C10: =Johor!C10+Kedah!C10+Kelantan!C10+Melaka!C10+'Negeri Sembilan'!C10+Pahang!C10+P.Pinang!C10+Perak!C10+Perlis!C10+Selangor!C10+Terengganu!C10+Sabah!C10+Sarawak!C10+WPKL!C10+'WP Labuan'!C10+'WP Putrajaya'!C10 -> 270735 | D10: =C10/B10*100 -> 41.937747 | E10: =Johor!E10+Kedah!E10+Kelantan!E10+Melaka!E10+'Negeri Sembilan'!E10+Pahang!E10+P.Pinang!E10+Perak!E10+Perlis!E10+Selangor!E10+Terengganu!E10+Sabah!E10+Sarawak!E10+WPKL!E10+'WP Labuan'!E10+'WP Putrajaya'!E10 -> 38658 | F10: =E10/B10*100 -> 5.9882521 | G10: =Johor!G10+Kedah!G10+Kelantan!G10+Melaka!G10+'Negeri Sembilan'!G10+Pahang!G10+P.Pinang!G10+Perak!G10+Perlis!G10+Selangor!G10+Terengganu!G10+Sabah!G10+Sarawak!G10+WPKL!G10+'WP Labuan'!G10+'WP Putrajaya'!G10 -> 152991 | H10: =G10/B10*100 -> 23.698812 | I10: =Johor!I10+Kedah!I10+Kelantan!I10+Melaka!I10+'Negeri Sembilan'!I10+Pahang!I10+P.Pinang!I10+Perak!I10+Perlis!I10+Selangor!I10+Terengganu!I10+Sabah!I10+Sarawak!I10+WPKL!I10+'WP Labuan'!I10+'WP Putrajaya'!I10 -> 14173 | J10: =I10/B10*100 -> 2.1954446 | K10: =Johor!K10+Kedah!K10+Kelantan!K10+Melaka!K10+'Negeri Sembilan'!K10+Pahang!K10+P.Pinang!K10+Perak!K10+Perlis!K10+Selangor!K10+Terengganu!K10+Sabah!K10+Sarawak!K10+WPKL!K10+'WP Labuan'!K10+'WP Putrajaya'!K10 -> 13914 | L10: =K10/B10*100 -> 2.1553246 | M10: =Johor!M10+Kedah!M10+Kelantan!M10+Melaka!M10+'Negeri Sembilan'!M10+Pahang!M10+P.Pinang!M10+Perak!M10+Perlis!M10+Selangor!M10+Terengganu!M10+Sabah!M10+Sarawak!M10+WPKL!M10+'WP Labuan'!M10+'WP Putrajaya'!M10 -> 5074 | N10: =M10/B10*100 -> 0.78597939 | O10: =Johor!O10+Kedah!O10+Kelantan!O10+Melaka!O10+'Negeri Sembilan'!O10+Pahang!O10+P.Pinang!O10+Perak!O10+Perlis!O10+Selangor!O10+Terengganu!O10+Sabah!O10+Sarawak!O10+WPKL!O10+'WP Labuan'!O10+'WP Putrajaya'!O10 -> 150019 | P10: =O10/B10*100 -> 23.23844
A11: Rumah bandar Townhouse | B11: =Johor!B11+Kedah!B11+Kelantan!B11+Melaka!B11+'Negeri Sembilan'!B11+Pahang!B11+P.Pinang!B11+Perak!B11+Perlis!B11+Selangor!B11+Terengganu!B11+Sabah!B11+Sarawak!B11+WPKL!B11+'WP Labuan'!B11+'WP Putrajaya'!B11 -> 12594 | C11: =Johor!C11+Kedah!C11+Kelantan!C11+Melaka!C11+'Negeri Sembilan'!C11+Pahang!C11+P.Pinang!C11+Perak!C11+Perlis!C11+Selangor!C11+Terengganu!C11+Sabah!C11+Sarawak!C11+WPKL!C11+'WP Labuan'!C11+'WP Putrajaya'!C11 -> 7893 | D11: =C11/B11*100 -> 62.672701 | E11: =Johor!E11+Kedah!E11+Kelantan!E11+Melaka!E11+'Negeri Sembilan'!E11+Pahang!E11+P.Pinang!E11+Perak!E11+Perlis!E11+Selangor!E11+Terengganu!E11+Sabah!E11+Sarawak!E11+WPKL!E11+'WP Labuan'!E11+'WP Putrajaya'!E11 -> 389 | F11: =E11/B11*100 -> 3.0887724 | G11: =Johor!G11+Kedah!G11+Kelantan!G11+Melaka!G11+'Negeri Sembilan'!G11+Pahang!G11+P.Pinang!G11+Perak!G11+Perlis!G11+Selangor!G11+Terengganu!G11+Sabah!G11+Sarawak!G11+WPKL!G11+'WP Labuan'!G11+'WP Putrajaya'!G11 -> 1743 | H11: =G11/B11*100 -> 13.839924 | I11: =Johor!I11+Kedah!I11+Kelantan!I11+Melaka!I11+'Negeri Sembilan'!I11+Pahang!I11+P.Pinang!I11+Perak!I11+Perlis!I11+Selangor!I11+Terengganu!I11+Sabah!I11+Sarawak!I11+WPKL!I11+'WP Labuan'!I11+'WP Putrajaya'!I11 -> 164 | J11: =I11/B11*100 -> 1.3022074 | K11: =Johor!K11+Kedah!K11+Kelantan!K11+Melaka!K11+'Negeri Sembilan'!K11+Pahang!K11+P.Pinang!K11+Perak!K11+Perlis!K11+Selangor!K11+Terengganu!K11+Sabah!K11+Sarawak!K11+WPKL!K11+'WP Labuan'!K11+'WP Putrajaya'!K11 -> 76 | L11: =K11/B11*100 -> 0.60346197 | M11: =Johor!M11+Kedah!M11+Kelantan!M11+Melaka!M11+'Negeri Sembilan'!M11+Pahang!M11+P.Pinang!M11+Perak!M11+Perlis!M11+Selangor!M11+Terengganu!M11+Sabah!M11+Sarawak!M11+WPKL!M11+'WP Labuan'!M11+'WP Putrajaya'!M11 -> 21 | N11: =M11/B11*100 -> 0.16674607 | O11: =Johor!O11+Kedah!O11+Kelantan!O11+Melaka!O11+'Negeri Sembilan'!O11+Pahang!O11+P.Pinang!O11+Perak!O11+Perlis!O11+Selangor!O11+Terengganu!O11+Sabah!O11+Sarawak!O11+WPKL!O11+'WP Labuan'!O11+'WP Putrajaya'!O11 -> 2307 | P11: =O11/B11*100 -> 18.318247
A12: Rumah pangsa/ Pangsapuri/ Kondominium Flat/ Apartment/ Condominium | B12: =Johor!B12+Kedah!B12+Kelantan!B12+Melaka!B12+'Negeri Sembilan'!B12+Pahang!B12+P.Pinang!B12+Perak!B12+Perlis!B12+Selangor!B12+Terengganu!B12+Sabah!B12+Sarawak!B12+WPKL!B12+'WP Labuan'!B12+'WP Putrajaya'!B12 -> 515359 | C12: =Johor!C12+Kedah!C12+Kelantan!C12+Melaka!C12+'Negeri Sembilan'!C12+Pahang!C12+P.Pinang!C12+Perak!C12+Perlis!C12+Selangor!C12+Terengganu!C12+Sabah!C12+Sarawak!C12+WPKL!C12+'WP Labuan'!C12+'WP Putrajaya'!C12 -> 262210 | D12: =C12/B12*100 -> 50.879096 | E12: =Johor!E12+Kedah!E12+Kelantan!E12+Melaka!E12+'Negeri Sembilan'!E12+Pahang!E12+P.Pinang!E12+Perak!E12+Perlis!E12+Selangor!E12+Terengganu!E12+Sabah!E12+Sarawak!E12+WPKL!E12+'WP Labuan'!E12+'WP Putrajaya'!E12 -> 27687 | F12: =E12/B12*100 -> 5.3723715 | G12: =Johor!G12+Kedah!G12+Kelantan!G12+Melaka!G12+'Negeri Sembilan'!G12+Pahang!G12+P.Pinang!G12+Perak!G12+Perlis!G12+Selangor!G12+Terengganu!G12+Sabah!G12+Sarawak!G12+WPKL!G12+'WP Labuan'!G12+'WP Putrajaya'!G12 -> 84349 | H12: =G12/B12*100 -> 16.367037 | I12: =Johor!I12+Kedah!I12+Kelantan!I12+Melaka!I12+'Negeri Sembilan'!I12+Pahang!I12+P.Pinang!I12+Perak!I12+Perlis!I12+Selangor!I12+Terengganu!I12+Sabah!I12+Sarawak!I12+WPKL!I12+'WP Labuan'!I12+'WP Putrajaya'!I12 -> 14331 | J12: =I12/B12*100 -> 2.78078 | K12: =Johor!K12+Kedah!K12+Kelantan!K12+Melaka!K12+'Negeri Sembilan'!K12+Pahang!K12+P.Pinang!K12+Perak!K12+Perlis!K12+Selangor!K12+Terengganu!K12+Sabah!K12+Sarawak!K12+WPKL!K12+'WP Labuan'!K12+'WP Putrajaya'!K12 -> 7257 | L12: =K12/B12*100 -> 1.4081446 | M12: =Johor!M12+Kedah!M12+Kelantan!M12+Melaka!M12+'Negeri Sembilan'!M12+Pahang!M12+P.Pinang!M12+Perak!M12+Perlis!M12+Selangor!M12+Terengganu!M12+Sabah!M12+Sarawak!M12+WPKL!M12+'WP Labuan'!M12+'WP Putrajaya'!M12 -> 1932 | N12: =M12/B12*100 -> 0.3748843 | O12: =Johor!O12+Kedah!O12+Kelantan!O12+Melaka!O12+'Negeri Sembilan'!O12+Pahang!O12+P.Pinang!O12+Perak!O12+Perlis!O12+Selangor!O12+Terengganu!O12+Sabah!O12+Sarawak!O12+WPKL!O12+'WP Labuan'!O12+'WP Putrajaya'!O12 -> 117593 | P12: =O12/B12*100 -> 22.817686
A13: Pangsapuri khidmat/ Services apartment Small Office Home Office (SOHO)/ Small Office Flexible Office (SOFO)/ Small Office Versatile Office (SOVO) | B13: =Johor!B13+Kedah!B13+Kelantan!B13+Melaka!B13+'Negeri Sembilan'!B13+Pahang!B13+P.Pinang!B13+Perak!B13+Perlis!B13+Selangor!B13+Terengganu!B13+Sabah!B13+Sarawak!B13+WPKL!B13+'WP Labuan'!B13+'WP Putrajaya'!B13 -> 32552 | C13: =Johor!C13+Kedah!C13+Kelantan!C13+Melaka!C13+'Negeri Sembilan'!C13+Pahang!C13+P.Pinang!C13+Perak!C13+Perlis!C13+Selangor!C13+Terengganu!C13+Sabah!C13+Sarawak!C13+WPKL!C13+'WP Labuan'!C13+'WP Putrajaya'!C13 -> 18086 | D13: =C13/B13*100 -> 55.560334 | E13: =Johor!E13+Kedah!E13+Kelantan!E13+Melaka!E13+'Negeri Sembilan'!E13+Pahang!E13+P.Pinang!E13+Perak!E13+Perlis!E13+Selangor!E13+Terengganu!E13+Sabah!E13+Sarawak!E13+WPKL!E13+'WP Labuan'!E13+'WP Putrajaya'!E13 -> 650 | F13: =E13/B13*100 -> 1.9968051 | G13: =Johor!G13+Kedah!G13+Kelantan!G13+Melaka!G13+'Negeri Sembilan'!G13+Pahang!G13+P.Pinang!G13+Perak!G13+Perlis!G13+Selangor!G13+Terengganu!G13+Sabah!G13+Sarawak!G13+WPKL!G13+'WP Labuan'!G13+'WP Putrajaya'!G13 -> 4758 | H13: =G13/B13*100 -> 14.616613 | I13: =Johor!I13+Kedah!I13+Kelantan!I13+Melaka!I13+'Negeri Sembilan'!I13+Pahang!I13+P.Pinang!I13+Perak!I13+Perlis!I13+Selangor!I13+Terengganu!I13+Sabah!I13+Sarawak!I13+WPKL!I13+'WP Labuan'!I13+'WP Putrajaya'!I13 -> 1153 | J13: =I13/B13*100 -> 3.5420251 | K13: =Johor!K13+Kedah!K13+Kelantan!K13+Melaka!K13+'Negeri Sembilan'!K13+Pahang!K13+P.Pinang!K13+Perak!K13+Perlis!K13+Selangor!K13+Terengganu!K13+Sabah!K13+Sarawak!K13+WPKL!K13+'WP Labuan'!K13+'WP Putrajaya'!K13 -> 329 | L13: =K13/B13*100 -> 1.0106906 | M13: =Johor!M13+Kedah!M13+Kelantan!M13+Melaka!M13+'Negeri Sembilan'!M13+Pahang!M13+P.Pinang!M13+Perak!M13+Perlis!M13+Selangor!M13+Terengganu!M13+Sabah!M13+Sarawak!M13+WPKL!M13+'WP Labuan'!M13+'WP Putrajaya'!M13 -> 13 | N13: =M13/B13*100 -> 0.039936102 | O13: =Johor!O13+Kedah!O13+Kelantan!O13+Melaka!O13+'Negeri Sembilan'!O13+Pahang!O13+P.Pinang!O13+Perak!O13+Perlis!O13+Selangor!O13+Terengganu!O13+Sabah!O13+Sarawak!O13+WPKL!O13+'WP Labuan'!O13+'WP Putrajaya'!O13 -> 7563 | P13: =O13/B13*100 -> 23.233595
A14: Rumah kedai/ Pejabat Shophouse/ Office | B14: =Johor!B14+Kedah!B14+Kelantan!B14+Melaka!B14+'Negeri Sembilan'!B14+Pahang!B14+P.Pinang!B14+Perak!B14+Perlis!B14+Selangor!B14+Terengganu!B14+Sabah!B14+Sarawak!B14+WPKL!B14+'WP Labuan'!B14+'WP Putrajaya'!B14 -> 50465 | C14: =Johor!C14+Kedah!C14+Kelantan!C14+Melaka!C14+'Negeri Sembilan'!C14+Pahang!C14+P.Pinang!C14+Perak!C14+Perlis!C14+Selangor!C14+Terengganu!C14+Sabah!C14+Sarawak!C14+WPKL!C14+'WP Labuan'!C14+'WP Putrajaya'!C14 -> 23916 | D14: =C14/B14*100 -> 47.391261 | E14: =Johor!E14+Kedah!E14+Kelantan!E14+Melaka!E14+'Negeri Sembilan'!E14+Pahang!E14+P.Pinang!E14+Perak!E14+Perlis!E14+Selangor!E14+Terengganu!E14+Sabah!E14+Sarawak!E14+WPKL!E14+'WP Labuan'!E14+'WP Putrajaya'!E14 -> 1632 | F14: =E14/B14*100 -> 3.2339245 | G14: =Johor!G14+Kedah!G14+Kelantan!G14+Melaka!G14+'Negeri Sembilan'!G14+Pahang!G14+P.Pinang!G14+Perak!G14+Perlis!G14+Selangor!G14+Terengganu!G14+Sabah!G14+Sarawak!G14+WPKL!G14+'WP Labuan'!G14+'WP Putrajaya'!G14 -> 3378 | H14: =G14/B14*100 -> 6.6937481 | I14: =Johor!I14+Kedah!I14+Kelantan!I14+Melaka!I14+'Negeri Sembilan'!I14+Pahang!I14+P.Pinang!I14+Perak!I14+Perlis!I14+Selangor!I14+Terengganu!I14+Sabah!I14+Sarawak!I14+WPKL!I14+'WP Labuan'!I14+'WP Putrajaya'!I14 -> 177 | J14: =I14/B14*100 -> 0.35073814 | K14: =Johor!K14+Kedah!K14+Kelantan!K14+Melaka!K14+'Negeri Sembilan'!K14+Pahang!K14+P.Pinang!K14+Perak!K14+Perlis!K14+Selangor!K14+Terengganu!K14+Sabah!K14+Sarawak!K14+WPKL!K14+'WP Labuan'!K14+'WP Putrajaya'!K14 -> 1772 | L14: =K14/B14*100 -> 3.5113445 | M14: =Johor!M14+Kedah!M14+Kelantan!M14+Melaka!M14+'Negeri Sembilan'!M14+Pahang!M14+P.Pinang!M14+Perak!M14+Perlis!M14+Selangor!M14+Terengganu!M14+Sabah!M14+Sarawak!M14+WPKL!M14+'WP Labuan'!M14+'WP Putrajaya'!M14 -> 190 | N14: =M14/B14*100 -> 0.37649856 | O14: =Johor!O14+Kedah!O14+Kelantan!O14+Melaka!O14+'Negeri Sembilan'!O14+Pahang!O14+P.Pinang!O14+Perak!O14+Perlis!O14+Selangor!O14+Terengganu!O14+Sabah!O14+Sarawak!O14+WPKL!O14+'WP Labuan'!O14+'WP Putrajaya'!O14 -> 19389 | P14: =O14/B14*100 -> 38.420688
A15: Rumah panjang Longhouse | B15: =Johor!B15+Kedah!B15+Kelantan!B15+Melaka!B15+'Negeri Sembilan'!B15+Pahang!B15+P.Pinang!B15+Perak!B15+Perlis!B15+Selangor!B15+Terengganu!B15+Sabah!B15+Sarawak!B15+WPKL!B15+'WP Labuan'!B15+'WP Putrajaya'!B15 -> 21290 | C15: =Johor!C15+Kedah!C15+Kelantan!C15+Melaka!C15+'Negeri Sembilan'!C15+Pahang!C15+P.Pinang!C15+Perak!C15+Perlis!C15+Selangor!C15+Terengganu!C15+Sabah!C15+Sarawak!C15+WPKL!C15+'WP Labuan'!C15+'WP Putrajaya'!C15 -> 166 | D15: 0 | E15: =Johor!E15+Kedah!E15+Kelantan!E15+Melaka!E15+'Negeri Sembilan'!E15+Pahang!E15+P.Pinang!E15+Perak!E15+Perlis!E15+Selangor!E15+Terengganu!E15+Sabah!E15+Sarawak!E15+WPKL!E15+'WP Labuan'!E15+'WP Putrajaya'!E15 -> 321 | F15: 0 | G15: =Johor!G15+Kedah!G15+Kelantan!G15+Melaka!G15+'Negeri Sembilan'!G15+Pahang!G15+P.Pinang!G15+Perak!G15+Perlis!G15+Selangor!G15+Terengganu!G15+Sabah!G15+Sarawak!G15+WPKL!G15+'WP Labuan'!G15+'WP Putrajaya'!G15 -> 9356 | H15: 0 | I15: =Johor!I15+Kedah!I15+Kelantan!I15+Melaka!I15+'Negeri Sembilan'!I15+Pahang!I15+P.Pinang!I15+Perak!I15+Perlis!I15+Selangor!I15+Terengganu!I15+Sabah!I15+Sarawak!I15+WPKL!I15+'WP Labuan'!I15+'WP Putrajaya'!I15 -> 40 | J15: 0 | K15: =Johor!K15+Kedah!K15+Kelantan!K15+Melaka!K15+'Negeri Sembilan'!K15+Pahang!K15+P.Pinang!K15+Perak!K15+Perlis!K15+Selangor!K15+Terengganu!K15+Sabah!K15+Sarawak!K15+WPKL!K15+'WP Labuan'!K15+'WP Putrajaya'!K15 -> 492 | L15: 0 | M15: =Johor!M15+Kedah!M15+Kelantan!M15+Melaka!M15+'Negeri Sembilan'!M15+Pahang!M15+P.Pinang!M15+Perak!M15+Perlis!M15+Selangor!M15+Terengganu!M15+Sabah!M15+Sarawak!M15+WPKL!M15+'WP Labuan'!M15+'WP Putrajaya'!M15 -> 311 | N15: 0 | O15: =Johor!O15+Kedah!O15+Kelantan!O15+Melaka!O15+'Negeri Sembilan'!O15+Pahang!O15+P.Pinang!O15+Perak!O15+Perlis!O15+Selangor!O15+Terengganu!O15+Sabah!O15+Sarawak!O15+WPKL!O15+'WP Labuan'!O15+'WP Putrajaya'!O15 -> 10604 | P15: 0
A16: Pondok gantian/ Sementara Improvised/ Temporary hut | B16: =Johor!B16+Kedah!B16+Kelantan!B16+Melaka!B16+'Negeri Sembilan'!B16+Pahang!B16+P.Pinang!B16+Perak!B16+Perlis!B16+Selangor!B16+Terengganu!B16+Sabah!B16+Sarawak!B16+WPKL!B16+'WP Labuan'!B16+'WP Putrajaya'!B16 -> 1062 | C16: =Johor!C16+Kedah!C16+Kelantan!C16+Melaka!C16+'Negeri Sembilan'!C16+Pahang!C16+P.Pinang!C16+Perak!C16+Perlis!C16+Selangor!C16+Terengganu!C16+Sabah!C16+Sarawak!C16+WPKL!C16+'WP Labuan'!C16+'WP Putrajaya'!C16 -> 36 | D16: =C16/B16*100 -> 3.3898305 | E16: =Johor!E16+Kedah!E16+Kelantan!E16+Melaka!E16+'Negeri Sembilan'!E16+Pahang!E16+P.Pinang!E16+Perak!E16+Perlis!E16+Selangor!E16+Terengganu!E16+Sabah!E16+Sarawak!E16+WPKL!E16+'WP Labuan'!E16+'WP Putrajaya'!E16 -> 55 | F16: =E16/B16*100 -> 5.1789077 | G16: =Johor!G16+Kedah!G16+Kelantan!G16+Melaka!G16+'Negeri Sembilan'!G16+Pahang!G16+P.Pinang!G16+Perak!G16+Perlis!G16+Selangor!G16+Terengganu!G16+Sabah!G16+Sarawak!G16+WPKL!G16+'WP Labuan'!G16+'WP Putrajaya'!G16 -> 169 | H16: =G16/B16*100 -> 15.913371 | I16: =Johor!I16+Kedah!I16+Kelantan!I16+Melaka!I16+'Negeri Sembilan'!I16+Pahang!I16+P.Pinang!I16+Perak!I16+Perlis!I16+Selangor!I16+Terengganu!I16+Sabah!I16+Sarawak!I16+WPKL!I16+'WP Labuan'!I16+'WP Putrajaya'!I16 -> 3 | J16: =I16/B16*100 -> 0.28248588 | K16: =Johor!K16+Kedah!K16+Kelantan!K16+Melaka!K16+'Negeri Sembilan'!K16+Pahang!K16+P.Pinang!K16+Perak!K16+Perlis!K16+Selangor!K16+Terengganu!K16+Sabah!K16+Sarawak!K16+WPKL!K16+'WP Labuan'!K16+'WP Putrajaya'!K16 -> 263 | L16: =K16/B16*100 -> 24.764595 | M16: =Johor!M16+Kedah!M16+Kelantan!M16+Melaka!M16+'Negeri Sembilan'!M16+Pahang!M16+P.Pinang!M16+Perak!M16+Perlis!M16+Selangor!M16+Terengganu!M16+Sabah!M16+Sarawak!M16+WPKL!M16+'WP Labuan'!M16+'WP Putrajaya'!M16 -> 178 | N16: =M16/B16*100 -> 16.760829 | O16: =Johor!O16+Kedah!O16+Kelantan!O16+Melaka!O16+'Negeri Sembilan'!O16+Pahang!O16+P.Pinang!O16+Perak!O16+Perlis!O16+Selangor!O16+Terengganu!O16+Sabah!O16+Sarawak!O16+WPKL!O16+'WP Labuan'!O16+'WP Putrajaya'!O16 -> 335 | P16: =O16/B16*100 -> 31.544256
A17: Bilik Room | B17: =Johor!B17+Kedah!B17+Kelantan!B17+Melaka!B17+'Negeri Sembilan'!B17+Pahang!B17+P.Pinang!B17+Perak!B17+Perlis!B17+Selangor!B17+Terengganu!B17+Sabah!B17+Sarawak!B17+WPKL!B17+'WP Labuan'!B17+'WP Putrajaya'!B17 -> 6426 | C17: =Johor!C17+Kedah!C17+Kelantan!C17+Melaka!C17+'Negeri Sembilan'!C17+Pahang!C17+P.Pinang!C17+Perak!C17+Perlis!C17+Selangor!C17+Terengganu!C17+Sabah!C17+Sarawak!C17+WPKL!C17+'WP Labuan'!C17+'WP Putrajaya'!C17 -> 2153 | D17: =C17/B17*100 -> 33.504513 | E17: =Johor!E17+Kedah!E17+Kelantan!E17+Melaka!E17+'Negeri Sembilan'!E17+Pahang!E17+P.Pinang!E17+Perak!E17+Perlis!E17+Selangor!E17+Terengganu!E17+Sabah!E17+Sarawak!E17+WPKL!E17+'WP Labuan'!E17+'WP Putrajaya'!E17 -> 107 | F17: =E17/B17*100 -> 1.6651105 | G17: =Johor!G17+Kedah!G17+Kelantan!G17+Melaka!G17+'Negeri Sembilan'!G17+Pahang!G17+P.Pinang!G17+Perak!G17+Perlis!G17+Selangor!G17+Terengganu!G17+Sabah!G17+Sarawak!G17+WPKL!G17+'WP Labuan'!G17+'WP Putrajaya'!G17 -> 680 | H17: =G17/B17*100 -> 10.582011 | I17: =Johor!I17+Kedah!I17+Kelantan!I17+Melaka!I17+'Negeri Sembilan'!I17+Pahang!I17+P.Pinang!I17+Perak!I17+Perlis!I17+Selangor!I17+Terengganu!I17+Sabah!I17+Sarawak!I17+WPKL!I17+'WP Labuan'!I17+'WP Putrajaya'!I17 -> 102 | J17: =I17/B17*100 -> 1.5873016 | K17: =Johor!K17+Kedah!K17+Kelantan!K17+Melaka!K17+'Negeri Sembilan'!K17+Pahang!K17+P.Pinang!K17+Perak!K17+Perlis!K17+Selangor!K17+Terengganu!K17+Sabah!K17+Sarawak!K17+WPKL!K17+'WP Labuan'!K17+'WP Putrajaya'!K17 -> 513 | L17: =K17/B17*100 -> 7.9831933 | M17: =Johor!M17+Kedah!M17+Kelantan!M17+Melaka!M17+'Negeri Sembilan'!M17+Pahang!M17+P.Pinang!M17+Perak!M17+Perlis!M17+Selangor!M17+Terengganu!M17+Sabah!M17+Sarawak!M17+WPKL!M17+'WP Labuan'!M17+'WP Putrajaya'!M17 -> 105 | N17: =M17/B17*100 -> 1.6339869 | O17: =Johor!O17+Kedah!O17+Kelantan!O17+Melaka!O17+'Negeri Sembilan'!O17+Pahang!O17+P.Pinang!O17+Perak!O17+Perlis!O17+Selangor!O17+Terengganu!O17+Sabah!O17+Sarawak!O17+WPKL!O17+'WP Labuan'!O17+'WP Putrajaya'!O17 -> 2766 | P17: =O17/B17*100 -> 43.043884
A18: Rumah kampung air Water village house | B18: =Johor!B18+Kedah!B18+Kelantan!B18+Melaka!B18+'Negeri Sembilan'!B18+Pahang!B18+P.Pinang!B18+Perak!B18+Perlis!B18+Selangor!B18+Terengganu!B18+Sabah!B18+Sarawak!B18+WPKL!B18+'WP Labuan'!B18+'WP Putrajaya'!B18 -> 1161 | C18: =Johor!C18+Kedah!C18+Kelantan!C18+Melaka!C18+'Negeri Sembilan'!C18+Pahang!C18+P.Pinang!C18+Perak!C18+Perlis!C18+Selangor!C18+Terengganu!C18+Sabah!C18+Sarawak!C18+WPKL!C18+'WP Labuan'!C18+'WP Putrajaya'!C18 -> 89 | D18: 0 | E18: =Johor!E18+Kedah!E18+Kelantan!E18+Melaka!E18+'Negeri Sembilan'!E18+Pahang!E18+P.Pinang!E18+Perak!E18+Perlis!E18+Selangor!E18+Terengganu!E18+Sabah!E18+Sarawak!E18+WPKL!E18+'WP Labuan'!E18+'WP Putrajaya'!E18 -> 76 | F18: 0 | G18: =Johor!G18+Kedah!G18+Kelantan!G18+Melaka!G18+'Negeri Sembilan'!G18+Pahang!G18+P.Pinang!G18+Perak!G18+Perlis!G18+Selangor!G18+Terengganu!G18+Sabah!G18+Sarawak!G18+WPKL!G18+'WP Labuan'!G18+'WP Putrajaya'!G18 -> 410 | H18: 0 | I18: =Johor!I18+Kedah!I18+Kelantan!I18+Melaka!I18+'Negeri Sembilan'!I18+Pahang!I18+P.Pinang!I18+Perak!I18+Perlis!I18+Selangor!I18+Terengganu!I18+Sabah!I18+Sarawak!I18+WPKL!I18+'WP Labuan'!I18+'WP Putrajaya'!I18 -> 1 | J18: 0 | K18: =Johor!K18+Kedah!K18+Kelantan!K18+Melaka!K18+'Negeri Sembilan'!K18+Pahang!K18+P.Pinang!K18+Perak!K18+Perlis!K18+Selangor!K18+Terengganu!K18+Sabah!K18+Sarawak!K18+WPKL!K18+'WP Labuan'!K18+'WP Putrajaya'!K18 -> 14 | L18: 0 | M18: =Johor!M18+Kedah!M18+Kelantan!M18+Melaka!M18+'Negeri Sembilan'!M18+Pahang!M18+P.Pinang!M18+Perak!M18+Perlis!M18+Selangor!M18+Terengganu!M18+Sabah!M18+Sarawak!M18+WPKL!M18+'WP Labuan'!M18+'WP Putrajaya'!M18 -> 124 | N18: 0 | O18: =Johor!O18+Kedah!O18+Kelantan!O18+Melaka!O18+'Negeri Sembilan'!O18+Pahang!O18+P.Pinang!O18+Perak!O18+Perlis!O18+Selangor!O18+Terengganu!O18+Sabah!O18+Sarawak!O18+WPKL!O18+'WP Labuan'!O18+'WP Putrajaya'!O18 -> 447 | P18: 0
A19: Lain-lain Others | B19: =Johor!B19+Kedah!B19+Kelantan!B19+Melaka!B19+'Negeri Sembilan'!B19+Pahang!B19+P.Pinang!B19+Perak!B19+Perlis!B19+Selangor!B19+Terengganu!B19+Sabah!B19+Sarawak!B19+WPKL!B19+'WP Labuan'!B19+'WP Putrajaya'!B19 -> 22271 | C19: =Johor!C19+Kedah!C19+Kelantan!C19+Melaka!C19+'Negeri Sembilan'!C19+Pahang!C19+P.Pinang!C19+Perak!C19+Perlis!C19+Selangor!C19+Terengganu!C19+Sabah!C19+Sarawak!C19+WPKL!C19+'WP Labuan'!C19+'WP Putrajaya'!C19 -> 3353 | D19: =C19/B19*100 -> 15.055453 | E19: =Johor!E19+Kedah!E19+Kelantan!E19+Melaka!E19+'Negeri Sembilan'!E19+Pahang!E19+P.Pinang!E19+Perak!E19+Perlis!E19+Selangor!E19+Terengganu!E19+Sabah!E19+Sarawak!E19+WPKL!E19+'WP Labuan'!E19+'WP Putrajaya'!E19 -> 980 | F19: =E19/B19*100 -> 4.4003413 | G19: =Johor!G19+Kedah!G19+Kelantan!G19+Melaka!G19+'Negeri Sembilan'!G19+Pahang!G19+P.Pinang!G19+Perak!G19+Perlis!G19+Selangor!G19+Terengganu!G19+Sabah!G19+Sarawak!G19+WPKL!G19+'WP Labuan'!G19+'WP Putrajaya'!G19 -> 2326 | H19: =G19/B19*100 -> 10.444075 | I19: =Johor!I19+Kedah!I19+Kelantan!I19+Melaka!I19+'Negeri Sembilan'!I19+Pahang!I19+P.Pinang!I19+Perak!I19+Perlis!I19+Selangor!I19+Terengganu!I19+Sabah!I19+Sarawak!I19+WPKL!I19+'WP Labuan'!I19+'WP Putrajaya'!I19 -> 235 | J19: =I19/B19*100 -> 1.0551839 | K19: =Johor!K19+Kedah!K19+Kelantan!K19+Melaka!K19+'Negeri Sembilan'!K19+Pahang!K19+P.Pinang!K19+Perak!K19+Perlis!K19+Selangor!K19+Terengganu!K19+Sabah!K19+Sarawak!K19+WPKL!K19+'WP Labuan'!K19+'WP Putrajaya'!K19 -> 1450 | L19: =K19/B19*100 -> 6.510709 | M19: =Johor!M19+Kedah!M19+Kelantan!M19+Melaka!M19+'Negeri Sembilan'!M19+Pahang!M19+P.Pinang!M19+Perak!M19+Perlis!M19+Selangor!M19+Terengganu!M19+Sabah!M19+Sarawak!M19+WPKL!M19+'WP Labuan'!M19+'WP Putrajaya'!M19 -> 625 | N19: =M19/B19*100 -> 2.8063401 | O19: =Johor!O19+Kedah!O19+Kelantan!O19+Melaka!O19+'Negeri Sembilan'!O19+Pahang!O19+P.Pinang!O19+Perak!O19+Perlis!O19+Selangor!O19+Terengganu!O19+Sabah!O19+Sarawak!O19+WPKL!O19+'WP Labuan'!O19+'WP Putrajaya'!O19 -> 13292 | P19: =O19/B19*100 -> 59.682996
A22: Nota/ Note:
A23: Statistik ini merujuk kepada pelaporan oleh responden
A24: The statistics refer to self-declaration by respondent

Sheet Johor
A1: Jadual 5: Bilangan dan peratus unit perumahan mengikut jenis unit perumahan, sebab kekosongan, daerah pentadbiran dan negeri, Malaysia, 2020 (samb)
A2: Table 5: Number and percentage of housing units by type of housing units, reason for vacancy, administrative district and state, Malaysia, 2020 (cont'd)
A4: Negeri/ Daerah Pentadbiran/ Jenis tempat kediaman State/ Administrative District/ Type of living quarters | B4: Jumlah Total | C4: Sebab kekosongan Reason for vacancy
C5: Baru siap/ untuk disewa atau dijual New completed/ for rent or sale | D5: % | E5: Untuk dibaiki/ ubahsuai For repair/ renovation | F5: % | G5: Rumah peranginan/ Persinggahan Holiday resort/ Transit | H5: % | I5: Homestay | J5: % | K5: Rumah pekerja bermusim Seasonal workers quarters | L5: % | M5: Hampir roboh Dilapidated | N5: % | O5: Lain-lain Others | P5: %
A6: JOHOR
A7: Unit perumahan Housing unit | B7: =B31+B50+B69+B88+B107+B126+B145+B164+B183+B202 -> 277962 | C7: =C31+C50+C69+C88+C107+C126+C145+C164+C183+C202 -> 142673 | D7: =C7/B7*100 -> 51.328239 | E7: =E31+E50+E69+E88+E107+E126+E145+E164+E183+E202 -> 11034 | F7: =E7/B7*100 -> 3.9696074 | G7: =G31+G50+G69+G88+G107+G126+G145+G164+G183+G202 -> 46171 | H7: =G7/B7*100 -> 16.610544 | I7: =I31+I50+I69+I88+I107+I126+I145+I164+I183+I202 -> 4064 | J7: =I7/B7*100 -> 1.4620704 | K7: =K31+K50+K69+K88+K107+K126+K145+K164+K183+K202 -> 4717 | L7: =K7/B7*100 -> 1.6969946 | M7: =M31+M50+M69+M88+M107+M126+M145+M164+M183+M202 -> 3844 | N7: =M7/B7*100 -> 1.3829228 | O7: =O31+O50+O69+O88+O107+O126+O145+O164+O183+O202 -> 65459 | P7: =O7/B7*100 -> 23.549622
A8: Sesebuah Detached | B8: =B32+B51+B70+B89+B108+B127+B146+B165+B184+B203 -> 40363 | C8: =C32+C51+C70+C89+C108+C127+C146+C165+C184+C203 -> 9301 | D8: =C8/B8*100 -> 23.043381 | E8: =E32+E51+E70+E89+E108+E127+E146+E165+E184+E203 -> 2277 | F8: =E8/B8*100 -> 5.6413052 | G8: =G32+G51+G70+G89+G108+G127+G146+G165+G184+G203 -> 11504 | H8: =G8/B8*100 -> 28.50135 | I8: =I32+I51+I70+I89+I108+I127+I146+I165+I184+I203 -> 821 | J8: =I8/B8*100 -> 2.0340411 | K8: =K32+K51+K70+K89+K108+K127+K146+K165+K184+K203 -> 1035 | L8: =K8/B8*100 -> 2.5642296 | M8: =M32+M51+M70+M89+M108+M127+M146+M165+M184+M203 -> 2659 | N8: =M8/B8*100 -> 6.5877165 | O8: =O32+O51+O70+O89+O108+O127+O146+O165+O184+O203 -> 12766 | P8: =O8/B8*100 -> 31.627976
A9: Berkembar Semi-detached | B9: =B33+B52+B71+B90+B109+B128+B147+B166+B185+B204 -> 17477 | C9: =C33+C52+C71+C90+C109+C128+C147+C166+C185+C204 -> 6619 | D9: =C9/B9*100 -> 37.872633 | E9: =E33+E52+E71+E90+E109+E128+E147+E166+E185+E204 -> 833 | F9: =E9/B9*100 -> 4.7662642 | G9: =G33+G52+G71+G90+G109+G128+G147+G166+G185+G204 -> 3083 | H9: =G9/B9*100 -> 17.640327 | I9: =I33+I52+I71+I90+I109+I128+I147+I166+I185+I204 -> 271 | J9: =I9/B9*100 -> 1.5506094 | K9: =K33+K52+K71+K90+K109+K128+K147+K166+K185+K204 -> 1347 | L9: =K9/B9*100 -> 7.7072724 | M9: =M33+M52+M71+M90+M109+M128+M147+M166+M185+M204 -> 355 | N9: =M9/B9*100 -> 2.0312411 | O9: =O33+O52+O71+O90+O109+O128+O147+O166+O185+O204 -> 4969 | P9: =O9/B9*100 -> 28.431653
A10: Teres/ Berangkai/ Berkelompok Terrace/ Link/ Cluster | B10: =B34+B53+B72+B91+B110+B129+B148+B167+B186+B205 -> 110326 | C10: =C34+C53+C72+C91+C110+C129+C148+C167+C186+C205 -> 57891 | D10: =C10/B10*100 -> 52.472672 | E10: =E34+E53+E72+E91+E110+E129+E148+E167+E186+E205 -> 6132 | F10: =E10/B10*100 -> 5.5580733 | G10: =G34+G53+G72+G91+G110+G129+G148+G167+G186+G205 -> 21039 | H10: =G10/B10*100 -> 19.069848 | I10: =I34+I53+I72+I91+I110+I129+I148+I167+I186+I205 -> 1683 | J10: =I10/B10*100 -> 1.525479 | K10: =K34+K53+K72+K91+K110+K129+K148+K167+K186+K205 -> 1317 | L10: =K10/B10*100 -> 1.1937349 | M10: =M34+M53+M72+M91+M110+M129+M148+M167+M186+M205 -> 592 | N10: =M10/B10*100 -> 0.53659156 | O10: =O34+O53+O72+O91+O110+O129+O148+O167+O186+O205 -> 21672 | P10: =O10/B10*100 -> 19.643602
A11: Rumah bandar Townhouse | B11: =B35+B54+B73+B92+B111+B130+B149+B168+B187+B206 -> 2857 | C11: =C35+C54+C73+C92+C111+C130+C149+C168+C187+C206 -> 2524 | D11: =C11/B11*100 -> 88.344417 | E11: =E35+E54+E73+E92+E111+E130+E149+E168+E187+E206 -> 17 | F11: =E11/B11*100 -> 0.59502975 | G11: =G35+G54+G73+G92+G111+G130+G149+G168+G187+G206 -> 231 | H11: =G11/B11*100 -> 8.0854043 | I11: =I35+I54+I73+I92+I111+I130+I149+I168+I187+I206 -> 7 | J11: =I11/B11*100 -> 0.24501225 | K11: =K35+K54+K73+K92+K111+K130+K149+K168+K187+K206 -> 1 | L11: =K11/B11*100 -> 0.03500175 | M11: =M35+M54+M73+M92+M111+M130+M149+M168+M187+M206 -> 3 | N11: =M11/B11*100 -> 0.10500525 | O11: =O35+O54+O73+O92+O111+O130+O149+O168+O187+O206 -> 74 | P11: =O11/B11*100 -> 2.5901295
A12: Rumah pangsa/ Pangsapuri/ Kondominium Flat/ Apartment/ Condominium | B12: =B36+B55+B74+B93+B112+B131+B150+B169+B188+B207 -> 86786 | C12: =C36+C55+C74+C93+C112+C131+C150+C169+C188+C207 -> 54133 | D12: =C12/B12*100 -> 62.375268 | E12: =E36+E55+E74+E93+E112+E131+E150+E169+E188+E207 -> 1485 | F12: =E12/B12*100 -> 1.7111055 | G12: =G36+G55+G74+G93+G112+G131+G150+G169+G188+G207 -> 9116 | H12: =G12/B12*100 -> 10.503998 | I12: =I36+I55+I74+I93+I112+I131+I150+I169+I188+I207 -> 1142 | J12: =I12/B12*100 -> 1.3158804 | K12: =K36+K55+K74+K93+K112+K131+K150+K169+K188+K207 -> 487 | L12: =K12/B12*100 -> 0.56115042 | M12: =M36+M55+M74+M93+M112+M131+M150+M169+M188+M207 -> 144 | N12: =M12/B12*100 -> 0.16592538 | O12: =O36+O55+O74+O93+O112+O131+O150+O169+O188+O207 -> 20279 | P12: =O12/B12*100 -> 23.366672
A13: Pangsapuri khidmat/ Services apartment Small Office Home Office (SOHO)/ Small Office Flexible Office (SOFO)/ Small Office Versatile Office (SOVO) | B13: =B37+B56+B75+B94+B113+B132+B151+B170+B189+B208 -> 9775 | C13: =C37+C56+C75+C94+C113+C132+C151+C170+C189+C208 -> 6735 | D13: =C13/B13*100 -> 68.900256 | E13: =E37+E56+E75+E94+E113+E132+E151+E170+E189+E208 -> 110 | F13: =E13/B13*100 -> 1.1253197 | G13: =G37+G56+G75+G94+G113+G132+G151+G170+G189+G208 -> 759 | H13: =G13/B13*100 -> 7.7647059 | I13: =I37+I56+I75+I94+I113+I132+I151+I170+I189+I208 -> 114 | J13: =I13/B13*100 -> 1.1662404 | K13: =K37+K56+K75+K94+K113+K132+K151+K170+K189+K208 -> 59 | L13: =K13/B13*100 -> 0.60358056 | M13: =M37+M56+M75+M94+M113+M132+M151+M170+M189+M208 -> 1 | N13: =M13/B13*100 -> 0.010230179 | O13: =O37+O56+O75+O94+O113+O132+O151+O170+O189+O208 -> 1997 | P13: =O13/B13*100 -> 20.429668
A14: Rumah kedai/ Pejabat Shophouse/ Office | B14: =B38+B57+B76+B95+B114+B133+B152+B171+B190+B209 -> 8821 | C14: =C38+C57+C76+C95+C114+C133+C152+C171+C190+C209 -> 4876 | D14: =C14/B14*100 -> 55.277179 | E14: =E38+E57+E76+E95+E114+E133+E152+E171+E190+E209 -> 123 | F14: =E14/B14*100 -> 1.3943997 | G14: =G38+G57+G76+G95+G114+G133+G152+G171+G190+G209 -> 246 | H14: =G14/B14*100 -> 2.7887995 | I14: =I38+I57+I76+I95+I114+I133+I152+I171+I190+I209 -> 16 | J14: =I14/B14*100 -> 0.18138533 | K14: =K38+K57+K76+K95+K114+K133+K152+K171+K190+K209 -> 391 | L14: =K14/B14*100 -> 4.432604 | M14: =M38+M57+M76+M95+M114+M133+M152+M171+M190+M209 -> 38 | N14: =M14/B14*100 -> 0.43079016 | O14: =O38+O57+O76+O95+O114+O133+O152+O171+O190+O209 -> 3131 | P14: =O14/B14*100 -> 35.494842
A15: Rumah panjang Longhouse | B15: 0 | C15: 0 | D15: 0 | E15: 0 | F15: 0 | G15: 0 | H15: 0 | I15: 0 | J15: 0 | K15: 0 | L15: 0 | M15: 0 | N15: 0 | O15: 0 | P15: 0
A16: Pondok gantian/ Sementara Improvised/ Temporary hut | B16: =B40+B59+B78+B97+B116+B135+B154+B173+B192+B211 -> 53 | C16: =C40+C59+C78+C97+C116+C135+C154+C173+C192+C211 -> 5 | D16: =C16/B16*100 -> 9.4339623 | E16: =E40+E59+E78+E97+E116+E135+E154+E173+E192+E211 -> 5 | F16: =E16/B16*100 -> 9.4339623 | G16: =G40+G59+G78+G97+G116+G135+G154+G173+G192+G211 -> 3 | H16: =G16/B16*100 -> 5.6603774 | I16: =I40+I59+I78+I97+I116+I135+I154+I173+I192+I211 -> 0 | J16: =I16/B16*100 -> 0 | K16: =K40+K59+K78+K97+K116+K135+K154+K173+K192+K211 -> 23 | L16: =K16/B16*100 -> 43.396226 | M16: =M40+M59+M78+M97+M116+M135+M154+M173+M192+M211 -> 7 | N16: =M16/B16*100 -> 13.207547 | O16: =O40+O59+O78+O97+O116+O135+O154+O173+O192+O211 -> 10 | P16: =O16/B16*100 -> 18.867925
A17: Bilik Room | B17: =B41+B60+B79+B98+B117+B136+B155+B174+B193+B212 -> 27 | C17: =C41+C60+C79+C98+C117+C136+C155+C174+C193+C212 -> 9 | D17: =C17/B17*100 -> 33.333333 | E17: =E41+E60+E79+E98+E117+E136+E155+E174+E193+E212 -> 1 | F17: =E17/B17*100 -> 3.7037037 | G17: =G41+G60+G79+G98+G117+G136+G155+G174+G193+G212 -> 2 | H17: =G17/B17*100 -> 7.4074074 | I17: =I41+I60+I79+I98+I117+I136+I155+I174+I193+I212 -> 2 | J17: =I17/B17*100 -> 7.4074074 | K17: 0 | L17: 0 | M17: =M41+M60+M79+M98+M117+M136+M155+M174+M193+M212 -> 1 | N17: =M17/B17*100 -> 3.7037037 | O17: =O41+O60+O79+O98+O117+O136+O155+O174+O193+O212 -> 12 | P17: =O17/B17*100 -> 44.444444
A18: Rumah kampung air Water village house | B18: 0 | C18: 0 | D18: 0 | E18: 0 | F18: 0 | G18: 0 | H18: 0 | I18: 0 | J18: 0 | K18: 0 | L18: 0 | M18: 0 | N18: 0 | O18: 0 | P18: 0
A19: Lain-lain Others | B19: =B43+B62+B81+B100+B119+B138+B157+B176+B195+B214 -> 1477 | C19: =C43+C62+C81+C100+C119+C138+C157+C176+C195+C214 -> 580 | D19: =C19/B19*100 -> 39.268788 | E19: =E43+E62+E81+E100+E119+E138+E157+E176+E195+E214 -> 51 | F19: =E19/B19*100 -> 3.4529452 | G19: =G43+G62+G81+G100+G119+G138+G157+G176+G195+G214 -> 188 | H19: =G19/B19*100 -> 12.728504 | I19: =I43+I62+I81+I100+I119+I138+I157+I176+I195+I214 -> 8 | J19: =I19/B19*100 -> 0.54163846 | K19: =K43+K62+K81+K100+K119+K138+K157+K176+K195+K214 -> 57 | L19: =K19/B19*100 -> 3.859174 | M19: =M43+M62+M81+M100+M119+M138+M157+M176+M195+M214 -> 44 | N19: =M19/B19*100 -> 2.9790115 | O19: =O43+O62+O81+O100+O119+O138+O157+O176+O195+O214 -> 549 | P19: =O19/B19*100 -> 37.169939
A22: Nota/ Note:
A23: Statistik ini merujuk kepada pelaporan oleh responden
A24: The statistics refer to self-declaration by respondent
A25: Jadual 5: Bilangan dan peratus unit perumahan mengikut jenis unit perumahan, sebab kekosongan, daerah pentadbiran dan negeri, Malaysia, 2020 (samb.)
A26: Table 5: Number and percentage of housing units by type of housing units, reason for vacancy, administrative district and state, Malaysia, 2020 (cont'd)
A28: Negeri/ Daerah Pentadbiran/ Jenis tempat kediaman State/ Administrative District/ Type of living quarters | B28: Jumlah Total | C28: Sebab kekosongan Reason for vacancy
C29: Baru siap/ untuk disewa atau dijual New completed/ for rent or sale | D29: % | E29: Untuk dibaiki/ ubahsuai For repair/ renovation | F29: % | G29: Rumah peranginan/ Persinggahan Holiday resort/ Transit | H29: % | I29: Homestay | J29: % | K29: Rumah pekerja bermusim Seasonal workers quarters | L29: % | M29: Hampir roboh Dilapidated | N29: % | O29: Lain-lain Others | P29: %
A30: Batu Pahat
A31: Unit perumahan Housing unit | B31: 23552 | C31: 11091 | D31: =C31/B31*100 -> 47.091542 | E31: 1426 | F31: =E31/B31*100 -> 6.0546875 | G31: 2914 | H31: =G31/B31*100 -> 12.372622 | I31: 486 | J31: =I31/B31*100 -> 2.063519 | K31: 568 | L31: =K31/B31*100 -> 2.4116848 | M31: 927 | N31: =M31/B31*100 -> 3.9359715 | O31: 6140 | P31: =O31/B31*100 -> 26.069973
A32: Sesebuah Detached | B32: 7421 | C32: 1781 | D32: =C32/B32*100 -> 23.999461 | E32: 537 | F32: =E32/B32*100 -> 7.2362215 | G32: 1458 | H32: =G32/B32*100 -> 19.646948 | I32: 201 | J32: =I32/B32*100 -> 2.7085298 | K32: 152 | L32: =K32/B32*100 -> 2.0482415 | M32: 779 | N32: =M32/B32*100 -> 10.497238 | O32: 2513 | P32: =O32/B32*100 -> 33.863361
A33: Berkembar Semi-detached | B33: 2027 | C33: 893 | D33: =C33/B33*100 -> 44.055254 | E33: 140 | F33: =E33/B33*100 -> 6.9067588 | G33: 204 | H33: =G33/B33*100 -> 10.064134 | I33: 45 | J33: =I33/B33*100 -> 2.2200296 | K33: 206 | L33: =K33/B33*100 -> 10.162802 | M33: 48 | N33: =M33/B33*100 -> 2.3680316 | O33: 491 | P33: =O33/B33*100 -> 24.22299
A34: Teres/ Berangkai/ Berkelompok Terrace/ Link/ Cluster | B34: 10870 | C34: 6384 | D34: =C34/B34*100 -> 58.730451 | E34: 668 | F34: =E34/B34*100 -> 6.1453542 | G34: 1153 | H34: =G34/B34*100 -> 10.607176 | I34: 232 | J34: =I34/B34*100 -> 2.1343146 | K34: 129 | L34: =K34/B34*100 -> 1.1867525 | M34: 76 | N34: =M34/B34*100 -> 0.69917203 | O34: 2228 | P34: =O34/B34*100 -> 20.49678
A35: Rumah bandar Townhouse | B35: 52 | C35: 14 | D35: =C35/B35*100 -> 26.923077 | E35: 3 | F35: =E35/B35*100 -> 5.7692308 | G35: 10 | H35: =G35/B35*100 -> 19.230769 | I35: 0 | J35: 0 | K35: 1 | L35: =K35/B35*100 -> 1.9230769 | M35: 2 | N35: =M35/B35*100 -> 3.8461538 | O35: 22 | P35: =O35/B35*100 -> 42.307692
A36: Rumah pangsa/ Pangsapuri/ Kondominium Flat/ Apartment/ Condominium | B36: 1383 | C36: 927 | D36: =C36/B36*100 -> 67.0282 | E36: 26 | F36: =E36/B36*100 -> 1.8799711 | G36: 82 | H36: =G36/B36*100 -> 5.9291396 | I36: 3 | J36: =I36/B36*100 -> 0.21691974 | K36: 46 | L36: =K36/B36*100 -> 3.3261027 | M36: 2 | N36: =M36/B36*100 -> 0.14461316 | O36: 297 | P36: =O36/B36*100 -> 21.475054
A37: Pangsapuri khidmat/ Services apartment Small Office Home Office (SOHO)/ Small Office Flexible Office (SOFO)/ Small Office Versatile Office (SOVO) | B37: 109 | C37: 5 | D37: =C37/B37*100 -> 4.587156 | E37: 33 | F37: =E37/B37*100 -> 30.275229 | G37: 1 | H37: =G37/B37*100 -> 0.91743119 | I37: 0 | J37: 0 | K37: 0 | L37: 0 | M37: 1 | N37: =M37/B37*100 -> 0.91743119 | O37: 69 | P37: =O37/B37*100 -> 63.302752
A38: Rumah kedai/ Pejabat Shophouse/ Office | B38: 1630 | C38: 1084 | D38: =C38/B38*100 -> 66.503067 | E38: 18 | F38: =E38/B38*100 -> 1.1042945 | G38: 2 | H38: =G38/B38*100 -> 0.12269939 | I38: 2 | J38: =I38/B38*100 -> 0.12269939 | K38: 33 | L38: =K38/B38*100 -> 2.0245399 | M38: 5 | N38: =M38/B38*100 -> 0.30674847 | O38: 486 | P38: =O38/B38*100 -> 29.815951
A39: Rumah panjang Longhouse | B39: 0 | C39: 0 | D39: 0 | E39: 0 | F39: 0 | G39: 0 | H39: 0 | I39: 0 | J39: 0 | K39: 0 | L39: 0 | M39: 0 | N39: 0 | O39: 0 | P39: 0
A40: Pondok gantian/ Sementara Improvised/ Temporary hut | B40: 7 | C40: 1 | D40: =C40/B40*100 -> 14.285714 | E40: 0 | F40: 0 | G40: 1 | H40: =G40/B40*100 -> 14.285714 | I40: 0 | J40: 0 | K40: 1 | L40: =K40/B40*100 -> 14.285714 | M40: 4 | N40: =M40/B40*100 -> 57.142857 | O40: 0 | P40: 0
A41: Bilik Room | B41: 1 | C41: 0 | D41: 0 | E41: 0 | F41: 0 | G41: 1 | H41: =G41/B41*100 -> 100 | I41: 0 | J41: 0 | K41: 0 | L41: 0 | M41: 0 | N41: 0 | O41: 0 | P41: 0
A42: Rumah kampung air Water village house | B42: 0 | C42: 0 | D42: 0 | E42: 0 | F42: 0 | G42: 0 | H42: 0 | I42: 0 | J42: 0 | K42: 0 | L42: 0 | M42: 0 | N42: 0 | O42: 0 | P42: 0
A43: Lain-lain Others | B43: 52 | C43: 2 | D43: =C43/B43*100 -> 3.8461538 | E43: 1 | F43: =E43/B43*100 -> 1.9230769 | G43: 2 | H43: =G43/B43*100 -> 3.8461538 | I43: 3 | J43: =I43/B43*100 -> 5.7692308 | K43: 0 | L43: =K43/B43*100 -> 0 | M43: 10 | N43: =M43/B43*100 -> 19.230769 | O43: 34 | P43: =O43/B43*100 -> 65.384615
A46: Nota/ Note:
A47: Statistik ini merujuk kepada pelaporan oleh responden
A48: The statistics refer to self-declaration by respondent
A49: Johor Bahru
A50: Unit perumahan Housing unit | B50: 160885 | C50: 98551 | D50: =C50/B50*100 -> 61.255555 | E50: 5350 | F50: =E50/B50*100 -> 3.3253566 | G50: 21921 | H50: =G50/B50*100 -> 13.62526 | I50: 2019 | J50: =I50/B50*100 -> 1.2549336 | K50: 1394 | L50: =K50/B50*100 -> 0.86645741 | M50: 556 | N50: =M50/B50*100 -> 0.34558846 | O50: 31094 | P50: =O50/B50*100 -> 19.326848
A51: Sesebuah Detached | B51: 7416 | C51: 3189 | D51: =C51/B51*100 -> 43.001618 | E51: 673 | F51: =E51/B51*100 -> 9.074973 | G51: 1657 | H51: =G51/B51*100 -> 22.343581 | I51: 90 | J51: =I51/B51*100 -> 1.2135922 | K51: 138 | L51: =K51/B51*100 -> 1.8608414 | M51: 315 | N51: =M51/B51*100 -> 4.2475728 | O51: 1354 | P51: =O51/B51*100 -> 18.257821
A52: Berkembar Semi-detached | B52: 5078 | C52: 2884 | D52: =C52/B52*100 -> 56.794013 | E52: 299 | F52: =E52/B52*100 -> 5.8881449 | G52: 1225 | H52: =G52/B52*100 -> 24.123671 | I52: 15 | J52: =I52/B52*100 -> 0.29539189 | K52: 54 | L52: =K52/B52*100 -> 1.0634108 | M52: 34 | N52: =M52/B52*100 -> 0.66955494 | O52: 567 | P52: =O52/B52*100 -> 11.165813
A53: Teres/ Berangkai/ Berkelompok Terrace/ Link/ Cluster | B53: 53567 | C53: 31154 | D53: =C53/B53*100 -> 58.158941 | E53: 3180 | F53: =E53/B53*100 -> 5.9364907 | G53: 9632 | H53: =G53/B53*100 -> 17.98122 | I53: 674 | J53: =I53/B53*100 -> 1.2582373 | K53: 512 | L53: =K53/B53*100 -> 0.95581235 | M53: 162 | N53: =M53/B53*100 -> 0.302425 | O53: 8253 | P53: =O53/B53*100 -> 15.406874
A54: Rumah bandar Townhouse | B54: 2079 | C54: 1826 | D54: =C54/B54*100 -> 87.830688 | E54: 11 | F54: =E54/B54*100 -> 0.52910053 | G54: 198 | H54: =G54/B54*100 -> 9.5238095 | I54: 6 | J54: =I54/B54*100 -> 0.28860029 | K54: 0 | L54: 0 | M54: 0 | N54: 0 | O54: 38 | P54: =O54/B54*100 -> 1.8278018
A55: Rumah pangsa/ Pangsapuri/ Kondominium Flat/ Apartment/ Condominium | B55: 79542 | C55: 50617 | D55: =C55/B55*100 -> 63.635564 | E55: 1002 | F55: =E55/B55*100 -> 1.2597119 | G55: 8410 | H55: =G55/B55*100 -> 10.573031 | I55: 1115 | J55: =I55/B55*100 -> 1.4017752 | K55: 355 | L55: =K55/B55*100 -> 0.4463051 | M55: 20 | N55: =M55/B55*100 -> 0.025143949 | O55: 18023 | P55: =O55/B55*100 -> 22.65847
A56: Pangsapuri khidmat/ Services apartment Small Office Home Office (SOHO)/ Small Office Flexible Office (SOFO)/ Small Office Versatile Office (SOVO) | B56: 9257 | C56: 6489 | D56: =C56/B56*100 -> 70.098304 | E56: 72 | F56: =E56/B56*100 -> 0.77778978 | G56: 678 | H56: =G56/B56*100 -> 7.3241871 | I56: 114 | J56: =I56/B56*100 -> 1.2315005 | K56: 32 | L56: =K56/B56*100 -> 0.34568435 | M56: 0 | N56: 0 | O56: 1872 | P56: =O56/B56*100 -> 20.222534
A57: Rumah kedai/ Pejabat Shophouse/ Office | B57: 3084 | C57: 1894 | D57: =C57/B57*100 -> 61.413748 | E57: 82 | F57: =E57/B57*100 -> 2.6588846 | G57: 36 | H57: =G57/B57*100 -> 1.1673152 | I57: 2 | J57: =I57/B57*100 -> 0.064850843 | K57: 298 | L57: =K57/B57*100 -> 9.6627756 | M57: 2 | N57: =M57/B57*100 -> 0.064850843 | O57: 770 | P57: =O57/B57*100 -> 24.967575
A58: Rumah panjang Longhouse | B58: 0 | C58: 0 | D58: 0 | E58: 0 | F58: 0 | G58: 0 | H58: 0 | I58: 0 | J58: 0 | K58: 0 | L58: 0 | M58: 0 | N58: 0 | O58: 0 | P58: 0
A59: Pondok gantian/ Sementara Improvised/ Temporary hut | B59: 4 | C59: 1 | D59: =C59/B59*100 -> 25 | E59: 0 | F59: 0 | G59: 1 | H59: =G59/B59*100 -> 25 | I59: 0 | J59: 0 | K59: 0 | L59: 0 | M59: 2 | N59: =M59/B59*100 -> 50 | O59: 0 | P59: 0
A60: Bilik Room | B60: 5 | C60: 1 | D60: =C60/B60*100 -> 20 | E60: 0 | F60: 0 | G60: 0 | H60: 0 | I60: 0 | J60: 0 | K60: 0 | L60: 0 | M60: 0 | N60: 0 | O60: 4 | P60: =O60/B60*100 -> 80
A61: Rumah kampung air Water village house | B61: 0 | C61: 0 | D61: 0 | E61: 0 | F61: 0 | G61: 0 | H61: 0 | I61: 0 | J61: 0 | K61: 0 | L61: 0 | M61: 0 | N61: 0 | O61: 0 | P61: 0
A62: Lain-lain Others | B62: 853 | C62: 496 | D62: =C62/B62*100 -> 58.147714 | E62: 31 | F62: =E62/B62*100 -> 3.6342321 | G62: 84 | H62: =G62/B62*100 -> 9.8475967 | I62: 3 | J62: =I62/B62*100 -> 0.35169988 | K62: 5 | L62: =K62/B62*100 -> 0.58616647 | M62: 21 | N62: =M62/B62*100 -> 2.4618992 | O62: 213 | P62: =O62/B62*100 -> 24.970692
A65: Nota/ Note:
A66: Statistik ini merujuk kepada pelaporan oleh responden
A67: The statistics refer to self-declaration by respondent
A68: Kluang
A69: Unit perumahan Housing unit | B69: 16154 | C69: 3181 | D69: =C69/B69*100 -> 19.691717 | E69: 695 | F69: =E69/B69*100 -> 4.30234 | G69: 4646 | H69: =G69/B69*100 -> 28.760678 | I69: 220 | J69: =I69/B69*100 -> 1.3618918 | K69: 674 | L69: =K69/B69*100 -> 4.1723412 | M69: 380 | N69: =M69/B69*100 -> 2.3523585 | O69: 6358 | P69: =O69/B69*100 -> 39.358673
A70: Sesebuah Detached | B70: 3788 | C70: 515 | D70: =C70/B70*100 -> 13.595565 | E70: 162 | F70: =E70/B70*100 -> 4.2766631 | G70: 1301 | H70: =G70/B70*100 -> 34.345301 | I70: 78 | J70: =I70/B70*100 -> 2.0591341 | K70: 134 | L70: =K70/B70*100 -> 3.5374868 | M70: 186 | N70: =M70/B70*100 -> 4.9102429 | O70: 1412 | P70: =O70/B70*100 -> 37.275607
A71: Berkembar Semi-detached | B71: 2432 | C71: 192 | D71: =C71/B71*100 -> 7.8947368 | E71: 54 | F71: =E71/B71*100 -> 2.2203947 | G71: 433 | H71: =G71/B71*100 -> 17.804276 | I71: 13 | J71: =I71/B71*100 -> 0.53453947 | K71: 326 | L71: =K71/B71*100 -> 13.404605 | M71: 99 | N71: =M71/B71*100 -> 4.0707237 | O71: 1315 | P71: =O71/B71*100 -> 54.070724
A72: Teres/ Berangkai/ Berkelompok Terrace/ Link/ Cluster | B72: 8480 | C72: 2343 | D72: =C72/B72*100 -> 27.629717 | E72: 275 | F72: =E72/B72*100 -> 3.2429245 | G72: 2774 | H72: =G72/B72*100 -> 32.712264 | I72: 120 | J72: =I72/B72*100 -> 1.4150943 | K72: 130 | L72: =K72/B72*100 -> 1.5330189 | M72: 71 | N72: =M72/B72*100 -> 0.83726415 | O72: 2767 | P72: =O72/B72*100 -> 32.629717
A73: Rumah bandar Townhouse | B73: 9 | C73: 0 | D73: 0 | E73: 3 | F73: =E73/B73*100 -> 33.333333 | G73: 1 | H73: =G73/B73*100 -> 11.111111 | I73: 0 | J73: 0 | K73: 0 | L73: 0 | M73: 0 | N73: 0 | O73: 5 | P73: =O73/B73*100 -> 55.555556
A74: Rumah pangsa/ Pangsapuri/ Kondominium Flat/ Apartment/ Condominium | B74: 1096 | C74: 40 | D74: =C74/B74*100 -> 3.649635 | E74: 188 | F74: =E74/B74*100 -> 17.153285 | G74: 99 | H74: =G74/B74*100 -> 9.0328467 | I74: 7 | J74: =I74/B74*100 -> 0.63868613 | K74: 53 | L74: =K74/B74*100 -> 4.8357664 | M74: 24 | N74: =M74/B74*100 -> 2.189781 | O74: 685 | P74: =O74/B74*100 -> 62.5
A75: Pangsapuri khidmat/ Services apartment Small Office Home Office (SOHO)/ Small Office Flexible Office (SOFO)/ Small Office Versatile Office (SOVO) | B75: 13 | C75: 10 | D75: =C75/B75*100 -> 76.923077 | E75: 0 | F75: 0 | G75: 0 | H75: 0 | I75: 0 | J75: 0 | K75: 2 | L75: =K75/B75*100 -> 15.384615 | M75: 0 | N75: 0 | O75: 1 | P75: =O75/B75*100 -> 7.6923077
A76: Rumah kedai/ Pejabat Shophouse/ Office | B76: 216 | C76: 43 | D76: =C76/B76*100 -> 19.907407 | E76: 3 | F76: =E76/B76*100 -> 1.3888889 | G76: 14 | H76: =G76/B76*100 -> 6.4814815 | I76: 0 | J76: 0 | K76: 2 | L76: =K76/B76*100 -> 0.92592593 | M76: 0 | N76: 0 | O76: 154 | P76: =O76/B76*100 -> 71.296296
A77: Rumah panjang Longhouse | B77: 0 | C77: 0 | D77: 0 | E77: 0 | F77: 0 | G77: 0 | H77: 0 | I77: 0 | J77: 0 | K77: 0 | L77: 0 | M77: 0 | N77: 0 | O77: 0 | P77: 0
A78: Pondok gantian/ Sementara Improvised/ Temporary hut | B78: 18 | C78: 2 | D78: =C78/B78*100 -> 11.111111 | E78: 0 | F78: 0 | G78: 1 | H78: =G78/B78*100 -> 5.5555556 | I78: 0 | J78: 0 | K78: 14 | L78: =K78/B78*100 -> 77.777778 | M78: 0 | N78: 0 | O78: 1 | P78: =O78/B78*100 -> 5.5555556
A79: Bilik Room | B79: 2 | C79: 1 | D79: =C79/B79*100 -> 50 | E79: 0 | F79: 0 | G79: 0 | H79: 0 | I79: 1 | J79: =I79/B79*100 -> 50 | K79: 0 | L79: 0 | M79: 0 | N79: 0 | O79: 0 | P79: 0
A80: Rumah kampung air Water village house | B80: 0 | C80: 0 | D80: 0 | E80: 0 | F80: 0 | G80: 0 | H80: 0 | I80: 0 | J80: 0 | K80: 0 | L80: 0 | M80: 0 | N80: 0 | O80: 0 | P80: 0
A81: Lain-lain Others | B81: 100 | C81: 35 | D81: =C81/B81*100 -> 35 | E81: 10 | F81: =E81/B81*100 -> 10 | G81: 23 | H81: =G81/B81*100 -> 23 | I81: 1 | J81: =I81/B81*100 -> 1 | K81: 13 | L81: =K81/B81*100 -> 13 | M81: 0 | N81: 0 | O81: 18 | P81: =O81/B81*100 -> 18
A84: Nota/ Note:
A85: Statistik ini merujuk kepada pelaporan oleh responden
A86: The statistics refer to self-declaration by respondent
A87: Kota Tinggi
A88: Unit perumahan Housing unit | B88: 15640 | C88: 7323 | D88: =C88/B88*100 -> 46.822251 | E88: 466 | F88: =E88/B88*100 -> 2.9795396 | G88: 3154 | H88: =G88/B88*100 -> 20.16624 | I88: 202 | J88: =I88/B88*100 -> 1.2915601 | K88: 575 | L88: =K88/B88*100 -> 3.6764706 | M88: 306 | N88: =M88/B88*100 -> 1.9565217 | O88: 3614 | P88: =O88/B88*100 -> 23.107417
A89: Sesebuah Detached | B89: 5116 | C89: 1026 | D89: =C89/B89*100 -> 20.05473 | E89: 128 | F89: =E89/B89*100 -> 2.5019547 | G89: 1947 | H89: =G89/B89*100 -> 38.057076 | I89: 94 | J89: =I89/B89*100 -> 1.8373729 | K89: 194 | L89: =K89/B89*100 -> 3.792025 | M89: 210 | N89: =M89/B89*100 -> 4.1047694 | O89: 1517 | P89: =O89/B89*100 -> 29.652072
A90: Berkembar Semi-detached | B90: 1703 | C90: 569 | D90: =C90/B90*100 -> 33.411627 | E90: 46 | F90: =E90/B90*100 -> 2.7011157 | G90: 147 | H90: =G90/B90*100 -> 8.6318262 | I90: 24 | J90: =I90/B90*100 -> 1.4092777 | K90: 228 | L90: =K90/B90*100 -> 13.388139 | M90: 39 | N90: =M90/B90*100 -> 2.2900763 | O90: 650 | P90: =O90/B90*100 -> 38.167939
A91: Teres/ Berangkai/ Berkelompok Terrace/ Link/ Cluster | B91: 7012 | C91: 4710 | D91: =C91/B91*100 -> 67.170565 | E91: 275 | F91: =E91/B91*100 -> 3.9218483 | G91: 660 | H91: =G91/B91*100 -> 9.4124358 | I91: 81 | J91: =I91/B91*100 -> 1.1551626 | K91: 129 | L91: =K91/B91*100 -> 1.8397034 | M91: 54 | N91: =M91/B91*100 -> 0.77010839 | O91: 1103 | P91: =O91/B91*100 -> 15.730177
A92: Rumah bandar Townhouse | B92: 2 | C92: 0 | D92: 0 | E92: 0 | F92: 0 | G92: 0 | H92: 0 | I92: 0 | J92: 0 | K92: 0 | L92: 0 | M92: 0 | N92: 0 | O92: 2 | P92: =O92/B92*100 -> 100
A93: Rumah pangsa/ Pangsapuri/ Kondominium Flat/ Apartment/ Condominium | B93: 957 | C93: 593 | D93: =C93/B93*100 -> 61.964472 | E93: 15 | F93: =E93/B93*100 -> 1.5673981 | G93: 195 | H93: =G93/B93*100 -> 20.376176 | I93: 1 | J93: =I93/B93*100 -> 0.10449321 | K93: 11 | L93: =K93/B93*100 -> 1.1494253 | M93: 0 | N93: 0 | O93: 142 | P93: =O93/B93*100 -> 14.838036
A94: Pangsapuri khidmat/ Services apartment Small Office Home Office (SOHO)/ Small Office Flexible Office (SOFO)/ Small Office Versatile Office (SOVO) | B94: 341 | C94: 222 | D94: =C94/B94*100 -> 65.102639 | E94: 0 | F94: 0 | G94: 77 | H94: =G94/B94*100 -> 22.580645 | I94: 0 | J94: 0 | K94: 0 | L94: 0 | M94: 0 | N94: 0 | O94: 42 | P94: =O94/B94*100 -> 12.316716
A95: Rumah kedai/ Pejabat Shophouse/ Office | B95: 405 | C95: 195 | D95: =C95/B95*100 -> 48.148148 | E95: 2 | F95: =E95/B95*100 -> 0.49382716 | G95: 64 | H95: =G95/B95*100 -> 15.802469 | I95: 2 | J95: =I95/B95*100 -> 0.49382716 | K95: 10 | L95: =K95/B95*100 -> 2.4691358 | M95: 0 | N95: 0 | O95: 132 | P95: =O95/B95*100 -> 32.592593
A96: Rumah panjang Longhouse | B96: 0 | C96: 0 | D96: 0 | E96: 0 | F96: 0 | G96: 0 | H96: 0 | I96: 0 | J96: 0 | K96: 0 | L96: 0 | M96: 0 | N96: 0 | O96: 0 | P96: 0
A97: Pondok gantian/ Sementara Improvised/ Temporary hut | B97: 3 | C97: 0 | D97: 0 | E97: 0 | F97: 0 | G97: 0 | H97: 0 | I97: 0 | J97: 0 | K97: 0 | L97: 0 | M97: 1 | N97: =M97/B97*100 -> 33.333333 | O97: 2 | P97: =O97/B97*100 -> 66.666667
A98: Bilik Room | B98: 5 | C98: 0 | D98: 0 | E98: 0 | F98: 0 | G98: 0 | H98: 0 | I98: 0 | J98: 0 | K98: 0 | L98: 0 | M98: 0 | N98: 0 | O98: 5 | P98: =O98/B98*100 -> 100
A99: Rumah kampung air Water village house | B99: 0 | C99: 0 | D99: 0 | E99: 0 | F99: 0 | G99: 0 | H99: 0 | I99: 0 | J99: 0 | K99: 0 | L99: 0 | M99: 0 | N99: 0 | O99: 0 | P99: 0
A100: Lain-lain Others | B100: 96 | C100: 8 | D100: =C100/B100*100 -> 8.3333333 | E100: 0 | F100: 0 | G100: 64 | H100: =G100/B100*100 -> 66.666667 | I100: 0 | J100: 0 | K100: 3 | L100: =K100/B100*100 -> 3.125 | M100: 2 | N100: =M100/B100*100 -> 2.0833333 | O100: 19 | P100: =O100/B100*100 -> 19.791667
A103: Nota/ Note:
A104: Statistik ini merujuk kepada pelaporan oleh responden
A105: The statistics refer to self-declaration by respondent
A106: Mersing
A107: Unit perumahan Housing unit | B107: 3253 | C107: 370 | D107: =C107/B107*100 -> 11.374116 | E107: 111 | F107: =E107/B107*100 -> 3.4122349 | G107: 853 | H107: =G107/B107*100 -> 26.221949 | I107: 125 | J107: =I107/B107*100 -> 3.8426068 | K107: 65 | L107: =K107/B107*100 -> 1.9981555 | M107: 94 | N107: =M107/B107*100 -> 2.8896403 | O107: 1635 | P107: =O107/B107*100 -> 50.261297
A108: Sesebuah Detached | B108: 1467 | C108: 91 | D108: =C108/B108*100 -> 6.2031357 | E108: 69 | F108: =E108/B108*100 -> 4.7034765 | G108: 449 | H108: =G108/B108*100 -> 30.60668 | I108: 75 | J108: =I108/B108*100 -> 5.1124744 | K108: 27 | L108: =K108/B108*100 -> 1.8404908 | M108: 80 | N108: =M108/B108*100 -> 5.4533061 | O108: 676 | P108: =O108/B108*100 -> 46.080436
A109: Berkembar Semi-detached | B109: 290 | C109: 24 | D109: =C109/B109*100 -> 8.2758621 | E109: 10 | F109: =E109/B109*100 -> 3.4482759 | G109: 46 | H109: =G109/B109*100 -> 15.862069 | I109: 7 | J109: =I109/B109*100 -> 2.4137931 | K109: 10 | L109: =K109/B109*100 -> 3.4482759 | M109: 8 | N109: =M109/B109*100 -> 2.7586207 | O109: 185 | P109: =O109/B109*100 -> 63.793103
A110: Teres/ Berangkai/ Berkelompok Terrace/ Link/ Cluster | B110: 1170 | C110: 232 | D110: =C110/B110*100 -> 19.82906 | E110: 30 | F110: =E110/B110*100 -> 2.5641026 | G110: 341 | H110: =G110/B110*100 -> 29.145299 | I110: 43 | J110: =I110/B110*100 -> 3.6752137 | K110: 16 | L110: =K110/B110*100 -> 1.3675214 | M110: 6 | N110: =M110/B110*100 -> 0.51282051 | O110: 502 | P110: =O110/B110*100 -> 42.905983
A111: Rumah bandar Townhouse | B111: 0 | C111: 0 | D111: 0 | E111: 0 | F111: 0 | G111: 0 | H111: 0 | I111: 0 | J111: 0 | K111: 0 | L111: 0 | M111: 0 | N111: 0 | O111: 0 | P111: 0
A112: Rumah pangsa/ Pangsapuri/ Kondominium Flat/ Apartment/ Condominium | B112: 174 | C112: 1 | D112: =C112/B112*100 -> 0.57471264 | E112: 0 | F112: 0 | G112: 3 | H112: =G112/B112*100 -> 1.7241379 | I112: 0 | J112: 0 | K112: 0 | L112: 0 | M112: 0 | N112: 0 | O112: 170 | P112: =O112/B112*100 -> 97.701149
...

Sheet Kedah
A1: Jadual 5: Bilangan dan peratus unit perumahan mengikut jenis unit perumahan, sebab kekosongan, daerah pentadbiran dan negeri, Malaysia, 2020 (samb.)
A2: Table 5: Number and percentage of housing units by type of housing units, reason for vacancy, administrative district and state, Malaysia, 2020 (cont'd)
A4: Negeri/ Daerah Pentadbiran/ Jenis tempat kediaman State/ Administrative District/ Type of living quarters | B4: Jumlah Total | C4: Sebab kekosongan Reason for vacancy
C5: Baru siap/ untuk disewa atau dijual New completed/ for rent or sale | D5: % | E5: Untuk dibaiki/ ubahsuai For repair/ renovation | F5: % | G5: Rumah peranginan/ Persinggahan Holiday resort/ Transit | H5: % | I5: Homestay | J5: % | K5: Rumah pekerja bermusim Seasonal workers quarters | L5: % | M5: Hampir roboh Dilapidated | N5: % | O5: Lain-lain Others | P5: %
A6: KEDAH
A7: Unit perumahan Housing unit | B7: =B31+B50+B69+B88+B107+B126+B145+B183+B202+B221+B240+B164 -> 122503 | C7: =C31+C50+C69+C88+C107+C126+C145+C183+C202+C221+C240+C164 -> 37021 | D7: =C7/B7*100 -> 30.220484 | E7: =E31+E50+E69+E88+E107+E126+E145+E183+E202+E221+E240+E164 -> 6466 | F7: =E7/B7*100 -> 5.2782381 | G7: =G31+G50+G69+G88+G107+G126+G145+G183+G202+G221+G240+G164 -> 36398 | H7: =G7/B7*100 -> 29.711925 | I7: =I31+I50+I69+I88+I107+I126+I145+I183+I202+I221+I240+I164 -> 3306 | J7: =I7/B7*100 -> 2.6987094 | K7: =K31+K50+K69+K88+K107+K126+K145+K183+K202+K221+K240+K164 -> 2131 | L7: =K7/B7*100 -> 1.7395492 | M7: =M31+M50+M69+M88+M107+M126+M145+M183+M202+M221+M240+M164 -> 3955 | N7: =M7/B7*100 -> 3.2284924 | O7: =O31+O50+O69+O88+O107+O126+O145+O183+O202+O221+O240+O164 -> 33226 | P7: =O7/B7*100 -> 27.122601
A8: Sesebuah Detached | B8: =B32+B51+B70+B89+B108+B127+B146+B184+B203+B222+B241+B165 -> 40571 | C8: =C32+C51+C70+C89+C108+C127+C146+C184+C203+C222+C241+C165 -> 6129 | D8: =C8/B8*100 -> 15.10685 | E8: =E32+E51+E70+E89+E108+E127+E146+E184+E203+E222+E241+E165 -> 2334 | F8: =E8/B8*100 -> 5.7528777 | G8: =G32+G51+G70+G89+G108+G127+G146+G184+G203+G222+G241+G165 -> 14041 | H8: =G8/B8*100 -> 34.608464 | I8: =I32+I51+I70+I89+I108+I127+I146+I184+I203+I222+I241+I165 -> 1168 | J8: =I8/B8*100 -> 2.8789037 | K8: =K32+K51+K70+K89+K108+K127+K146+K184+K203+K222+K241+K165 -> 649 | L8: =K8/B8*100 -> 1.5996648 | M8: =M32+M51+M70+M89+M108+M127+M146+M184+M203+M222+M241+M165 -> 2857 | N8: =M8/B8*100 -> 7.0419758 | O8: =O32+O51+O70+O89+O108+O127+O146+O184+O203+O222+O241+O165 -> 13393 | P8: =O8/B8*100 -> 33.011264
A9: Berkembar Semi-detached | B9: =B33+B52+B71+B90+B109+B128+B147+B185+B204+B223+B242+B166 -> 18156 | C9: =C33+C52+C71+C90+C109+C128+C147+C185+C204+C223+C242+C166 -> 6934 | D9: =C9/B9*100 -> 38.191232 | E9: =E33+E52+E71+E90+E109+E128+E147+E185+E204+E223+E242+E166 -> 780 | F9: =E9/B9*100 -> 4.2961005 | G9: =G33+G52+G71+G90+G109+G128+G147+G185+G204+G223+G242+G166 -> 5208 | H9: =G9/B9*100 -> 28.684732 | I9: =I33+I52+I71+I90+I109+I128+I147+I185+I204+I223+I242+I166 -> 717 | J9: =I9/B9*100 -> 3.9491077 | K9: =K33+K52+K71+K90+K109+K128+K147+K185+K204+K223+K242+K166 -> 577 | L9: =K9/B9*100 -> 3.1780128 | M9: =M33+M52+M71+M90+M109+M128+M147+M185+M204+M223+M242+M166 -> 192 | N9: =M9/B9*100 -> 1.0575017 | O9: =O33+O52+O71+O90+O109+O128+O147+O185+O204+O223+O242+O166 -> 3748 | P9: =O9/B9*100 -> 20.643314
A10: Teres/ Berangkai/ Berkelompok Terrace/ Link/ Cluster | B10: =B34+B53+B72+B91+B110+B129+B148+B186+B205+B224+B243+B167 -> 51029 | C10: =C34+C53+C72+C91+C110+C129+C148+C186+C205+C224+C243+C167 -> 20003 | D10: =C10/B10*100 -> 39.199279 | E10: =E34+E53+E72+E91+E110+E129+E148+E186+E205+E224+E243+E167 -> 2788 | F10: =E10/B10*100 -> 5.4635599 | G10: =G34+G53+G72+G91+G110+G129+G148+G186+G205+G224+G243+G167 -> 15341 | H10: =G10/B10*100 -> 30.063297 | I10: =I34+I53+I72+I91+I110+I129+I148+I186+I205+I224+I243+I167 -> 1293 | J10: =I10/B10*100 -> 2.5338533 | K10: =K34+K53+K72+K91+K110+K129+K148+K186+K205+K224+K243+K167 -> 593 | L10: =K10/B10*100 -> 1.1620843 | M10: =M34+M53+M72+M91+M110+M129+M148+M186+M205+M224+M243+M167 -> 531 | N10: =M10/B10*100 -> 1.0405848 | O10: =O34+O53+O72+O91+O110+O129+O148+O186+O205+O224+O243+O167 -> 10481 | P10: =O10/B10*100 -> 20.539301
A11: Rumah bandar Townhouse | B11: =B35+B54+B73+B92+B111+B130+B149+B187+B206+B225+B244+B168 -> 391 | C11: =C35+C54+C73+C92+C111+C130+C149+C187+C206+C225+C244+C168 -> 344 | D11: =C11/B11*100 -> 87.97954 | E11: =E35+E54+E73+E92+E111+E130+E149+E187+E206+E225+E244+E168 -> 2 | F11: =E11/B11*100 -> 0.51150895 | G11: =G35+G54+G73+G92+G111+G130+G149+G187+G206+G225+G244+G168 -> 19 | H11: =G11/B11*100 -> 4.859335 | I11: =I35+I54+I73+I92+I111+I130+I149+I187+I206+I225+I244+I168 -> 3 | J11: =I11/B11*100 -> 0.76726343 | K11: 0 | L11: 0 | M11: 0 | N11: 0 | O11: =O35+O54+O73+O92+O111+O130+O149+O187+O206+O225+O244+O168 -> 23 | P11: =O11/B11*100 -> 5.8823529
A12: Rumah pangsa/ Pangsapuri/ Kondominium Flat/ Apartment/ Condominium | B12: =B36+B55+B74+B93+B112+B131+B150+B188+B207+B226+B245+B169 -> 9592 | C12: =C36+C55+C74+C93+C112+C131+C150+C188+C207+C226+C245+C169 -> 3032 | D12: =C12/B12*100 -> 31.609675 | E12: =E36+E55+E74+E93+E112+E131+E150+E188+E207+E226+E245+E169 -> 405 | F12: =E12/B12*100 -> 4.2222686 | G12: =G36+G55+G74+G93+G112+G131+G150+G188+G207+G226+G245+G169 -> 1284 | H12: =G12/B12*100 -> 13.386155 | I12: =I36+I55+I74+I93+I112+I131+I150+I188+I207+I226+I245+I169 -> 58 | J12: =I12/B12*100 -> 0.60467056 | K12: =K36+K55+K74+K93+K112+K131+K150+K188+K207+K226+K245+K169 -> 164 | L12: =K12/B12*100 -> 1.7097581 | M12: =M36+M55+M74+M93+M112+M131+M150+M188+M207+M226+M245+M169 -> 296 | N12: =M12/B12*100 -> 3.0859049 | O12: =O36+O55+O74+O93+O112+O131+O150+O188+O207+O226+O245+O169 -> 4353 | P12: =O12/B12*100 -> 45.381568
A13: Pangsapuri khidmat/ Services apartment Small Office Home Office (SOHO)/ Small Office Flexible Office (SOFO)/ Small Office Versatile Office (SOVO) | B13: 0 | C13: 0 | D13: 0 | E13: 0 | F13: 0 | G13: 0 | H13: 0 | I13: 0 | J13: 0 | K13: 0 | L13: 0 | M13: 0 | N13: 0 | O13: 0 | P13: 0
A14: Rumah kedai/ Pejabat Shophouse/ Office | B14: =B38+B57+B76+B95+B114+B133+B152+B190+B209+B228+B247+B171 -> 795 | C14: =C38+C57+C76+C95+C114+C133+C152+C190+C209+C228+C247+C171 -> 270 | D14: =C14/B14*100 -> 33.962264 | E14: =E38+E57+E76+E95+E114+E133+E152+E190+E209+E228+E247+E171 -> 23 | F14: =E14/B14*100 -> 2.8930818 | G14: =G38+G57+G76+G95+G114+G133+G152+G190+G209+G228+G247+G171 -> 94 | H14: =G14/B14*100 -> 11.823899 | I14: =I38+I57+I76+I95+I114+I133+I152+I190+I209+I228+I247+I171 -> 1 | J14: =I14/B14*100 -> 0.12578616 | K14: =K38+K57+K76+K95+K114+K133+K152+K190+K209+K228+K247+K171 -> 15 | L14: =K14/B14*100 -> 1.8867925 | M14: =M38+M57+M76+M95+M114+M133+M152+M190+M209+M228+M247+M171 -> 17 | N14: =M14/B14*100 -> 2.1383648 | O14: =O38+O57+O76+O95+O114+O133+O152+O190+O209+O228+O247+O171 -> 375 | P14: =O14/B14*100 -> 47.169811
A15: Rumah panjang Longhouse | B15: 0 | C15: 0 | D15: 0 | E15: 0 | F15: 0 | G15: 0 | H15: 0 | I15: 0 | J15: 0 | K15: 0 | L15: 0 | M15: 0 | N15: 0 | O15: 0 | P15: 0
A16: Pondok gantian/ Sementara Improvised/ Temporary hut | B16: =B40+B59+B78+B97+B116+B135+B154+B192+B211+B230+B249+B173 -> 95 | C16: =C40+C59+C78+C97+C116+C135+C154+C192+C211+C230+C249+C173 -> 4 | D16: =C16/B16*100 -> 4.2105263 | E16: =E40+E59+E78+E97+E116+E135+E154+E192+E211+E230+E249+E173 -> 5 | F16: =E16/B16*100 -> 5.2631579 | G16: =G40+G59+G78+G97+G116+G135+G154+G192+G211+G230+G249+G173 -> 24 | H16: =G16/B16*100 -> 25.263158 | I16: 0 | J16: 0 | K16: =K40+K59+K78+K97+K116+K135+K154+K192+K211+K230+K249+K173 -> 13 | L16: =K16/B16*100 -> 13.684211 | M16: =M40+M59+M78+M97+M116+M135+M154+M192+M211+M230+M249+M173 -> 28 | N16: =M16/B16*100 -> 29.473684 | O16: =O40+O59+O78+O97+O116+O135+O154+O192+O211+O230+O249+O173 -> 21 | P16: =O16/B16*100 -> 22.105263
A17: Bilik Room | B17: =B41+B60+B79+B98+B117+B136+B155+B193+B212+B231+B250+B174 -> 363 | C17: =C41+C60+C79+C98+C117+C136+C155+C193+C212+C231+C250+C174 -> 222 | D17: =C17/B17*100 -> 61.157025 | E17: 0 | F17: 0 | G17: =G41+G60+G79+G98+G117+G136+G155+G193+G212+G231+G250+G174 -> 62 | H17: =G17/B17*100 -> 17.07989 | I17: =I41+I60+I79+I98+I117+I136+I155+I193+I212+I231+I250+I174 -> 7 | J17: =I17/B17*100 -> 1.9283747 | K17: =K41+K60+K79+K98+K117+K136+K155+K193+K212+K231+K250+K174 -> 26 | L17: =K17/B17*100 -> 7.1625344 | M17: 0 | N17: 0 | O17: =O41+O60+O79+O98+O117+O136+O155+O193+O212+O231+O250+O174 -> 46 | P17: =O17/B17*100 -> 12.672176
A18: Rumah kampung air Water village house | B18: =B42+B61+B80+B99+B118+B137+B156+B194+B213+B232+B251+B175 -> 6 | C18: =C42+C61+C80+C99+C118+C137+C156+C194+C213+C232+C251+C175 -> 2 | D18: =C18/B18*100 -> 33.333333 | E18: 0 | F18: 0 | G18: =G42+G61+G80+G99+G118+G137+G156+G194+G213+G232+G251+G175 -> 2 | H18: =G18/B18*100 -> 33.333333 | I18: 0 | J18: 0 | K18: 0 | L18: 0 | M18: =M42+M61+M80+M99+M118+M137+M156+M194+M213+M232+M251+M175 -> 1 | N18: =M18/B18*100 -> 16.666667 | O18: =O42+O61+O80+O99+O118+O137+O156+O194+O213+O232+O251+O175 -> 1 | P18: =O18/B18*100 -> 16.666667
A19: Lain-lain Others | B19: =B43+B62+B81+B100+B119+B138+B157+B195+B214+B233+B252+B176 -> 1504 | C19: =C43+C62+C81+C100+C119+C138+C157+C195+C214+C233+C252+C176 -> 81 | D19: =C19/B19*100 -> 5.3856383 | E19: =E43+E62+E81+E100+E119+E138+E157+E195+E214+E233+E252+E176 -> 129 | F19: =E19/B19*100 -> 8.5771277 | G19: =G43+G62+G81+G100+G119+G138+G157+G195+G214+G233+G252+G176 -> 323 | H19: =G19/B19*100 -> 21.476064 | I19: =I43+I62+I81+I100+I119+I138+I157+I195+I214+I233+I252+I176 -> 59 | J19: =I19/B19*100 -> 3.9228723 | K19: =K43+K62+K81+K100+K119+K138+K157+K195+K214+K233+K252+K176 -> 94 | L19: =K19/B19*100 -> 6.25 | M19: =M43+M62+M81+M100+M119+M138+M157+M195+M214+M233+M252+M176 -> 33 | N19: =M19/B19*100 -> 2.1941489 | O19: =O43+O62+O81+O100+O119+O138+O157+O195+O214+O233+O252+O176 -> 785 | P19: =O19/B19*100 -> 52.194149
A22: Nota/ Note:
A23: Statistik ini merujuk kepada pelaporan oleh responden
A24: The statistics refer to self-declaration by respondent
A25: Jadual 5: Bilangan dan peratus unit perumahan mengikut jenis unit perumahan, sebab kekosongan, daerah pentadbiran dan negeri, Malaysia, 2020 (samb.)
A26: Table 5: Number and percentage of housing units by type of housing units, reason for vacancy, administrative district and state, Malaysia, 2020 (cont'd)
A28: Negeri/ Daerah Pentadbiran/ Jenis tempat kediaman State/ Administrative District/ Type of living quarters | B28: Jumlah Total | C28: Sebab kekosongan Reason for vacancy
C29: Baru siap/ untuk disewa atau dijual New completed/ for rent or sale | D29: % | E29: Untuk dibaiki/ ubahsuai For repair/ renovation | F29: % | G29: Rumah peranginan/ Persinggahan Holiday resort/ Transit | H29: % | I29: Homestay | J29: % | K29: Rumah pekerja bermusim Seasonal workers quarters | L29: % | M29: Hampir roboh Dilapidated | N29: % | O29: Lain-lain Others | P29: %
A30: Baling
A31: Unit perumahan Housing unit | B31: 6779 | C31: 1181 | D31: =C31/B31*100 -> 17.421449 | E31: 193 | F31: =E31/B31*100 -> 2.8470276 | G31: 2414 | H31: =G31/B31*100 -> 35.609972 | I31: 211 | J31: =I31/B31*100 -> 3.1125535 | K31: 130 | L31: =K31/B31*100 -> 1.917687 | M31: 338 | N31: =M31/B31*100 -> 4.9859861 | O31: 2312 | P31: =O31/B31*100 -> 34.105325
A32: Sesebuah Detached | B32: 4364 | C32: 482 | D32: =C32/B32*100 -> 11.044913 | E32: 138 | F32: =E32/B32*100 -> 3.1622365 | G32: 1741 | H32: =G32/B32*100 -> 39.894592 | I32: 115 | J32: =I32/B32*100 -> 2.6351971 | K32: 28 | L32: =K32/B32*100 -> 0.6416132 | M32: 283 | N32: =M32/B32*100 -> 6.4848763 | O32: 1577 | P32: =O32/B32*100 -> 36.136572
A33: Berkembar Semi-detached | B33: 692 | C33: 148 | D33: =C33/B33*100 -> 21.387283 | E33: 8 | F33: =E33/B33*100 -> 1.1560694 | G33: 170 | H33: =G33/B33*100 -> 24.566474 | I33: 37 | J33: =I33/B33*100 -> 5.3468208 | K33: 31 | L33: =K33/B33*100 -> 4.4797688 | M33: 48 | N33: =M33/B33*100 -> 6.9364162 | O33: 250 | P33: =O33/B33*100 -> 36.127168
A34: Teres/ Berangkai/ Berkelompok Terrace/ Link/ Cluster | B34: 1308 | C34: 505 | D34: =C34/B34*100 -> 38.608563 | E34: 38 | F34: =E34/B34*100 -> 2.9051988 | G34: 396 | H34: =G34/B34*100 -> 30.275229 | I34: 57 | J34: =I34/B34*100 -> 4.3577982 | K34: 15 | L34: =K34/B34*100 -> 1.146789 | M34: 6 | N34: =M34/B34*100 -> 0.4587156 | O34: 291 | P34: =O34/B34*100 -> 22.247706
A35: Rumah bandar Townhouse | B35: 0 | C35: 0 | D35: 0 | E35: 0 | F35: 0 | G35: 0 | H35: 0 | I35: 0 | J35: 0 | K35: 0 | L35: 0 | M35: 0 | N35: 0 | O35: 0 | P35: 0
A36: Rumah pangsa/ Pangsapuri/ Kondominium Flat/ Apartment/ Condominium | B36: 169 | C36: 39 | D36: =C36/B36*100 -> 23.076923 | E36: 4 | F36: =E36/B36*100 -> 2.3668639 | G36: 15 | H36: =G36/B36*100 -> 8.8757396 | I36: 0 | J36: 0 | K36: 0 | L36: 0 | M36: 0 | N36: 0 | O36: 111 | P36: =O36/B36*100 -> 65.680473
A37: Pangsapuri khidmat/ Services apartment Small Office Home Office (SOHO)/ Small Office Flexible Office (SOFO)/ Small Office Versatile Office (SOVO) | B37: 0 | C37: 0 | D37: 0 | E37: 0 | F37: 0 | G37: 0 | H37: 0 | I37: 0 | J37: 0 | K37: 0 | L37: 0 | M37: 0 | N37: 0 | O37: 0 | P37: 0
A38: Rumah kedai/ Pejabat Shophouse/ Office | B38: 36 | C38: 6 | D38: =C38/B38*100 -> 16.666667 | E38: 2 | F38: =E38/B38*100 -> 5.5555556 | G38: 10 | H38: =G38/B38*100 -> 27.777778 | I38: 0 | J38: 0 | K38: 1 | L38: =K38/B38*100 -> 2.7777778 | M38: 0 | N38: 0 | O38: 17 | P38: =O38/B38*100 -> 47.222222
A39: Rumah panjang Longhouse | B39: 0 | C39: 0 | D39: 0 | E39: 0 | F39: 0 | G39: 0 | H39: 0 | I39: 0 | J39: 0 | K39: 0 | L39: 0 | M39: 0 | N39: 0 | O39: 0 | P39: 0
A40: Pondok gantian/ Sementara Improvised/ Temporary hut | B40: 2 | C40: 0 | D40: 0 | E40: 0 | F40: 0 | G40: 0 | H40: 0 | I40: 0 | J40: 0 | K40: 0 | L40: 0 | M40: 0 | N40: 0 | O40: 2 | P40: =O40/B40*100 -> 100
A41: Bilik Room | B41: 5 | C41: 0 | D41: 0 | E41: 0 | F41: 0 | G41: 3 | H41: =G41/B41*100 -> 60 | I41: 2 | J41: =I41/B41*100 -> 40 | K41: 0 | L41: 0 | M41: 0 | N41: 0 | O41: 0 | P41: 0
A42: Rumah kampung air Water village house | B42: 0 | C42: 0 | D42: 0 | E42: 0 | F42: 0 | G42: 0 | H42: 0 | I42: 0 | J42: 0 | K42: 0 | L42: 0 | M42: 0 | N42: 0 | O42: 0 | P42: 0
A43: Lain-lain Others | B43: 203 | C43: 1 | D43: =C43/B43*100 -> 0.49261084 | E43: 3 | F43: =E43/B43*100 -> 1.4778325 | G43: 79 | H43: =G43/B43*100 -> 38.916256 | I43: 0 | J43: 0 | K43: 55 | L43: =K43/B43*100 -> 27.093596 | M43: 1 | N43: =M43/B43*100 -> 0.49261084 | O43: 64 | P43: =O43/B43*100 -> 31.527094
A46: Nota/ Note:
A47: Statistik ini merujuk kepada pelaporan oleh responden
A48: The statistics refer to self-declaration by respondent
A49: Bandar Baharu
A50: Unit perumahan Housing unit | B50: 1913 | C50: 110 | D50: =C50/B50*100 -> 5.7501307 | E50: 52 | F50: =E50/B50*100 -> 2.7182436 | G50: 362 | H50: =G50/B50*100 -> 18.923157 | I50: 16 | J50: =I50/B50*100 -> 0.83638265 | K50: 32 | L50: =K50/B50*100 -> 1.6727653 | M50: 39 | N50: =M50/B50*100 -> 2.0386827 | O50: 1302 | P50: =O50/B50*100 -> 68.060638
A51: Sesebuah Detached | B51: 1218 | C51: 60 | D51: =C51/B51*100 -> 4.9261084 | E51: 22 | F51: =E51/B51*100 -> 1.8062397 | G51: 265 | H51: =G51/B51*100 -> 21.756979 | I51: 6 | J51: =I51/B51*100 -> 0.49261084 | K51: 5 | L51: =K51/B51*100 -> 0.41050903 | M51: 37 | N51: =M51/B51*100 -> 3.0377668 | O51: 823 | P51: =O51/B51*100 -> 67.569787
A52: Berkembar Semi-detached | B52: 224 | C52: 23 | D52: =C52/B52*100 -> 10.267857 | E52: 10 | F52: =E52/B52*100 -> 4.4642857 | G52: 18 | H52: =G52/B52*100 -> 8.0357143 | I52: 3 | J52: =I52/B52*100 -> 1.3392857 | K52: 23 | L52: =K52/B52*100 -> 10.267857 | M52: 0 | N52: 0 | O52: 147 | P52: =O52/B52*100 -> 65.625
A53: Teres/ Berangkai/ Berkelompok Terrace/ Link/ Cluster | B53: 282 | C53: 25 | D53: =C53/B53*100 -> 8.8652482 | E53: 18 | F53: =E53/B53*100 -> 6.3829787 | G53: 69 | H53: =G53/B53*100 -> 24.468085 | I53: 7 | J53: =I53/B53*100 -> 2.4822695 | K53: 4 | L53: =K53/B53*100 -> 1.4184397 | M53: 2 | N53: =M53/B53*100 -> 0.70921986 | O53: 158 | P53: =O53/B53*100 -> 56.028369
A54: Rumah bandar Townhouse | B54: 0 | C54: 0 | D54: 0 | E54: 0 | F54: 0 | G54: 0 | H54: 0 | I54: 0 | J54: 0 | K54: 0 | L54: 0 | M54: 0 | N54: 0 | O54: 0 | P54: 0
A55: Rumah pangsa/ Pangsapuri/ Kondominium Flat/ Apartment/ Condominium | B55: 138 | C55: 0 | D55: 0 | E55: 0 | F55: 0 | G55: 0 | H55: 0 | I55: 0 | J55: 0 | K55: 0 | L55: 0 | M55: 0 | N55: 0 | O55: 138 | P55: =O55/B55*100 -> 100
A56: Pangsapuri khidmat/ Services apartment Small Office Home Office (SOHO)/ Small Office Flexible Office (SOFO)/ Small Office Versatile Office (SOVO) | B56: 0 | C56: 0 | D56: 0 | E56: 0 | F56: 0 | G56: 0 | H56: 0 | I56: 0 | J56: 0 | K56: 0 | L56: 0 | M56: 0 | N56: 0 | O56: 0 | P56: 0
A57: Rumah kedai/ Pejabat Shophouse/ Office | B57: 48 | C57: 2 | D57: =C57/B57*100 -> 4.1666667 | E57: 2 | F57: =E57/B57*100 -> 4.1666667 | G57: 10 | H57: =G57/B57*100 -> 20.833333 | I57: 0 | J57: 0 | K57: 0 | L57: 0 | M57: 0 | N57: 0 | O57: 34 | P57: =O57/B57*100 -> 70.833333
A58: Rumah panjang Longhouse | B58: 0 | C58: 0 | D58: 0 | E58: 0 | F58: 0 | G58: 0 | H58: 0 | I58: 0 | J58: 0 | K58: 0 | L58: 0 | M58: 0 | N58: 0 | O58: 0 | P58: 0
A59: Pondok gantian/ Sementara Improvised/ Temporary hut | B59: 0 | C59: 0 | D59: 0 | E59: 0 | F59: 0 | G59: 0 | H59: 0 | I59: 0 | J59: 0 | K59: 0 | L59: 0 | M59: 0 | N59: 0 | O59: 0 | P59: 0
A60: Bilik Room | B60: 0 | C60: 0 | D60: 0 | E60: 0 | F60: 0 | G60: 0 | H60: 0 | I60: 0 | J60: 0 | K60: 0 | L60: 0 | M60: 0 | N60: 0 | O60: 0 | P60: 0
A61: Rumah kampung air Water village house | B61: 0 | C61: 0 | D61: 0 | E61: 0 | F61: 0 | G61: 0 | H61: 0 | I61: 0 | J61: 0 | K61: 0 | L61: 0 | M61: 0 | N61: 0 | O61: 0 | P61: 0
A62: Lain-lain Others | B62: 2 | C62: 0 | D62: 0 | E62: 0 | F62: 0 | G62: 0 | H62: 0 | I62: 0 | J62: 0 | K62: 0 | L62: 0 | M62: 0 | N62: 0 | O62: 2 | P62: =O62/B62*100 -> 100
A65: Nota/ Note:
A66: Statistik ini merujuk kepada pelaporan oleh responden
A67: The statistics refer to self-declaration by respondent
A68: Kota Setar
A69: Unit perumahan Housing unit | B69: 19862 | C69: 5717 | D69: =C69/B69*100 -> 28.783607 | E69: 937 | F69: =E69/B69*100 -> 4.7175511 | G69: 6200 | H69: =G69/B69*100 -> 31.215386 | I69: 397 | J69: =I69/B69*100 -> 1.9987917 | K69: 268 | L69: =K69/B69*100 -> 1.3493102 | M69: 603 | N69: =M69/B69*100 -> 3.035948 | O69: 5740 | P69: =O69/B69*100 -> 28.899406
A70: Sesebuah Detached | B70: 5889 | C70: 983 | D70: =C70/B70*100 -> 16.692138 | E70: 360 | F70: =E70/B70*100 -> 6.1130922 | G70: 2169 | H70: =G70/B70*100 -> 36.831381 | I70: 112 | J70: =I70/B70*100 -> 1.9018509 | K70: 56 | L70: =K70/B70*100 -> 0.95092545 | M70: 504 | N70: =M70/B70*100 -> 8.5583291 | O70: 1705 | P70: =O70/B70*100 -> 28.952284
A71: Berkembar Semi-detached | B71: 3683 | C71: 1402 | D71: =C71/B71*100 -> 38.066793 | E71: 129 | F71: =E71/B71*100 -> 3.5025794 | G71: 1133 | H71: =G71/B71*100 -> 30.762965 | I71: 86 | J71: =I71/B71*100 -> 2.3350529 | K71: 13 | L71: =K71/B71*100 -> 0.35297312 | M71: 19 | N71: =M71/B71*100 -> 0.51588379 | O71: 901 | P71: =O71/B71*100 -> 24.463752
A72: Teres/ Berangkai/ Berkelompok Terrace/ Link/ Cluster | B72: 7098 | C72: 2381 | D72: =C72/B72*100 -> 33.54466 | E72: 380 | F72: =E72/B72*100 -> 5.3536207 | G72: 2318 | H72: =G72/B72*100 -> 32.657087 | I72: 191 | J72: =I72/B72*100 -> 2.6908988 | K72: 84 | L72: =K72/B72*100 -> 1.183432 | M72: 76 | N72: =M72/B72*100 -> 1.0707241 | O72: 1668 | P72: =O72/B72*100 -> 23.499577
A73: Rumah bandar Townhouse | B73: 127 | C73: 82 | D73: =C73/B73*100 -> 64.566929 | E73: 0 | F73: 0 | G73: 19 | H73: =G73/B73*100 -> 14.96063 | I73: 3 | J73: =I73/B73*100 -> 2.3622047 | K73: 0 | L73: 0 | M73: 0 | N73: 0 | O73: 23 | P73: =O73/B73*100 -> 18.110236
A74: Rumah pangsa/ Pangsapuri/ Kondominium Flat/ Apartment/ Condominium | B74: 2677 | C74: 840 | D74: =C74/B74*100 -> 31.378409 | E74: 60 | F74: =E74/B74*100 -> 2.2413149 | G74: 481 | H74: =G74/B74*100 -> 17.967874 | I74: 5 | J74: =I74/B74*100 -> 0.18677624 | K74: 111 | L74: =K74/B74*100 -> 4.1464326 | M74: 0 | N74: 0 | O74: 1180 | P74: =O74/B74*100 -> 44.079193
A75: Pangsapuri khidmat/ Services apartment Small Office Home Office (SOHO)/ Small Office Flexible Office (SOFO)/ Small Office Versatile Office (SOVO) | B75: 0 | C75: 0 | D75: 0 | E75: 0 | F75: 0 | G75: 0 | H75: 0 | I75: 0 | J75: 0 | K75: 0 | L75: 0 | M75: 0 | N75: 0 | O75: 0 | P75: 0
A76: Rumah kedai/ Pejabat Shophouse/ Office | B76: 130 | C76: 21 | D76: =C76/B76*100 -> 16.153846 | E76: 0 | F76: 0 | G76: 4 | H76: =G76/B76*100 -> 3.0769231 | I76: 0 | J76: 0 | K76: 4 | L76: =K76/B76*100 -> 3.0769231 | M76: 0 | N76: 0 | O76: 101 | P76: =O76/B76*100 -> 77.692308
A77: Rumah panjang Longhouse | B77: 0 | C77: 0 | D77: 0 | E77: 0 | F77: 0 | G77: 0 | H77: 0 | I77: 0 | J77: 0 | K77: 0 | L77: 0 | M77: 0 | N77: 0 | O77: 0 | P77: 0
A78: Pondok gantian/ Sementara Improvised/ Temporary hut | B78: 2 | C78: 2 | D78: =C78/B78*100 -> 100 | E78: 0 | F78: 0 | G78: 0 | H78: 0 | I78: 0 | J78: 0 | K78: 0 | L78: 0 | M78: 0 | N78: 0 | O78: 0 | P78: 0
A79: Bilik Room | B79: 3 | C79: 1 | D79: =C79/B79*100 -> 33.333333 | E79: 0 | F79: 0 | G79: 1 | H79: =G79/B79*100 -> 33.333333 | I79: 0 | J79: 0 | K79: 0 | L79: 0 | M79: 0 | N79: 0 | O79: 1 | P79: =O79/B79*100 -> 33.333333
A80: Rumah kampung air Water village house | B80: 0 | C80: 0 | D80: 0 | E80: 0 | F80: 0 | G80: 0 | H80: 0 | I80: 0 | J80: 0 | K80: 0 | L80: 0 | M80: 0 | N80: 0 | O80: 0 | P80: 0
A81: Lain-lain Others | B81: 253 | C81: 5 | D81: =C81/B81*100 -> 1.9762846 | E81: 8 | F81: =E81/B81*100 -> 3.1620553 | G81: 75 | H81: =G81/B81*100 -> 29.644269 | I81: 0 | J81: 0 | K81: 0 | L81: 0 | M81: 4 | N81: =M81/B81*100 -> 1.5810277 | O81: 161 | P81: =O81/B81*100 -> 63.636364
A84: Nota/ Note:
A85: Statistik ini merujuk kepada pelaporan oleh responden
A86: The statistics refer to self-declaration by respondent
A87: Kuala Muda
A88: Unit perumahan Housing unit | B88: 37869 | C88: 14989 | D88: =C88/B88*100 -> 39.581188 | E88: 2177 | F88: =E88/B88*100 -> 5.7487655 | G88: 12407 | H88: =G88/B88*100 -> 32.762946 | I88: 596 | J88: =I88/B88*100 -> 1.5738467 | K88: 483 | L88: =K88/B88*100 -> 1.2754496 | M88: 989 | N88: =M88/B88*100 -> 2.6116348 | O88: 6228 | P88: =O88/B88*100 -> 16.44617
A89: Sesebuah Detached | B89: 5802 | C89: 1266 | D89: =C89/B89*100 -> 21.820062 | E89: 377 | F89: =E89/B89*100 -> 6.4977594 | G89: 2078 | H89: =G89/B89*100 -> 35.815236 | I89: 107 | J89: =I89/B89*100 -> 1.8441917 | K89: 97 | L89: =K89/B89*100 -> 1.6718373 | M89: 297 | N89: =M89/B89*100 -> 5.1189245 | O89: 1580 | P89: =O89/B89*100 -> 27.231989
A90: Berkembar Semi-detached | B90: 5855 | C90: 2545 | D90: =C90/B90*100 -> 43.467122 | E90: 213 | F90: =E90/B90*100 -> 3.6379163 | G90: 2313 | H90: =G90/B90*100 -> 39.504697 | I90: 90 | J90: =I90/B90*100 -> 1.5371477 | K90: 84 | L90: =K90/B90*100 -> 1.4346712 | M90: 52 | N90: =M90/B90*100 -> 0.8881298 | O90: 558 | P90: =O90/B90*100 -> 9.530316
A91: Teres/ Berangkai/ Berkelompok Terrace/ Link/ Cluster | B91: 22891 | C91: 9597 | D91: =C91/B91*100 -> 41.924774 | E91: 1462 | F91: =E91/B91*100 -> 6.3867896 | G91: 7541 | H91: =G91/B91*100 -> 32.943078 | I91: 355 | J91: =I91/B91*100 -> 1.5508278 | K91: 283 | L91: =K91/B91*100 -> 1.2362937 | M91: 322 | N91: =M91/B91*100 -> 1.4066664 | O91: 3331 | P91: =O91/B91*100 -> 14.55157
A92: Rumah bandar Townhouse | B92: 259 | C92: 258 | D92: =C92/B92*100 -> 99.6139 | E92: 1 | F92: =E92/B92*100 -> 0.38610039 | G92: 0 | H92: 0 | I92: 0 | J92: 0 | K92: 0 | L92: 0 | M92: 0 | N92: 0 | O92: 0 | P92: 0
A93: Rumah pangsa/ Pangsapuri/ Kondominium Flat/ Apartment/ Condominium | B93: 2534 | C93: 1226 | D93: =C93/B93*100 -> 48.382005 | E93: 92 | F93: =E93/B93*100 -> 3.6306235 | G93: 320 | H93: =G93/B93*100 -> 12.628256 | I93: 0 | J93: 0 | K93: 0 | L93: 0 | M93: 293 | N93: =M93/B93*100 -> 11.562747 | O93: 603 | P93: =O93/B93*100 -> 23.796369
A94: Pangsapuri khidmat/ Services apartment Small Office Home Office (SOHO)/ Small Office Flexible Office (SOFO)/ Small Office Versatile Office (SOVO) | B94: 0 | C94: 0 | D94: 0 | E94: 0 | F94: 0 | G94: 0 | H94: 0 | I94: 0 | J94: 0 | K94: 0 | L94: 0 | M94: 0 | N94: 0 | O94: 0 | P94: 0
A95: Rumah kedai/ Pejabat Shophouse/ Office | B95: 127 | C95: 38 | D95: =C95/B95*100 -> 29.92126 | E95: 9 | F95: =E95/B95*100 -> 7.0866142 | G95: 17 | H95: =G95/B95*100 -> 13.385827 | I95: 0 | J95: 0 | K95: 1 | L95: =K95/B95*100 -> 0.78740157 | M95: 0 | N95: 0 | O95: 62 | P95: =O95/B95*100 -> 48.818898
A96: Rumah panjang Longhouse | B96: 0 | C96: 0 | D96: 0 | E96: 0 | F96: 0 | G96: 0 | H96: 0 | I96: 0 | J96: 0 | K96: 0 | L96: 0 | M96: 0 | N96: 0 | O96: 0 | P96: 0
A97: Pondok gantian/ Sementara Improvised/ Temporary hut | B97: 10 | C97: 1 | D97: =C97/B97*100 -> 10 | E97: 0 | F97: 0 | G97: 0 | H97: =G97/B97*100 -> 0 | I97: 0 | J97: 0 | K97: 4 | L97: =K97/B97*100 -> 40 | M97: 1 | N97: =M97/B97*100 -> 10 | O97: 4 | P97: =O97/B97*100 -> 40
A98: Bilik Room | B98: 1 | C98: 0 | D98: 0 | E98: 0 | F98: 0 | G98: 1 | H98: =G98/B98*100 -> 100 | I98: 0 | J98: 0 | K98: 0 | L98: 0 | M98: 0 | N98: 0 | O98: 0 | P98: 0
A99: Rumah kampung air Water village house | B99: 0 | C99: 0 | D99: 0 | E99: 0 | F99: 0 | G99: 0 | H99: 0 | I99: 0 | J99: 0 | K99: 0 | L99: 0 | M99: 0 | N99: 0 | O99: 0 | P99: 0
A100: Lain-lain Others | B100: 390 | C100: 58 | D100: =C100/B100*100 -> 14.871795 | E100: 23 | F100: =E100/B100*100 -> 5.8974359 | G100: 137 | H100: =G100/B100*100 -> 35.128205 | I100: 44 | J100: =I100/B100*100 -> 11.282051 | K100: 14 | L100: =K100/B100*100 -> 3.5897436 | M100: 24 | N100: =M100/B100*100 -> 6.1538462 | O100: 90 | P100: =O100/B100*100 -> 23.076923
A103: Nota/ Note:
A104: Statistik ini merujuk kepada pelaporan oleh responden
A105: The statistics refer to self-declaration by respondent
A106: Kubang Pasu
A107: Unit perumahan Housing unit | B107: 16784 | C107: 5481 | D107: =C107/B107*100 -> 32.656101 | E107: 1089 | F107: =E107/B107*100 -> 6.4883222 | G107: 3278 | H107: =G107/B107*100 -> 19.530505 | I107: 421 | J107: =I107/B107*100 -> 2.5083413 | K107: 231 | L107: =K107/B107*100 -> 1.3763108 | M107: 467 | N107: =M107/B107*100 -> 2.7824118 | O107: 5817 | P107: =O107/B107*100 -> 34.658008
A108: Sesebuah Detached | B108: 6375 | C108: 1065 | D108: =C108/B108*100 -> 16.705882 | E108: 442 | F108: =E108/B108*100 -> 6.9333333 | G108: 1814 | H108: =G108/B108*100 -> 28.454902 | I108: 137 | J108: =I108/B108*100 -> 2.1490196 | K108: 153 | L108: =K108/B108*100 -> 2.4 | M108: 431 | N108: =M108/B108*100 -> 6.7607843 | O108: 2333 | P108: =O108/B108*100 -> 36.596078
A109: Berkembar Semi-detached | B109: 2131 | C109: 831 | D109: =C109/B109*100 -> 38.995777 | E109: 148 | F109: =E109/B109*100 -> 6.9450962 | G109: 367 | H109: =G109/B109*100 -> 17.221962 | I109: 82 | J109: =I109/B109*100 -> 3.8479587 | K109: 21 | L109: =K109/B109*100 -> 0.98545284 | M109: 17 | N109: =M109/B109*100 -> 0.79774754 | O109: 665 | P109: =O109/B109*100 -> 31.206007
A110: Teres/ Berangkai/ Berkelompok Terrace/ Link/ Cluster | B110: 6624 | C110: 3326 | D110: =C110/B110*100 -> 50.211353 | E110: 303 | F110: =E110/B110*100 -> 4.5742754 | G110: 1018 | H110: =G110/B110*100 -> 15.368357 | I110: 200 | J110: =I110/B110*100 -> 3.0193237 | K110: 39 | L110: =K110/B110*100 -> 0.58876812 | M110: 18 | N110: =M110/B110*100 -> 0.27173913 | O110: 1720 | P110: =O110/B110*100 -> 25.966184
A111: Rumah bandar Townhouse | B111: 5 | C111: 4 | D111: =C111/B111*100 -> 80 | E111: 1 | F111: =E111/B111*100 -> 20 | G111: 0 | H111: 0 | I111: 0 | J111: 0 | K111: 0 | L111: 0 | M111: 0 | N111: 0 | O111: 0 | P111: 0
A112: Rumah pangsa/ Pangsapuri/ Kondominium Flat/ Apartment/ Condominium | B112: 1429 | C112: 234 | D112: =C112/B112*100 -> 16.375087 | E112: 116 | F112: =E112/B112*100 -> 8.1175647 | G112: 59 | H112: =G112/B112*100 -> 4.1287614 | I112: 1 | J112: =I112/B112*100 -> 0.069979006 | K112: 1 | L112: =K112/B112*100 -> 0.069979006 | M112: 0 | N112: 0 | O112: 1018 | P112: =O112/B112*100 -> 71.238628
...

Sheet Kelantan
A1: Jadual 5: Bilangan dan peratus unit perumahan mengikut jenis unit perumahan, sebab kekosongan, daerah pentadbiran dan negeri, Malaysia, 2020 (samb.)
A2: Table 5: Number and percentage of housing units by type of housing units, reason for vacancy, administrative district and state, Malaysia, 2020 (cont'd)
A4: Negeri/ Daerah Pentadbiran/ Jenis tempat kediaman State/ Administrative District/ Type of living quarters | B4: Jumlah Total | C4: Sebab kekosongan Reason for vacancy
C5: Baru siap/ untuk disewa atau dijual New completed/ for rent or sale | D5: % | E5: Untuk dibaiki/ ubahsuai For repair/ renovation | F5: % | G5: Rumah peranginan/ Persinggahan Holiday resort/ Transit | H5: % | I5: Homestay | J5: % | K5: Rumah pekerja bermusim Seasonal workers quarters | L5: % | M5: Hampir roboh Dilapidated | N5: % | O5: Lain-lain Others | P5: %
A6: KELANTAN
A7: Unit perumahan Housing unit | B7: =B31+B50+B69+B88+B107+B126+B145+B164+B183+B202+B221 -> 85668 | C7: =C31+C50+C69+C88+C107+C126+C145+C164+C183+C202+C221 -> 21448 | D7: =C7/B7*100 -> 25.036186 | E7: =E31+E50+E69+E88+E107+E126+E145+E164+E183+E202+E221 -> 5172 | F7: =E7/B7*100 -> 6.0372601 | G7: =G31+G50+G69+G88+G107+G126+G145+G164+G183+G202+G221 -> 21457 | H7: =G7/B7*100 -> 25.046692 | I7: =I31+I50+I69+I88+I107+I126+I145+I164+I183+I202+I221 -> 2162 | J7: =I7/B7*100 -> 2.5236961 | K7: =K31+K50+K69+K88+K107+K126+K145+K164+K183+K202+K221 -> 1600 | L7: =K7/B7*100 -> 1.8676752 | M7: =M31+M50+M69+M88+M107+M126+M145+M164+M183+M202+M221 -> 7142 | N7: =M7/B7*100 -> 8.3368352 | O7: =O31+O50+O69+O88+O107+O126+O145+O164+O183+O202+O221 -> 26687 | P7: =O7/B7*100 -> 31.151655
A8: Sesebuah Detached | B8: =B32+B51+B70+B89+B108+B127+B146+B165+B184+B203+B222 -> 50917 | C8: =C32+C51+C70+C89+C108+C127+C146+C165+C184+C203+C222 -> 9167 | D8: =C8/B8*100 -> 18.00381 | E8: =E32+E51+E70+E89+E108+E127+E146+E165+E184+E203+E222 -> 2868 | F8: =E8/B8*100 -> 5.6326963 | G8: =G32+G51+G70+G89+G108+G127+G146+G165+G184+G203+G222 -> 14448 | H8: =G8/B8*100 -> 28.375592 | I8: =I32+I51+I70+I89+I108+I127+I146+I165+I184+I203+I222 -> 917 | J8: =I8/B8*100 -> 1.8009702 | K8: =K32+K51+K70+K89+K108+K127+K146+K165+K184+K203+K222 -> 874 | L8: =K8/B8*100 -> 1.716519 | M8: =M32+M51+M70+M89+M108+M127+M146+M165+M184+M203+M222 -> 6199 | N8: =M8/B8*100 -> 12.174716 | O8: =O32+O51+O70+O89+O108+O127+O146+O165+O184+O203+O222 -> 16444 | P8: =O8/B8*100 -> 32.295697
A9: Berkembar Semi-detached | B9: =B33+B52+B71+B90+B109+B128+B147+B166+B185+B204+B223 -> 6349 | C9: =C33+C52+C71+C90+C109+C128+C147+C166+C185+C204+C223 -> 1691 | D9: =C9/B9*100 -> 26.634116 | E9: =E33+E52+E71+E90+E109+E128+E147+E166+E185+E204+E223 -> 329 | F9: =E9/B9*100 -> 5.1819184 | G9: =G33+G52+G71+G90+G109+G128+G147+G166+G185+G204+G223 -> 1280 | H9: =G9/B9*100 -> 20.160655 | I9: =I33+I52+I71+I90+I109+I128+I147+I166+I185+I204+I223 -> 241 | J9: =I9/B9*100 -> 3.7958734 | K9: =K33+K52+K71+K90+K109+K128+K147+K166+K185+K204+K223 -> 347 | L9: =K9/B9*100 -> 5.4654276 | M9: =M33+M52+M71+M90+M109+M128+M147+M166+M185+M204+M223 -> 334 | N9: =M9/B9*100 -> 5.260671 | O9: =O33+O52+O71+O90+O109+O128+O147+O166+O185+O204+O223 -> 2127 | P9: =O9/B9*100 -> 33.501339
A10: Teres/ Berangkai/ Berkelompok Terrace/ Link/ Cluster | B10: =B34+B53+B72+B91+B110+B129+B148+B167+B186+B205+B224 -> 18645 | C10: =C34+C53+C72+C91+C110+C129+C148+C167+C186+C205+C224 -> 7428 | D10: =C10/B10*100 -> 39.839099 | E10: =E34+E53+E72+E91+E110+E129+E148+E167+E186+E205+E224 -> 811 | F10: =E10/B10*100 -> 4.3496916 | G10: =G34+G53+G72+G91+G110+G129+G148+G167+G186+G205+G224 -> 4015 | H10: =G10/B10*100 -> 21.533923 | I10: =I34+I53+I72+I91+I110+I129+I148+I167+I186+I205+I224 -> 540 | J10: =I10/B10*100 -> 2.8962188 | K10: =K34+K53+K72+K91+K110+K129+K148+K167+K186+K205+K224 -> 214 | L10: =K10/B10*100 -> 1.1477608 | M10: =M34+M53+M72+M91+M110+M129+M148+M167+M186+M205+M224 -> 254 | N10: =M10/B10*100 -> 1.3622955 | O10: =O34+O53+O72+O91+O110+O129+O148+O167+O186+O205+O224 -> 5380 | P10: =O10/B10*100 -> 28.854921
A11: Rumah bandar Townhouse | B11: =B35+B54+B73+B92+B111+B130+B149+B168+B187+B206+B225 -> 21 | C11: =C35+C54+C73+C92+C111+C130+C149+C168+C187+C206+C225 -> 3 | D11: =C11/B11*100 -> 14.285714 | E11: =E35+E54+E73+E92+E111+E130+E149+E168+E187+E206+E225 -> 4 | F11: =E11/B11*100 -> 19.047619 | G11: =G35+G54+G73+G92+G111+G130+G149+G168+G187+G206+G225 -> 10 | H11: =G11/B11*100 -> 47.619048 | I11: 0 | J11: 0 | K11: =K35+K54+K73+K92+K111+K130+K149+K168+K187+K206+K225 -> 2 | L11: =K11/B11*100 -> 9.5238095 | M11: =M35+M54+M73+M92+M111+M130+M149+M168+M187+M206+M225 -> 1 | N11: =M11/B11*100 -> 4.7619048 | O11: =O35+O54+O73+O92+O111+O130+O149+O168+O187+O206+O225 -> 1 | P11: =O11/B11*100 -> 4.7619048
A12: Rumah pangsa/ Pangsapuri/ Kondominium Flat/ Apartment/ Condominium | B12: =B36+B55+B74+B93+B112+B131+B150+B169+B188+B207+B226 -> 6421 | C12: =C36+C55+C74+C93+C112+C131+C150+C169+C188+C207+C226 -> 2328 | D12: =C12/B12*100 -> 36.256035 | E12: =E36+E55+E74+E93+E112+E131+E150+E169+E188+E207+E226 -> 1061 | F12: =E12/B12*100 -> 16.523906 | G12: =G36+G55+G74+G93+G112+G131+G150+G169+G188+G207+G226 -> 1187 | H12: =G12/B12*100 -> 18.486217 | I12: =I36+I55+I74+I93+I112+I131+I150+I169+I188+I207+I226 -> 409 | J12: =I12/B12*100 -> 6.3697243 | K12: =K36+K55+K74+K93+K112+K131+K150+K169+K188+K207+K226 -> 37 | L12: =K12/B12*100 -> 0.57623423 | M12: =M36+M55+M74+M93+M112+M131+M150+M169+M188+M207+M226 -> 190 | N12: =M12/B12*100 -> 2.9590406 | O12: =O36+O55+O74+O93+O112+O131+O150+O169+O188+O207+O226 -> 1209 | P12: =O12/B12*100 -> 18.828843
A13: Pangsapuri khidmat/ Services apartment Small Office Home Office (SOHO)/ Small Office Flexible Office (SOFO)/ Small Office Versatile Office (SOVO) | B13: =B37+B56+B75+B94+B113+B132+B151+B170+B189+B208+B227 -> 534 | C13: =C37+C56+C75+C94+C113+C132+C151+C170+C189+C208+C227 -> 246 | D13: =C13/B13*100 -> 46.067416 | E13: =E37+E56+E75+E94+E113+E132+E151+E170+E189+E208+E227 -> 4 | F13: =E13/B13*100 -> 0.74906367 | G13: =G37+G56+G75+G94+G113+G132+G151+G170+G189+G208+G227 -> 252 | H13: =G13/B13*100 -> 47.191011 | I13: =I37+I56+I75+I94+I113+I132+I151+I170+I189+I208+I227 -> 18 | J13: =I13/B13*100 -> 3.3707865 | K13: =K37+K56+K75+K94+K113+K132+K151+K170+K189+K208+K227 -> 1 | L13: =K13/B13*100 -> 0.18726592 | M13: 0 | N13: 0 | O13: =O37+O56+O75+O94+O113+O132+O151+O170+O189+O208+O227 -> 13 | P13: =O13/B13*100 -> 2.4344569
A14: Rumah kedai/ Pejabat Shophouse/ Office | B14: =B38+B57+B76+B95+B114+B133+B152+B171+B190+B209+B228 -> 1101 | C14: =C38+C57+C76+C95+C114+C133+C152+C171+C190+C209+C228 -> 454 | D14: =C14/B14*100 -> 41.235241 | E14: =E38+E57+E76+E95+E114+E133+E152+E171+E190+E209+E228 -> 45 | F14: =E14/B14*100 -> 4.0871935 | G14: =G38+G57+G76+G95+G114+G133+G152+G171+G190+G209+G228 -> 118 | H14: =G14/B14*100 -> 10.71753 | I14: =I38+I57+I76+I95+I114+I133+I152+I171+I190+I209+I228 -> 13 | J14: =I14/B14*100 -> 1.1807448 | K14: =K38+K57+K76+K95+K114+K133+K152+K171+K190+K209+K228 -> 18 | L14: =K14/B14*100 -> 1.6348774 | M14: =M38+M57+M76+M95+M114+M133+M152+M171+M190+M209+M228 -> 29 | N14: =M14/B14*100 -> 2.6339691 | O14: =O38+O57+O76+O95+O114+O133+O152+O171+O190+O209+O228 -> 424 | P14: =O14/B14*100 -> 38.510445
A15: Rumah panjang Longhouse | B15: 0 | C15: 0 | D15: 0 | E15: 0 | F15: 0 | G15: 0 | H15: 0 | I15: 0 | J15: 0 | K15: 0 | L15: 0 | M15: 0 | N15: 0 | O15: 0 | P15: 0
A16: Pondok gantian/ Sementara Improvised/ Temporary hut | B16: =B40+B59+B78+B97+B116+B135+B154+B173+B192+B211+B230 -> 119 | C16: =C40+C59+C78+C97+C116+C135+C154+C173+C192+C211+C230 -> 4 | D16: =C16/B16*100 -> 3.3613445 | E16: =E40+E59+E78+E97+E116+E135+E154+E173+E192+E211+E230 -> 4 | F16: =E16/B16*100 -> 3.3613445 | G16: =G40+G59+G78+G97+G116+G135+G154+G173+G192+G211+G230 -> 24 | H16: =G16/B16*100 -> 20.168067 | I16: 0 | J16: 0 | K16: =K40+K59+K78+K97+K116+K135+K154+K173+K192+K211+K230 -> 14 | L16: =K16/B16*100 -> 11.764706 | M16: =M40+M59+M78+M97+M116+M135+M154+M173+M192+M211+M230 -> 38 | N16: =M16/B16*100 -> 31.932773 | O16: =O40+O59+O78+O97+O116+O135+O154+O173+O192+O211+O230 -> 35 | P16: =O16/B16*100 -> 29.411765
A17: Bilik Room | B17: =B41+B60+B79+B98+B117+B136+B155+B174+B193+B212+B231 -> 178 | C17: =C41+C60+C79+C98+C117+C136+C155+C174+C193+C212+C231 -> 19 | D17: =C17/B17*100 -> 10.674157 | E17: =E41+E60+E79+E98+E117+E136+E155+E174+E193+E212+E231 -> 18 | F17: =E17/B17*100 -> 10.11236 | G17: =G41+G60+G79+G98+G117+G136+G155+G174+G193+G212+G231 -> 25 | H17: =G17/B17*100 -> 14.044944 | I17: =I41+I60+I79+I98+I117+I136+I155+I174+I193+I212+I231 -> 10 | J17: =I17/B17*100 -> 5.6179775 | K17: =K41+K60+K79+K98+K117+K136+K155+K174+K193+K212+K231 -> 35 | L17: =K17/B17*100 -> 19.662921 | M17: =M41+M60+M79+M98+M117+M136+M155+M174+M193+M212+M231 -> 5 | N17: =M17/B17*100 -> 2.8089888 | O17: =O41+O60+O79+O98+O117+O136+O155+O174+O193+O212+O231 -> 66 | P17: =O17/B17*100 -> 37.078652
A18: Rumah kampung air Water village house | B18: 0 | C18: 0 | D18: 0 | E18: 0 | F18: 0 | G18: 0 | H18: 0 | I18: 0 | J18: 0 | K18: 0 | L18: 0 | M18: 0 | N18: 0 | O18: 0 | P18: 0
A19: Lain-lain Others | B19: =B43+B62+B81+B100+B119+B138+B157+B176+B195+B214+B233 -> 1383 | C19: =C43+C62+C81+C100+C119+C138+C157+C176+C195+C214+C233 -> 108 | D19: =C19/B19*100 -> 7.8091106 | E19: =E43+E62+E81+E100+E119+E138+E157+E176+E195+E214+E233 -> 25 | F19: =E19/B19*100 -> 1.8076645 | G19: =G43+G62+G81+G100+G119+G138+G157+G176+G195+G214+G233 -> 98 | H19: =G19/B19*100 -> 7.0860448 | I19: =I43+I62+I81+I100+I119+I138+I157+I176+I195+I214+I233 -> 14 | J19: =I19/B19*100 -> 1.0122921 | K19: =K43+K62+K81+K100+K119+K138+K157+K176+K195+K214+K233 -> 58 | L19: =K19/B19*100 -> 4.1937816 | M19: =M43+M62+M81+M100+M119+M138+M157+M176+M195+M214+M233 -> 92 | N19: =M19/B19*100 -> 6.6522054 | O19: =O43+O62+O81+O100+O119+O138+O157+O176+O195+O214+O233 -> 988 | P19: =O19/B19*100 -> 71.438901
A22: Nota/ Note:
A23: Statistik ini merujuk kepada pelaporan oleh responden
A24: The statistics refer to self-declaration by respondent
A25: Jadual 5: Bilangan dan peratus unit perumahan mengikut jenis unit perumahan, sebab kekosongan, daerah pentadbiran dan negeri, Malaysia, 2020 (samb.)
A26: Table 5: Number and percentage of housing units by type of housing units, reason for vacancy, administrative district and state, Malaysia, 2020 (cont'd)
A28: Negeri/ Daerah Pentadbiran/ Jenis tempat kediaman State/ Administrative District/ Type of living quarters | B28: Jumlah Total | C28: Sebab kekosongan Reason for vacancy
C29: Baru siap/ untuk disewa atau dijual New completed/ for rent or sale | D29: % | E29: Untuk dibaiki/ ubahsuai For repair/ renovation | F29: % | G29: Rumah peranginan/ Persinggahan Holiday resort/ Transit | H29: % | I29: Homestay | J29: % | K29: Rumah pekerja bermusim Seasonal workers quarters | L29: % | M29: Hampir roboh Dilapidated | N29: % | O29: Lain-lain Others | P29: %
A30: Bachok
A31: Unit perumahan Housing unit | B31: 7139 | C31: 1397 | D31: =C31/B31*100 -> 19.568567 | E31: 283 | F31: =E31/B31*100 -> 3.9641406 | G31: 1829 | H31: =G31/B31*100 -> 25.619835 | I31: 128 | J31: =I31/B31*100 -> 1.7929682 | K31: 42 | L31: =K31/B31*100 -> 0.58831769 | M31: 397 | N31: =M31/B31*100 -> 5.5610029 | O31: 3063 | P31: =O31/B31*100 -> 42.905169
A32: Sesebuah Detached | B32: 4875 | C32: 733 | D32: =C32/B32*100 -> 15.035897 | E32: 215 | F32: =E32/B32*100 -> 4.4102564 | G32: 1447 | H32: =G32/B32*100 -> 29.682051 | I32: 84 | J32: =I32/B32*100 -> 1.7230769 | K32: 25 | L32: =K32/B32*100 -> 0.51282051 | M32: 370 | N32: =M32/B32*100 -> 7.5897436 | O32: 2001 | P32: =O32/B32*100 -> 41.046154
A33: Berkembar Semi-detached | B33: 491 | C33: 139 | D33: =C33/B33*100 -> 28.309572 | E33: 25 | F33: =E33/B33*100 -> 5.0916497 | G33: 90 | H33: =G33/B33*100 -> 18.329939 | I33: 27 | J33: =I33/B33*100 -> 5.4989817 | K33: 6 | L33: =K33/B33*100 -> 1.2219959 | M33: 8 | N33: =M33/B33*100 -> 1.6293279 | O33: 196 | P33: =O33/B33*100 -> 39.918534
A34: Teres/ Berangkai/ Berkelompok Terrace/ Link/ Cluster | B34: 1512 | C34: 486 | D34: =C34/B34*100 -> 32.142857 | E34: 23 | F34: =E34/B34*100 -> 1.521164 | G34: 276 | H34: =G34/B34*100 -> 18.253968 | I34: 16 | J34: =I34/B34*100 -> 1.0582011 | K34: 6 | L34: =K34/B34*100 -> 0.3968254 | M34: 15 | N34: =M34/B34*100 -> 0.99206349 | O34: 690 | P34: =O34/B34*100 -> 45.634921
A35: Rumah bandar Townhouse | B35: 0 | C35: 0 | D35: 0 | E35: 0 | F35: 0 | G35: 0 | H35: 0 | I35: 0 | J35: 0 | K35: 0 | L35: 0 | M35: 0 | N35: 0 | O35: 0 | P35: 0
A36: Rumah pangsa/ Pangsapuri/ Kondominium Flat/ Apartment/ Condominium | B36: 46 | C36: 12 | D36: =C36/B36*100 -> 26.086957 | E36: 0 | F36: 0 | G36: 0 | H36: 0 | I36: 0 | J36: 0 | K36: 4 | L36: =K36/B36*100 -> 8.6956522 | M36: 0 | N36: 0 | O36: 30 | P36: =O36/B36*100 -> 65.217391
A37: Pangsapuri khidmat/ Services apartment Small Office Home Office (SOHO)/ Small Office Flexible Office (SOFO)/ Small Office Versatile Office (SOVO) | B37: 0 | C37: 0 | D37: 0 | E37: 0 | F37: 0 | G37: 0 | H37: 0 | I37: 0 | J37: 0 | K37: 0 | L37: 0 | M37: 0 | N37: 0 | O37: 0 | P37: 0
A38: Rumah kedai/ Pejabat Shophouse/ Office | B38: 70 | C38: 15 | D38: =C38/B38*100 -> 21.428571 | E38: 8 | F38: =E38/B38*100 -> 11.428571 | G38: 11 | H38: =G38/B38*100 -> 15.714286 | I38: 0 | J38: 0 | K38: 0 | L38: 0 | M38: 0 | N38: 0 | O38: 36 | P38: =O38/B38*100 -> 51.428571
A39: Rumah panjang Longhouse | B39: 0 | C39: 0 | D39: 0 | E39: 0 | F39: 0 | G39: 0 | H39: 0 | I39: 0 | J39: 0 | K39: 0 | L39: 0 | M39: 0 | N39: 0 | O39: 0 | P39: 0
A40: Pondok gantian/ Sementara Improvised/ Temporary hut | B40: 4 | C40: 1 | D40: =C40/B40*100 -> 25 | E40: 0 | F40: 0 | G40: 0 | H40: 0 | I40: 0 | J40: 0 | K40: 0 | L40: 0 | M40: 1 | N40: =M40/B40*100 -> 25 | O40: 2 | P40: =O40/B40*100 -> 50
A41: Bilik Room | B41: 23 | C41: 11 | D41: =C41/B41*100 -> 47.826087 | E41: 12 | F41: =E41/B41*100 -> 52.173913 | G41: 0 | H41: 0 | I41: 0 | J41: 0 | K41: 0 | L41: 0 | M41: 0 | N41: 0 | O41: 0 | P41: 0
A42: Rumah kampung air Water village house | B42: 0 | C42: 0 | D42: 0 | E42: 0 | F42: 0 | G42: 0 | H42: 0 | I42: 0 | J42: 0 | K42: 0 | L42: 0 | M42: 0 | N42: 0 | O42: 0 | P42: 0
A43: Lain-lain Others | B43: 118 | C43: 0 | D43: 0 | E43: 0 | F43: 0 | G43: 5 | H43: =G43/B43*100 -> 4.2372881 | I43: 1 | J43: =I43/B43*100 -> 0.84745763 | K43: 1 | L43: =K43/B43*100 -> 0.84745763 | M43: 3 | N43: =M43/B43*100 -> 2.5423729 | O43: 108 | P43: =O43/B43*100 -> 91.525424
A46: Nota/ Note:
A47: Statistik ini merujuk kepada pelaporan oleh responden
A48: The statistics refer to self-declaration by respondent
A49: Kota Bharu
A50: Unit perumahan Housing unit | B50: 24625 | C50: 6585 | D50: =C50/B50*100 -> 26.741117 | E50: 1922 | F50: =E50/B50*100 -> 7.8050761 | G50: 5770 | H50: =G50/B50*100 -> 23.431472 | I50: 1095 | J50: =I50/B50*100 -> 4.4467005 | K50: 154 | L50: =K50/B50*100 -> 0.62538071 | M50: 1817 | N50: =M50/B50*100 -> 7.3786802 | O50: 7282 | P50: =O50/B50*100 -> 29.571574
A51: Sesebuah Detached | B51: 12226 | C51: 2266 | D51: =C51/B51*100 -> 18.534271 | E51: 712 | F51: =E51/B51*100 -> 5.8236545 | G51: 3169 | H51: =G51/B51*100 -> 25.92017 | I51: 329 | J51: =I51/B51*100 -> 2.6909864 | K51: 87 | L51: =K51/B51*100 -> 0.71159823 | M51: 1444 | N51: =M51/B51*100 -> 11.810895 | O51: 4219 | P51: =O51/B51*100 -> 34.508425
A52: Berkembar Semi-detached | B52: 1853 | C52: 553 | D52: =C52/B52*100 -> 29.843497 | E52: 104 | F52: =E52/B52*100 -> 5.6125202 | G52: 412 | H52: =G52/B52*100 -> 22.234215 | I52: 100 | J52: =I52/B52*100 -> 5.3966541 | K52: 22 | L52: =K52/B52*100 -> 1.1872639 | M52: 84 | N52: =M52/B52*100 -> 4.5331894 | O52: 578 | P52: =O52/B52*100 -> 31.192661
A53: Teres/ Berangkai/ Berkelompok Terrace/ Link/ Cluster | B53: 4747 | C53: 1924 | D53: =C53/B53*100 -> 40.530862 | E53: 275 | F53: =E53/B53*100 -> 5.7931325 | G53: 1021 | H53: =G53/B53*100 -> 21.508321 | I53: 229 | J53: =I53/B53*100 -> 4.8240994 | K53: 11 | L53: =K53/B53*100 -> 0.2317253 | M53: 81 | N53: =M53/B53*100 -> 1.7063408 | O53: 1206 | P53: =O53/B53*100 -> 25.405519
A54: Rumah bandar Townhouse | B54: 21 | C54: 3 | D54: =C54/B54*100 -> 14.285714 | E54: 4 | F54: =E54/B54*100 -> 19.047619 | G54: 10 | H54: =G54/B54*100 -> 47.619048 | I54: 0 | J54: 0 | K54: 2 | L54: =K54/B54*100 -> 9.5238095 | M54: 1 | N54: =M54/B54*100 -> 4.7619048 | O54: 1 | P54: =O54/B54*100 -> 4.7619048
A55: Rumah pangsa/ Pangsapuri/ Kondominium Flat/ Apartment/ Condominium | B55: 4391 | C55: 1348 | D55: =C55/B55*100 -> 30.699157 | E55: 799 | F55: =E55/B55*100 -> 18.196311 | G55: 831 | H55: =G55/B55*100 -> 18.925074 | I55: 407 | J55: =I55/B55*100 -> 9.2689592 | K55: 14 | L55: =K55/B55*100 -> 0.31883398 | M55: 190 | N55: =M55/B55*100 -> 4.3270326 | O55: 802 | P55: =O55/B55*100 -> 18.264632
A56: Pangsapuri khidmat/ Services apartment Small Office Home Office (SOHO)/ Small Office Flexible Office (SOFO)/ Small Office Versatile Office (SOVO) | B56: 534 | C56: 246 | D56: =C56/B56*100 -> 46.067416 | E56: 4 | F56: =E56/B56*100 -> 0.74906367 | G56: 252 | H56: =G56/B56*100 -> 47.191011 | I56: 18 | J56: =I56/B56*100 -> 3.3707865 | K56: 1 | L56: =K56/B56*100 -> 0.18726592 | M56: 0 | N56: 0 | O56: 13 | P56: =O56/B56*100 -> 2.4344569
A57: Rumah kedai/ Pejabat Shophouse/ Office | B57: 450 | C57: 209 | D57: =C57/B57*100 -> 46.444444 | E57: 13 | F57: =E57/B57*100 -> 2.8888889 | G57: 46 | H57: =G57/B57*100 -> 10.222222 | I57: 3 | J57: =I57/B57*100 -> 0.66666667 | K57: 13 | L57: =K57/B57*100 -> 2.8888889 | M57: 6 | N57: =M57/B57*100 -> 1.3333333 | O57: 160 | P57: =O57/B57*100 -> 35.555556
A58: Rumah panjang Longhouse | B58: 0 | C58: 0 | D58: 0 | E58: 0 | F58: 0 | G58: 0 | H58: 0 | I58: 0 | J58: 0 | K58: 0 | L58: 0 | M58: 0 | N58: 0 | O58: 0 | P58: 0
A59: Pondok gantian/ Sementara Improvised/ Temporary hut | B59: 10 | C59: 1 | D59: =C59/B59*100 -> 10 | E59: 0 | F59: 0 | G59: 3 | H59: =G59/B59*100 -> 30 | I59: 0 | J59: 0 | K59: 0 | L59: 0 | M59: 3 | N59: =M59/B59*100 -> 30 | O59: 3 | P59: =O59/B59*100 -> 30
A60: Bilik Room | B60: 73 | C60: 4 | D60: =C60/B60*100 -> 5.4794521 | E60: 6 | F60: =E60/B60*100 -> 8.2191781 | G60: 5 | H60: =G60/B60*100 -> 6.8493151 | I60: 0 | J60: 0 | K60: 1 | L60: =K60/B60*100 -> 1.369863 | M60: 0 | N60: 0 | O60: 57 | P60: =O60/B60*100 -> 78.082192
A61: Rumah kampung air Water village house | B61: 0 | C61: 0 | D61: 0 | E61: 0 | F61: 0 | G61: 0 | H61: 0 | I61: 0 | J61: 0 | K61: 0 | L61: 0 | M61: 0 | N61: 0 | O61: 0 | P61: 0
A62: Lain-lain Others | B62: 320 | C62: 31 | D62: =C62/B62*100 -> 9.6875 | E62: 5 | F62: =E62/B62*100 -> 1.5625 | G62: 21 | H62: =G62/B62*100 -> 6.5625 | I62: 9 | J62: =I62/B62*100 -> 2.8125 | K62: 3 | L62: =K62/B62*100 -> 0.9375 | M62: 8 | N62: =M62/B62*100 -> 2.5 | O62: 243 | P62: =O62/B62*100 -> 75.9375
A65: Nota/ Note:
A66: Statistik ini merujuk kepada pelaporan oleh responden
A67: The statistics refer to self-declaration by respondent
A68: Machang
A69: Unit perumahan Housing unit | B69: 5232 | C69: 1465 | D69: =C69/B69*100 -> 28.000765 | E69: 405 | F69: =E69/B69*100 -> 7.7408257 | G69: 1579 | H69: =G69/B69*100 -> 30.179664 | I69: 103 | J69: =I69/B69*100 -> 1.9686544 | K69: 50 | L69: =K69/B69*100 -> 0.95565749 | M69: 434 | N69: =M69/B69*100 -> 8.295107 | O69: 1196 | P69: =O69/B69*100 -> 22.859327
A70: Sesebuah Detached | B70: 2872 | C70: 513 | D70: =C70/B70*100 -> 17.862117 | E70: 160 | F70: =E70/B70*100 -> 5.5710306 | G70: 1139 | H70: =G70/B70*100 -> 39.658774 | I70: 38 | J70: =I70/B70*100 -> 1.3231198 | K70: 46 | L70: =K70/B70*100 -> 1.6016713 | M70: 381 | N70: =M70/B70*100 -> 13.266017 | O70: 595 | P70: =O70/B70*100 -> 20.71727
A71: Berkembar Semi-detached | B71: 386 | C71: 115 | D71: =C71/B71*100 -> 29.792746 | E71: 43 | F71: =E71/B71*100 -> 11.139896 | G71: 76 | H71: =G71/B71*100 -> 19.689119 | I71: 27 | J71: =I71/B71*100 -> 6.9948187 | K71: 2 | L71: =K71/B71*100 -> 0.51813472 | M71: 38 | N71: =M71/B71*100 -> 9.8445596 | O71: 85 | P71: =O71/B71*100 -> 22.020725
A72: Teres/ Berangkai/ Berkelompok Terrace/ Link/ Cluster | B72: 1146 | C72: 366 | D72: =C72/B72*100 -> 31.937173 | E72: 102 | F72: =E72/B72*100 -> 8.9005236 | G72: 334 | H72: =G72/B72*100 -> 29.144852 | I72: 27 | J72: =I72/B72*100 -> 2.3560209 | K72: 1 | L72: =K72/B72*100 -> 0.087260035 | M72: 7 | N72: =M72/B72*100 -> 0.61082024 | O72: 309 | P72: =O72/B72*100 -> 26.963351
A73: Rumah bandar Townhouse | B73: 0 | C73: 0 | D73: 0 | E73: 0 | F73: 0 | G73: 0 | H73: 0 | I73: 0 | J73: 0 | K73: 0 | L73: 0 | M73: 0 | N73: 0 | O73: 0 | P73: 0
A74: Rumah pangsa/ Pangsapuri/ Kondominium Flat/ Apartment/ Condominium | B74: 658 | C74: 420 | D74: =C74/B74*100 -> 63.829787 | E74: 100 | F74: =E74/B74*100 -> 15.197568 | G74: 14 | H74: =G74/B74*100 -> 2.1276596 | I74: 0 | J74: 0 | K74: 0 | L74: 0 | M74: 0 | N74: 0 | O74: 124 | P74: =O74/B74*100 -> 18.844985
A75: Pangsapuri khidmat/ Services apartment Small Office Home Office (SOHO)/ Small Office Flexible Office (SOFO)/ Small Office Versatile Office (SOVO) | B75: 0 | C75: 0 | D75: 0 | E75: 0 | F75: 0 | G75: 0 | H75: 0 | I75: 0 | J75: 0 | K75: 0 | L75: 0 | M75: 0 | N75: 0 | O75: 0 | P75: 0
A76: Rumah kedai/ Pejabat Shophouse/ Office | B76: 63 | C76: 32 | D76: =C76/B76*100 -> 50.793651 | E76: 0 | F76: 0 | G76: 9 | H76: =G76/B76*100 -> 14.285714 | I76: 0 | J76: 0 | K76: 0 | L76: 0 | M76: 6 | N76: =M76/B76*100 -> 9.5238095 | O76: 16 | P76: =O76/B76*100 -> 25.396825
A77: Rumah panjang Longhouse | B77: 0 | C77: 0 | D77: 0 | E77: 0 | F77: 0 | G77: 0 | H77: 0 | I77: 0 | J77: 0 | K77: 0 | L77: 0 | M77: 0 | N77: 0 | O77: 0 | P77: 0
A78: Pondok gantian/ Sementara Improvised/ Temporary hut | B78: 0 | C78: 0 | D78: 0 | E78: 0 | F78: 0 | G78: 0 | H78: 0 | I78: 0 | J78: 0 | K78: 0 | L78: 0 | M78: 0 | N78: 0 | O78: 0 | P78: 0
A79: Bilik Room | B79: 17 | C79: 1 | D79: =C79/B79*100 -> 5.8823529 | E79: 0 | F79: 0 | G79: 0 | H79: 0 | I79: 10 | J79: =I79/B79*100 -> 58.823529 | K79: 1 | L79: =K79/B79*100 -> 5.8823529 | M79: 0 | N79: 0 | O79: 5 | P79: =O79/B79*100 -> 29.411765
A80: Rumah kampung air Water village house | B80: 0 | C80: 0 | D80: 0 | E80: 0 | F80: 0 | G80: 0 | H80: 0 | I80: 0 | J80: 0 | K80: 0 | L80: 0 | M80: 0 | N80: 0 | O80: 0 | P80: 0
A81: Lain-lain Others | B81: 90 | C81: 18 | D81: =C81/B81*100 -> 20 | E81: 0 | F81: 0 | G81: 7 | H81: =G81/B81*100 -> 7.7777778 | I81: 1 | J81: =I81/B81*100 -> 1.1111111 | K81: 0 | L81: 0 | M81: 2 | N81: =M81/B81*100 -> 2.2222222 | O81: 62 | P81: =O81/B81*100 -> 68.888889
A84: Nota/ Note:
A85: Statistik ini merujuk kepada pelaporan oleh responden
A86: The statistics refer to self-declaration by respondent
A87: Pasir Mas
A88: Unit perumahan Housing unit | B88: 11598 | C88: 2337 | D88: =C88/B88*100 -> 20.150026 | E88: 403 | F88: =E88/B88*100 -> 3.474737 | G88: 2758 | H88: =G88/B88*100 -> 23.779962 | I88: 163 | J88: =I88/B88*100 -> 1.4054147 | K88: 70 | L88: =K88/B88*100 -> 0.60355234 | M88: 460 | N88: =M88/B88*100 -> 3.9662011 | O88: 5407 | P88: =O88/B88*100 -> 46.620107
A89: Sesebuah Detached | B89: 6976 | C89: 1125 | D89: =C89/B89*100 -> 16.12672 | E89: 196 | F89: =E89/B89*100 -> 2.809633 | G89: 2126 | H89: =G89/B89*100 -> 30.475917 | I89: 91 | J89: =I89/B89*100 -> 1.3044725 | K89: 45 | L89: =K89/B89*100 -> 0.64506881 | M89: 377 | N89: =M89/B89*100 -> 5.4042431 | O89: 3016 | P89: =O89/B89*100 -> 43.233945
A90: Berkembar Semi-detached | B90: 618 | C90: 101 | D90: =C90/B90*100 -> 16.343042 | E90: 14 | F90: =E90/B90*100 -> 2.2653722 | G90: 106 | H90: =G90/B90*100 -> 17.152104 | I90: 18 | J90: =I90/B90*100 -> 2.9126214 | K90: 13 | L90: =K90/B90*100 -> 2.1035599 | M90: 15 | N90: =M90/B90*100 -> 2.4271845 | O90: 351 | P90: =O90/B90*100 -> 56.796117
A91: Teres/ Berangkai/ Berkelompok Terrace/ Link/ Cluster | B91: 3457 | C91: 1075 | D91: =C91/B91*100 -> 31.096326 | E91: 127 | F91: =E91/B91*100 -> 3.6737055 | G91: 479 | H91: =G91/B91*100 -> 13.855944 | I91: 47 | J91: =I91/B91*100 -> 1.3595603 | K91: 12 | L91: =K91/B91*100 -> 0.34712178 | M91: 30 | N91: =M91/B91*100 -> 0.86780445 | O91: 1684 | P91: =O91/B91*100 -> 48.712757
A92: Rumah bandar Townhouse | B92: 0 | C92: 0 | D92: 0 | E92: 0 | F92: 0 | G92: 0 | H92: 0 | I92: 0 | J92: 0 | K92: 0 | L92: 0 | M92: 0 | N92: 0 | O92: 0 | P92: 0
A93: Rumah pangsa/ Pangsapuri/ Kondominium Flat/ Apartment/ Condominium | B93: 225 | C93: 25 | D93: =C93/B93*100 -> 11.111111 | E93: 53 | F93: =E93/B93*100 -> 23.555556 | G93: 35 | H93: =G93/B93*100 -> 15.555556 | I93: 0 | J93: 0 | K93: 0 | L93: 0 | M93: 0 | N93: 0 | O93: 112 | P93: =O93/B93*100 -> 49.777778
A94: Pangsapuri khidmat/ Services apartment Small Office Home Office (SOHO)/ Small Office Flexible Office (SOFO)/ Small Office Versatile Office (SOVO) | B94: 0 | C94: 0 | D94: 0 | E94: 0 | F94: 0 | G94: 0 | H94: 0 | I94: 0 | J94: 0 | K94: 0 | L94: 0 | M94: 0 | N94: 0 | O94: 0 | P94: 0
A95: Rumah kedai/ Pejabat Shophouse/ Office | B95: 82 | C95: 11 | D95: =C95/B95*100 -> 13.414634 | E95: 2 | F95: =E95/B95*100 -> 2.4390244 | G95: 4 | H95: =G95/B95*100 -> 4.8780488 | I95: 6 | J95: =I95/B95*100 -> 7.3170732 | K95: 0 | L95: 0 | M95: 2 | N95: =M95/B95*100 -> 2.4390244 | O95: 57 | P95: =O95/B95*100 -> 69.512195
A96: Rumah panjang Longhouse | B96: 0 | C96: 0 | D96: 0 | E96: 0 | F96: 0 | G96: 0 | H96: 0 | I96: 0 | J96: 0 | K96: 0 | L96: 0 | M96: 0 | N96: 0 | O96: 0 | P96: 0
A97: Pondok gantian/ Sementara Improvised/ Temporary hut | B97: 18 | C97: 0 | D97: 0 | E97: 2 | F97: =E97/B97*100 -> 11.111111 | G97: 0 | H97: 0 | I97: 0 | J97: 0 | K97: 0 | L97: 0 | M97: 2 | N97: =M97/B97*100 -> 11.111111 | O97: 14 | P97: =O97/B97*100 -> 77.777778
A98: Bilik Room | B98: 4 | C98: 0 | D98: 0 | E98: 0 | F98: =E98/B98*100 -> 0 | G98: 0 | H98: 0 | I98: 0 | J98: 0 | K98: 0 | L98: 0 | M98: 4 | N98: =M98/B98*100 -> 100 | O98: 0 | P98: 0
A99: Rumah kampung air Water village house | B99: 0 | C99: 0 | D99: 0 | E99: 0 | F99: 0 | G99: 0 | H99: 0 | I99: 0 | J99: 0 | K99: 0 | L99: 0 | M99: 0 | N99: 0 | O99: 0 | P99: 0
A100: Lain-lain Others | B100: 218 | C100: 0 | D100: 0 | E100: 6 | F100: =E100/B100*100 -> 2.7522936 | G100: 8 | H100: =G100/B100*100 -> 3.6697248 | I100: 1 | J100: =I100/B100*100 -> 0.4587156 | K100: 0 | L100: 0 | M100: 30 | N100: =M100/B100*100 -> 13.761468 | O100: 173 | P100: =O100/B100*100 -> 79.357798
A103: Nota/ Note:
A104: Statistik ini merujuk kepada pelaporan oleh responden
A105: The statistics refer to self-declaration by respondent
A106: Pasir Puteh
A107: Unit perumahan Housing unit | B107: 7358 | C107: 1657 | D107: =C107/B107*100 -> 22.519706 | E107: 465 | F107: =E107/B107*100 -> 6.3196521 | G107: 1714 | H107: =G107/B107*100 -> 23.294373 | I107: 112 | J107: =I107/B107*100 -> 1.5221528 | K107: 124 | L107: =K107/B107*100 -> 1.6852406 | M107: 752 | N107: =M107/B107*100 -> 10.220169 | O107: 2534 | P107: =O107/B107*100 -> 34.438706
A108: Sesebuah Detached | B108: 5825 | C108: 1178 | D108: =C108/B108*100 -> 20.223176 | E108: 419 | F108: =E108/B108*100 -> 7.193133 | G108: 1427 | H108: =G108/B108*100 -> 24.497854 | I108: 93 | J108: =I108/B108*100 -> 1.5965665 | K108: 66 | L108: =K108/B108*100 -> 1.1330472 | M108: 726 | N108: =M108/B108*100 -> 12.463519 | O108: 1916 | P108: =O108/B108*100 -> 32.892704
A109: Berkembar Semi-detached | B109: 213 | C109: 55 | D109: =C109/B109*100 -> 25.821596 | E109: 12 | F109: =E109/B109*100 -> 5.6338028 | G109: 51 | H109: =G109/B109*100 -> 23.943662 | I109: 6 | J109: =I109/B109*100 -> 2.8169014 | K109: 12 | L109: =K109/B109*100 -> 5.6338028 | M109: 7 | N109: =M109/B109*100 -> 3.286385 | O109: 70 | P109: =O109/B109*100 -> 32.86385
A110: Teres/ Berangkai/ Berkelompok Terrace/ Link/ Cluster | B110: 1069 | C110: 332 | D110: =C110/B110*100 -> 31.057063 | E110: 24 | F110: =E110/B110*100 -> 2.2450889 | G110: 202 | H110: =G110/B110*100 -> 18.896165 | I110: 13 | J110: =I110/B110*100 -> 1.2160898 | K110: 30 | L110: =K110/B110*100 -> 2.8063611 | M110: 8 | N110: =M110/B110*100 -> 0.74836296 | O110: 460 | P110: =O110/B110*100 -> 43.03087
A111: Rumah bandar Townhouse | B111: 0 | C111: 0 | D111: 0 | E111: 0 | F111: 0 | G111: 0 | H111: 0 | I111: 0 | J111: 0 | K111: 0 | L111: 0 | M111: 0 | N111: 0 | O111: 0 | P111: 0
A112: Rumah pangsa/ Pangsapuri/ Kondominium Flat/ Apartment/ Condominium | B112: 84 | C112: 54 | D112: =C112/B112*100 -> 64.285714 | E112: 0 | F112: 0 | G112: 2 | H112: =G112/B112*100 -> 2.3809524 | I112: 0 | J112: 0 | K112: 14 | L112: =K112/B112*100 -> 16.666667 | M112: 0 | N112: 0 | O112: 14 | P112: =O112/B112*100 -> 16.666667
...

Sheet Melaka
A1: Jadual 5: Bilangan dan peratus unit perumahan mengikut jenis unit perumahan, sebab kekosongan, daerah pentadbiran dan negeri, Malaysia, 2020 (samb.)
A2: Table 5: Number and percentage of housing units by type of housing units, reason for vacancy, administrative district and state, Malaysia, 2020 (cont'd)
A4: Negeri/ Daerah Pentadbiran/ Jenis tempat kediaman State/ Administrative District/ Type of living quarters | B4: Jumlah Total | C4: Sebab kekosongan Reason for vacancy
C5: Baru siap/ untuk disewa atau dijual New completed/ for rent or sale | D5: % | E5: Untuk dibaiki/ ubahsuai For repair/ renovation | F5: % | G5: Rumah peranginan/ Persinggahan Holiday resort/ Transit | H5: % | I5: Homestay | J5: % | K5: Rumah pekerja bermusim Seasonal workers quarters | L5: % | M5: Hampir roboh Dilapidated | N5: % | O5: Lain-lain Others | P5: %
A6: MELAKA
A7: Unit perumahan Housing unit | B7: 92688 | C7: 32464 | D7: =C7/B7*100 -> 35.02503 | E7: 3559 | F7: =E7/B7*100 -> 3.8397635 | G7: 27172 | H7: =G7/B7*100 -> 29.315553 | I7: 5727 | J7: =I7/B7*100 -> 6.1787934 | K7: 1098 | L7: =K7/B7*100 -> 1.1846194 | M7: 627 | N7: =M7/B7*100 -> 0.67646297 | O7: 22041 | P7: =O7/B7*100 -> 23.779777
A8: Sesebuah Detached | B8: =B32+B51+B70 -> 22701 | C8: =C32+C51+C70 -> 4902 | D8: =C8/B8*100 -> 21.593762 | E8: =E32+E51+E70 -> 916 | F8: =E8/B8*100 -> 4.0350645 | G8: =G32+G51+G70 -> 9197 | H8: =G8/B8*100 -> 40.513634 | I8: =I32+I51+I70 -> 678 | J8: =I8/B8*100 -> 2.9866526 | K8: =K32+K51+K70 -> 249 | L8: =K8/B8*100 -> 1.096868 | M8: =M32+M51+M70 -> 470 | N8: =M8/B8*100 -> 2.0703934 | O8: =O32+O51+O70 -> 6289 | P8: =O8/B8*100 -> 27.703625
A9: Berkembar Semi-detached | B9: =B33+B52+B71 -> 4976 | C9: =C33+C52+C71 -> 1465 | D9: =C9/B9*100 -> 29.441318 | E9: =E33+E52+E71 -> 179 | F9: =E9/B9*100 -> 3.5972669 | G9: =G33+G52+G71 -> 1341 | H9: =G9/B9*100 -> 26.949357 | I9: =I33+I52+I71 -> 198 | J9: =I9/B9*100 -> 3.9790997 | K9: =K33+K52+K71 -> 213 | L9: =K9/B9*100 -> 4.2805466 | M9: =M33+M52+M71 -> 23 | N9: =M9/B9*100 -> 0.46221865 | O9: =O33+O52+O71 -> 1557 | P9: =O9/B9*100 -> 31.290193
A10: Teres/ Berangkai/ Berkelompok Terrace/ Link/ Cluster | B10: =B34+B53+B72 -> 39117 | C10: =C34+C53+C72 -> 15398 | D10: =C10/B10*100 -> 39.363959 | E10: =E34+E53+E72 -> 1192 | F10: =E10/B10*100 -> 3.0472685 | G10: =G34+G53+G72 -> 12879 | H10: =G10/B10*100 -> 32.924304 | I10: =I34+I53+I72 -> 1145 | J10: =I10/B10*100 -> 2.9271161 | K10: =K34+K53+K72 -> 418 | L10: =K10/B10*100 -> 1.0685891 | M10: =M34+M53+M72 -> 124 | N10: =M10/B10*100 -> 0.31699772 | O10: =O34+O53+O72 -> 7961 | P10: =O10/B10*100 -> 20.351765
A11: Rumah bandar Townhouse | B11: =B35+B54+B73 -> 1302 | C11: =C35+C54+C73 -> 882 | D11: =C11/B11*100 -> 67.741935 | E11: =E35+E54+E73 -> 12 | F11: =E11/B11*100 -> 0.92165899 | G11: =G35+G54+G73 -> 270 | H11: =G11/B11*100 -> 20.737327 | I11: =I35+I54+I73 -> 51 | J11: =I11/B11*100 -> 3.9170507 | K11: =K35+K54+K73 -> 11 | L11: =K11/B11*100 -> 0.84485407 | M11: 0 | N11: 0 | O11: =O35+O54+O73 -> 76 | P11: =O11/B11*100 -> 5.8371736
A12: Rumah pangsa/ Pangsapuri/ Kondominium Flat/ Apartment/ Condominium | B12: =B36+B55+B74 -> 20309 | C12: =C36+C55+C74 -> 7923 | D12: =C12/B12*100 -> 39.012261 | E12: =E36+E55+E74 -> 1176 | F12: =E12/B12*100 -> 5.7905362 | G12: =G36+G55+G74 -> 3150 | H12: =G12/B12*100 -> 15.510365 | I12: =I36+I55+I74 -> 3347 | J12: =I12/B12*100 -> 16.480378 | K12: =K36+K55+K74 -> 154 | L12: =K12/B12*100 -> 0.7582845 | M12: =M36+M55+M74 -> 1 | N12: =M12/B12*100 -> 0.0049239254 | O12: =O36+O55+O74 -> 4558 | P12: =O12/B12*100 -> 22.443252
A13: Pangsapuri khidmat/ Services apartment Small Office Home Office (SOHO)/ Small Office Flexible Office (SOFO)/ Small Office Versatile Office (SOVO) | B13: =B37+B56+B75 -> 1156 | C13: =C37+C56+C75 -> 607 | D13: =C13/B13*100 -> 52.508651 | E13: =E37+E56+E75 -> 38 | F13: =E13/B13*100 -> 3.2871972 | G13: =G37+G56+G75 -> 127 | H13: =G13/B13*100 -> 10.986159 | I13: =I37+I56+I75 -> 257 | J13: =I13/B13*100 -> 22.231834 | K13: =K37+K56+K75 -> 19 | L13: =K13/B13*100 -> 1.6435986 | M13: =M37+M56+M75 -> 2 | N13: =M13/B13*100 -> 0.17301038 | O13: =O37+O56+O75 -> 106 | P13: =O13/B13*100 -> 9.1695502
A14: Rumah kedai/ Pejabat Shophouse/ Office | B14: =B38+B57+B76 -> 2455 | C14: =C38+C57+C76 -> 1207 | D14: =C14/B14*100 -> 49.164969 | E14: =E38+E57+E76 -> 33 | F14: =E14/B14*100 -> 1.3441955 | G14: =G38+G57+G76 -> 108 | H14: =G14/B14*100 -> 4.3991853 | I14: =I38+I57+I76 -> 19 | J14: =I14/B14*100 -> 0.77393075 | K14: =K38+K57+K76 -> 20 | L14: =K14/B14*100 -> 0.81466395 | M14: =M38+M57+M76 -> 5 | N14: =M14/B14*100 -> 0.20366599 | O14: =O38+O57+O76 -> 1063 | P14: =O14/B14*100 -> 43.299389
A15: Rumah panjang Longhouse | B15: 0 | C15: 0 | D15: 0 | E15: 0 | F15: 0 | G15: 0 | H15: 0 | I15: 0 | J15: 0 | K15: 0 | L15: 0 | M15: 0 | N15: 0 | O15: 0 | P15: 0
A16: Pondok gantian/ Sementara Improvised/ Temporary hut | B16: =B40+B59+B78 -> 12 | C16: 0 | D16: 0 | E16: =E40+E59+E78 -> 2 | F16: =E16/B16*100 -> 16.666667 | G16: =G40+G59+G78 -> 1 | H16: =G16/B16*100 -> 8.3333333 | I16: 0 | J16: 0 | K16: =K40+K59+K78 -> 3 | L16: =K16/B16*100 -> 25 | M16: 0 | N16: 0 | O16: =O40+O59+O78 -> 6 | P16: =O16/B16*100 -> 50
A17: Bilik Room | B17: =B41+B60+B79 -> 62 | C17: =C41+C60+C79 -> 23 | D17: =C17/B17*100 -> 37.096774 | E17: 0 | F17: 0 | G17: =G41+G60+G79 -> 7 | H17: =G17/B17*100 -> 11.290323 | I17: =I41+I60+I79 -> 3 | J17: =I17/B17*100 -> 4.8387097 | K17: =K41+K60+K79 -> 3 | L17: =K17/B17*100 -> 4.8387097 | M17: 0 | N17: 0 | O17: =O41+O60+O79 -> 26 | P17: =O17/B17*100 -> 41.935484
A18: Rumah kampung air Water village house | B18: 0 | C18: 0 | D18: 0 | E18: 0 | F18: 0 | G18: 0 | H18: 0 | I18: 0 | J18: 0 | K18: 0 | L18: 0 | M18: 0 | N18: 0 | O18: 0 | P18: 0
A19: Lain-lain Others | B19: =B43+B62+B81 -> 597 | C19: =C43+C62+C81 -> 56 | D19: =C19/B19*100 -> 9.3802345 | E19: =E43+E62+E81 -> 11 | F19: =E19/B19*100 -> 1.8425461 | G19: =G43+G62+G81 -> 92 | H19: =G19/B19*100 -> 15.410385 | I19: =I43+I62+I81 -> 29 | J19: =I19/B19*100 -> 4.8576214 | K19: =K43+K62+K81 -> 8 | L19: =K19/B19*100 -> 1.3400335 | M19: =M43+M62+M81 -> 2 | N19: =M19/B19*100 -> 0.33500838 | O19: =O43+O62+O81 -> 399 | P19: =O19/B19*100 -> 66.834171
A22: Nota/ Note:
A23: Statistik ini merujuk kepada pelaporan oleh responden
A24: The statistics refer to self-declaration by respondent
A25: Jadual 5: Bilangan dan peratus unit perumahan mengikut jenis unit perumahan, sebab kekosongan, daerah pentadbiran dan negeri, Malaysia, 2020 (samb.)
A26: Table 5: Number and percentage of housing units by type of housing units, reason for vacancy, administrative district and state, Malaysia, 2020 (cont'd)
A28: Negeri/ Daerah Pentadbiran/ Jenis tempat kediaman State/ Administrative District/ Type of living quarters | B28: Jumlah Total | C28: Sebab kekosongan Reason for vacancy
C29: Baru siap/ untuk disewa atau dijual New completed/ for rent or sale | D29: % | E29: Untuk dibaiki/ ubahsuai For repair/ renovation | F29: % | G29: Rumah peranginan/ Persinggahan Holiday resort/ Transit | H29: % | I29: Homestay | J29: % | K29: Rumah pekerja bermusim Seasonal workers quarters | L29: % | M29: Hampir roboh Dilapidated | N29: % | O29: Lain-lain Others | P29: %
A30: Alor Gajah
A31: Unit perumahan Housing unit | B31: 22905 | C31: 7738 | D31: =C31/B31*100 -> 33.783017 | E31: 1501 | F31: =E31/B31*100 -> 6.5531543 | G31: 7646 | H31: =G31/B31*100 -> 33.381358 | I31: 633 | J31: =I31/B31*100 -> 2.7635887 | K31: 313 | L31: =K31/B31*100 -> 1.3665139 | M31: 244 | N31: =M31/B31*100 -> 1.0652696 | O31: 4830 | P31: =O31/B31*100 -> 21.087099
A32: Sesebuah Detached | B32: 8656 | C32: 1148 | D32: =C32/B32*100 -> 13.262477 | E32: 383 | F32: =E32/B32*100 -> 4.4246765 | G32: 4161 | H32: =G32/B32*100 -> 48.070702 | I32: 303 | J32: =I32/B32*100 -> 3.5004621 | K32: 84 | L32: =K32/B32*100 -> 0.97042514 | M32: 184 | N32: =M32/B32*100 -> 2.1256932 | O32: 2393 | P32: =O32/B32*100 -> 27.645564
A33: Berkembar Semi-detached | B33: 902 | C33: 207 | D33: =C33/B33*100 -> 22.949002 | E33: 20 | F33: =E33/B33*100 -> 2.2172949 | G33: 224 | H33: =G33/B33*100 -> 24.833703 | I33: 29 | J33: =I33/B33*100 -> 3.2150776 | K33: 90 | L33: =K33/B33*100 -> 9.9778271 | M33: 1 | N33: =M33/B33*100 -> 0.11086475 | O33: 331 | P33: =O33/B33*100 -> 36.696231
A34: Teres/ Berangkai/ Berkelompok Terrace/ Link/ Cluster | B34: 10492 | C34: 5386 | D34: =C34/B34*100 -> 51.33435 | E34: 195 | F34: =E34/B34*100 -> 1.8585589 | G34: 3117 | H34: =G34/B34*100 -> 29.708349 | I34: 191 | J34: =I34/B34*100 -> 1.8204346 | K34: 104 | L34: =K34/B34*100 -> 0.99123141 | M34: 59 | N34: =M34/B34*100 -> 0.56233321 | O34: 1440 | P34: =O34/B34*100 -> 13.724743
A35: Rumah bandar Townhouse | B35: 190 | C35: 147 | D35: =C35/B35*100 -> 77.368421 | E35: 1 | F35: =E35/B35*100 -> 0.52631579 | G35: 24 | H35: =G35/B35*100 -> 12.631579 | I35: 13 | J35: =I35/B35*100 -> 6.8421053 | K35: 0 | L35: 0 | M35: 0 | N35: 0 | O35: 5 | P35: =O35/B35*100 -> 2.6315789
A36: Rumah pangsa/ Pangsapuri/ Kondominium Flat/ Apartment/ Condominium | B36: 2334 | C36: 788 | D36: =C36/B36*100 -> 33.761782 | E36: 900 | F36: =E36/B36*100 -> 38.560411 | G36: 64 | H36: =G36/B36*100 -> 2.7420737 | I36: 82 | J36: =I36/B36*100 -> 3.5132819 | K36: 6 | L36: =K36/B36*100 -> 0.25706941 | M36: 0 | N36: 0 | O36: 494 | P36: =O36/B36*100 -> 21.165381
A37: Pangsapuri khidmat/ Services apartment Small Office Home Office (SOHO)/ Small Office Flexible Office (SOFO)/ Small Office Versatile Office (SOVO) | B37: 44 | C37: 0 | D37: 0 | E37: 0 | F37: 0 | G37: 1 | H37: =G37/B37*100 -> 2.2727273 | I37: 0 | J37: 0 | K37: 19 | L37: =K37/B37*100 -> 43.181818 | M37: 0 | N37: 0 | O37: 24 | P37: =O37/B37*100 -> 54.545455
A38: Rumah kedai/ Pejabat Shophouse/ Office | B38: 141 | C38: 52 | D38: =C38/B38*100 -> 36.879433 | E38: 2 | F38: =E38/B38*100 -> 1.4184397 | G38: 8 | H38: =G38/B38*100 -> 5.6737589 | I38: 1 | J38: =I38/B38*100 -> 0.70921986 | K38: 5 | L38: =K38/B38*100 -> 3.5460993 | M38: 0 | N38: 0 | O38: 73 | P38: =O38/B38*100 -> 51.77305
A39: Rumah panjang Longhouse | B39: 0 | C39: 0 | D39: 0 | E39: 0 | F39: 0 | G39: 0 | H39: 0 | I39: 0 | J39: 0 | K39: 0 | L39: 0 | M39: 0 | N39: 0 | O39: 0 | P39: 0
A40: Pondok gantian/ Sementara Improvised/ Temporary hut | B40: 2 | C40: 0 | D40: 0 | E40: 0 | F40: 0 | G40: 0 | H40: 0 | I40: 0 | J40: 0 | K40: 0 | L40: 0 | M40: 0 | N40: 0 | O40: 2 | P40: =O40/B40*100 -> 100
A41: Bilik Room | B41: 5 | C41: 5 | D41: =C41/B41*100 -> 100 | E41: 0 | F41: 0 | G41: 0 | H41: 0 | I41: 0 | J41: 0 | K41: 0 | L41: 0 | M41: 0 | N41: 0 | O41: 0 | P41: 0
A42: Rumah kampung air Water village house | B42: 0 | C42: 0 | D42: 0 | E42: 0 | F42: 0 | G42: 0 | H42: 0 | I42: 0 | J42: 0 | K42: 0 | L42: 0 | M42: 0 | N42: 0 | O42: 0 | P42: 0
A43: Lain-lain Others | B43: 138 | C43: 4 | D43: =C43/B43*100 -> 2.8985507 | E43: 0 | F43: 0 | G43: 47 | H43: =G43/B43*100 -> 34.057971 | I43: 14 | J43: =I43/B43*100 -> 10.144928 | K43: 5 | L43: =K43/B43*100 -> 3.6231884 | M43: 0 | N43: 0 | O43: 68 | P43: =O43/B43*100 -> 49.275362
A46: Nota/ Note:
A47: Statistik ini merujuk kepada pelaporan oleh responden
A48: The statistics refer to self-declaration by respondent
A49: Jasin
A50: Unit perumahan Housing unit | B50: 14478 | C50: 4224 | D50: =C50/B50*100 -> 29.1753 | E50: 415 | F50: =E50/B50*100 -> 2.866418 | G50: 4598 | H50: =G50/B50*100 -> 31.75853 | I50: 241 | J50: =I50/B50*100 -> 1.6645946 | K50: 407 | L50: =K50/B50*100 -> 2.8111618 | M50: 151 | N50: =M50/B50*100 -> 1.0429617 | O50: 4442 | P50: =O50/B50*100 -> 30.681033
A51: Sesebuah Detached | B51: 5325 | C51: 1046 | D51: =C51/B51*100 -> 19.643192 | E51: 117 | F51: =E51/B51*100 -> 2.1971831 | G51: 2243 | H51: =G51/B51*100 -> 42.122066 | I51: 94 | J51: =I51/B51*100 -> 1.7652582 | K51: 120 | L51: =K51/B51*100 -> 2.2535211 | M51: 132 | N51: =M51/B51*100 -> 2.4788732 | O51: 1573 | P51: =O51/B51*100 -> 29.539906
A52: Berkembar Semi-detached | B52: 1003 | C52: 242 | D52: =C52/B52*100 -> 24.127617 | E52: 45 | F52: =E52/B52*100 -> 4.4865404 | G52: 206 | H52: =G52/B52*100 -> 20.538385 | I52: 37 | J52: =I52/B52*100 -> 3.6889332 | K52: 111 | L52: =K52/B52*100 -> 11.0668 | M52: 1 | N52: =M52/B52*100 -> 0.099700897 | O52: 361 | P52: =O52/B52*100 -> 35.992024
A53: Teres/ Berangkai/ Berkelompok Terrace/ Link/ Cluster | B53: 7208 | C53: 2572 | D53: =C53/B53*100 -> 35.682575 | E53: 253 | F53: =E53/B53*100 -> 3.5099889 | G53: 1991 | H53: =G53/B53*100 -> 27.622087 | I53: 104 | J53: =I53/B53*100 -> 1.4428413 | K53: 61 | L53: =K53/B53*100 -> 0.84628191 | M53: 16 | N53: =M53/B53*100 -> 0.22197558 | O53: 2211 | P53: =O53/B53*100 -> 30.674251
A54: Rumah bandar Townhouse | B54: 18 | C54: 7 | D54: =C54/B54*100 -> 38.888889 | E54: 0 | F54: 0 | G54: 4 | H54: =G54/B54*100 -> 22.222222 | I54: 0 | J54: 0 | K54: 0 | L54: 0 | M54: 0 | N54: 0 | O54: 7 | P54: =O54/B54*100 -> 38.888889
A55: Rumah pangsa/ Pangsapuri/ Kondominium Flat/ Apartment/ Condominium | B55: 621 | C55: 300 | D55: =C55/B55*100 -> 48.309179 | E55: 0 | F55: 0 | G55: 145 | H55: =G55/B55*100 -> 23.349436 | I55: 0 | J55: 0 | K55: 107 | L55: =K55/B55*100 -> 17.230274 | M55: 0 | N55: 0 | O55: 69 | P55: =O55/B55*100 -> 11.111111
A56: Pangsapuri khidmat/ Services apartment Small Office Home Office (SOHO)/ Small Office Flexible Office (SOFO)/ Small Office Versatile Office (SOVO) | B56: 0 | C56: 0 | D56: 0 | E56: 0 | F56: 0 | G56: 0 | H56: 0 | I56: 0 | J56: 0 | K56: 0 | L56: 0 | M56: 0 | N56: 0 | O56: 0 | P56: 0
A57: Rumah kedai/ Pejabat Shophouse/ Office | B57: 190 | C57: 42 | D57: =C57/B57*100 -> 22.105263 | E57: 0 | F57: 0 | G57: 5 | H57: =G57/B57*100 -> 2.6315789 | I57: 1 | J57: =I57/B57*100 -> 0.52631579 | K57: 2 | L57: =K57/B57*100 -> 1.0526316 | M57: 2 | N57: =M57/B57*100 -> 1.0526316 | O57: 138 | P57: =O57/B57*100 -> 72.631579
A58: Rumah panjang Longhouse | B58: 0 | C58: 0 | D58: 0 | E58: 0 | F58: 0 | G58: 0 | H58: 0 | I58: 0 | J58: 0 | K58: 0 | L58: 0 | M58: 0 | N58: 0 | O58: 0 | P58: 0
A59: Pondok gantian/ Sementara Improvised/ Temporary hut | B59: 4 | C59: 0 | D59: 0 | E59: 0 | F59: 0 | G59: 0 | H59: 0 | I59: 0 | J59: 0 | K59: 3 | L59: =K59/B59*100 -> 75 | M59: 0 | N59: 0 | O59: 1 | P59: =O59/B59*100 -> 25
A60: Bilik Room | B60: 33 | C60: 15 | D60: =C60/B60*100 -> 45.454545 | E60: 0 | F60: 0 | G60: 0 | H60: 0 | I60: 3 | J60: =I60/B60*100 -> 9.0909091 | K60: 2 | L60: =K60/B60*100 -> 6.0606061 | M60: 0 | N60: 0 | O60: 13 | P60: =O60/B60*100 -> 39.393939
A61: Rumah kampung air Water village house | B61: 0 | C61: 0 | D61: 0 | E61: 0 | F61: 0 | G61: 0 | H61: 0 | I61: 0 | J61: 0 | K61: 0 | L61: 0 | M61: 0 | N61: 0 | O61: 0 | P61: 0
A62: Lain-lain Others | B62: 76 | C62: 0 | D62: 0 | E62: 0 | F62: 0 | G62: 4 | H62: =G62/B62*100 -> 5.2631579 | I62: 2 | J62: =I62/B62*100 -> 2.6315789 | K62: 1 | L62: =K62/B62*100 -> 1.3157895 | M62: 0 | N62: 0 | O62: 69 | P62: =O62/B62*100 -> 90.789474
A65: Nota/ Note:
A66: Statistik ini merujuk kepada pelaporan oleh responden
A67: The statistics refer to self-declaration by respondent
A68: Melaka Tengah
A69: Unit perumahan Housing unit | B69: 55305 | C69: 20502 | D69: =C69/B69*100 -> 37.070789 | E69: 1643 | F69: =E69/B69*100 -> 2.9707983 | G69: 14928 | H69: =G69/B69*100 -> 26.992135 | I69: 4853 | J69: =I69/B69*100 -> 8.7749751 | K69: 378 | L69: =K69/B69*100 -> 0.68348251 | M69: 232 | N69: =M69/B69*100 -> 0.41949191 | O69: 12769 | P69: =O69/B69*100 -> 23.088328
A70: Sesebuah Detached | B70: 8720 | C70: 2708 | D70: =C70/B70*100 -> 31.055046 | E70: 416 | F70: =E70/B70*100 -> 4.7706422 | G70: 2793 | H70: =G70/B70*100 -> 32.029817 | I70: 281 | J70: =I70/B70*100 -> 3.2224771 | K70: 45 | L70: =K70/B70*100 -> 0.51605505 | M70: 154 | N70: =M70/B70*100 -> 1.766055 | O70: 2323 | P70: =O70/B70*100 -> 26.639908
A71: Berkembar Semi-detached | B71: 3071 | C71: 1016 | D71: =C71/B71*100 -> 33.083686 | E71: 114 | F71: =E71/B71*100 -> 3.7121459 | G71: 911 | H71: =G71/B71*100 -> 29.664604 | I71: 132 | J71: =I71/B71*100 -> 4.2982742 | K71: 12 | L71: =K71/B71*100 -> 0.3907522 | M71: 21 | N71: =M71/B71*100 -> 0.68381635 | O71: 865 | P71: =O71/B71*100 -> 28.166721
A72: Teres/ Berangkai/ Berkelompok Terrace/ Link/ Cluster | B72: 21417 | C72: 7440 | D72: =C72/B72*100 -> 34.738759 | E72: 744 | F72: =E72/B72*100 -> 3.4738759 | G72: 7771 | H72: =G72/B72*100 -> 36.28426 | I72: 850 | J72: =I72/B72*100 -> 3.9688098 | K72: 253 | L72: =K72/B72*100 -> 1.1813046 | M72: 49 | N72: =M72/B72*100 -> 0.22879021 | O72: 4310 | P72: =O72/B72*100 -> 20.1242
A73: Rumah bandar Townhouse | B73: 1094 | C73: 728 | D73: =C73/B73*100 -> 66.54479 | E73: 11 | F73: =E73/B73*100 -> 1.0054845 | G73: 242 | H73: =G73/B73*100 -> 22.120658 | I73: 38 | J73: =I73/B73*100 -> 3.4734918 | K73: 11 | L73: =K73/B73*100 -> 1.0054845 | M73: 0 | N73: =M73/B73*100 -> 0 | O73: 64 | P73: =O73/B73*100 -> 5.8500914
A74: Rumah pangsa/ Pangsapuri/ Kondominium Flat/ Apartment/ Condominium | B74: 17354 | C74: 6835 | D74: =C74/B74*100 -> 39.385732 | E74: 276 | F74: =E74/B74*100 -> 1.5904114 | G74: 2941 | H74: =G74/B74*100 -> 16.947102 | I74: 3265 | J74: =I74/B74*100 -> 18.814106 | K74: 41 | L74: =K74/B74*100 -> 0.23625677 | M74: 1 | N74: =M74/B74*100 -> 0.0057623603 | O74: 3995 | P74: =O74/B74*100 -> 23.020629
A75: Pangsapuri khidmat/ Services apartment Small Office Home Office (SOHO)/ Small Office Flexible Office (SOFO)/ Small Office Versatile Office (SOVO) | B75: 1112 | C75: 607 | D75: =C75/B75*100 -> 54.586331 | E75: 38 | F75: =E75/B75*100 -> 3.4172662 | G75: 126 | H75: =G75/B75*100 -> 11.330935 | I75: 257 | J75: =I75/B75*100 -> 23.111511 | K75: 0 | L75: 0 | M75: 2 | N75: =M75/B75*100 -> 0.17985612 | O75: 82 | P75: =O75/B75*100 -> 7.3741007
A76: Rumah kedai/ Pejabat Shophouse/ Office | B76: 2124 | C76: 1113 | D76: =C76/B76*100 -> 52.40113 | E76: 31 | F76: =E76/B76*100 -> 1.4595104 | G76: 95 | H76: =G76/B76*100 -> 4.472693 | I76: 17 | J76: =I76/B76*100 -> 0.80037665 | K76: 13 | L76: =K76/B76*100 -> 0.61205273 | M76: 3 | N76: =M76/B76*100 -> 0.14124294 | O76: 852 | P76: =O76/B76*100 -> 40.112994
A77: Rumah panjang Longhouse | B77: 0 | C77: 0 | D77: 0 | E77: 0 | F77: 0 | G77: 0 | H77: 0 | I77: 0 | J77: 0 | K77: 0 | L77: 0 | M77: 0 | N77: 0 | O77: 0 | P77: 0
A78: Pondok gantian/ Sementara Improvised/ Temporary hut | B78: 6 | C78: 0 | D78: 0 | E78: 2 | F78: =E78/B78*100 -> 33.333333 | G78: 1 | H78: =G78/B78*100 -> 16.666667 | I78: 0 | J78: 0 | K78: 0 | L78: 0 | M78: 0 | N78: 0 | O78: 3 | P78: =O78/B78*100 -> 50
A79: Bilik Room | B79: 24 | C79: 3 | D79: =C79/B79*100 -> 12.5 | E79: 0 | F79: 0 | G79: 7 | H79: =G79/B79*100 -> 29.166667 | I79: 0 | J79: 0 | K79: 1 | L79: =K79/B79*100 -> 4.1666667 | M79: 0 | N79: 0 | O79: 13 | P79: =O79/B79*100 -> 54.166667
A80: Rumah kampung air Water village house | B80: 0 | C80: 0 | D80: 0 | E80: 0 | F80: 0 | G80: 0 | H80: 0 | I80: 0 | J80: 0 | K80: 0 | L80: 0 | M80: 0 | N80: 0 | O80: 0 | P80: 0
A81: Lain-lain Others | B81: 383 | C81: 52 | D81: =C81/B81*100 -> 13.577023 | E81: 11 | F81: =E81/B81*100 -> 2.8720627 | G81: 41 | H81: =G81/B81*100 -> 10.704961 | I81: 13 | J81: =I81/B81*100 -> 3.3942559 | K81: 2 | L81: =K81/B81*100 -> 0.52219321 | M81: 2 | N81: =M81/B81*100 -> 0.52219321 | O81: 262 | P81: =O81/B81*100 -> 68.407311
A84: Nota/ Note:
A85: Statistik ini merujuk kepada pelaporan oleh responden
A86: The statistics refer to self-declaration by respondent

Sheet Negeri Sembilan
A1: Jadual 5: Bilangan dan peratus unit perumahan mengikut jenis unit perumahan, sebab kekosongan, daerah pentadbiran dan negeri, Malaysia, 2020 (samb.)
A2: Table 5: Number and percentage of housing units by type of housing units, reason for vacancy, administrative district and state, Malaysia, 2020 (cont'd)
A4: Negeri/ Daerah Pentadbiran/ Jenis tempat kediaman State/ Administrative District/ Type of living quarters | B4: Jumlah Total | C4: Sebab kekosongan Reason for vacancy
C5: Baru siap/ untuk disewa atau dijual New completed/ for rent or sale | D5: % | E5: Untuk dibaiki/ ubahsuai For repair/ renovation | F5: % | G5: Rumah peranginan/ Persinggahan Holiday resort/ Transit | H5: % | I5: Homestay | J5: % | K5: Rumah pekerja bermusim Seasonal workers quarters | L5: % | M5: Hampir roboh Dilapidated | N5: % | O5: Lain-lain Others | P5: %
A6: NEGERI SEMBILAN
A7: Unit perumahan Housing unit | B7: =SUM(B8:B19) -> 95987 | C7: =SUM(C8:C19) -> 29474 | D7: =C7/B7*100 -> 30.706241 | E7: =SUM(E8:E19) -> 3495 | F7: =E7/B7*100 -> 3.6411181 | G7: =SUM(G8:G19) -> 29791 | H7: =G7/B7*100 -> 31.036495 | I7: =SUM(I8:I19) -> 2115 | J7: =I7/B7*100 -> 2.2034234 | K7: =SUM(K8:K19) -> 1958 | L7: =K7/B7*100 -> 2.0398596 | M7: =SUM(M8:M19) -> 1791 | N7: =M7/B7*100 -> 1.8658777 | O7: =SUM(O8:O19) -> 27363 | P7: =O7/B7*100 -> 28.506985
A8: Sesebuah Detached | B8: =B32+B51+B70+B89+B108+B127+B146 -> 23423 | C8: =C32+C51+C70+C89+C108+C127+C146 -> 4245 | D8: =C8/B8*100 -> 18.123212 | E8: =E32+E51+E70+E89+E108+E127+E146 -> 802 | F8: =E8/B8*100 -> 3.423985 | G8: =G32+G51+G70+G89+G108+G127+G146 -> 10082 | H8: =G8/B8*100 -> 43.043163 | I8: =I32+I51+I70+I89+I108+I127+I146 -> 482 | J8: =I8/B8*100 -> 2.0578064 | K8: =K32+K51+K70+K89+K108+K127+K146 -> 464 | L8: =K8/B8*100 -> 1.9809589 | M8: =M32+M51+M70+M89+M108+M127+M146 -> 993 | N8: =M8/B8*100 -> 4.2394228 | O8: =O32+O51+O70+O89+O108+O127+O146 -> 6355 | P8: =O8/B8*100 -> 27.131452
A9: Berkembar Semi-detached | B9: =B33+B52+B71+B90+B109+B128+B147 -> 4317 | C9: =C33+C52+C71+C90+C109+C128+C147 -> 1132 | D9: =C9/B9*100 -> 26.221913 | E9: =E33+E52+E71+E90+E109+E128+E147 -> 258 | F9: =E9/B9*100 -> 5.9763725 | G9: =G33+G52+G71+G90+G109+G128+G147 -> 1104 | H9: =G9/B9*100 -> 25.573315 | I9: =I33+I52+I71+I90+I109+I128+I147 -> 48 | J9: =I9/B9*100 -> 1.1118833 | K9: =K33+K52+K71+K90+K109+K128+K147 -> 453 | L9: =K9/B9*100 -> 10.493398 | M9: =M33+M52+M71+M90+M109+M128+M147 -> 112 | N9: =M9/B9*100 -> 2.5943943 | O9: =O33+O52+O71+O90+O109+O128+O147 -> 1210 | P9: =O9/B9*100 -> 28.028724
A10: Teres/ Berangkai/ Berkelompok Terrace/ Link/ Cluster | B10: =B34+B53+B72+B91+B110+B129+B148 -> 44773 | C10: =C34+C53+C72+C91+C110+C129+C148 -> 14537 | D10: =C10/B10*100 -> 32.468229 | E10: =E34+E53+E72+E91+E110+E129+E148 -> 1860 | F10: =E10/B10*100 -> 4.1542894 | G10: =G34+G53+G72+G91+G110+G129+G148 -> 13463 | H10: =G10/B10*100 -> 30.069462 | I10: =I34+I53+I72+I91+I110+I129+I148 -> 917 | J10: =I10/B10*100 -> 2.0481094 | K10: =K34+K53+K72+K91+K110+K129+K148 -> 614 | L10: =K10/B10*100 -> 1.3713622 | M10: =M34+M53+M72+M91+M110+M129+M148 -> 520 | N10: =M10/B10*100 -> 1.1614142 | O10: =O34+O53+O72+O91+O110+O129+O148 -> 12862 | P10: =O10/B10*100 -> 28.727135
A11: Rumah bandar Townhouse | B11: =B35+B54+B73+B92+B111+B130+B149 -> 499 | C11: =C35+C54+C73+C92+C111+C130+C149 -> 198 | D11: =C11/B11*100 -> 39.679359 | E11: =E35+E54+E73+E92+E111+E130+E149 -> 19 | F11: =E11/B11*100 -> 3.8076152 | G11: =G35+G54+G73+G92+G111+G130+G149 -> 128 | H11: =G11/B11*100 -> 25.651303 | I11: =I35+I54+I73+I92+I111+I130+I149 -> 2 | J11: =I11/B11*100 -> 0.4008016 | K11: =K35+K54+K73+K92+K111+K130+K149 -> 5 | L11: =K11/B11*100 -> 1.002004 | M11: =M35+M54+M73+M92+M111+M130+M149 -> 3 | N11: =M11/B11*100 -> 0.6012024 | O11: =O35+O54+O73+O92+O111+O130+O149 -> 144 | P11: =O11/B11*100 -> 28.857715
A12: Rumah pangsa/ Pangsapuri/ Kondominium Flat/ Apartment/ Condominium | B12: =B36+B55+B74+B93+B112+B131+B150 -> 21601 | C12: =C36+C55+C74+C93+C112+C131+C150 -> 9069 | D12: =C12/B12*100 -> 41.984167 | E12: =E36+E55+E74+E93+E112+E131+E150 -> 500 | F12: =E12/B12*100 -> 2.3147077 | G12: =G36+G55+G74+G93+G112+G131+G150 -> 4712 | H12: =G12/B12*100 -> 21.813805 | I12: =I36+I55+I74+I93+I112+I131+I150 -> 650 | J12: =I12/B12*100 -> 3.0091199 | K12: =K36+K55+K74+K93+K112+K131+K150 -> 349 | L12: =K12/B12*100 -> 1.6156659 | M12: =M36+M55+M74+M93+M112+M131+M150 -> 127 | N12: =M12/B12*100 -> 0.58793574 | O12: =O36+O55+O74+O93+O112+O131+O150 -> 6194 | P12: =O12/B12*100 -> 28.674598
A13: Pangsapuri khidmat/ Services apartment Small Office Home Office (SOHO)/ Small Office Flexible Office (SOFO)/ Small Office Versatile Office (SOVO) | B13: =B37+B56+B75+B94+B113+B132+B151 -> 479 | C13: =C37+C56+C75+C94+C113+C132+C151 -> 133 | D13: =C13/B13*100 -> 27.76618 | E13: =E37+E56+E75+E94+E113+E132+E151 -> 9 | F13: =E13/B13*100 -> 1.8789144 | G13: =G37+G56+G75+G94+G113+G132+G151 -> 223 | H13: =G13/B13*100 -> 46.555324 | I13: =I37+I56+I75+I94+I113+I132+I151 -> 10 | J13: =I13/B13*100 -> 2.0876827 | K13: =K37+K56+K75+K94+K113+K132+K151 -> 31 | L13: =K13/B13*100 -> 6.4718163 | M13: 0 | N13: 0 | O13: =O37+O56+O75+O94+O113+O132+O151 -> 73 | P13: =O13/B13*100 -> 15.240084
A14: Rumah kedai/ Pejabat Shophouse/ Office | B14: =B38+B57+B76+B95+B114+B133+B152 -> 277 | C14: =C38+C57+C76+C95+C114+C133+C152 -> 60 | D14: =C14/B14*100 -> 21.66065 | E14: =E38+E57+E76+E95+E114+E133+E152 -> 2 | F14: =E14/B14*100 -> 0.72202166 | G14: =G38+G57+G76+G95+G114+G133+G152 -> 27 | H14: =G14/B14*100 -> 9.7472924 | I14: 0 | J14: 0 | K14: =K38+K57+K76+K95+K114+K133+K152 -> 3 | L14: =K14/B14*100 -> 1.0830325 | M14: =M38+M57+M76+M95+M114+M133+M152 -> 14 | N14: =M14/B14*100 -> 5.0541516 | O14: =O38+O57+O76+O95+O114+O133+O152 -> 171 | P14: =O14/B14*100 -> 61.732852
A15: Rumah panjang Longhouse | B15: 0 | C15: 0 | D15: 0 | E15: 0 | F15: 0 | G15: 0 | H15: 0 | I15: 0 | J15: 0 | K15: 0 | L15: 0 | M15: 0 | N15: 0 | O15: 0 | P15: 0
A16: Pondok gantian/ Sementara Improvised/ Temporary hut | B16: =B40+B59+B78+B97+B116+B135+B154 -> 11 | C16: =C40+C59+C78+C97+C116+C135+C154 -> 1 | D16: =C16/B16*100 -> 9.0909091 | E16: 0 | F16: 0 | G16: =G40+G59+G78+G97+G116+G135+G154 -> 2 | H16: =G16/B16*100 -> 18.181818 | I16: 0 | J16: 0 | K16: =K40+K59+K78+K97+K116+K135+K154 -> 1 | L16: =K16/B16*100 -> 9.0909091 | M16: =M40+M59+M78+M97+M116+M135+M154 -> 3 | N16: =M16/B16*100 -> 27.272727 | O16: =O40+O59+O78+O97+O116+O135+O154 -> 4 | P16: =O16/B16*100 -> 36.363636
A17: Bilik Room | B17: =B41+B60+B79+B98+B117+B136+B155 -> 24 | C17: 0 | D17: 0 | E17: 0 | F17: 0 | G17: 0 | H17: 0 | I17: =I41+I60+I79+I98+I117+I136+I155 -> 3 | J17: =I17/B17*100 -> 12.5 | K17: =K41+K60+K79+K98+K117+K136+K155 -> 1 | L17: =K17/B17*100 -> 4.1666667 | M17: 0 | N17: 0 | O17: =O41+O60+O79+O98+O117+O136+O155 -> 20 | P17: =O17/B17*100 -> 83.333333
A18: Rumah kampung air Water village house | B18: 0 | C18: 0 | D18: 0 | E18: 0 | F18: 0 | G18: 0 | H18: 0 | I18: 0 | J18: 0 | K18: 0 | L18: 0 | M18: 0 | N18: 0 | O18: 0 | P18: 0
A19: Lain-lain Others | B19: =B43+B62+B81+B100+B119+B138+B157 -> 583 | C19: =C43+C62+C81+C100+C119+C138+C157 -> 99 | D19: =C19/B19*100 -> 16.981132 | E19: =E43+E62+E81+E100+E119+E138+E157 -> 45 | F19: =E19/B19*100 -> 7.7186964 | G19: =G43+G62+G81+G100+G119+G138+G157 -> 50 | H19: =G19/B19*100 -> 8.5763293 | I19: =I43+I62+I81+I100+I119+I138+I157 -> 3 | J19: =I19/B19*100 -> 0.51457976 | K19: =K43+K62+K81+K100+K119+K138+K157 -> 37 | L19: =K19/B19*100 -> 6.3464837 | M19: =M43+M62+M81+M100+M119+M138+M157 -> 19 | N19: =M19/B19*100 -> 3.2590051 | O19: =O43+O62+O81+O100+O119+O138+O157 -> 330 | P19: =O19/B19*100 -> 56.603774
A22: Nota/ Note:
A23: Statistik ini merujuk kepada pelaporan oleh responden
A24: The statistics refer to self-declaration by respondent
A25: Jadual 5: Bilangan dan peratus unit perumahan mengikut jenis unit perumahan, sebab kekosongan, daerah pentadbiran dan negeri, Malaysia, 2020 (samb.)
A26: Table 5: Number and percentage of housing units by type of housing units, reason for vacancy, administrative district and state, Malaysia, 2020 (cont'd)
A28: Negeri/ Daerah Pentadbiran/ Jenis tempat kediaman State/ Administrative District/ Type of living quarters | B28: Jumlah Total | C28: Sebab kekosongan Reason for vacancy
C29: Baru siap/ untuk disewa atau dijual New completed/ for rent or sale | D29: % | E29: Untuk dibaiki/ ubahsuai For repair/ renovation | F29: % | G29: Rumah peranginan/ Persinggahan Holiday resort/ Transit | H29: % | I29: Homestay | J29: % | K29: Rumah pekerja bermusim Seasonal workers quarters | L29: % | M29: Hampir roboh Dilapidated | N29: % | O29: Lain-lain Others | P29: %
A30: Jelebu
A31: Unit perumahan Housing unit | B31: 2919 | C31: 502 | D31: =C31/B31*100 -> 17.19767 | E31: 115 | F31: =E31/B31*100 -> 3.9397054 | G31: 1256 | H31: =G31/B31*100 -> 43.028434 | I31: 33 | J31: =I31/B31*100 -> 1.1305242 | K31: 118 | L31: =K31/B31*100 -> 4.0424803 | M31: 126 | N31: =M31/B31*100 -> 4.3165468 | O31: 769 | P31: =O31/B31*100 -> 26.344639
A32: Sesebuah Detached | B32: 1501 | C32: 39 | D32: =C32/B32*100 -> 2.5982678 | E32: 53 | F32: =E32/B32*100 -> 3.5309793 | G32: 828 | H32: =G32/B32*100 -> 55.163225 | I32: 16 | J32: =I32/B32*100 -> 1.065956 | K32: 36 | L32: =K32/B32*100 -> 2.3984011 | M32: 94 | N32: =M32/B32*100 -> 6.2624917 | O32: 435 | P32: =O32/B32*100 -> 28.98068
A33: Berkembar Semi-detached | B33: 161 | C33: 13 | D33: =C33/B33*100 -> 8.0745342 | E33: 10 | F33: =E33/B33*100 -> 6.2111801 | G33: 34 | H33: =G33/B33*100 -> 21.118012 | I33: 1 | J33: =I33/B33*100 -> 0.62111801 | K33: 54 | L33: =K33/B33*100 -> 33.540373 | M33: 5 | N33: =M33/B33*100 -> 3.1055901 | O33: 44 | P33: =O33/B33*100 -> 27.329193
A34: Teres/ Berangkai/ Berkelompok Terrace/ Link/ Cluster | B34: 1105 | C34: 449 | D34: =C34/B34*100 -> 40.633484 | E34: 46 | F34: =E34/B34*100 -> 4.1628959 | G34: 371 | H34: =G34/B34*100 -> 33.574661 | I34: 16 | J34: =I34/B34*100 -> 1.4479638 | K34: 27 | L34: =K34/B34*100 -> 2.4434389 | M34: 21 | N34: =M34/B34*100 -> 1.9004525 | O34: 175 | P34: =O34/B34*100 -> 15.837104
A35: Rumah bandar Townhouse | B35: 0 | C35: 0 | D35: 0 | E35: 0 | F35: 0 | G35: 0 | H35: 0 | I35: 0 | J35: 0 | K35: 0 | L35: 0 | M35: 0 | N35: 0 | O35: 0 | P35: 0
A36: Rumah pangsa/ Pangsapuri/ Kondominium Flat/ Apartment/ Condominium | B36: 101 | C36: 0 | D36: 0 | E36: 5 | F36: =E36/B36*100 -> 4.950495 | G36: 22 | H36: =G36/B36*100 -> 21.782178 | I36: 0 | J36: 0 | K36: 1 | L36: =K36/B36*100 -> 0.99009901 | M36: 1 | N36: =M36/B36*100 -> 0.99009901 | O36: 72 | P36: =O36/B36*100 -> 71.287129
A37: Pangsapuri khidmat/ Services apartment Small Office Home Office (SOHO)/ Small Office Flexible Office (SOFO)/ Small Office Versatile Office (SOVO) | B37: 0 | C37: 0 | D37: 0 | E37: 0 | F37: 0 | G37: 0 | H37: 0 | I37: 0 | J37: 0 | K37: 0 | L37: 0 | M37: 0 | N37: 0 | O37: 0 | P37: 0
A38: Rumah kedai/ Pejabat Shophouse/ Office | B38: 25 | C38: 0 | D38: 0 | E38: 0 | F38: 0 | G38: 0 | H38: 0 | I38: 0 | J38: 0 | K38: 0 | L38: 0 | M38: 0 | N38: 0 | O38: 25 | P38: =O38/B38*100 -> 100
A39: Rumah panjang Longhouse | B39: 0 | C39: 0 | D39: 0 | E39: 0 | F39: 0 | G39: 0 | H39: 0 | I39: 0 | J39: 0 | K39: 0 | L39: 0 | M39: 0 | N39: 0 | O39: 0 | P39: 0
A40: Pondok gantian/ Sementara Improvised/ Temporary hut | B40: 0 | C40: 0 | D40: 0 | E40: 0 | F40: 0 | G40: 0 | H40: 0 | I40: 0 | J40: 0 | K40: 0 | L40: 0 | M40: 0 | N40: 0 | O40: 0 | P40: 0
A41: Bilik Room | B41: 2 | C41: 0 | D41: 0 | E41: 0 | F41: 0 | G41: 0 | H41: 0 | I41: 0 | J41: 0 | K41: 0 | L41: 0 | M41: 0 | N41: 0 | O41: 2 | P41: =O41/B41*100 -> 100
A42: Rumah kampung air Water village house | B42: 0 | C42: 0 | D42: 0 | E42: 0 | F42: 0 | G42: 0 | H42: 0 | I42: 0 | J42: 0 | K42: 0 | L42: 0 | M42: 0 | N42: 0 | O42: 0 | P42: 0
A43: Lain-lain Others | B43: 24 | C43: 1 | D43: =C43/B43*100 -> 4.1666667 | E43: 1 | F43: =E43/B43*100 -> 4.1666667 | G43: 1 | H43: =G43/B43*100 -> 4.1666667 | I43: 0 | J43: 0 | K43: 0 | L43: 0 | M43: 5 | N43: =M43/B43*100 -> 20.833333 | O43: 16 | P43: =O43/B43*100 -> 66.666667
A46: Nota/ Note:
A47: Statistik ini merujuk kepada pelaporan oleh responden
A48: The statistics refer to self-declaration by respondent
A49: Kuala Pilah
A50: Unit perumahan Housing unit | B50: 5939 | C50: 583 | D50: =C50/B50*100 -> 9.8164674 | E50: 120 | F50: =E50/B50*100 -> 2.0205422 | G50: 2420 | H50: =G50/B50*100 -> 40.747601 | I50: 88 | J50: =I50/B50*100 -> 1.4817309 | K50: 119 | L50: =K50/B50*100 -> 2.0037043 | M50: 214 | N50: =M50/B50*100 -> 3.6033002 | O50: 2395 | P50: =O50/B50*100 -> 40.326654
A51: Sesebuah Detached | B51: 3883 | C51: 202 | D51: =C51/B51*100 -> 5.2021633 | E51: 92 | F51: =E51/B51*100 -> 2.3693021 | G51: 1681 | H51: =G51/B51*100 -> 43.29127 | I51: 50 | J51: =I51/B51*100 -> 1.2876642 | K51: 53 | L51: =K51/B51*100 -> 1.364924 | M51: 187 | N51: =M51/B51*100 -> 4.815864 | O51: 1618 | P51: =O51/B51*100 -> 41.668813
A52: Berkembar Semi-detached | B52: 150 | C52: 36 | D52: =C52/B52*100 -> 24 | E52: 7 | F52: =E52/B52*100 -> 4.6666667 | G52: 52 | H52: =G52/B52*100 -> 34.666667 | I52: 1 | J52: =I52/B52*100 -> 0.66666667 | K52: 4 | L52: =K52/B52*100 -> 2.6666667 | M52: 3 | N52: =M52/B52*100 -> 2 | O52: 47 | P52: =O52/B52*100 -> 31.333333
A53: Teres/ Berangkai/ Berkelompok Terrace/ Link/ Cluster | B53: 1504 | C53: 284 | D53: =C53/B53*100 -> 18.882979 | E53: 20 | F53: =E53/B53*100 -> 1.3297872 | G53: 581 | H53: =G53/B53*100 -> 38.630319 | I53: 32 | J53: =I53/B53*100 -> 2.1276596 | K53: 56 | L53: =K53/B53*100 -> 3.7234043 | M53: 24 | N53: =M53/B53*100 -> 1.5957447 | O53: 507 | P53: =O53/B53*100 -> 33.710106
A54: Rumah bandar Townhouse | B54: 0 | C54: 0 | D54: 0 | E54: 0 | F54: 0 | G54: 0 | H54: 0 | I54: 0 | J54: 0 | K54: 0 | L54: 0 | M54: 0 | N54: 0 | O54: 0 | P54: 0
A55: Rumah pangsa/ Pangsapuri/ Kondominium Flat/ Apartment/ Condominium | B55: 315 | C55: 39 | D55: =C55/B55*100 -> 12.380952 | E55: 1 | F55: =E55/B55*100 -> 0.31746032 | G55: 102 | H55: =G55/B55*100 -> 32.380952 | I55: 3 | J55: =I55/B55*100 -> 0.95238095 | K55: 5 | L55: =K55/B55*100 -> 1.5873016 | M55: 0 | N55: 0 | O55: 165 | P55: =O55/B55*100 -> 52.380952
A56: Pangsapuri khidmat/ Services apartment Small Office Home Office (SOHO)/ Small Office Flexible Office (SOFO)/ Small Office Versatile Office (SOVO) | B56: 0 | C56: 0 | D56: 0 | E56: 0 | F56: 0 | G56: 0 | H56: 0 | I56: 0 | J56: 0 | K56: 0 | L56: 0 | M56: 0 | N56: 0 | O56: 0 | P56: 0
A57: Rumah kedai/ Pejabat Shophouse/ Office | B57: 21 | C57: 16 | D57: =C57/B57*100 -> 76.190476 | E57: 0 | F57: 0 | G57: 0 | H57: 0 | I57: 0 | J57: 0 | K57: 1 | L57: =K57/B57*100 -> 4.7619048 | M57: 0 | N57: 0 | O57: 4 | P57: =O57/B57*100 -> 19.047619
A58: Rumah panjang Longhouse | B58: 0 | C58: 0 | D58: 0 | E58: 0 | F58: 0 | G58: 0 | H58: 0 | I58: 0 | J58: 0 | K58: 0 | L58: 0 | M58: 0 | N58: 0 | O58: 0 | P58: 0
A59: Pondok gantian/ Sementara Improvised/ Temporary hut | B59: 2 | C59: 0 | D59: 0 | E59: 0 | F59: 0 | G59: 1 | H59: =G59/B59*100 -> 50 | I59: 0 | J59: 0 | K59: 0 | L59: 0 | M59: 0 | N59: 0 | O59: 1 | P59: =O59/B59*100 -> 50
A60: Bilik Room | B60: 6 | C60: 0 | D60: 0 | E60: 0 | F60: 0 | G60: 0 | H60: 0 | I60: 0 | J60: 0 | K60: 0 | L60: 0 | M60: 0 | N60: 0 | O60: 6 | P60: =O60/B60*100 -> 100
A61: Rumah kampung air Water village house | B61: 0 | C61: 0 | D61: 0 | E61: 0 | F61: 0 | G61: 0 | H61: 0 | I61: 0 | J61: 0 | K61: 0 | L61: 0 | M61: 0 | N61: 0 | O61: 0 | P61: 0
A62: Lain-lain Others | B62: 58 | C62: 6 | D62: =C62/B62*100 -> 10.344828 | E62: 0 | F62: 0 | G62: 3 | H62: =G62/B62*100 -> 5.1724138 | I62: 2 | J62: =I62/B62*100 -> 3.4482759 | K62: 0 | L62: 0 | M62: 0 | N62: 0 | O62: 47 | P62: =O62/B62*100 -> 81.034483
A65: Nota/ Note:
A66: Statistik ini merujuk kepada pelaporan oleh responden
A67: The statistics refer to self-declaration by respondent
A68: Port Dickson
A69: Unit perumahan Housing unit | B69: 18635 | C69: 3313 | D69: =C69/B69*100 -> 17.778374 | E69: 481 | F69: =E69/B69*100 -> 2.5811645 | G69: 4639 | H69: =G69/B69*100 -> 24.894017 | I69: 1152 | J69: =I69/B69*100 -> 6.1819157 | K69: 344 | L69: =K69/B69*100 -> 1.8459887 | M69: 233 | N69: =M69/B69*100 -> 1.2503354 | O69: 8473 | P69: =O69/B69*100 -> 45.468205
A70: Sesebuah Detached | B70: 1944 | C70: 154 | D70: =C70/B70*100 -> 7.9218107 | E70: 75 | F70: =E70/B70*100 -> 3.8580247 | G70: 605 | H70: =G70/B70*100 -> 31.121399 | I70: 156 | J70: =I70/B70*100 -> 8.0246914 | K70: 38 | L70: =K70/B70*100 -> 1.9547325 | M70: 74 | N70: =M70/B70*100 -> 3.8065844 | O70: 842 | P70: =O70/B70*100 -> 43.312757
A71: Berkembar Semi-detached | B71: 754 | C71: 94 | D71: =C71/B71*100 -> 12.466844 | E71: 8 | F71: =E71/B71*100 -> 1.061008 | G71: 99 | H71: =G71/B71*100 -> 13.129973 | I71: 8 | J71: =I71/B71*100 -> 1.061008 | K71: 125 | L71: =K71/B71*100 -> 16.578249 | M71: 4 | N71: =M71/B71*100 -> 0.53050398 | O71: 416 | P71: =O71/B71*100 -> 55.172414
A72: Teres/ Berangkai/ Berkelompok Terrace/ Link/ Cluster | B72: 8707 | C72: 1899 | D72: =C72/B72*100 -> 21.810038 | E72: 357 | F72: =E72/B72*100 -> 4.1001493 | G72: 1666 | H72: =G72/B72*100 -> 19.13403 | I72: 394 | J72: =I72/B72*100 -> 4.5250948 | K72: 112 | L72: =K72/B72*100 -> 1.2863214 | M72: 107 | N72: =M72/B72*100 -> 1.2288963 | O72: 4172 | P72: =O72/B72*100 -> 47.91547
A73: Rumah bandar Townhouse | B73: 51 | C73: 1 | D73: =C73/B73*100 -> 1.9607843 | E73: 2 | F73: =E73/B73*100 -> 3.9215686 | G73: 22 | H73: =G73/B73*100 -> 43.137255 | I73: 1 | J73: =I73/B73*100 -> 1.9607843 | K73: 1 | L73: =K73/B73*100 -> 1.9607843 | M73: 0 | N73: 0 | O73: 24 | P73: =O73/B73*100 -> 47.058824
A74: Rumah pangsa/ Pangsapuri/ Kondominium Flat/ Apartment/ Condominium | B74: 7040 | C74: 1163 | D74: =C74/B74*100 -> 16.519886 | E74: 38 | F74: =E74/B74*100 -> 0.53977273 | G74: 2221 | H74: =G74/B74*100 -> 31.548295 | I74: 592 | J74: =I74/B74*100 -> 8.4090909 | K74: 37 | L74: =K74/B74*100 -> 0.52556818 | M74: 48 | N74: =M74/B74*100 -> 0.68181818 | O74: 2941 | P74: =O74/B74*100 -> 41.775568
A75: Pangsapuri khidmat/ Services apartment Small Office Home Office (SOHO)/ Small Office Flexible Office (SOFO)/ Small Office Versatile Office (SOVO) | B75: 65 | C75: 0 | D75: 0 | E75: 0 | F75: 0 | G75: 5 | H75: =G75/B75*100 -> 7.6923077 | I75: 1 | J75: =I75/B75*100 -> 1.5384615 | K75: 26 | L75: =K75/B75*100 -> 40 | M75: 0 | N75: 0 | O75: 33 | P75: =O75/B75*100 -> 50.769231
A76: Rumah kedai/ Pejabat Shophouse/ Office | B76: 8 | C76: 1 | D76: =C76/B76*100 -> 12.5 | E76: 0 | F76: 0 | G76: 7 | H76: =G76/B76*100 -> 87.5 | I76: 0 | J76: 0 | K76: 0 | L76: 0 | M76: 0 | N76: 0 | O76: 0 | P76: 0
A77: Rumah panjang Longhouse | B77: 0 | C77: 0 | D77: 0 | E77: 0 | F77: 0 | G77: 0 | H77: 0 | I77: 0 | J77: 0 | K77: 0 | L77: 0 | M77: 0 | N77: 0 | O77: 0 | P77: 0
A78: Pondok gantian/ Sementara Improvised/ Temporary hut | B78: 1 | C78: 0 | D78: 0 | E78: 0 | F78: 0 | G78: 0 | H78: 0 | I78: 0 | J78: 0 | K78: 1 | L78: =K78/B78*100 -> 100 | M78: 0 | N78: 0 | O78: 0 | P78: 0
A79: Bilik Room | B79: 12 | C79: 0 | D79: 0 | E79: 0 | F79: 0 | G79: 0 | H79: 0 | I79: 0 | J79: 0 | K79: 0 | L79: 0 | M79: 0 | N79: 0 | O79: 12 | P79: =O79/B79*100 -> 100
A80: Rumah kampung air Water village house | B80: 0 | C80: 0 | D80: 0 | E80: 0 | F80: 0 | G80: 0 | H80: 0 | I80: 0 | J80: 0 | K80: 0 | L80: 0 | M80: 0 | N80: 0 | O80: 0 | P80: 0
A81: Lain-lain Others | B81: 53 | C81: 1 | D81: =C81/B81*100 -> 1.8867925 | E81: 1 | F81: =E81/B81*100 -> 1.8867925 | G81: 14 | H81: =G81/B81*100 -> 26.415094 | I81: 0 | J81: 0 | K81: 4 | L81: =K81/B81*100 -> 7.5471698 | M81: 0 | N81: 0 | O81: 33 | P81: =O81/B81*100 -> 62.264151
A84: Nota/ Note:
A85: Statistik ini merujuk kepada pelaporan oleh responden
A86: The statistics refer to self-declaration by respondent
A87: Rembau
A88: Unit perumahan Housing unit | B88: 4629 | C88: 487 | D88: =C88/B88*100 -> 10.520631 | E88: 128 | F88: =E88/B88*100 -> 2.7651761 | G88: 2468 | H88: =G88/B88*100 -> 53.316051 | I88: 83 | J88: =I88/B88*100 -> 1.7930439 | K88: 61 | L88: =K88/B88*100 -> 1.3177792 | M88: 225 | N88: =M88/B88*100 -> 4.860661 | O88: 1177 | P88: =O88/B88*100 -> 25.426658
A89: Sesebuah Detached | B89: 3063 | C89: 175 | D89: =C89/B89*100 -> 5.7133529 | E89: 75 | F89: =E89/B89*100 -> 2.4485798 | G89: 1846 | H89: =G89/B89*100 -> 60.267711 | I89: 47 | J89: =I89/B89*100 -> 1.5344434 | K89: 30 | L89: =K89/B89*100 -> 0.97943193 | M89: 207 | N89: =M89/B89*100 -> 6.7580803 | O89: 683 | P89: =O89/B89*100 -> 22.2984
A90: Berkembar Semi-detached | B90: 248 | C90: 61 | D90: =C90/B90*100 -> 24.596774 | E90: 7 | F90: =E90/B90*100 -> 2.8225806 | G90: 78 | H90: =G90/B90*100 -> 31.451613 | I90: 4 | J90: =I90/B90*100 -> 1.6129032 | K90: 8 | L90: =K90/B90*100 -> 3.2258065 | M90: 0 | N90: 0 | O90: 90 | P90: =O90/B90*100 -> 36.290323
A91: Teres/ Berangkai/ Berkelompok Terrace/ Link/ Cluster | B91: 1200 | C91: 209 | D91: =C91/B91*100 -> 17.416667 | E91: 46 | F91: =E91/B91*100 -> 3.8333333 | G91: 529 | H91: =G91/B91*100 -> 44.083333 | I91: 32 | J91: =I91/B91*100 -> 2.6666667 | K91: 22 | L91: =K91/B91*100 -> 1.8333333 | M91: 17 | N91: =M91/B91*100 -> 1.4166667 | O91: 345 | P91: =O91/B91*100 -> 28.75
A92: Rumah bandar Townhouse | B92: 0 | C92: 0 | D92: 0 | E92: 0 | F92: 0 | G92: 0 | H92: 0 | I92: 0 | J92: 0 | K92: 0 | L92: 0 | M92: 0 | N92: 0 | O92: 0 | P92: 0
A93: Rumah pangsa/ Pangsapuri/ Kondominium Flat/ Apartment/ Condominium | B93: 48 | C93: 18 | D93: =C93/B93*100 -> 37.5 | E93: 0 | F93: 0 | G93: 1 | H93: =G93/B93*100 -> 2.0833333 | I93: 0 | J93: 0 | K93: 0 | L93: 0 | M93: 0 | N93: 0 | O93: 29 | P93: =O93/B93*100 -> 60.416667
A94: Pangsapuri khidmat/ Services apartment Small Office Home Office (SOHO)/ Small Office Flexible Office (SOFO)/ Small Office Versatile Office (SOVO) | B94: 46 | C94: 24 | D94: =C94/B94*100 -> 52.173913 | E94: 0 | F94: 0 | G94: 8 | H94: =G94/B94*100 -> 17.391304 | I94: 0 | J94: 0 | K94: 0 | L94: 0 | M94: 0 | N94: 0 | O94: 14 | P94: =O94/B94*100 -> 30.434783
A95: Rumah kedai/ Pejabat Shophouse/ Office | B95: 3 | C95: 0 | D95: 0 | E95: 0 | F95: 0 | G95: 1 | H95: =G95/B95*100 -> 33.333333 | I95: 0 | J95: 0 | K95: 0 | L95: 0 | M95: 0 | N95: 0 | O95: 2 | P95: =O95/B95*100 -> 66.666667
A96: Rumah panjang Longhouse | B96: 0 | C96: 0 | D96: 0 | E96: 0 | F96: 0 | G96: 0 | H96: 0 | I96: 0 | J96: 0 | K96: 0 | L96: 0 | M96: 0 | N96: 0 | O96: 0 | P96: 0
A97: Pondok gantian/ Sementara Improvised/ Temporary hut | B97: 1 | C97: 0 | D97: 0 | E97: 0 | F97: 0 | G97: 0 | H97: 0 | I97: 0 | J97: 0 | K97: 0 | L97: 0 | M97: 1 | N97: =M97/B97*100 -> 100 | O97: 0 | P97: 0
A98: Bilik Room | B98: 0 | C98: 0 | D98: 0 | E98: 0 | F98: 0 | G98: 0 | H98: 0 | I98: 0 | J98: 0 | K98: 0 | L98: 0 | M98: 0 | N98: 0 | O98: 0 | P98: 0
A99: Rumah kampung air Water village house | B99: 0 | C99: 0 | D99: 0 | E99: 0 | F99: 0 | G99: 0 | H99: 0 | I99: 0 | J99: 0 | K99: 0 | L99: 0 | M99: 0 | N99: 0 | O99: 0 | P99: 0
A100: Lain-lain Others | B100: 20 | C100: 0 | D100: 0 | E100: 0 | F100: 0 | G100: 5 | H100: =G100/B100*100 -> 25 | I100: 0 | J100: 0 | K100: 1 | L100: =K100/B100*100 -> 5 | M100: 0 | N100: 0 | O100: 14 | P100: =O100/B100*100 -> 70
A103: Nota/ Note:
A104: Statistik ini merujuk kepada pelaporan oleh responden
A105: The statistics refer to self-declaration by respondent
A106: Seremban
A107: Unit perumahan Housing unit | B107: 52714 | C107: 23153 | D107: =C107/B107*100 -> 43.921918 | E107: 2056 | F107: =E107/B107*100 -> 3.9002921 | G107: 13685 | H107: =G107/B107*100 -> 25.960845 | I107: 473 | J107: =I107/B107*100 -> 0.89729484 | K107: 706 | L107: =K107/B107*100 -> 1.3393027 | M107: 588 | N107: =M107/B107*100 -> 1.1154532 | O107: 12053 | P107: =O107/B107*100 -> 22.864894
A108: Sesebuah Detached | B108: 8358 | C108: 3532 | D108: =C108/B108*100 -> 42.258914 | E108: 337 | F108: =E108/B108*100 -> 4.0320651 | G108: 2614 | H108: =G108/B108*100 -> 31.275425 | I108: 59 | J108: =I108/B108*100 -> 0.7059105 | K108: 101 | L108: =K108/B108*100 -> 1.2084231 | M108: 169 | N108: =M108/B108*100 -> 2.0220148 | O108: 1546 | P108: =O108/B108*100 -> 18.497248
A109: Berkembar Semi-detached | B109: 1863 | C109: 795 | D109: =C109/B109*100 -> 42.673108 | E109: 93 | F109: =E109/B109*100 -> 4.9919485 | G109: 471 | H109: =G109/B109*100 -> 25.281804 | I109: 23 | J109: =I109/B109*100 -> 1.2345679 | K109: 52 | L109: =K109/B109*100 -> 2.791197 | M109: 44 | N109: =M109/B109*100 -> 2.3617821 | O109: 385 | P109: =O109/B109*100 -> 20.665593
A110: Teres/ Berangkai/ Berkelompok Terrace/ Link/ Cluster | B110: 27473 | C110: 10606 | D110: =C110/B110*100 -> 38.605176 | E110: 1212 | F110: =E110/B110*100 -> 4.4116041 | G110: 7962 | H110: =G110/B110*100 -> 28.981182 | I110: 326 | J110: =I110/B110*100 -> 1.1866196 | K110: 291 | L110: =K110/B110*100 -> 1.0592218 | M110: 266 | N110: =M110/B110*100 -> 0.96822335 | O110: 6810 | P110: =O110/B110*100 -> 24.787974
A111: Rumah bandar Townhouse | B111: 448 | C111: 197 | D111: =C111/B111*100 -> 43.973214 | E111: 17 | F111: =E111/B111*100 -> 3.7946429 | G111: 106 | H111: =G111/B111*100 -> 23.660714 | I111: 1 | J111: =I111/B111*100 -> 0.22321429 | K111: 4 | L111: =K111/B111*100 -> 0.89285714 | M111: 3 | N111: =M111/B111*100 -> 0.66964286 | O111: 120 | P111: =O111/B111*100 -> 26.785714
A112: Rumah pangsa/ Pangsapuri/ Kondominium Flat/ Apartment/ Condominium | B112: 13633 | C112: 7792 | D112: =C112/B112*100 -> 57.155432 | E112: 346 | F112: =E112/B112*100 -> 2.5379594 | G112: 2294 | H112: =G112/B112*100 -> 16.826817 | I112: 55 | J112: =I112/B112*100 -> 0.40343285 | K112: 228 | L112: =K112/B112*100 -> 1.6724125 | M112: 78 | N112: =M112/B112*100 -> 0.57214113 | O112: 2840 | P112: =O112/B112*100 -> 20.831805
...

Sheet Pahang
A1: Jadual 5: Bilangan dan peratus unit perumahan mengikut jenis unit perumahan, sebab kekosongan, daerah pentadbiran dan negeri, Malaysia, 2020 (samb.)
A2: Table 5: Number and percentage of housing units by type of housing units, reason for vacancy, administrative district and state, Malaysia, 2020 (cont'd)
A4: Negeri/ Daerah Pentadbiran/ Jenis tempat kediaman State/ Administrative District/ Type of living quarters | B4: Jumlah Total | C4: Sebab kekosongan Reason for vacancy
C5: Baru siap/ untuk disewa atau dijual New completed/ for rent or sale | D5: % | E5: Untuk dibaiki/ ubahsuai For repair/ renovation | F5: % | G5: Rumah peranginan/ Persinggahan Holiday resort/ Transit | H5: % | I5: Homestay | J5: % | K5: Rumah pekerja bermusim Seasonal workers quarters | L5: % | M5: Hampir roboh Dilapidated | N5: % | O5: Lain-lain Others | P5: %
A6: PAHANG
A7: Unit perumahan Housing unit | B7: =B31+B50+B69+B88+B107+B126+B145+B164+B183+B202+B221 -> 85466 | C7: =C31+C50+C69+C88+C107+C126+C145+C164+C183+C202+C221 -> 21464 | D7: =C7/B7*100 -> 25.11408 | E7: =E31+E50+E69+E88+E107+E126+E145+E164+E183+E202+E221 -> 4890 | F7: =E7/B7*100 -> 5.7215735 | G7: =G31+G50+G69+G88+G107+G126+G145+G164+G183+G202+G221 -> 24266 | H7: =G7/B7*100 -> 28.392577 | I7: =I31+I50+I69+I88+I107+I126+I145+I164+I183+I202+I221 -> 4437 | J7: =I7/B7*100 -> 5.1915382 | K7: =K31+K50+K69+K88+K107+K126+K145+K164+K183+K202+K221 -> 2419 | L7: =K7/B7*100 -> 2.8303653 | M7: =M31+M50+M69+M88+M107+M126+M145+M164+M183+M202+M221 -> 2380 | N7: =M7/B7*100 -> 2.7847331 | O7: =O31+O50+O69+O88+O107+O126+O145+O164+O183+O202+O221 -> 25610 | P7: =O7/B7*100 -> 29.965132
A8: Sesebuah Detached | B8: =B32+B51+B70+B89+B108+B127+B146+B165+B184+B203+B222 -> 26515 | C8: =C32+C51+C70+C89+C108+C127+C146+C165+C184+C203+C222 -> 3676 | D8: =C8/B8*100 -> 13.863851 | E8: =E32+E51+E70+E89+E108+E127+E146+E165+E184+E203+E222 -> 1476 | F8: =E8/B8*100 -> 5.5666604 | G8: =G32+G51+G70+G89+G108+G127+G146+G165+G184+G203+G222 -> 10064 | H8: =G8/B8*100 -> 37.955874 | I8: =I32+I51+I70+I89+I108+I127+I146+I165+I184+I203+I222 -> 762 | J8: =I8/B8*100 -> 2.873845 | K8: =K32+K51+K70+K89+K108+K127+K146+K165+K184+K203+K222 -> 627 | L8: =K8/B8*100 -> 2.3646992 | M8: =M32+M51+M70+M89+M108+M127+M146+M165+M184+M203+M222 -> 1898 | N8: =M8/B8*100 -> 7.1582123 | O8: =O32+O51+O70+O89+O108+O127+O146+O165+O184+O203+O222 -> 8012 | P8: =O8/B8*100 -> 30.216858
A9: Berkembar Semi-detached | B9: =B33+B52+B71+B90+B109+B128+B147+B166+B185+B204+B223 -> 10120 | C9: =C33+C52+C71+C90+C109+C128+C147+C166+C185+C204+C223 -> 3467 | D9: =C9/B9*100 -> 34.258893 | E9: =E33+E52+E71+E90+E109+E128+E147+E166+E185+E204+E223 -> 451 | F9: =E9/B9*100 -> 4.4565217 | G9: =G33+G52+G71+G90+G109+G128+G147+G166+G185+G204+G223 -> 2323 | H9: =G9/B9*100 -> 22.954545 | I9: =I33+I52+I71+I90+I109+I128+I147+I166+I185+I204+I223 -> 307 | J9: =I9/B9*100 -> 3.0335968 | K9: =K33+K52+K71+K90+K109+K128+K147+K166+K185+K204+K223 -> 701 | L9: =K9/B9*100 -> 6.9268775 | M9: =M33+M52+M71+M90+M109+M128+M147+M166+M185+M204+M223 -> 181 | N9: =M9/B9*100 -> 1.7885375 | O9: =O33+O52+O71+O90+O109+O128+O147+O166+O185+O204+O223 -> 2690 | P9: =O9/B9*100 -> 26.581028
A10: Teres/ Berangkai/ Berkelompok Terrace/ Link/ Cluster | B10: =B34+B53+B72+B91+B110+B129+B148+B167+B186+B205+B224 -> 31632 | C10: =C34+C53+C72+C91+C110+C129+C148+C167+C186+C205+C224 -> 11667 | D10: =C10/B10*100 -> 36.883536 | E10: =E34+E53+E72+E91+E110+E129+E148+E167+E186+E205+E224 -> 1582 | F10: =E10/B10*100 -> 5.0012645 | G10: =G34+G53+G72+G91+G110+G129+G148+G167+G186+G205+G224 -> 7691 | H10: =G10/B10*100 -> 24.313986 | I10: =I34+I53+I72+I91+I110+I129+I148+I167+I186+I205+I224 -> 1289 | J10: =I10/B10*100 -> 4.0749874 | K10: =K34+K53+K72+K91+K110+K129+K148+K167+K186+K205+K224 -> 703 | L10: =K10/B10*100 -> 2.222433 | M10: =M34+M53+M72+M91+M110+M129+M148+M167+M186+M205+M224 -> 251 | N10: =M10/B10*100 -> 0.79350025 | O10: =O34+O53+O72+O91+O110+O129+O148+O167+O186+O205+O224 -> 8449 | P10: =O10/B10*100 -> 26.710293
A11: Rumah bandar Townhouse | B11: =B35+B54+B73+B92+B111+B130+B149+B168+B187+B206+B225 -> 164 | C11: =C35+C54+C73+C92+C111+C130+C149+C168+C187+C206+C225 -> 48 | D11: =C11/B11*100 -> 29.268293 | E11: =E35+E54+E73+E92+E111+E130+E149+E168+E187+E206+E225 -> 2 | F11: =E11/B11*100 -> 1.2195122 | G11: =G35+G54+G73+G92+G111+G130+G149+G168+G187+G206+G225 -> 36 | H11: =G11/B11*100 -> 21.95122 | I11: =I35+I54+I73+I92+I111+I130+I149+I168+I187+I206+I225 -> 13 | J11: =I11/B11*100 -> 7.9268293 | K11: =K35+K54+K73+K92+K111+K130+K149+K168+K187+K206+K225 -> 1 | L11: =K11/B11*100 -> 0.6097561 | M11: 0 | N11: 0 | O11: =O35+O54+O73+O92+O111+O130+O149+O168+O187+O206+O225 -> 64 | P11: =O11/B11*100 -> 39.02439
A12: Rumah pangsa/ Pangsapuri/ Kondominium Flat/ Apartment/ Condominium | B12: =B36+B55+B74+B93+B112+B131+B150+B169+B188+B207+B226 -> 14388 | C12: =C36+C55+C74+C93+C112+C131+C150+C169+C188+C207+C226 -> 2038 | D12: =C12/B12*100 -> 14.164582 | E12: =E36+E55+E74+E93+E112+E131+E150+E169+E188+E207+E226 -> 1268 | F12: =E12/B12*100 -> 8.8128996 | G12: =G36+G55+G74+G93+G112+G131+G150+G169+G188+G207+G226 -> 3779 | H12: =G12/B12*100 -> 26.264943 | I12: =I36+I55+I74+I93+I112+I131+I150+I169+I188+I207+I226 -> 1889 | J12: =I12/B12*100 -> 13.128996 | K12: =K36+K55+K74+K93+K112+K131+K150+K169+K188+K207+K226 -> 222 | L12: =K12/B12*100 -> 1.5429525 | M12: =M36+M55+M74+M93+M112+M131+M150+M169+M188+M207+M226 -> 28 | N12: =M12/B12*100 -> 0.19460662 | O12: =O36+O55+O74+O93+O112+O131+O150+O169+O188+O207+O226 -> 5164 | P12: =O12/B12*100 -> 35.89102
A13: Pangsapuri khidmat/ Services apartment Small Office Home Office (SOHO)/ Small Office Flexible Office (SOFO)/ Small Office Versatile Office (SOVO) | B13: =B37+B56+B75+B94+B113+B132+B151+B170+B189+B208+B227 -> 415 | C13: =C37+C56+C75+C94+C113+C132+C151+C170+C189+C208+C227 -> 31 | D13: =C13/B13*100 -> 7.4698795 | E13: 0 | F13: 0 | G13: =G37+G56+G75+G94+G113+G132+G151+G170+G189+G208+G227 -> 136 | H13: =G13/B13*100 -> 32.771084 | I13: =I37+I56+I75+I94+I113+I132+I151+I170+I189+I208+I227 -> 172 | J13: =I13/B13*100 -> 41.445783 | K13: =K37+K56+K75+K94+K113+K132+K151+K170+K189+K208+K227 -> 28 | L13: =K13/B13*100 -> 6.746988 | M13: 0 | N13: 0 | O13: =O37+O56+O75+O94+O113+O132+O151+O170+O189+O208+O227 -> 48 | P13: =O13/B13*100 -> 11.566265
A14: Rumah kedai/ Pejabat Shophouse/ Office | B14: =B38+B57+B76+B95+B114+B133+B152+B171+B190+B209+B228 -> 1138 | C14: =C38+C57+C76+C95+C114+C133+C152+C171+C190+C209+C228 -> 365 | D14: =C14/B14*100 -> 32.073814 | E14: =E38+E57+E76+E95+E114+E133+E152+E171+E190+E209+E228 -> 57 | F14: =E14/B14*100 -> 5.0087873 | G14: =G38+G57+G76+G95+G114+G133+G152+G171+G190+G209+G228 -> 126 | H14: =G14/B14*100 -> 11.072056 | I14: =I38+I57+I76+I95+I114+I133+I152+I171+I190+I209+I228 -> 1 | J14: =I14/B14*100 -> 0.087873462 | K14: =K38+K57+K76+K95+K114+K133+K152+K171+K190+K209+K228 -> 25 | L14: =K14/B14*100 -> 2.1968366 | M14: =M38+M57+M76+M95+M114+M133+M152+M171+M190+M209+M228 -> 10 | N14: =M14/B14*100 -> 0.87873462 | O14: =O38+O57+O76+O95+O114+O133+O152+O171+O190+O209+O228 -> 554 | P14: =O14/B14*100 -> 48.681898
A15: Rumah panjang Longhouse | B15: 0 | C15: 0 | D15: 0 | E15: 0 | F15: 0 | G15: 0 | H15: 0 | I15: 0 | J15: 0 | K15: 0 | L15: 0 | M15: 0 | N15: 0 | O15: 0 | P15: 0
A16: Pondok gantian/ Sementara Improvised/ Temporary hut | B16: =B40+B59+B78+B97+B116+B135+B154+B173+B192+B211+B230 -> 32 | C16: =C40+C59+C78+C97+C116+C135+C154+C173+C192+C211+C230 -> 4 | D16: =C16/B16*100 -> 12.5 | E16: =E40+E59+E78+E97+E116+E135+E154+E173+E192+E211+E230 -> 1 | F16: =E16/B16*100 -> 3.125 | G16: =G40+G59+G78+G97+G116+G135+G154+G173+G192+G211+G230 -> 3 | H16: =G16/B16*100 -> 9.375 | I16: 0 | J16: 0 | K16: =K40+K59+K78+K97+K116+K135+K154+K173+K192+K211+K230 -> 16 | L16: =K16/B16*100 -> 50 | M16: =M40+M59+M78+M97+M116+M135+M154+M173+M192+M211+M230 -> 2 | N16: =M16/B16*100 -> 6.25 | O16: =O40+O59+O78+O97+O116+O135+O154+O173+O192+O211+O230 -> 6 | P16: =O16/B16*100 -> 18.75
A17: Bilik Room | B17: =B41+B60+B79+B98+B117+B136+B155+B174+B193+B212+B231 -> 153 | C17: =C41+C60+C79+C98+C117+C136+C155+C174+C193+C212+C231 -> 46 | D17: =C17/B17*100 -> 30.065359 | E17: =E41+E60+E79+E98+E117+E136+E155+E174+E193+E212+E231 -> 2 | F17: =E17/B17*100 -> 1.3071895 | G17: =G41+G60+G79+G98+G117+G136+G155+G174+G193+G212+G231 -> 17 | H17: =G17/B17*100 -> 11.111111 | I17: 0 | J17: 0 | K17: =K41+K60+K79+K98+K117+K136+K155+K174+K193+K212+K231 -> 40 | L17: =K17/B17*100 -> 26.143791 | M17: 0 | N17: 0 | O17: =O41+O60+O79+O98+O117+O136+O155+O174+O193+O212+O231 -> 48 | P17: =O17/B17*100 -> 31.372549
A18: Rumah kampung air Water village house | B18: 0 | C18: 0 | D18: 0 | E18: 0 | F18: 0 | G18: 0 | H18: 0 | I18: 0 | J18: 0 | K18: 0 | L18: 0 | M18: 0 | N18: 0 | O18: 0 | P18: 0
A19: Lain-lain Others | B19: =B43+B62+B81+B100+B119+B138+B157+B176+B195+B214+B233 -> 909 | C19: =C43+C62+C81+C100+C119+C138+C157+C176+C195+C214+C233 -> 122 | D19: =C19/B19*100 -> 13.421342 | E19: =E43+E62+E81+E100+E119+E138+E157+E176+E195+E214+E233 -> 51 | F19: =E19/B19*100 -> 5.6105611 | G19: =G43+G62+G81+G100+G119+G138+G157+G176+G195+G214+G233 -> 91 | H19: =G19/B19*100 -> 10.011001 | I19: =I43+I62+I81+I100+I119+I138+I157+I176+I195+I214+I233 -> 4 | J19: =I19/B19*100 -> 0.440044 | K19: =K43+K62+K81+K100+K119+K138+K157+K176+K195+K214+K233 -> 56 | L19: =K19/B19*100 -> 6.1606161 | M19: =M43+M62+M81+M100+M119+M138+M157+M176+M195+M214+M233 -> 10 | N19: =M19/B19*100 -> 1.10011 | O19: =O43+O62+O81+O100+O119+O138+O157+O176+O195+O214+O233 -> 575 | P19: =O19/B19*100 -> 63.256326
A22: Nota/ Note:
A23: Statistik ini merujuk kepada pelaporan oleh responden
A24: The statistics refer to self-declaration by respondent
A25: Jadual 5: Bilangan dan peratus unit perumahan mengikut jenis unit perumahan, sebab kekosongan, daerah pentadbiran dan negeri, Malaysia, 2020 (samb.)
A26: Table 5: Number and percentage of housing units by type of housing units, reason for vacancy, administrative district and state, Malaysia, 2020 (cont'd)
A28: Negeri/ Daerah Pentadbiran/ Jenis tempat kediaman State/ Administrative District/ Type of living quarters | B28: Jumlah Total | C28: Sebab kekosongan Reason for vacancy
C29: Baru siap/ untuk disewa atau dijual New completed/ for rent or sale | D29: % | E29: Untuk dibaiki/ ubahsuai For repair/ renovation | F29: % | G29: Rumah peranginan/ Persinggahan Holiday resort/ Transit | H29: % | I29: Homestay | J29: % | K29: Rumah pekerja bermusim Seasonal workers quarters | L29: % | M29: Hampir roboh Dilapidated | N29: % | O29: Lain-lain Others | P29: %
A30: Bentong
A31: Unit perumahan Housing unit | B31: =SUM(B32:B43) -> 6922 | C31: =SUM(C32:C43) -> 910 | D31: =C31/B31*100 -> 13.146489 | E31: =SUM(E32:E43) -> 121 | F31: =E31/B31*100 -> 1.7480497 | G31: =SUM(G32:G43) -> 2560 | H31: =G31/B31*100 -> 36.983531 | I31: =SUM(I32:I43) -> 192 | J31: =I31/B31*100 -> 2.7737648 | K31: =SUM(K32:K43) -> 161 | L31: =K31/B31*100 -> 2.3259174 | M31: =SUM(M32:M43) -> 84 | N31: =M31/B31*100 -> 1.2135221 | O31: =SUM(O32:O43) -> 2894 | P31: =O31/B31*100 -> 41.808726
A32: Sesebuah Detached | B32: 1650 | C32: 139 | D32: =C32/B32*100 -> 8.4242424 | E32: 56 | F32: =E32/B32*100 -> 3.3939394 | G32: 711 | H32: =G32/B32*100 -> 43.090909 | I32: 49 | J32: =I32/B32*100 -> 2.969697 | K32: 27 | L32: =K32/B32*100 -> 1.6363636 | M32: 66 | N32: =M32/B32*100 -> 4 | O32: 602 | P32: =O32/B32*100 -> 36.484848
A33: Berkembar Semi-detached | B33: 299 | C33: 81 | D33: =C33/B33*100 -> 27.090301 | E33: 11 | F33: =E33/B33*100 -> 3.6789298 | G33: 93 | H33: =G33/B33*100 -> 31.103679 | I33: 3 | J33: =I33/B33*100 -> 1.0033445 | K33: 55 | L33: =K33/B33*100 -> 18.394649 | M33: 10 | N33: =M33/B33*100 -> 3.3444816 | O33: 46 | P33: =O33/B33*100 -> 15.384615
A34: Teres/ Berangkai/ Berkelompok Terrace/ Link/ Cluster | B34: 1619 | C34: 274 | D34: =C34/B34*100 -> 16.924027 | E34: 40 | F34: =E34/B34*100 -> 2.4706609 | G34: 633 | H34: =G34/B34*100 -> 39.098209 | I34: 36 | J34: =I34/B34*100 -> 2.2235948 | K34: 24 | L34: =K34/B34*100 -> 1.4823965 | M34: 6 | N34: =M34/B34*100 -> 0.37059914 | O34: 606 | P34: =O34/B34*100 -> 37.430513
A35: Rumah bandar Townhouse | B35: 5 | C35: 1 | D35: =C35/B35*100 -> 20 | E35: 1 | F35: =E35/B35*100 -> 20 | G35: 3 | H35: =G35/B35*100 -> 60 | I35: 0 | J35: 0 | K35: 0 | L35: 0 | M35: 0 | N35: 0 | O35: 0 | P35: 0
A36: Rumah pangsa/ Pangsapuri/ Kondominium Flat/ Apartment/ Condominium | B36: 3078 | C36: 371 | D36: =C36/B36*100 -> 12.053281 | E36: 12 | F36: =E36/B36*100 -> 0.38986355 | G36: 1009 | H36: =G36/B36*100 -> 32.781027 | I36: 103 | J36: =I36/B36*100 -> 3.3463288 | K36: 17 | L36: =K36/B36*100 -> 0.55230669 | M36: 0 | N36: 0 | O36: 1566 | P36: =O36/B36*100 -> 50.877193
A37: Pangsapuri khidmat/ Services apartment Small Office Home Office (SOHO)/ Small Office Flexible Office (SOFO)/ Small Office Versatile Office (SOVO) | B37: 118 | C37: 5 | D37: =C37/B37*100 -> 4.2372881 | E37: 0 | F37: 0 | G37: 90 | H37: =G37/B37*100 -> 76.271186 | I37: 0 | J37: 0 | K37: 20 | L37: =K37/B37*100 -> 16.949153 | M37: 0 | N37: 0 | O37: 3 | P37: =O37/B37*100 -> 2.5423729
A38: Rumah kedai/ Pejabat Shophouse/ Office | B38: 105 | C38: 39 | D38: =C38/B38*100 -> 37.142857 | E38: 1 | F38: =E38/B38*100 -> 0.95238095 | G38: 17 | H38: =G38/B38*100 -> 16.190476 | I38: 1 | J38: =I38/B38*100 -> 0.95238095 | K38: 4 | L38: =K38/B38*100 -> 3.8095238 | M38: 2 | N38: =M38/B38*100 -> 1.9047619 | O38: 41 | P38: =O38/B38*100 -> 39.047619
A39: Rumah panjang Longhouse | B39: 0 | C39: 0 | D39: 0 | E39: 0 | F39: 0 | G39: 0 | H39: 0 | I39: 0 | J39: 0 | K39: 0 | L39: 0 | M39: 0 | N39: 0 | O39: 0 | P39: 0
A40: Pondok gantian/ Sementara Improvised/ Temporary hut | B40: 2 | C40: 0 | D40: 0 | E40: 0 | F40: 0 | G40: 0 | H40: 0 | I40: 0 | J40: 0 | K40: 2 | L40: =K40/B40*100 -> 100 | M40: 0 | N40: 0 | O40: 0 | P40: 0
A41: Bilik Room | B41: 8 | C41: 0 | D41: 0 | E41: 0 | F41: 0 | G41: 0 | H41: 0 | I41: 0 | J41: 0 | K41: 0 | L41: 0 | M41: 0 | N41: 0 | O41: 8 | P41: =O41/B41*100 -> 100
A42: Rumah kampung air Water village house | B42: 0 | C42: 0 | D42: 0 | E42: 0 | F42: 0 | G42: 0 | H42: 0 | I42: 0 | J42: 0 | K42: 0 | L42: 0 | M42: 0 | N42: 0 | O42: 0 | P42: 0
A43: Lain-lain Others | B43: 38 | C43: 0 | D43: 0 | E43: 0 | F43: 0 | G43: 4 | H43: 10.526316 | I43: 0 | J43: 0 | K43: 12 | L43: 31.578947 | M43: 0 | N43: 0 | O43: 22 | P43: 57.894737
A46: Nota/ Note:
A47: Statistik ini merujuk kepada pelaporan oleh responden
A48: The statistics refer to self-declaration by respondent
A49: Cameron Highlands
A50: Unit perumahan Housing unit | B50: =SUM(B51:B62) -> 6426 | C50: =SUM(C51:C62) -> 369 | D50: =C50/B50*100 -> 5.7422969 | E50: =SUM(E51:E62) -> 200 | F50: =E50/B50*100 -> 3.1123561 | G50: =SUM(G51:G62) -> 2694 | H50: =G50/B50*100 -> 41.923436 | I50: =SUM(I51:I62) -> 2042 | J50: =I50/B50*100 -> 31.777155 | K50: =SUM(K51:K62) -> 67 | L50: =K50/B50*100 -> 1.0426393 | M50: =SUM(M51:M62) -> 32 | N50: =M50/B50*100 -> 0.49797697 | O50: =SUM(O51:O62) -> 1022 | P50: =O50/B50*100 -> 15.904139
A51: Sesebuah Detached | B51: 658 | C51: 65 | D51: =C51/B51*100 -> 9.8784195 | E51: 26 | F51: =E51/B51*100 -> 3.9513678 | G51: 301 | H51: =G51/B51*100 -> 45.744681 | I51: 50 | J51: =I51/B51*100 -> 7.5987842 | K51: 26 | L51: =K51/B51*100 -> 3.9513678 | M51: 29 | N51: =M51/B51*100 -> 4.4072948 | O51: 161 | P51: =O51/B51*100 -> 24.468085
A52: Berkembar Semi-detached | B52: 87 | C52: 1 | D52: =C52/B52*100 -> 1.1494253 | E52: 24 | F52: =E52/B52*100 -> 27.586207 | G52: 31 | H52: =G52/B52*100 -> 35.632184 | I52: 2 | J52: =I52/B52*100 -> 2.2988506 | K52: 0 | L52: 0 | M52: 1 | N52: =M52/B52*100 -> 1.1494253 | O52: 28 | P52: =O52/B52*100 -> 32.183908
A53: Teres/ Berangkai/ Berkelompok Terrace/ Link/ Cluster | B53: 537 | C53: 44 | D53: =C53/B53*100 -> 8.1936685 | E53: 27 | F53: =E53/B53*100 -> 5.027933 | G53: 283 | H53: =G53/B53*100 -> 52.700186 | I53: 91 | J53: =I53/B53*100 -> 16.945996 | K53: 4 | L53: =K53/B53*100 -> 0.74487896 | M53: 1 | N53: =M53/B53*100 -> 0.18621974 | O53: 87 | P53: =O53/B53*100 -> 16.201117
A54: Rumah bandar Townhouse | B54: 15 | C54: 0 | D54: 0 | E54: 1 | F54: =E54/B54*100 -> 6.6666667 | G54: 6 | H54: =G54/B54*100 -> 40 | I54: 8 | J54: =I54/B54*100 -> 53.333333 | K54: 0 | L54: 0 | M54: 0 | N54: 0 | O54: 0 | P54: 0
A55: Rumah pangsa/ Pangsapuri/ Kondominium Flat/ Apartment/ Condominium | B55: 4771 | C55: 225 | D55: =C55/B55*100 -> 4.7159925 | E55: 93 | F55: =E55/B55*100 -> 1.9492769 | G55: 2013 | H55: =G55/B55*100 -> 42.192412 | I55: 1717 | J55: =I55/B55*100 -> 35.988262 | K55: 36 | L55: =K55/B55*100 -> 0.75455879 | M55: 0 | N55: 0 | O55: 687 | P55: =O55/B55*100 -> 14.399497
A56: Pangsapuri khidmat/ Services apartment Small Office Home Office (SOHO)/ Small Office Flexible Office (SOFO)/ Small Office Versatile Office (SOVO) | B56: 220 | C56: 1 | D56: =C56/B56*100 -> 0.45454545 | E56: 0 | F56: 0 | G56: 43 | H56: =G56/B56*100 -> 19.545455 | I56: 172 | J56: =I56/B56*100 -> 78.181818 | K56: 0 | L56: 0 | M56: 0 | N56: 0 | O56: 4 | P56: =O56/B56*100 -> 1.8181818
A57: Rumah kedai/ Pejabat Shophouse/ Office | B57: 97 | C57: 33 | D57: =C57/B57*100 -> 34.020619 | E57: 29 | F57: =E57/B57*100 -> 29.896907 | G57: 9 | H57: =G57/B57*100 -> 9.2783505 | I57: 0 | J57: 0 | K57: 1 | L57: =K57/B57*100 -> 1.0309278 | M57: 0 | N57: 0 | O57: 25 | P57: =O57/B57*100 -> 25.773196
A58: Rumah panjang Longhouse | B58: 0 | C58: 0 | D58: 0 | E58: 0 | F58: 0 | G58: 0 | H58: 0 | I58: 0 | J58: 0 | K58: 0 | L58: 0 | M58: 0 | N58: 0 | O58: 0 | P58: 0
A59: Pondok gantian/ Sementara Improvised/ Temporary hut | B59: 0 | C59: 0 | D59: 0 | E59: 0 | F59: 0 | G59: 0 | H59: 0 | I59: 0 | J59: 0 | K59: 0 | L59: 0 | M59: 0 | N59: 0 | O59: 0 | P59: 0
A60: Bilik Room | B60: 3 | C60: 0 | D60: 0 | E60: 0 | F60: 0 | G60: 0 | H60: 0 | I60: 0 | J60: 0 | K60: 0 | L60: 0 | M60: 0 | N60: 0 | O60: 3 | P60: =O60/B60*100 -> 100
A61: Rumah kampung air Water village house | B61: 0 | C61: 0 | D61: 0 | E61: 0 | F61: 0 | G61: 0 | H61: 0 | I61: 0 | J61: 0 | K61: 0 | L61: 0 | M61: 0 | N61: 0 | O61: 0 | P61: 0
A62: Lain-lain Others | B62: 38 | C62: 0 | D62: 0 | E62: 0 | F62: 0 | G62: 8 | H62: 21.052632 | I62: 2 | J62: 0.33444816 | K62: 0 | L62: 0 | M62: 1 | N62: =M62/B62*100 -> 2.6315789 | O62: 27 | P62: 71.052632
A65: Nota/ Note:
A66: Statistik ini merujuk kepada pelaporan oleh responden
A67: The statistics refer to self-declaration by respondent
A68: Jerantut
A69: Unit perumahan Housing unit | B69: =SUM(B70:B81) -> 4751 | C69: =SUM(C70:C81) -> 1317 | D69: =C69/B69*100 -> 27.72048 | E69: =SUM(E70:E81) -> 262 | F69: =E69/B69*100 -> 5.5146285 | G69: =SUM(G70:G81) -> 1864 | H69: =G69/B69*100 -> 39.233846 | I69: =SUM(I70:I81) -> 110 | J69: =I69/B69*100 -> 2.315302 | K69: =SUM(K70:K81) -> 223 | L69: =K69/B69*100 -> 4.6937487 | M69: =SUM(M70:M81) -> 214 | N69: =M69/B69*100 -> 4.5043149 | O69: =SUM(O70:O81) -> 761 | P69: =O69/B69*100 -> 16.01768
A70: Sesebuah Detached | B70: 2166 | C70: 212 | D70: =C70/B70*100 -> 9.787627 | E70: 138 | F70: =E70/B70*100 -> 6.3711911 | G70: 1055 | H70: =G70/B70*100 -> 48.707295 | I70: 36 | J70: =I70/B70*100 -> 1.6620499 | K70: 114 | L70: =K70/B70*100 -> 5.2631579 | M70: 198 | N70: =M70/B70*100 -> 9.1412742 | O70: 413 | P70: =O70/B70*100 -> 19.067405
A71: Berkembar Semi-detached | B71: 745 | C71: 280 | D71: =C71/B71*100 -> 37.583893 | E71: 20 | F71: =E71/B71*100 -> 2.6845638 | G71: 210 | H71: =G71/B71*100 -> 28.187919 | I71: 17 | J71: =I71/B71*100 -> 2.2818792 | K71: 33 | L71: =K71/B71*100 -> 4.4295302 | M71: 4 | N71: =M71/B71*100 -> 0.53691275 | O71: 181 | P71: =O71/B71*100 -> 24.295302
A72: Teres/ Berangkai/ Berkelompok Terrace/ Link/ Cluster | B72: 1620 | C72: 727 | D72: =C72/B72*100 -> 44.876543 | E72: 91 | F72: =E72/B72*100 -> 5.617284 | G72: 577 | H72: =G72/B72*100 -> 35.617284 | I72: 57 | J72: =I72/B72*100 -> 3.5185185 | K72: 57 | L72: =K72/B72*100 -> 3.5185185 | M72: 10 | N72: =M72/B72*100 -> 0.61728395 | O72: 101 | P72: =O72/B72*100 -> 6.2345679
A73: Rumah bandar Townhouse | B73: 0 | C73: 0 | D73: 0 | E73: 0 | F73: 0 | G73: 0 | H73: 0 | I73: 0 | J73: 0 | K73: 0 | L73: 0 | M73: 0 | N73: 0 | O73: 0 | P73: 0
A74: Rumah pangsa/ Pangsapuri/ Kondominium Flat/ Apartment/ Condominium | B74: 144 | C74: 84 | D74: =C74/B74*100 -> 58.333333 | E74: 4 | F74: =E74/B74*100 -> 2.7777778 | G74: 7 | H74: =G74/B74*100 -> 4.8611111 | I74: 0 | J74: 0 | K74: 13 | L74: =K74/B74*100 -> 9.0277778 | M74: 0 | N74: 0 | O74: 36 | P74: =O74/B74*100 -> 25
A75: Pangsapuri khidmat/ Services apartment Small Office Home Office (SOHO)/ Small Office Flexible Office (SOFO)/ Small Office Versatile Office (SOVO) | B75: 0 | C75: 0 | D75: 0 | E75: 0 | F75: 0 | G75: 0 | H75: 0 | I75: 0 | J75: 0 | K75: 0 | L75: 0 | M75: 0 | N75: 0 | O75: 0 | P75: 0
A76: Rumah kedai/ Pejabat Shophouse/ Office | B76: 26 | C76: 3 | D76: =C76/B76*100 -> 11.538462 | E76: 9 | F76: =E76/B76*100 -> 34.615385 | G76: 6 | H76: =G76/B76*100 -> 23.076923 | I76: 0 | J76: 0 | K76: 1 | L76: =K76/B76*100 -> 3.8461538 | M76: 1 | N76: =M76/B76*100 -> 3.8461538 | O76: 6 | P76: =O76/B76*100 -> 23.076923
A77: Rumah panjang Longhouse | B77: 0 | C77: 0 | D77: 0 | E77: 0 | F77: 0 | G77: 0 | H77: 0 | I77: 0 | J77: 0 | K77: 0 | L77: 0 | M77: 0 | N77: 0 | O77: 0 | P77: 0
A78: Pondok gantian/ Sementara Improvised/ Temporary hut | B78: 5 | C78: 0 | D78: 0 | E78: 0 | F78: 0 | G78: 0 | H78: 0 | I78: 0 | J78: 0 | K78: 0 | L78: 0 | M78: 1 | N78: =M78/B78*100 -> 20 | O78: 4 | P78: =O78/B78*100 -> 80
A79: Bilik Room | B79: 14 | C79: 10 | D79: =C79/B79*100 -> 71.428571 | E79: 0 | F79: 0 | G79: 1 | H79: =G79/B79*100 -> 7.1428571 | I79: 0 | J79: 0 | K79: 2 | L79: =K79/B79*100 -> 14.285714 | M79: 0 | N79: 0 | O79: 1 | P79: =O79/B79*100 -> 7.1428571
A80: Rumah kampung air Water village house | B80: 0 | C80: 0 | D80: 0 | E80: 0 | F80: 0 | G80: 0 | H80: 0 | I80: 0 | J80: 0 | K80: 0 | L80: 0 | M80: 0 | N80: 0 | O80: 0 | P80: 0
A81: Lain-lain Others | B81: 31 | C81: 1 | D81: 3.2258065 | E81: 0 | F81: 0 | G81: 8 | H81: 25.806452 | I81: 0 | J81: 0.33444816 | K81: 3 | L81: 9.6774194 | M81: 0 | N81: 0 | O81: 19 | P81: 61.290323
A84: Nota/ Note:
A85: Statistik ini merujuk kepada pelaporan oleh responden
A86: The statistics refer to self-declaration by respondent
A87: Kuantan
A88: Unit perumahan Housing unit | B88: =SUM(B89:B100) -> 27610 | C88: =SUM(C89:C100) -> 10273 | D88: =C88/B88*100 -> 37.207534 | E88: =SUM(E89:E100) -> 2146 | F88: =E88/B88*100 -> 7.7725462 | G88: =SUM(G89:G100) -> 5889 | H88: =G88/B88*100 -> 21.329229 | I88: =SUM(I89:I100) -> 986 | J88: =I88/B88*100 -> 3.5711699 | K88: =SUM(K89:K100) -> 477 | L88: =K88/B88*100 -> 1.7276349 | M88: =SUM(M89:M100) -> 351 | N88: =M88/B88*100 -> 1.2712785 | O88: =SUM(O89:O100) -> 7488 | P88: =O88/B88*100 -> 27.120608
A89: Sesebuah Detached | B89: 4023 | C89: 999 | D89: =C89/B89*100 -> 24.832215 | E89: 289 | F89: =E89/B89*100 -> 7.1836938 | G89: 1271 | H89: =G89/B89*100 -> 31.593338 | I89: 155 | J89: =I89/B89*100 -> 3.8528461 | K89: 85 | L89: =K89/B89*100 -> 2.1128511 | M89: 185 | N89: =M89/B89*100 -> 4.5985583 | O89: 1039 | P89: =O89/B89*100 -> 25.826498
A90: Berkembar Semi-detached | B90: 3718 | C90: 1713 | D90: =C90/B90*100 -> 46.073158 | E90: 182 | F90: =E90/B90*100 -> 4.8951049 | G90: 850 | H90: =G90/B90*100 -> 22.861754 | I90: 111 | J90: =I90/B90*100 -> 2.9854761 | K90: 94 | L90: =K90/B90*100 -> 2.528241 | M90: 39 | N90: =M90/B90*100 -> 1.048951 | O90: 729 | P90: =O90/B90*100 -> 19.607316
A91: Teres/ Berangkai/ Berkelompok Terrace/ Link/ Cluster | B91: 15533 | C91: 6212 | D91: =C91/B91*100 -> 39.992275 | E91: 817 | F91: =E91/B91*100 -> 5.2597695 | G91: 3223 | H91: =G91/B91*100 -> 20.749372 | I91: 651 | J91: =I91/B91*100 -> 4.1910771 | K91: 172 | L91: =K91/B91*100 -> 1.1073199 | M91: 102 | N91: =M91/B91*100 -> 0.65666645 | O91: 4356 | P91: =O91/B91*100 -> 28.04352
A92: Rumah bandar Townhouse | B92: 80 | C92: 18 | D92: =C92/B92*100 -> 22.5 | E92: 0 | F92: 0 | G92: 8 | H92: =G92/B92*100 -> 10 | I92: 3 | J92: =I92/B92*100 -> 3.75 | K92: 1 | L92: =K92/B92*100 -> 1.25 | M92: 0 | N92: 0 | O92: 50 | P92: =O92/B92*100 -> 62.5
A93: Rumah pangsa/ Pangsapuri/ Kondominium Flat/ Apartment/ Condominium | B93: 3447 | C93: 1026 | D93: =C93/B93*100 -> 29.765013 | E93: 807 | F93: =E93/B93*100 -> 23.411662 | G93: 465 | H93: =G93/B93*100 -> 13.489991 | I93: 65 | J93: =I93/B93*100 -> 1.8856977 | K93: 62 | L93: =K93/B93*100 -> 1.7986655 | M93: 24 | N93: =M93/B93*100 -> 0.69625762 | O93: 998 | P93: =O93/B93*100 -> 28.952713
A94: Pangsapuri khidmat/ Services apartment Small Office Home Office (SOHO)/ Small Office Flexible Office (SOFO)/ Small Office Versatile Office (SOVO) | B94: 77 | C94: 25 | D94: =C94/B94*100 -> 32.467532 | E94: 0 | F94: 0 | G94: 3 | H94: =G94/B94*100 -> 3.8961039 | I94: 0 | J94: 0 | K94: 8 | L94: =K94/B94*100 -> 10.38961 | M94: 0 | N94: 0 | O94: 41 | P94: =O94/B94*100 -> 53.246753
A95: Rumah kedai/ Pejabat Shophouse/ Office | B95: 358 | C95: 179 | D95: =C95/B95*100 -> 50 | E95: 13 | F95: =E95/B95*100 -> 3.6312849 | G95: 13 | H95: =G95/B95*100 -> 3.6312849 | I95: 0 | J95: 0 | K95: 9 | L95: =K95/B95*100 -> 2.5139665 | M95: 1 | N95: =M95/B95*100 -> 0.27932961 | O95: 143 | P95: =O95/B95*100 -> 39.944134
A96: Rumah panjang Longhouse | B96: 0 | C96: 0 | D96: 0 | E96: 0 | F96: 0 | G96: 0 | H96: 0 | I96: 0 | J96: 0 | K96: 0 | L96: 0 | M96: 0 | N96: 0 | O96: 0 | P96: 0
A97: Pondok gantian/ Sementara Improvised/ Temporary hut | B97: 12 | C97: 0 | D97: 0 | E97: 0 | F97: 0 | G97: 0 | H97: 0 | I97: 0 | J97: 0 | K97: 11 | L97: =K97/B97*100 -> 91.666667 | M97: 0 | N97: 0 | O97: 1 | P97: =O97/B97*100 -> 8.3333333
A98: Bilik Room | B98: 60 | C98: 34 | D98: =C98/B98*100 -> 56.666667 | E98: 0 | F98: 0 | G98: 6 | H98: =G98/B98*100 -> 10 | I98: 0 | J98: 0 | K98: 4 | L98: =K98/B98*100 -> 6.6666667 | M98: 0 | N98: 0 | O98: 16 | P98: =O98/B98*100 -> 26.666667
A99: Rumah kampung air Water village house | B99: 0 | C99: 0 | D99: 0 | E99: 0 | F99: 0 | G99: 0 | H99: 0 | I99: 0 | J99: 0 | K99: 0 | L99: 0 | M99: 0 | N99: 0 | O99: 0 | P99: 0
A100: Lain-lain Others | B100: 302 | C100: 67 | D100: 21.73913 | E100: 38 | F100: 12.374582 | G100: 50 | H100: 16.722408 | I100: 1 | J100: 0.33444816 | K100: 31 | L100: 10.367893 | M100: 0 | N100: 0 | O100: 115 | P100: 38.461538
A103: Nota/ Note:
A104: Statistik ini merujuk kepada pelaporan oleh responden
A105: The statistics refer to self-declaration by respondent
A106: Lipis
A107: Unit perumahan Housing unit | B107: =SUM(B108:B119) -> 2868 | C107: =SUM(C108:C119) -> 261 | D107: =C107/B107*100 -> 9.1004184 | E107: =SUM(E108:E119) -> 125 | F107: =E107/B107*100 -> 4.3584379 | G107: =SUM(G108:G119) -> 1307 | H107: =G107/B107*100 -> 45.571827 | I107: =SUM(I108:I119) -> 73 | J107: =I107/B107*100 -> 2.5453278 | K107: =SUM(K108:K119) -> 63 | L107: =K107/B107*100 -> 2.1966527 | M107: =SUM(M108:M119) -> 176 | N107: =M107/B107*100 -> 6.1366806 | O107: =SUM(O108:O119) -> 863 | P107: =O107/B107*100 -> 30.090656
A108: Sesebuah Detached | B108: 1697 | C108: 137 | D108: =C108/B108*100 -> 8.0730701 | E108: 87 | F108: =E108/B108*100 -> 5.1266942 | G108: 887 | H108: =G108/B108*100 -> 52.268709 | I108: 50 | J108: =I108/B108*100 -> 2.946376 | K108: 27 | L108: =K108/B108*100 -> 1.591043 | M108: 149 | N108: =M108/B108*100 -> 8.7802004 | O108: 360 | P108: =O108/B108*100 -> 21.213907
A109: Berkembar Semi-detached | B109: 228 | C109: 26 | D109: =C109/B109*100 -> 11.403509 | E109: 11 | F109: =E109/B109*100 -> 4.8245614 | G109: 52 | H109: =G109/B109*100 -> 22.807018 | I109: 4 | J109: =I109/B109*100 -> 1.754386 | K109: 28 | L109: =K109/B109*100 -> 12.280702 | M109: 11 | N109: =M109/B109*100 -> 4.8245614 | O109: 96 | P109: =O109/B109*100 -> 42.105263
A110: Teres/ Berangkai/ Berkelompok Terrace/ Link/ Cluster | B110: 543 | C110: 59 | D110: =C110/B110*100 -> 10.865562 | E110: 20 | F110: =E110/B110*100 -> 3.6832413 | G110: 277 | H110: =G110/B110*100 -> 51.012891 | I110: 18 | J110: =I110/B110*100 -> 3.3149171 | K110: 7 | L110: =K110/B110*100 -> 1.2891344 | M110: 13 | N110: =M110/B110*100 -> 2.3941068 | O110: 149 | P110: =O110/B110*100 -> 27.440147
A111: Rumah bandar Townhouse | B111: 0 | C111: 0 | D111: 0 | E111: 0 | F111: 0 | G111: 0 | H111: 0 | I111: 0 | J111: 0 | K111: 0 | L111: 0 | M111: 0 | N111: 0 | O111: 0 | P111: 0
A112: Rumah pangsa/ Pangsapuri/ Kondominium Flat/ Apartment/ Condominium | B112: 273 | C112: 34 | D112: =C112/B112*100 -> 12.454212 | E112: 7 | F112: =E112/B112*100 -> 2.5641026 | G112: 48 | H112: =G112/B112*100 -> 17.582418 | I112: 1 | J112: =I112/B112*100 -> 0.36630037 | K112: 0 | L112: 0 | M112: 0 | N112: 0 | O112: 183 | P112: =O112/B112*100 -> 67.032967
...

Sheet P.Pinang
A1: Jadual 5: Bilangan dan peratus unit perumahan mengikut jenis unit perumahan, sebab kekosongan, daerah pentadbiran dan negeri, Malaysia, 2020 (samb.)
A2: Table 5: Number and percentage of housing units by type of housing units, reason for vacancy, administrative district and state, Malaysia, 2020 (cont'd)
A4: Negeri/ Daerah Pentadbiran/ Jenis tempat kediaman State/ Administrative District/ Type of living quarters | B4: Jumlah Total | C4: Sebab kekosongan Reason for vacancy
C5: Baru siap/ untuk disewa atau dijual New completed/ for rent or sale | D5: % | E5: Untuk dibaiki/ ubahsuai For repair/ renovation | F5: % | G5: Rumah peranginan/ Persinggahan Holiday resort/ Transit | H5: % | I5: Homestay | J5: % | K5: Rumah pekerja bermusim Seasonal workers quarters | L5: % | M5: Hampir roboh Dilapidated | N5: % | O5: Lain-lain Others | P5: %
A6: PULAU PINANG
A7: Unit perumahan Housing unit | B7: =SUM(B8:B19) -> 114219 | C7: =SUM(C8:C19) -> 53530 | D7: =C7/B7*100 -> 46.866108 | E7: =SUM(E8:E19) -> 8023 | F7: =E7/B7*100 -> 7.0242254 | G7: =SUM(G8:G19) -> 27484 | H7: =G7/B7*100 -> 24.062547 | I7: =SUM(I8:I19) -> 2002 | J7: =I7/B7*100 -> 1.7527732 | K7: =SUM(K8:K19) -> 1211 | L7: =K7/B7*100 -> 1.0602439 | M7: =SUM(M8:M19) -> 842 | N7: =M7/B7*100 -> 0.73718033 | O7: =SUM(O8:O19) -> 21127 | P7: =O7/B7*100 -> 18.496923
A8: Sesebuah Detached | B8: =B32+B51+B70+B89+B108 -> 13324 | C8: =C32+C51+C70+C89+C108 -> 4657 | D8: =C8/B8*100 -> 34.951966 | E8: =E32+E51+E70+E89+E108 -> 1600 | F8: =E8/B8*100 -> 12.008406 | G8: =G32+G51+G70+G89+G108 -> 2888 | H8: =G8/B8*100 -> 21.675173 | I8: =I32+I51+I70+I89+I108 -> 273 | J8: =I8/B8*100 -> 2.0489343 | K8: =K32+K51+K70+K89+K108 -> 154 | L8: =K8/B8*100 -> 1.1558091 | M8: =M32+M51+M70+M89+M108 -> 475 | N8: =M8/B8*100 -> 3.5649955 | O8: =O32+O51+O70+O89+O108 -> 3277 | P8: =O8/B8*100 -> 24.594716
A9: Berkembar Semi-detached | B9: =B33+B52+B71+B90+B109 -> 5595 | C9: =C33+C52+C71+C90+C109 -> 2923 | D9: =C9/B9*100 -> 52.243074 | E9: =E33+E52+E71+E90+E109 -> 420 | F9: =E9/B9*100 -> 7.5067024 | G9: =G33+G52+G71+G90+G109 -> 1036 | H9: =G9/B9*100 -> 18.516533 | I9: =I33+I52+I71+I90+I109 -> 115 | J9: =I9/B9*100 -> 2.0554066 | K9: =K33+K52+K71+K90+K109 -> 42 | L9: =K9/B9*100 -> 0.75067024 | M9: =M33+M52+M71+M90+M109 -> 29 | N9: =M9/B9*100 -> 0.51831993 | O9: =O33+O52+O71+O90+O109 -> 1030 | P9: =O9/B9*100 -> 18.409294
A10: Teres/ Berangkai/ Berkelompok Terrace/ Link/ Cluster | B10: =B34+B53+B72+B91+B110 -> 28140 | C10: =C34+C53+C72+C91+C110 -> 13199 | D10: =C10/B10*100 -> 46.904762 | E10: =E34+E53+E72+E91+E110 -> 2217 | F10: =E10/B10*100 -> 7.8784648 | G10: =G34+G53+G72+G91+G110 -> 5963 | H10: =G10/B10*100 -> 21.190476 | I10: =I34+I53+I72+I91+I110 -> 505 | J10: =I10/B10*100 -> 1.7945984 | K10: =K34+K53+K72+K91+K110 -> 348 | L10: =K10/B10*100 -> 1.2366738 | M10: =M34+M53+M72+M91+M110 -> 208 | N10: =M10/B10*100 -> 0.73916134 | O10: =O34+O53+O72+O91+O110 -> 5700 | P10: =O10/B10*100 -> 20.255864
A11: Rumah bandar Townhouse | B11: =B35+B54+B73+B92+B111 -> 1003 | C11: =C35+C54+C73+C92+C111 -> 496 | D11: =C11/B11*100 -> 49.451645 | E11: =E35+E54+E73+E92+E111 -> 70 | F11: =E11/B11*100 -> 6.9790628 | G11: =G35+G54+G73+G92+G111 -> 131 | H11: =G11/B11*100 -> 13.060818 | I11: =I35+I54+I73+I92+I111 -> 4 | J11: =I11/B11*100 -> 0.39880359 | K11: =K35+K54+K73+K92+K111 -> 6 | L11: =K11/B11*100 -> 0.59820538 | M11: =M35+M54+M73+M92+M111 -> 1 | N11: =M11/B11*100 -> 0.099700897 | O11: =O35+O54+O73+O92+O111 -> 295 | P11: =O11/B11*100 -> 29.411765
A12: Rumah pangsa/ Pangsapuri/ Kondominium Flat/ Apartment/ Condominium | B12: =B36+B55+B74+B93+B112 -> 63885 | C12: =C36+C55+C74+C93+C112 -> 31512 | D12: =C12/B12*100 -> 49.326133 | E12: =E36+E55+E74+E93+E112 -> 3427 | F12: =E12/B12*100 -> 5.3643265 | G12: =G36+G55+G74+G93+G112 -> 17093 | H12: =G12/B12*100 -> 26.755889 | I12: =I36+I55+I74+I93+I112 -> 1017 | J12: =I12/B12*100 -> 1.591923 | K12: =K36+K55+K74+K93+K112 -> 555 | L12: =K12/B12*100 -> 0.86874853 | M12: =M36+M55+M74+M93+M112 -> 107 | N12: =M12/B12*100 -> 0.16748846 | O12: =O36+O55+O74+O93+O112 -> 10174 | P12: =O12/B12*100 -> 15.925491
A13: Pangsapuri khidmat/ Services apartment Small Office Home Office (SOHO)/ Small Office Flexible Office (SOFO)/ Small Office Versatile Office (SOVO) | B13: =B37+B56+B75+B94+B113 -> 373 | C13: =C37+C56+C75+C94+C113 -> 117 | D13: =C13/B13*100 -> 31.367292 | E13: =E37+E56+E75+E94+E113 -> 6 | F13: =E13/B13*100 -> 1.6085791 | G13: =G37+G56+G75+G94+G113 -> 39 | H13: =G13/B13*100 -> 10.455764 | I13: =I37+I56+I75+I94+I113 -> 70 | J13: =I13/B13*100 -> 18.766756 | K13: =K37+K56+K75+K94+K113 -> 68 | L13: =K13/B13*100 -> 18.230563 | M13: 0 | N13: 0 | O13: =O37+O56+O75+O94+O113 -> 73 | P13: =O13/B13*100 -> 19.571046
A14: Rumah kedai/ Pejabat Shophouse/ Office | B14: =B38+B57+B76+B95+B114 -> 381 | C14: =C38+C57+C76+C95+C114 -> 160 | D14: =C14/B14*100 -> 41.994751 | E14: =E38+E57+E76+E95+E114 -> 12 | F14: =E14/B14*100 -> 3.1496063 | G14: =G38+G57+G76+G95+G114 -> 48 | H14: =G14/B14*100 -> 12.598425 | I14: =I38+I57+I76+I95+I114 -> 11 | J14: =I14/B14*100 -> 2.8871391 | K14: =K38+K57+K76+K95+K114 -> 14 | L14: =K14/B14*100 -> 3.6745407 | M14: =M38+M57+M76+M95+M114 -> 7 | N14: =M14/B14*100 -> 1.8372703 | O14: =O38+O57+O76+O95+O114 -> 129 | P14: =O14/B14*100 -> 33.858268
A15: Rumah panjang Longhouse | B15: 0 | C15: 0 | D15: 0 | E15: 0 | F15: 0 | G15: 0 | H15: 0 | I15: 0 | J15: 0 | K15: 0 | L15: 0 | M15: 0 | N15: 0 | O15: 0 | P15: 0
A16: Pondok gantian/ Sementara Improvised/ Temporary hut | B16: =B40+B59+B78+B97+B116 -> 10 | C16: =C40+C59+C78+C97+C116 -> 1 | D16: =C16/B16*100 -> 10 | E16: =E40+E59+E78+E97+E116 -> 2 | F16: =E16/B16*100 -> 20 | G16: =G40+G59+G78+G97+G116 -> 2 | H16: =G16/B16*100 -> 20 | I16: 0 | J16: 0 | K16: =K40+K59+K78+K97+K116 -> 1 | L16: =K16/B16*100 -> 10 | M16: 0 | N16: 0 | O16: =O40+O59+O78+O97+O116 -> 4 | P16: =O16/B16*100 -> 40
A17: Bilik Room | B17: =B41+B60+B79+B98+B117 -> 22 | C17: =C41+C60+C79+C98+C117 -> 2 | D17: =C17/B17*100 -> 9.0909091 | E17: =E41+E60+E79+E98+E117 -> 1 | F17: =E17/B17*100 -> 4.5454545 | G17: =G41+G60+G79+G98+G117 -> 16 | H17: =G17/B17*100 -> 72.727273 | I17: 0 | J17: 0 | K17: 0 | L17: 0 | M17: 0 | N17: 0 | O17: =O41+O60+O79+O98+O117 -> 3 | P17: =O17/B17*100 -> 13.636364
A18: Rumah kampung air Water village house | B18: 0 | C18: 0 | D18: 0 | E18: 0 | F18: 0 | G18: 0 | H18: 0 | I18: 0 | J18: 0 | K18: 0 | L18: 0 | M18: 0 | N18: 0 | O18: 0 | P18: 0
A19: Lain-lain Others | B19: =B43+B62+B81+B100+B119 -> 1486 | C19: =C43+C62+C81+C100+C119 -> 463 | D19: =C19/B19*100 -> 31.15747 | E19: =E43+E62+E81+E100+E119 -> 268 | F19: =E19/B19*100 -> 18.034993 | G19: =G43+G62+G81+G100+G119 -> 268 | H19: =G19/B19*100 -> 18.034993 | I19: =I43+I62+I81+I100+I119 -> 7 | J19: =I19/B19*100 -> 0.47106326 | K19: =K43+K62+K81+K100+K119 -> 23 | L19: =K19/B19*100 -> 1.5477793 | M19: =M43+M62+M81+M100+M119 -> 15 | N19: =M19/B19*100 -> 1.0094213 | O19: =O43+O62+O81+O100+O119 -> 442 | P19: =O19/B19*100 -> 29.74428
A22: Nota/ Note:
A23: Statistik ini merujuk kepada pelaporan oleh responden
A24: The statistics refer to self-declaration by respondent
A25: Jadual 5: Bilangan dan peratus unit perumahan mengikut jenis unit perumahan, sebab kekosongan, daerah pentadbiran dan negeri, Malaysia, 2020 (samb.)
A26: Table 5: Number and percentage of housing units by type of housing units, reason for vacancy, administrative district and state, Malaysia, 2020 (cont'd)
A28: Negeri/ Daerah Pentadbiran/ Jenis tempat kediaman State/ Administrative District/ Type of living quarters | B28: Jumlah Total | C28: Sebab kekosongan Reason for vacancy
C29: Baru siap/ untuk disewa atau dijual New completed/ for rent or sale | D29: % | E29: Untuk dibaiki/ ubahsuai For repair/ renovation | F29: % | G29: Rumah peranginan/ Persinggahan Holiday resort/ Transit | H29: % | I29: Homestay | J29: % | K29: Rumah pekerja bermusim Seasonal workers quarters | L29: % | M29: Hampir roboh Dilapidated | N29: % | O29: Lain-lain Others | P29: %
A30: Seberang Perai Tengah
A31: Unit perumahan Housing unit | B31: =SUM(B32:B43) -> 25381 | C31: =SUM(C32:C43) -> 14794 | D31: =C31/B31*100 -> 58.287696 | E31: =SUM(E32:E43) -> 2028 | F31: =E31/B31*100 -> 7.9902289 | G31: =SUM(G32:G43) -> 4070 | H31: =G31/B31*100 -> 16.035617 | I31: =SUM(I32:I43) -> 231 | J31: =I31/B31*100 -> 0.91012962 | K31: =SUM(K32:K43) -> 296 | L31: =K31/B31*100 -> 1.1662267 | M31: =SUM(M32:M43) -> 183 | N31: =M31/B31*100 -> 0.72101178 | O31: =SUM(O32:O43) -> 3779 | P31: =O31/B31*100 -> 14.88909
A32: Sesebuah Detached | B32: 4948 | C32: 2201 | D32: =C32/B32*100 -> 44.482619 | E32: 621 | F32: =E32/B32*100 -> 12.550525 | G32: 909 | H32: =G32/B32*100 -> 18.371059 | I32: 81 | J32: =I32/B32*100 -> 1.6370251 | K32: 39 | L32: =K32/B32*100 -> 0.78819725 | M32: 122 | N32: =M32/B32*100 -> 2.4656427 | O32: 975 | P32: =O32/B32*100 -> 19.704931
A33: Berkembar Semi-detached | B33: 1995 | C33: 1193 | D33: =C33/B33*100 -> 59.799499 | E33: 178 | F33: =E33/B33*100 -> 8.9223058 | G33: 308 | H33: =G33/B33*100 -> 15.438596 | I33: 30 | J33: =I33/B33*100 -> 1.5037594 | K33: 6 | L33: =K33/B33*100 -> 0.30075188 | M33: 7 | N33: =M33/B33*100 -> 0.35087719 | O33: 273 | P33: =O33/B33*100 -> 13.684211
A34: Teres/ Berangkai/ Berkelompok Terrace/ Link/ Cluster | B34: 8991 | C34: 5088 | D34: =C34/B34*100 -> 56.589923 | E34: 741 | F34: =E34/B34*100 -> 8.2415749 | G34: 1686 | H34: =G34/B34*100 -> 18.752085 | I34: 86 | J34: =I34/B34*100 -> 0.95651207 | K34: 79 | L34: =K34/B34*100 -> 0.87865643 | M34: 23 | N34: =M34/B34*100 -> 0.25581137 | O34: 1288 | P34: =O34/B34*100 -> 14.325437
A35: Rumah bandar Townhouse | B35: 269 | C35: 216 | D35: =C35/B35*100 -> 80.297398 | E35: 24 | F35: =E35/B35*100 -> 8.9219331 | G35: 25 | H35: =G35/B35*100 -> 9.2936803 | I35: 2 | J35: =I35/B35*100 -> 0.74349442 | K35: 0 | L35: 0 | M35: 0 | N35: 0 | O35: 2 | P35: =O35/B35*100 -> 0.74349442
A36: Rumah pangsa/ Pangsapuri/ Kondominium Flat/ Apartment/ Condominium | B36: 8763 | C36: 5884 | D36: =C36/B36*100 -> 67.145955 | E36: 431 | F36: =E36/B36*100 -> 4.9184069 | G36: 1130 | H36: =G36/B36*100 -> 12.895127 | I36: 30 | J36: =I36/B36*100 -> 0.34234851 | K36: 152 | L36: =K36/B36*100 -> 1.7345658 | M36: 21 | N36: =M36/B36*100 -> 0.23964396 | O36: 1115 | P36: =O36/B36*100 -> 12.723953
A37: Pangsapuri khidmat/ Services apartment Small Office Home Office (SOHO)/ Small Office Flexible Office (SOFO)/ Small Office Versatile Office (SOVO) | B37: 17 | C37: 8 | D37: =C37/B37*100 -> 47.058824 | E37: 3 | F37: =E37/B37*100 -> 17.647059 | G37: 6 | H37: =G37/B37*100 -> 35.294118 | I37: 0 | J37: 0 | K37: 0 | L37: 0 | M37: 0 | N37: 0 | O37: 0 | P37: 0
A38: Rumah kedai/ Pejabat Shophouse/ Office | B38: 106 | C38: 68 | D38: =C38/B38*100 -> 64.150943 | E38: 5 | F38: =E38/B38*100 -> 4.7169811 | G38: 0 | H38: 0 | I38: 0 | J38: 0 | K38: 13 | L38: =K38/B38*100 -> 12.264151 | M38: 0 | N38: 0 | O38: 20 | P38: =O38/B38*100 -> 18.867925
A39: Rumah panjang Longhouse | B39: 0 | C39: 0 | D39: 0 | E39: 0 | F39: 0 | G39: 0 | H39: 0 | I39: 0 | J39: 0 | K39: 0 | L39: 0 | M39: 0 | N39: 0 | O39: 0 | P39: 0
A40: Pondok gantian/ Sementara Improvised/ Temporary hut | B40: 0 | C40: 0 | D40: 0 | E40: 0 | F40: 0 | G40: 0 | H40: 0 | I40: 0 | J40: 0 | K40: 0 | L40: 0 | M40: 0 | N40: 0 | O40: 0 | P40: 0
A41: Bilik Room | B41: 2 | C41: 1 | D41: =C41/B41*100 -> 50 | E41: 1 | F41: =E41/B41*100 -> 50 | G41: 0 | H41: 0 | I41: 0 | J41: 0 | K41: 0 | L41: 0 | M41: 0 | N41: 0 | O41: 0 | P41: 0
A42: Rumah kampung air Water village house | B42: 0 | C42: 0 | D42: 0 | E42: 0 | F42: 0 | G42: 0 | H42: 0 | I42: 0 | J42: 0 | K42: 0 | L42: 0 | M42: 0 | N42: 0 | O42: 0 | P42: 0
A43: Lain-lain Others | B43: 290 | C43: 135 | D43: =C43/B43*100 -> 46.551724 | E43: 24 | F43: =E43/B43*100 -> 8.2758621 | G43: 6 | H43: =G43/B43*100 -> 2.0689655 | I43: 2 | J43: =I43/B43*100 -> 0.68965517 | K43: 7 | L43: =K43/B43*100 -> 2.4137931 | M43: 10 | N43: =M43/B43*100 -> 3.4482759 | O43: 106 | P43: =O43/B43*100 -> 36.551724
A46: Nota/ Note:
A47: Statistik ini merujuk kepada pelaporan oleh responden
A48: The statistics refer to self-declaration by respondent
A49: Seberang Perai Utara
A50: Unit perumahan Housing unit | B50: =SUM(B51:B62) -> 15357 | C50: =SUM(C51:C62) -> 5682 | D50: =C50/B50*100 -> 36.999414 | E50: =SUM(E51:E62) -> 1269 | F50: =E50/B50*100 -> 8.2633327 | G50: =SUM(G51:G62) -> 3537 | H50: =G50/B50*100 -> 23.031842 | I50: =SUM(I51:I62) -> 237 | J50: =I50/B50*100 -> 1.5432702 | K50: =SUM(K51:K62) -> 78 | L50: =K50/B50*100 -> 0.5079117 | M50: =SUM(M51:M62) -> 166 | N50: =M50/B50*100 -> 1.0809403 | O50: =SUM(O51:O62) -> 4388 | P50: =O50/B50*100 -> 28.573289
A51: Sesebuah Detached | B51: 2816 | C51: 720 | D51: =C51/B51*100 -> 25.568182 | E51: 339 | F51: =E51/B51*100 -> 12.038352 | G51: 578 | H51: =G51/B51*100 -> 20.525568 | I51: 79 | J51: =I51/B51*100 -> 2.8053977 | K51: 51 | L51: =K51/B51*100 -> 1.8110795 | M51: 136 | N51: =M51/B51*100 -> 4.8295455 | O51: 913 | P51: =O51/B51*100 -> 32.421875
A52: Berkembar Semi-detached | B52: 570 | C52: 134 | D52: =C52/B52*100 -> 23.508772 | E52: 26 | F52: =E52/B52*100 -> 4.5614035 | G52: 140 | H52: =G52/B52*100 -> 24.561404 | I52: 5 | J52: =I52/B52*100 -> 0.87719298 | K52: 3 | L52: =K52/B52*100 -> 0.52631579 | M52: 8 | N52: =M52/B52*100 -> 1.4035088 | O52: 254 | P52: =O52/B52*100 -> 44.561404
A53: Teres/ Berangkai/ Berkelompok Terrace/ Link/ Cluster | B53: 5209 | C53: 1743 | D53: =C53/B53*100 -> 33.461317 | E53: 312 | F53: =E53/B53*100 -> 5.9896333 | G53: 1355 | H53: =G53/B53*100 -> 26.01267 | I53: 121 | J53: =I53/B53*100 -> 2.3229027 | K53: 12 | L53: =K53/B53*100 -> 0.23037051 | M53: 7 | N53: =M53/B53*100 -> 0.1343828 | O53: 1659 | P53: =O53/B53*100 -> 31.848723
A54: Rumah bandar Townhouse | B54: 248 | C54: 29 | D54: =C54/B54*100 -> 11.693548 | E54: 11 | F54: =E54/B54*100 -> 4.4354839 | G54: 26 | H54: =G54/B54*100 -> 10.483871 | I54: 0 | J54: 0 | K54: 0 | L54: 0 | M54: 0 | N54: 0 | O54: 182 | P54: =O54/B54*100 -> 73.387097
A55: Rumah pangsa/ Pangsapuri/ Kondominium Flat/ Apartment/ Condominium | B55: 5697 | C55: 2836 | D55: =C55/B55*100 -> 49.780586 | E55: 358 | F55: =E55/B55*100 -> 6.2840091 | G55: 1240 | H55: =G55/B55*100 -> 21.765842 | I55: 32 | J55: =I55/B55*100 -> 0.56169914 | K55: 3 | L55: =K55/B55*100 -> 0.052659294 | M55: 15 | N55: =M55/B55*100 -> 0.26329647 | O55: 1213 | P55: =O55/B55*100 -> 21.291908
A56: Pangsapuri khidmat/ Services apartment Small Office Home Office (SOHO)/ Small Office Flexible Office (SOFO)/ Small Office Versatile Office (SOVO) | B56: 8 | C56: 0 | D56: 0 | E56: 0 | F56: 0 | G56: 1 | H56: =G56/B56*100 -> 12.5 | I56: 0 | J56: 0 | K56: 7 | L56: =K56/B56*100 -> 87.5 | M56: 0 | N56: 0 | O56: 0 | P56: 0
A57: Rumah kedai/ Pejabat Shophouse/ Office | B57: 9 | C57: 3 | D57: =C57/B57*100 -> 33.333333 | E57: 2 | F57: =E57/B57*100 -> 22.222222 | G57: 1 | H57: =G57/B57*100 -> 11.111111 | I57: 0 | J57: 0 | K57: 0 | L57: 0 | M57: 0 | N57: 0 | O57: 3 | P57: =O57/B57*100 -> 33.333333
A58: Rumah panjang Longhouse | B58: 0 | C58: 0 | D58: 0 | E58: 0 | F58: 0 | G58: 0 | H58: 0 | I58: 0 | J58: 0 | K58: 0 | L58: 0 | M58: 0 | N58: 0 | O58: 0 | P58: 0
A59: Pondok gantian/ Sementara Improvised/ Temporary hut | B59: 1 | C59: 0 | D59: 0 | E59: 1 | F59: =E59/B59*100 -> 100 | G59: 0 | H59: 0 | I59: 0 | J59: 0 | K59: 0 | L59: 0 | M59: 0 | N59: 0 | O59: 0 | P59: 0
A60: Bilik Room | B60: 16 | C60: 0 | D60: 0 | E60: 0 | F60: 0 | G60: 15 | H60: =G60/B60*100 -> 93.75 | I60: 0 | J60: 0 | K60: 0 | L60: 0 | M60: 0 | N60: 0 | O60: 1 | P60: =O60/B60*100 -> 6.25
