Workbook

Sheet Malaysia
A1: Jadual 5: Bilangan dan peratus unit perumahan mengikut jenis unit perumahan, sebab kekosongan, daerah pentadbiran dan negeri, Malaysia, 2020
A2: Table 5: Number and percentage of housing units by type of housing units, reason for vacancy, administrative district and state, Malaysia, 2020
A4: Negeri/ Daerah Pentadbiran/ Jenis tempat kediaman State/ Administrative District/ Type of living quarters | B4: Jumlah Total | C4: Sebab kekosongan Reason for vacancy
C5: Baru siap/ untuk disewa atau dijual New completed/ for rent or sale | D5: % | E5: Untuk dibaiki/ ubahsuai For repair/ renovation | F5: % | G5: Rumah peranginan/ Persinggahan Holiday resort/ Transit | H5: % | I5: Homestay | J5: % | K5: Rumah pekerja bermusim Seasonal workers quarters | L5: % | M5: Hampir roboh Dilapidated | N5: % | O5: Lain-lain Others | P5: %
A6: MALAYSIA
A7: Unit perumahan Housing unit | B7: =Johor!B7+Kedah!B7+Kelantan!B7+Melaka!B7+'Negeri Sembilan'!B7+Pahang!B7+P.Pinang!B7+Perak!B7+Perlis!B7+Selangor!B7+Terengganu!B7+Sabah!B7+Sarawak!B7+WPKL!B7+'WP Labuan'!B7+'WP Putrajaya'!B7 -> 1852482 | C7: =Johor!C7+Kedah!C7+Kelantan!C7+Melaka!C7+'Negeri Sembilan'!C7+Pahang!C7+P.Pinang!C7+Perak!C7+Perlis!C7+Selangor!C7+Terengganu!C7+Sabah!C7+Sarawak!C7+WPKL!C7+'WP Labuan'!C7+'WP Putrajaya'!C7 -> 706968 | D7: =C7/B7*100 -> 38.163286 | E7: =Johor!E7+Kedah!E7+Kelantan!E7+Melaka!E7+'Negeri Sembilan'!E7+Pahang!E7+P.Pinang!E7+Perak!E7+Perlis!E7+Selangor!E7+Terengganu!E7+Sabah!E7+Sarawak!E7+WPKL!E7+'WP Labuan'!E7+'WP Putrajaya'!E7 -> 101460 | F7: =E7/B7*100 -> 5.4769763 | G7: =Johor!G7+Kedah!G7+Kelantan!G7+Melaka!G7+'Negeri Sembilan'!G7+Pahang!G7+P.Pinang!G7+Perak!G7+Perlis!G7+Selangor!G7+Terengganu!G7+Sabah!G7+Sarawak!G7+WPKL!G7+'WP Labuan'!G7+'WP Putrajaya'!G7 -> 436138 | H7: =G7/B7*100 -> 23.543441 | I7: =Johor!I7+Kedah!I7+Kelantan!I7+Melaka!I7+'Negeri Sembilan'!I7+Pahang!I7+P.Pinang!I7+Perak!I7+Perlis!I7+Selangor!I7+Terengganu!I7+Sabah!I7+Sarawak!I7+WPKL!I7+'WP Labuan'!I7+'WP Putrajaya'!I7 -> 42853 | J7: =I7/B7*100 -> 2.3132748 | K7: =Johor!K7+Kedah!K7+Kelantan!K7+Melaka!K7+'Negeri Sembilan'!K7+Pahang!K7+P.Pinang!K7+Perak!K7+Perlis!K7+Selangor!K7+Terengganu!K7+Sabah!K7+Sarawak!K7+WPKL!K7+'WP Labuan'!K7+'WP Putrajaya'!K7 -> 40775 | L7: =K7/B7*100 -> 2.201101 | M7: =Johor!M7+Kedah!M7+Kelantan!M7+Melaka!M7+'Negeri Sembilan'!M7+Pahang!M7+P.Pinang!M7+Perak!M7+Perlis!M7+Selangor!M7+Terengganu!M7+Sabah!M7+Sarawak!M7+WPKL!M7+'WP Labuan'!M7+'WP Putrajaya'!M7 -> 37622 | N7: =M7/B7*100 -> 2.0308969 | O7: =Johor!O7+Kedah!O7+Kelantan!O7+Melaka!O7+'Negeri Sembilan'!O7+Pahang!O7+P.Pinang!O7+Perak!O7+Perlis!O7+Selangor!O7+Terengganu!O7+Sabah!O7+Sarawak!O7+WPKL!O7+'WP Labuan'!O7+'WP Putrajaya'!O7 -> 486644 | P7: =O7/B7*100 -> 26.269837
A8: Sesebuah Detached | B8: =Johor!B8+Kedah!B8+Kelantan!B8+Melaka!B8+'Negeri Sembilan'!B8+Pahang!B8+P.Pinang!B8+Perak!B8+Perlis!B8+Selangor!B8+Terengganu!B8+Sabah!B8+Sarawak!B8+WPKL!B8+'WP Labuan'!B8+'WP Putrajaya'!B8 -> 419133 | C8: =Johor!C8+Kedah!C8+Kelantan!C8+Melaka!C8+'Negeri Sembilan'!C8+Pahang!C8+P.Pinang!C8+Perak!C8+Perlis!C8+Selangor!C8+Terengganu!C8+Sabah!C8+Sarawak!C8+WPKL!C8+'WP Labuan'!C8+'WP Putrajaya'!C8 -> 74187 | D8: =C8/B8*100 -> 17.70011 | E8: =Johor!E8+Kedah!E8+Kelantan!E8+Melaka!E8+'Negeri Sembilan'!E8+Pahang!E8+P.Pinang!E8+Perak!E8+Perlis!E8+Selangor!E8+Terengganu!E8+Sabah!E8+Sarawak!E8+WPKL!E8+'WP Labuan'!E8+'WP Putrajaya'!E8 -> 24404 | F8: =E8/B8*100 -> 5.8224955 | G8: =Johor!G8+Kedah!G8+Kelantan!G8+Melaka!G8+'Negeri Sembilan'!G8+Pahang!G8+P.Pinang!G8+Perak!G8+Perlis!G8+Selangor!G8+Terengganu!G8+Sabah!G8+Sarawak!G8+WPKL!G8+'WP Labuan'!G8+'WP Putrajaya'!G8 -> 146570 | H8: =G8/B8*100 -> 34.969807 | I8: =Johor!I8+Kedah!I8+Kelantan!I8+Melaka!I8+'Negeri Sembilan'!I8+Pahang!I8+P.Pinang!I8+Perak!I8+Perlis!I8+Selangor!I8+Terengganu!I8+Sabah!I8+Sarawak!I8+WPKL!I8+'WP Labuan'!I8+'WP Putrajaya'!I8 -> 9147 | J8: =I8/B8*100 -> 2.1823622 | K8: =Johor!K8+Kedah!K8+Kelantan!K8+Melaka!K8+'Negeri Sembilan'!K8+Pahang!K8+P.Pinang!K8+Perak!K8+Perlis!K8+Selangor!K8+Terengganu!K8+Sabah!K8+Sarawak!K8+WPKL!K8+'WP Labuan'!K8+'WP Putrajaya'!K8 -> 8301 | L8: =K8/B8*100 -> 1.9805169 | M8: =Johor!M8+Kedah!M8+Kelantan!M8+Melaka!M8+'Negeri Sembilan'!M8+Pahang!M8+P.Pinang!M8+Perak!M8+Perlis!M8+Selangor!M8+Terengganu!M8+Sabah!M8+Sarawak!M8+WPKL!M8+'WP Labuan'!M8+'WP Putrajaya'!M8 -> 27043 | N8: =M8/B8*100 -> 6.4521286 | O8: =Johor!O8+Kedah!O8+Kelantan!O8+Melaka!O8+'Negeri Sembilan'!O8+Pahang!O8+P.Pinang!O8+Perak!O8+Perlis!O8+Selangor!O8+Terengganu!O8+Sabah!O8+Sarawak!O8+WPKL!O8+'WP Labuan'!O8+'WP Putrajaya'!O8 -> 129481 | P8: =O8/B8*100 -> 30.892581
A9: Berkembar Semi-detached | B9: =Johor!B9+Kedah!B9+Kelantan!B9+Melaka!B9+'Negeri Sembilan'!B9+Pahang!B9+P.Pinang!B9+Perak!B9+Perlis!B9+Selangor!B9+Terengganu!B9+Sabah!B9+Sarawak!B9+WPKL!B9+'WP Labuan'!B9+'WP Putrajaya'!B9 -> 124601 | C9: =Johor!C9+Kedah!C9+Kelantan!C9+Melaka!C9+'Negeri Sembilan'!C9+Pahang!C9+P.Pinang!C9+Perak!C9+Perlis!C9+Selangor!C9+Terengganu!C9+Sabah!C9+Sarawak!C9+WPKL!C9+'WP Labuan'!C9+'WP Putrajaya'!C9 -> 44143 | D9: =C9/B9*100 -> 35.427485 | E9: =Johor!E9+Kedah!E9+Kelantan!E9+Melaka!E9+'Negeri Sembilan'!E9+Pahang!E9+P.Pinang!E9+Perak!E9+Perlis!E9+Selangor!E9+Terengganu!E9+Sabah!E9+Sarawak!E9+WPKL!E9+'WP Labuan'!E9+'WP Putrajaya'!E9 -> 6498 | F9: =E9/B9*100 -> 5.2150464 | G9: =Johor!G9+Kedah!G9+Kelantan!G9+Melaka!G9+'Negeri Sembilan'!G9+Pahang!G9+P.Pinang!G9+Perak!G9+Perlis!G9+Selangor!G9+Terengganu!G9+Sabah!G9+Sarawak!G9+WPKL!G9+'WP Labuan'!G9+'WP Putrajaya'!G9 -> 29408 | H9: =G9/B9*100 -> 23.601737 | I9: =Johor!I9+Kedah!I9+Kelantan!I9+Melaka!I9+'Negeri Sembilan'!I9+Pahang!I9+P.Pinang!I9+Perak!I9+Perlis!I9+Selangor!I9+Terengganu!I9+Sabah!I9+Sarawak!I9+WPKL!I9+'WP Labuan'!I9+'WP Putrajaya'!I9 -> 3327 | J9: =I9/B9*100 -> 2.670123 | K9: =Johor!K9+Kedah!K9+Kelantan!K9+Melaka!K9+'Negeri Sembilan'!K9+Pahang!K9+P.Pinang!K9+Perak!K9+Perlis!K9+Selangor!K9+Terengganu!K9+Sabah!K9+Sarawak!K9+WPKL!K9+'WP Labuan'!K9+'WP Putrajaya'!K9 -> 6371 | L9: =K9/B9*100 -> 5.1131211 | M9: =Johor!M9+Kedah!M9+Kelantan!M9+Melaka!M9+'Negeri Sembilan'!M9+Pahang!M9+P.Pinang!M9+Perak!M9+Perlis!M9+Selangor!M9+Terengganu!M9+Sabah!M9+Sarawak!M9+WPKL!M9+'WP Labuan'!M9+'WP Putrajaya'!M9 -> 2006 | N9: =M9/B9*100 -> 1.6099389 | O9: =Johor!O9+Kedah!O9+Kelantan!O9+Melaka!O9+'Negeri Sembilan'!O9+Pahang!O9+P.Pinang!O9+Perak!O9+Perlis!O9+Selangor!O9+Terengganu!O9+Sabah!O9+Sarawak!O9+WPKL!O9+'WP Labuan'!O9+'WP Putrajaya'!O9 -> 32848 | P9: =O9/B9*100 -> 26.362549
A10: Teres/ Berangkai/ Berkelompok Terrace/ Link/ Cluster | B10: =Johor!B10+Kedah!B10+Kelantan!B10+Melaka!B10+'Negeri Sembilan'!B10+Pahang!B10+P.Pinang!B10+Perak!B10+Perlis!B10+Selangor!B10+Terengganu!B10+Sabah!B10+Sarawak!B10+WPKL!B10+'WP Labuan'!B10+'WP Putrajaya'!B10 -> 645564 | C10: =Johor!C10+Kedah!C10+Kelantan!C10+Melaka!C10+'Negeri Sembilan'!C10+Pahang!C10+P.Pinang!C10+Perak!C10+Perlis!C10+Selangor!C10+Terengganu!C10+Sabah!C10+Sarawak!C10+WPKL!C10+'WP Labuan'!C10+'WP Putrajaya'!C10 -> 270735 | D10: =C10/B10*100 -> 41.937747 | E10: =Johor!E10+Kedah!E10+Kelantan!E10+Melaka!E10+'Negeri Sembilan'!E10+Pahang!E10+P.Pinang!E10+Perak!E10+Perlis!E10+Selangor!E10+Terengganu!E10+Sabah!E10+Sarawak!E10+WPKL!E10+'WP Labuan'!E10+'WP Putrajaya'!E10 -> 38658 | F10: =E10/B10*100 -> 5.9882521 | G10: =Johor!G10+Kedah!G10+Kelantan!G10+Melaka!G10+'Negeri Sembilan'!G10+Pahang!G10+P.Pinang!G10+Perak!G10+Perlis!G10+Selangor!G10+Terengganu!G10+Sabah!G10+Sarawak!G10+WPKL!G10+'WP Labuan'!G10+'WP Putrajaya'!G10 -> 152991 | H10: =G10/B10*100 -> 23.698812 | I10: =Johor!I10+Kedah!I10+Kelantan!I10+Melaka!I10+'Negeri Sembilan'!I10+Pahang!I10+P.Pinang!I10+Perak!I10+Perlis!I10+Selangor!I10+Terengganu!I10+Sabah!I10+Sarawak!I10+WPKL!I10+'WP Labuan'!I10+'WP Putrajaya'!I10 -> 14173 | J10: =I10/B10*100 -> 2.1954446 | K10: =Johor!K10+Kedah!K10+Kelantan!K10+Melaka!K10+'Negeri Sembilan'!K10+Pahang!K10+P.Pinang!K10+Perak!K10+Perlis!K10+Selangor!K10+Terengganu!K10+Sabah!K10+Sarawak!K10+WPKL!K10+'WP Labuan'!K10+'WP Putrajaya'!K10 -> 13914 | L10: =K10/B10*100 -> 2.1553246 | M10: =Johor!M10+Kedah!M10+Kelantan!M10+Melaka!M10+'Negeri Sembilan'!M10+Pahang!M10+P.Pinang!M10+Perak!M10+Perlis!M10+Selangor!M10+Terengganu!M10+Sabah!M10+Sarawak!M10+WPKL!M10+'WP Labuan'!M10+'WP Putrajaya'!M10 -> 5074 | N10: =M10/B10*100 -> 0.78597939 | O10: =Johor!O10+Kedah!O10+Kelantan!O10+Melaka!O10+'Negeri Sembilan'!O10+Pahang!O10+P.Pinang!O10+Perak!O10+Perlis!O10+Selangor!O10+Terengganu!O10+Sabah!O10+Sarawak!O10+WPKL!O10+'WP Labuan'!O10+'WP Putrajaya'!O10 -> 150019 | P10: =O10/B10*100 -> 23.23844
A11: Rumah bandar Townhouse | B11: =Johor!B11+Kedah!B11+Kelantan!B11+Melaka!B11+'Negeri Sembilan'!B11+Pahang!B11+P.Pinang!B11+Perak!B11+Perlis!B11+Selangor!B11+Terengganu!B11+Sabah!B11+Sarawak!B11+WPKL!B11+'WP Labuan'!B11+'WP Putrajaya'!B11 -> 12594 | C11: =Johor!C11+Kedah!C11+Kelantan!C11+Melaka!C11+'Negeri Sembilan'!C11+Pahang!C11+P.Pinang!C11+Perak!C11+Perlis!C11+Selangor!C11+Terengganu!C11+Sabah!C11+Sarawak!C11+WPKL!C11+'WP Labuan'!C11+'WP Putrajaya'!C11 -> 7893 | D11: =C11/B11*100 -> 62.672701 | E11: =Johor!E11+Kedah!E11+Kelantan!E11+Melaka!E11+'Negeri Sembilan'!E11+Pahang!E11+P.Pinang!E11+Perak!E11+Perlis!E11+Selangor!E11+Terengganu!E11+Sabah!E11+Sarawak!E11+WPKL!E11+'WP Labuan'!E11+'WP Putrajaya'!E11 -> 389 | F11: =E11/B11*100 -> 3.0887724 | G11: =Johor!G11+Kedah!G11+Kelantan!G11+Melaka!G11+'Negeri Sembilan'!G11+Pahang!G11+P.Pinang!G11+Perak!G11+Perlis!G11+Selangor!G11+Terengganu!G11+Sabah!G11+Sarawak!G11+WPKL!G11+'WP Labuan'!G11+'WP Putrajaya'!G11 -> 1743 | H11: =G11/B11*100 -> 13.839924 | I11: =Johor!I11+Kedah!I11+Kelantan!I11+Melaka!I11+'Negeri Sembilan'!I11+Pahang!I11+P.Pinang!I11+Perak!I11+Perlis!I11+Selangor!I11+Terengganu!I11+Sabah!I11+Sarawak!I11+WPKL!I11+'WP Labuan'!I11+'WP Putrajaya'!I11 -> 164 | J11: =I11/B11*100 -> 1.3022074 | K11: =Johor!K11+Kedah!K11+Kelantan!K11+Melaka!K11+'Negeri Sembilan'!K11+Pahang!K11+P.Pinang!K11+Perak!K11+Perlis!K11+Selangor!K11+Terengganu!K11+Sabah!K11+Sarawak!K11+WPKL!K11+'WP Labuan'!K11+'WP Putrajaya'!K11 -> 76 | L11: =K11/B11*100 -> 0.60346197 | M11: =Johor!M11+Kedah!M11+Kelantan!M11+Melaka!M11+'Negeri Sembilan'!M11+Pahang!M11+P.Pinang!M11+Perak!M11+Perlis!M11+Selangor!M11+Terengganu!M11+Sabah!M11+Sarawak!M11+WPKL!M11+'WP Labuan'!M11+'WP Putrajaya'!M11 -> 21 | N11: =M11/B11*100 -> 0.16674607 | O11: =Johor!O11+Kedah!O11+Kelantan!O11+Melaka!O11+'Negeri Sembilan'!O11+Pahang!O11+P.Pinang!O11+Perak!O11+Perlis!O11+Selangor!O11+Terengganu!O11+Sabah!O11+Sarawak!O11+WPKL!O11+'WP Labuan'!O11+'WP Putrajaya'!O11 -> 2307 | P11: =O11/B11*100 -> 18.318247
A12: Rumah pangsa/ Pangsapuri/ Kondominium Flat/ Apartment/ Condominium | B12: =Johor!B12+Kedah!B12+Kelantan!B12+Melaka!B12+'Negeri Sembilan'!B12+Pahang!B12+P.Pinang!B12+Perak!B12+Perlis!B12+Selangor!B12+Terengganu!B12+Sabah!B12+Sarawak!B12+WPKL!B12+'WP Labuan'!B12+'WP Putrajaya'!B12 -> 515359 | C12: =Johor!C12+Kedah!C12+Kelantan!C12+Melaka!C12+'Negeri Sembilan'!C12+Pahang!C12+P.Pinang!C12+Perak!C12+Perlis!C12+Selangor!C12+Terengganu!C12+Sabah!C12+Sarawak!C12+WPKL!C12+'WP Labuan'!C12+'WP Putrajaya'!C12 -> 262210 | D12: =C12/B12*100 -> 50.879096 | E12: =Johor!E12+Kedah!E12+Kelantan!E12+Melaka!E12+'Negeri Sembilan'!E12+Pahang!E12+P.Pinang!E12+Perak!E12+Perlis!E12+Selangor!E12+Terengganu!E12+Sabah!E12+Sarawak!E12+WPKL!E12+'WP Labuan'!E12+'WP Putrajaya'!E12 -> 27687 | F12: =E12/B12*100 -> 5.3723715 | G12: =Johor!G12+Kedah!G12+Kelantan!G12+Melaka!G12+'Negeri Sembilan'!G12+Pahang!G12+P.Pinang!G12+Perak!G12+Perlis!G12+Selangor!G12+Terengganu!G12+Sabah!G12+Sarawak!G12+WPKL!G12+'WP Labuan'!G12+'WP Putrajaya'!G12 -> 84349 | H12: =G12/B12*100 -> 16.367037 | I12: =Johor!I12+Kedah!I12+Kelantan!I12+Melaka!I12+'Negeri Sembilan'!I12+Pahang!I12+P.Pinang!I12+Perak!I12+Perlis!I12+Selangor!I12+Terengganu!I12+Sabah!I12+Sarawak!I12+WPKL!I12+'WP Labuan'!I12+'WP Putrajaya'!I12 -> 14331 | J12: =I12/B12*100 -> 2.78078 | K12: =Johor!K12+Kedah!K12+Kelantan!K12+Melaka!K12+'Negeri Sembilan'!K12+Pahang!K12+P.Pinang!K12+Perak!K12+Perlis!K12+Selangor!K12+Terengganu!K12+Sabah!K12+Sarawak!K12+WPKL!K12+'WP Labuan'!K12+'WP Putrajaya'!K12 -> 7257 | L12: =K12/B12*100 -> 1.4081446 | M12: =Johor!M12+Kedah!M12+Kelantan!M12+Melaka!M12+'Negeri Sembilan'!M12+Pahang!M12+P.Pinang!M12+Perak!M12+Perlis!M12+Selangor!M12+Terengganu!M12+Sabah!M12+Sarawak!M12+WPKL!M12+'WP Labuan'!M12+'WP Putrajaya'!M12 -> 1932 | N12: =M12/B12*100 -> 0.3748843 | O12: =Johor!O12+Kedah!O12+Kelantan!O12+Melaka!O12+'Negeri Sembilan'!O12+Pahang!O12+P.Pinang!O12+Perak!O12+Perlis!O12+Selangor!O12+Terengganu!O12+Sabah!O12+Sarawak!O12+WPKL!O12+'WP Labuan'!O12+'WP Putrajaya'!O12 -> 117593 | P12: =O12/B12*100 -> 22.817686
A13: Pangsapuri khidmat/ Services apartment Small Office Home Office (SOHO)/ Small Office Flexible Office (SOFO)/ Small Office Versatile Office (SOVO) | B13: =Johor!B13+Kedah!B13+Kelantan!B13+Melaka!B13+'Negeri Sembilan'!B13+Pahang!B13+P.Pinang!B13+Perak!B13+Perlis!B13+Selangor!B13+Terengganu!B13+Sabah!B13+Sarawak!B13+WPKL!B13+'WP Labuan'!B13+'WP Putrajaya'!B13 -> 32552 | C13: =Johor!C13+Kedah!C13+Kelantan!C13+Melaka!C13+'Negeri Sembilan'!C13+Pahang!C13+P.Pinang!C13+Perak!C13+Perlis!C13+Selangor!C13+Terengganu!C13+Sabah!C13+Sarawak!C13+WPKL!C13+'WP Labuan'!C13+'WP Putrajaya'!C13 -> 18086 | D13: =C13/B13*100 -> 55.560334 | E13: =Johor!E13+Kedah!E13+Kelantan!E13+Melaka!E13+'Negeri Sembilan'!E13+Pahang!E13+P.Pinang!E13+Perak!E13+Perlis!E13+Selangor!E13+Terengganu!E13+Sabah!E13+Sarawak!E13+WPKL!E13+'WP Labuan'!E13+'WP Putrajaya'!E13 -> 650 | F13: =E13/B13*100 -> 1.9968051 | G13: =Johor!G13+Kedah!G13+Kelantan!G13+Melaka!G13+'Negeri Sembilan'!G13+Pahang!G13+P.Pinang!G13+Perak!G13+Perlis!G13+Selangor!G13+Terengganu!G13+Sabah!G13+Sarawak!G13+WPKL!G13+'WP Labuan'!G13+'WP Putrajaya'!G13 -> 4758 | H13: =G13/B13*100 -> 14.616613 | I13: =Johor!I13+Kedah!I13+Kelantan!I13+Melaka!I13+'Negeri Sembilan'!I13+Pahang!I13+P.Pinang!I13+Perak!I13+Perlis!I13+Selangor!I13+Terengganu!I13+Sabah!I13+Sarawak!I13+WPKL!I13+'WP Labuan'!I13+'WP Putrajaya'!I13 -> 1153 | J13: =I13/B13*100 -> 3.5420251 | K13: =Johor!K13+Kedah!K13+Kelantan!K13+Melaka!K13+'Negeri Sembilan'!K13+Pahang!K13+P.Pinang!K13+Perak!K13+Perlis!K13+Selangor!K13+Terengganu!K13+Sabah!K13+Sarawak!K13+WPKL!K13+'WP Labuan'!K13+'WP Putrajaya'!K13 -> 329 | L13: =K13/B13*100 -> 1.0106906 | M13: =Johor!M13+Kedah!M13+Kelantan!M13+Melaka!M13+'Negeri Sembilan'!M13+Pahang!M13+P.Pinang!M13+Perak!M13+Perlis!M13+Selangor!M13+Terengganu!M13+Sabah!M13+Sarawak!M13+WPKL!M13+'WP Labuan'!M13+'WP Putrajaya'!M13 -> 13 | N13: =M13/B13*100 -> 0.039936102 | O13: =Johor!O13+Kedah!O13+Kelantan!O13+Melaka!O13+'Negeri Sembilan'!O13+Pahang!O13+P.Pinang!O13+Perak!O13+Perlis!O13+Selangor!O13+Terengganu!O13+Sabah!O13+Sarawak!O13+WPKL!O13+'WP Labuan'!O13+'WP Putrajaya'!O13 -> 7563 | P13: =O13/B13*100 -> 23.233595
A14: Rumah kedai/ Pejabat Shophouse/ Office | B14: =Johor!B14+Kedah!B14+Kelantan!B14+Melaka!B14+'Negeri Sembilan'!B14+Pahang!B14+P.Pinang!B14+Perak!B14+Perlis!B14+Selangor!B14+Terengganu!B14+Sabah!B14+Sarawak!B14+WPKL!B14+'WP Labuan'!B14+'WP Putrajaya'!B14 -> 50465 | C14: =Johor!C14+Kedah!C14+Kelantan!C14+Melaka!C14+'Negeri Sembilan'!C14+Pahang!C14+P.Pinang!C14+Perak!C14+Perlis!C14+Selangor!C14+Terengganu!C14+Sabah!C14+Sarawak!C14+WPKL!C14+'WP Labuan'!C14+'WP Putrajaya'!C14 -> 23916 | D14: =C14/B14*100 -> 47.391261 | E14: =Johor!E14+Kedah!E14+Kelantan!E14+Melaka!E14+'Negeri Sembilan'!E14+Pahang!E14+P.Pinang!E14+Perak!E14+Perlis!E14+Selangor!E14+Terengganu!E14+Sabah!E14+Sarawak!E14+WPKL!E14+'WP Labuan'!E14+'WP Putrajaya'!E14 -> 1632 | F14: =E14/B14*100 -> 3.2339245 | G14: =Johor!G14+Kedah!G14+Kelantan!G14+Melaka!G14+'Negeri Sembilan'!G14+Pahang!G14+P.Pinang!G14+Perak!G14+Perlis!G14+Selangor!G14+Terengganu!G14+Sabah!G14+Sarawak!G14+WPKL!G14+'WP Labuan'!G14+'WP Putrajaya'!G14 -> 3378 | H14: =G14/B14*100 -> 6.6937481 | I14: =Johor!I14+Kedah!I14+Kelantan!I14+Melaka!I14+'Negeri Sembilan'!I14+Pahang!I14+P.Pinang!I14+Perak!I14+Perlis!I14+Selangor!I14+Terengganu!I14+Sabah!I14+Sarawak!I14+WPKL!I14+'WP Labuan'!I14+'WP Putrajaya'!I14 -> 177 | J14: =I14/B14*100 -> 0.35073814 | K14: =Johor!K14+Kedah!K14+Kelantan!K14+Melaka!K14+'Negeri Sembilan'!K14+Pahang!K14+P.Pinang!K14+Perak!K14+Perlis!K14+Selangor!K14+Terengganu!K14+Sabah!K14+Sarawak!K14+WPKL!K14+'WP Labuan'!K14+'WP Putrajaya'!K14 -> 1772 | L14: =K14/B14*100 -> 3.5113445 | M14: =Johor!M14+Kedah!M14+Kelantan!M14+Melaka!M14+'Negeri Sembilan'!M14+Pahang!M14+P.Pinang!M14+Perak!M14+Perlis!M14+Selangor!M14+Terengganu!M14+Sabah!M14+Sarawak!M14+WPKL!M14+'WP Labuan'!M14+'WP Putrajaya'!M14 -> 190 | N14: =M14/B14*100 -> 0.37649856 | O14: =Johor!O14+Kedah!O14+Kelantan!O14+Melaka!O14+'Negeri Sembilan'!O14+Pahang!O14+P.Pinang!O14+Perak!O14+Perlis!O14+Selangor!O14+Terengganu!O14+Sabah!O14+Sarawak!O14+WPKL!O14+'WP Labuan'!O14+'WP Putrajaya'!O14 -> 19389 | P14: =O14/B14*100 -> 38.420688
A15: Rumah panjang Longhouse | B15: =Johor!B15+Kedah!B15+Kelantan!B15+Melaka!B15+'Negeri Sembilan'!B15+Pahang!B15+P.Pinang!B15+Perak!B15+Perlis!B15+Selangor!B15+Terengganu!B15+Sabah!B15+Sarawak!B15+WPKL!B15+'WP Labuan'!B15+'WP Putrajaya'!B15 -> 21290 | C15: =Johor!C15+Kedah!C15+Kelantan!C15+Melaka!C15+'Negeri Sembilan'!C15+Pahang!C15+P.Pinang!C15+Perak!C15+Perlis!C15+Selangor!C15+Terengganu!C15+Sabah!C15+Sarawak!C15+WPKL!C15+'WP Labuan'!C15+'WP Putrajaya'!C15 -> 166 | D15: 0 | E15: =Johor!E15+Kedah!E15+Kelantan!E15+Melaka!E15+'Negeri Sembilan'!E15+Pahang!E15+P.Pinang!E15+Perak!E15+Perlis!E15+Selangor!E15+Terengganu!E15+Sabah!E15+Sarawak!E15+WPKL!E15+'WP Labuan'!E15+'WP Putrajaya'!E15 -> 321 | F15: 0 | G15: =Johor!G15+Kedah!G15+Kelantan!G15+Melaka!G15+'Negeri Sembilan'!G15+Pahang!G15+P.Pinang!G15+Perak!G15+Perlis!G15+Selangor!G15+Terengganu!G15+Sabah!G15+Sarawak!G15+WPKL!G15+'WP Labuan'!G15+'WP Putrajaya'!G15 -> 9356 | H15: 0 | I15: =Johor!I15+Kedah!I15+Kelantan!I15+Melaka!I15+'Negeri Sembilan'!I15+Pahang!I15+P.Pinang!I15+Perak!I15+Perlis!I15+Selangor!I15+Terengganu!I15+Sabah!I15+Sarawak!I15+WPKL!I15+'WP Labuan'!I15+'WP Putrajaya'!I15 -> 40 | J15: 0 | K15: =Johor!K15+Kedah!K15+Kelantan!K15+Melaka!K15+'Negeri Sembilan'!K15+Pahang!K15+P.Pinang!K15+Perak!K15+Perlis!K15+Selangor!K15+Terengganu!K15+Sabah!K15+Sarawak!K15+WPKL!K15+'WP Labuan'!K15+'WP Putrajaya'!K15 -> 492 | L15: 0 | M15: =Johor!M15+Kedah!M15+Kelantan!M15+Melaka!M15+'Negeri Sembilan'!M15+Pahang!M15+P.Pinang!M15+Perak!M15+Perlis!M15+Selangor!M15+Terengganu!M15+Sabah!M15+Sarawak!M15+WPKL!M15+'WP Labuan'!M15+'WP Putrajaya'!M15 -> 311 | N15: 0 | O15: =Johor!O15+Kedah!O15+Kelantan!O15+Melaka!O15+'Negeri Sembilan'!O15+Pahang!O15+P.Pinang!O15+Perak!O15+Perlis!O15+Selangor!O15+Terengganu!O15+Sabah!O15+Sarawak!O15+WPKL!O15+'WP Labuan'!O15+'WP Putrajaya'!O15 -> 10604 | P15: 0
A16: Pondok gantian/ Sementara Improvised/ Temporary hut | B16: =Johor!B16+Kedah!B16+Kelantan!B16+Melaka!B16+'Negeri Sembilan'!B16+Pahang!B16+P.Pinang!B16+Perak!B16+Perlis!B16+Selangor!B16+Terengganu!B16+Sabah!B16+Sarawak!B16+WPKL!B16+'WP Labuan'!B16+'WP Putrajaya'!B16 -> 1062 | C16: =Johor!C16+Kedah!C16+Kelantan!C16+Melaka!C16+'Negeri Sembilan'!C16+Pahang!C16+P.Pinang!C16+Perak!C16+Perlis!C16+Selangor!C16+Terengganu!C16+Sabah!C16+Sarawak!C16+WPKL!C16+'WP Labuan'!C16+'WP Putrajaya'!C16 -> 36 | D16: =C16/B16*100 -> 3.3898305 | E16: =Johor!E16+Kedah!E16+Kelantan!E16+Melaka!E16+'Negeri Sembilan'!E16+Pahang!E16+P.Pinang!E16+Perak!E16+Perlis!E16+Selangor!E16+Terengganu!E16+Sabah!E16+Sarawak!E16+WPKL!E16+'WP Labuan'!E16+'WP Putrajaya'!E16 -> 55 | F16: =E16/B16*100 -> 5.1789077 | G16: =Johor!G16+Kedah!G16+Kelantan!G16+Melaka!G16+'Negeri Sembilan'!G16+Pahang!G16+P.Pinang!G16+Perak!G16+Perlis!G16+Selangor!G16+Terengganu!G16+Sabah!G16+Sarawak!G16+WPKL!G16+'WP Labuan'!G16+'WP Putrajaya'!G16 -> 169 | H16: =G16/B16*100 -> 15.913371 | I16: =Johor!I16+Kedah!I16+Kelantan!I16+Melaka!I16+'Negeri Sembilan'!I16+Pahang!I16+P.Pinang!I16+Perak!I16+Perlis!I16+Selangor!I16+Terengganu!I16+Sabah!I16+Sarawak!I16+WPKL!I16+'WP Labuan'!I16+'WP Putrajaya'!I16 -> 3 | J16: =I16/B16*100 -> 0.28248588 | K16: =Johor!K16+Kedah!K16+Kelantan!K16+Melaka!K16+'Negeri Sembilan'!K16+Pahang!K16+P.Pinang!K16+Perak!K16+Perlis!K16+Selangor!K16+Terengganu!K16+Sabah!K16+Sarawak!K16+WPKL!K16+'WP Labuan'!K16+'WP Putrajaya'!K16 -> 263 | L16: =K16/B16*100 -> 24.764595 | M16: =Johor!M16+Kedah!M16+Kelantan!M16+Melaka!M16+'Negeri Sembilan'!M16+Pahang!M16+P.Pinang!M16+Perak!M16+Perlis!M16+Selangor!M16+Terengganu!M16+Sabah!M16+Sarawak!M16+WPKL!M16+'WP Labuan'!M16+'WP Putrajaya'!M16 -> 178 | N16: =M16/B16*100 -> 16.760829 | O16: =Johor!O16+Kedah!O16+Kelantan!O16+Melaka!O16+'Negeri Sembilan'!O16+Pahang!O16+P.Pinang!O16+Perak!O16+Perlis!O16+Selangor!O16+Terengganu!O16+Sabah!O16+Sarawak!O16+WPKL!O16+'WP Labuan'!O16+'WP Putrajaya'!O16 -> 335 | P16: =O16/B16*100 -> 31.544256
A17: Bilik Room | B17: =Johor!B17+Kedah!B17+Kelantan!B17+Melaka!B17+'Negeri Sembilan'!B17+Pahang!B17+P.Pinang!B17+Perak!B17+Perlis!B17+Selangor!B17+Terengganu!B17+Sabah!B17+Sarawak!B17+WPKL!B17+'WP Labuan'!B17+'WP Putrajaya'!B17 -> 6426 | C17: =Johor!C17+Kedah!C17+Kelantan!C17+Melaka!C17+'Negeri Sembilan'!C17+Pahang!C17+P.Pinang!C17+Perak!C17+Perlis!C17+Selangor!C17+Terengganu!C17+Sabah!C17+Sarawak!C17+WPKL!C17+'WP Labuan'!C17+'WP Putrajaya'!C17 -> 2153 | D17: =C17/B17*100 -> 33.504513 | E17: =Johor!E17+Kedah!E17+Kelantan!E17+Melaka!E17+'Negeri Sembilan'!E17+Pahang!E17+P.Pinang!E17+Perak!E17+Perlis!E17+Selangor!E17+Terengganu!E17+Sabah!E17+Sarawak!E17+WPKL!E17+'WP Labuan'!E17+'WP Putrajaya'!E17 -> 107 | F17: =E17/B17*100 -> 1.6651105 | G17: =Johor!G17+Kedah!G17+Kelantan!G17+Melaka!G17+'Negeri Sembilan'!G17+Pahang!G17+P.Pinang!G17+Perak!G17+Perlis!G17+Selangor!G17+Terengganu!G17+Sabah!G17+Sarawak!G17+WPKL!G17+'WP Labuan'!G17+'WP Putrajaya'!G17 -> 680 | H17: =G17/B17*100 -> 10.582011 | I17: =Johor!I17+Kedah!I17+Kelantan!I17+Melaka!I17+'Negeri Sembilan'!I17+Pahang!I17+P.Pinang!I17+Perak!I17+Perlis!I17+Selangor!I17+Terengganu!I17+Sabah!I17+Sarawak!I17+WPKL!I17+'WP Labuan'!I17+'WP Putrajaya'!I17 -> 102 | J17: =I17/B17*100 -> 1.5873016 | K17: =Johor!K17+Kedah!K17+Kelantan!K17+Melaka!K17+'Negeri Sembilan'!K17+Pahang!K17+P.Pinang!K17+Perak!K17+Perlis!K17+Selangor!K17+Terengganu!K17+Sabah!K17+Sarawak!K17+WPKL!K17+'WP Labuan'!K17+'WP Putrajaya'!K17 -> 513 | L17: =K17/B17*100 -> 7.9831933 | M17: =Johor!M17+Kedah!M17+Kelantan!M17+Melaka!M17+'Negeri Sembilan'!M17+Pahang!M17+P.Pinang!M17+Perak!M17+Perlis!M17+Selangor!M17+Terengganu!M17+Sabah!M17+Sarawak!M17+WPKL!M17+'WP Labuan'!M17+'WP Putrajaya'!M17 -> 105 | N17: =M17/B17*100 -> 1.6339869 | O17: =Johor!O17+Kedah!O17+Kelantan!O17+Melaka!O17+'Negeri Sembilan'!O17+Pahang!O17+P.Pinang!O17+Perak!O17+Perlis!O17+Selangor!O17+Terengganu!O17+Sabah!O17+Sarawak!O17+WPKL!O17+'WP Labuan'!O17+'WP Putrajaya'!O17 -> 2766 | P17: =O17/B17*100 -> 43.043884
A18: Rumah kampung air Water village house | B18: =Johor!B18+Kedah!B18+Kelantan!B18+Melaka!B18+'Negeri Sembilan'!B18+Pahang!B18+P.Pinang!B18+Perak!B18+Perlis!B18+Selangor!B18+Terengganu!B18+Sabah!B18+Sarawak!B18+WPKL!B18+'WP Labuan'!B18+'WP Putrajaya'!B18 -> 1161 | C18: =Johor!C18+Kedah!C18+Kelantan!C18+Melaka!C18+'Negeri Sembilan'!C18+Pahang!C18+P.Pinang!C18+Perak!C18+Perlis!C18+Selangor!C18+Terengganu!C18+Sabah!C18+Sarawak!C18+WPKL!C18+'WP Labuan'!C18+'WP Putrajaya'!C18 -> 89 | D18: 0 | E18: =Johor!E18+Kedah!E18+Kelantan!E18+Melaka!E18+'Negeri Sembilan'!E18+Pahang!E18+P.Pinang!E18+Perak!E18+Perlis!E18+Selangor!E18+Terengganu!E18+Sabah!E18+Sarawak!E18+WPKL!E18+'WP Labuan'!E18+'WP Putrajaya'!E18 -> 76 | F18: 0 | G18: =Johor!G18+Kedah!G18+Kelantan!G18+Melaka!G18+'Negeri Sembilan'!G18+Pahang!G18+P.Pinang!G18+Perak!G18+Perlis!G18+Selangor!G18+Terengganu!G18+Sabah!G18+Sarawak!G18+WPKL!G18+'WP Labuan'!G18+'WP Putrajaya'!G18 -> 410 | H18: 0 | I18: =Johor!I18+Kedah!I18+Kelantan!I18+Melaka!I18+'Negeri Sembilan'!I18+Pahang!I18+P.Pinang!I18+Perak!I18+Perlis!I18+Selangor!I18+Terengganu!I18+Sabah!I18+Sarawak!I18+WPKL!I18+'WP Labuan'!I18+'WP Putrajaya'!I18 -> 1 | J18: 0 | K18: =Johor!K18+Kedah!K18+Kelantan!K18+Melaka!K18+'Negeri Sembilan'!K18+Pahang!K18+P.Pinang!K18+Perak!K18+Perlis!K18+Selangor!K18+Terengganu!K18+Sabah!K18+Sarawak!K18+WPKL!K18+'WP Labuan'!K18+'WP Putrajaya'!K18 -> 14 | L18: 0 | M18: =Johor!M18+Kedah!M18+Kelantan!M18+Melaka!M18+'Negeri Sembilan'!M18+Pahang!M18+P.Pinang!M18+Perak!M18+Perlis!M18+Selangor!M18+Terengganu!M18+Sabah!M18+Sarawak!M18+WPKL!M18+'WP Labuan'!M18+'WP Putrajaya'!M18 -> 124 | N18: 0 | O18: =Johor!O18+Kedah!O18+Kelantan!O18+Melaka!O18+'Negeri Sembilan'!O18+Pahang!O18+P.Pinang!O18+Perak!O18+Perlis!O18+Selangor!O18+Terengganu!O18+Sabah!O18+Sarawak!O18+WPKL!O18+'WP Labuan'!O18+'WP Putrajaya'!O18 -> 447 | P18: 0
A19: Lain-lain Others | B19: =Johor!B19+Kedah!B19+Kelantan!B19+Melaka!B19+'Negeri Sembilan'!B19+Pahang!B19+P.Pinang!B19+Perak!B19+Perlis!B19+Selangor!B19+Terengganu!B19+Sabah!B19+Sarawak!B19+WPKL!B19+'WP Labuan'!B19+'WP Putrajaya'!B19 -> 22271 | C19: =Johor!C19+Kedah!C19+Kelantan!C19+Melaka!C19+'Negeri Sembilan'!C19+Pahang!C19+P.Pinang!C19+Perak!C19+Perlis!C19+Selangor!C19+Terengganu!C19+Sabah!C19+Sarawak!C19+WPKL!C19+'WP Labuan'!C19+'WP Putrajaya'!C19 -> 3353 | D19: =C19/B19*100 -> 15.055453 | E19: =Johor!E19+Kedah!E19+Kelantan!E19+Melaka!E19+'Negeri Sembilan'!E19+Pahang!E19+P.Pinang!E19+Perak!E19+Perlis!E19+Selangor!E19+Terengganu!E19+Sabah!E19+Sarawak!E19+WPKL!E19+'WP Labuan'!E19+'WP Putrajaya'!E19 -> 980 | F19: =E19/B19*100 -> 4.4003413 | G19: =Johor!G19+Kedah!G19+Kelantan!G19+Melaka!G19+'Negeri Sembilan'!G19+Pahang!G19+P.Pinang!G19+Perak!G19+Perlis!G19+Selangor!G19+Terengganu!G19+Sabah!G19+Sarawak!G19+WPKL!G19+'WP Labuan'!G19+'WP Putrajaya'!G19 -> 2326 | H19: =G19/B19*100 -> 10.444075 | I19: =Johor!I19+Kedah!I19+Kelantan!I19+Melaka!I19+'Negeri Sembilan'!I19+Pahang!I19+P.Pinang!I19+Perak!I19+Perlis!I19+Selangor!I19+Terengganu!I19+Sabah!I19+Sarawak!I19+WPKL!I19+'WP Labuan'!I19+'WP Putrajaya'!I19 -> 235 | J19: =I19/B19*100 -> 1.0551839 | K19: =Johor!K19+Kedah!K19+Kelantan!K19+Melaka!K19+'Negeri Sembilan'!K19+Pahang!K19+P.Pinang!K19+Perak!K19+Perlis!K19+Selangor!K19+Terengganu!K19+Sabah!K19+Sarawak!K19+WPKL!K19+'WP Labuan'!K19+'WP Putrajaya'!K19 -> 1450 | L19: =K19/B19*100 -> 6.510709 | M19: =Johor!M19+Kedah!M19+Kelantan!M19+Melaka!M19+'Negeri Sembilan'!M19+Pahang!M19+P.Pinang!M19+Perak!M19+Perlis!M19+Selangor!M19+Terengganu!M19+Sabah!M19+Sarawak!M19+WPKL!M19+'WP Labuan'!M19+'WP Putrajaya'!M19 -> 625 | N19: =M19/B19*100 -> 2.8063401 | O19: =Johor!O19+Kedah!O19+Kelantan!O19+Melaka!O19+'Negeri Sembilan'!O19+Pahang!O19+P.Pinang!O19+Perak!O19+Perlis!O19+Selangor!O19+Terengganu!O19+Sabah!O19+Sarawak!O19+WPKL!O19+'WP Labuan'!O19+'WP Putrajaya'!O19 -> 13292 | P19: =O19/B19*100 -> 59.682996
A22: Nota/ Note:
A23: Statistik ini merujuk kepada pelaporan oleh responden
A24: The statistics refer to self-declaration by respondent

Sheet Johor
A1: Jadual 5: Bilangan dan peratus unit perumahan mengikut jenis unit perumahan, sebab kekosongan, daerah pentadbiran dan negeri, Malaysia, 2020 (samb)
A2: Table 5: Number and percentage of housing units by type of housing units, reason for vacancy, administrative district and state, Malaysia, 2020 (cont'd)
A4: Negeri/ Daerah Pentadbiran/ Jenis tempat kediaman State/ Administrative District/ Type of living quarters | B4: Jumlah Total | C4: Sebab kekosongan Reason for vacancy
C5: Baru siap/ untuk disewa atau dijual New completed/ for rent or sale | D5: % | E5: Untuk dibaiki/ ubahsuai For repair/ renovation | F5: % | G5: Rumah peranginan/ Persinggahan Holiday resort/ Transit | H5: % | I5: Homestay | J5: % | K5: Rumah pekerja bermusim Seasonal workers quarters | L5: % | M5: Hampir roboh Dilapidated | N5: % | O5: Lain-lain Others | P5: %
A6: JOHOR
A7: Unit perumahan Housing unit | B7: =B31+B50+B69+B88+B107+B126+B145+B164+B183+B202 -> 277962 | C7: =C31+C50+C69+C88+C107+C126+C145+C164+C183+C202 -> 142673 | D7: =C7/B7*100 -> 51.328239 | E7: =E31+E50+E69+E88+E107+E126+E145+E164+E183+E202 -> 11034 | F7: =E7/B7*100 -> 3.9696074 | G7: =G31+G50+G69+G88+G107+G126+G145+G164+G183+G202 -> 46171 | H7: =G7/B7*100 -> 16.610544 | I7: =I31+I50+I69+I88+I107+I126+I145+I164+I183+I202 -> 4064 | J7: =I7/B7*100 -> 1.4620704 | K7: =K31+K50+K69+K88+K107+K126+K145+K164+K183+K202 -> 4717 | L7: =K7/B7*100 -> 1.6969946 | M7: =M31+M50+M69+M88+M107+M126+M145+M164+M183+M202 -> 3844 | N7: =M7/B7*100 -> 1.3829228 | O7: =O31+O50+O69+O88+O107+O126+O145+O164+O183+O202 -> 65459 | P7: =O7/B7*100 -> 23.549622
A8: Sesebuah Detached | B8: =B32+B51+B70+B89+B108+B127+B146+B165+B184+B203 -> 40363 | C8: =C32+C51+C70+C89+C108+C127+C146+C165+C184+C203 -> 9301 | D8: =C8/B8*100 -> 23.043381 | E8: =E32+E51+E70+E89+E108+E127+E146+E165+E184+E203 -> 2277 | F8: =E8/B8*100 -> 5.6413052 | G8: =G32+G51+G70+G89+G108+G127+G146+G165+G184+G203 -> 11504 | H8: =G8/B8*100 -> 28.50135 | I8: =I32+I51+I70+I89+I108+I127+I146+I165+I184+I203 -> 821 | J8: =I8/B8*100 -> 2.0340411 | K8: =K32+K51+K70+K89+K108+K127+K146+K165+K184+K203 -> 1035 | L8: =K8/B8*100 -> 2.5642296 | M8: =M32+M51+M70+M89+M108+M127+M146+M165+M184+M203 -> 2659 | N8: =M8/B8*100 -> 6.5877165 | O8: =O32+O51+O70+O89+O108+O127+O146+O165+O184+O203 -> 12766 | P8: =O8/B8*100 -> 31.627976
A9: Berkembar Semi-detached | B9: =B33+B52+B71+B90+B109+B128+B147+B166+B185+B204 -> 17477 | C9: =C33+C52+C71+C90+C109+C128+C147+C166+C185+C204 -> 6619 | D9: =C9/B9*100 -> 37.872633 | E9: =E33+E52+E71+E90+E109+E128+E147+E166+E185+E204 -> 833 | F9: =E9/B9*100 -> 4.7662642 | G9: =G33+G52+G71+G90+G109+G128+G147+G166+G185+G204 -> 3083 | H9: =G9/B9*100 -> 17.640327 | I9: =I33+I52+I71+I90+I109+I128+I147+I166+I185+I204 -> 271 | J9: =I9/B9*100 -> 1.5506094 | K9: =K33+K52+K71+K90+K109+K128+K147+K166+K185+K204 -> 1347 | L9: =K9/B9*100 -> 7.7072724 | M9: =M33+M52+M71+M90+M109+M128+M147+M166+M185+M204 -> 355 | N9: =M9/B9*100 -> 2.0312411 | O9: =O33+O52+O71+O90+O109+O128+O147+O166+O185+O204 -> 4969 | P9: =O9/B9*100 -> 28.431653
A10: Teres/ Berangkai/ Berkelompok Terrace/ Link/ Cluster | B10: =B34+B53+B72+B91+B110+B129+B148+B167+B186+B205 -> 110326 | C10: =C34+C53+C72+C91+C110+C129+C148+C167+C186+C205 -> 57891 | D10: =C10/B10*100 -> 52.472672 | E10: =E34+E53+E72+E91+E110+E129+E148+E167+E186+E205 -> 6132 | F10: =E10/B10*100 -> 5.5580733 | G10: =G34+G53+G72+G91+G110+G129+G148+G167+G186+G205 -> 21039 | H10: =G10/B10*100 -> 19.069848 | I10: =I34+I53+I72+I91+I110+I129+I148+I167+I186+I205 -> 1683 | J10: =I10/B10*100 -> 1.525479 | K10: =K34+K53+K72+K91+K110+K129+K148+K167+K186+K205 -> 1317 | L10: =K10/B10*100 -> 1.1937349 | M10: =M34+M53+M72+M91+M110+M129+M148+M167+M186+M205 -> 592 | N10: =M10/B10*100 -> 0.53659156 | O10: =O34+O53+O72+O91+O110+O129+O148+O167+O186+O205 -> 21672 | P10: =O10/B10*100 -> 19.643602
A11: Rumah bandar Townhouse | B11: =B35+B54+B73+B92+B111+B130+B149+B168+B187+B206 -> 2857 | C11: =C35+C54+C73+C92+C111+C130+C149+C168+C187+C206 -> 2524 | D11: =C11/B11*100 -> 88.344417 | E11: =E35+E54+E73+E92+E111+E130+E149+E168+E187+E206 -> 17 | F11: =E11/B11*100 -> 0.59502975 | G11: =G35+G54+G73+G92+G111+G130+G149+G168+G187+G206 -> 231 | H11: =G11/B11*100 -> 8.0854043 | I11: =I35+I54+I73+I92+I111+I130+I149+I168+I187+I206 -> 7 | J11: =I11/B11*100 -> 0.24501225 | K11: =K35+K54+K73+K92+K111+K130+K149+K168+K187+K206 -> 1 | L11: =K11/B11*100 -> 0.03500175 | M11: =M35+M54+M73+M92+M111+M130+M149+M168+M187+M206 -> 3 | N11: =M11/B11*100 -> 0.10500525 | O11: =O35+O54+O73+O92+O111+O130+O149+O168+O187+O206 -> 74 | P11: =O11/B11*100 -> 2.5901295
A12: Rumah pangsa/ Pangsapuri/ Kondominium Flat/ Apartment/ Condominium | B12: =B36+B55+B74+B93+B112+B131+B150+B169+B188+B207 -> 86786 | C12: =C36+C55+C74+C93+C112+C131+C150+C169+C188+C207 -> 54133 | D12: =C12/B12*100 -> 62.375268 | E12: =E36+E55+E74+E93+E112+E131+E150+E169+E188+E207 -> 1485 | F12: =E12/B12*100 -> 1.7111055 | G12: =G36+G55+G74+G93+G112+G131+G150+G169+G188+G207 -> 9116 | H12: =G12/B12*100 -> 10.503998 | I12: =I36+I55+I74+I93+I112+I131+I150+I169+I188+I207 -> 1142 | J12: =I12/B12*100 -> 1.3158804 | K12: =K36+K55+K74+K93+K112+K131+K150+K169+K188+K207 -> 487 | L12: =K12/B12*100 -> 0.56115042 | M12: =M36+M55+M74+M93+M112+M131+M150+M169+M188+M207 -> 144 | N12: =M12/B12*100 -> 0.16592538 | O12: =O36+O55+O74+O93+O112+O131+O150+O169+O188+O207 -> 20279 | P12: =O12/B12*100 -> 23.366672
A13: Pangsapuri khidmat/ Services apartment Small Office Home Office (SOHO)/ Small Office Flexible Office (SOFO)/ Small Office Versatile Office (SOVO) | B13: =B37+B56+B75+B94+B113+B132+B151+B170+B189+B208 -> 9775 | C13: =C37+C56+C75+C94+C113+C132+C151+C170+C189+C208 -> 6735 | D13: =C13/B13*100 -> 68.900256 | E13: =E37+E56+E75+E94+E113+E132+E151+E170+E189+E208 -> 110 | F13: =E13/B13*100 -> 1.1253197 | G13: =G37+G56+G75+G94+G113+G132+G151+G170+G189+G208 -> 759 | H13: =G13/B13*100 -> 7.7647059 | I13: =I37+I56+I75+I94+I113+I132+I151+I170+I189+I208 -> 114 | J13: =I13/B13*100 -> 1.1662404 | K13: =K37+K56+K75+K94+K113+K132+K151+K170+K189+K208 -> 59 | L13: =K13/B13*100 -> 0.60358056 | M13: =M37+M56+M75+M94+M113+M132+M151+M170+M189+M208 -> 1 | N13: =M13/B13*100 -> 0.010230179 | O13: =O37+O56+O75+O94+O113+O132+O151+O170+O189+O208 -> 1997 | P13: =O13/B13*100 -> 20.429668
A14: Rumah kedai/ Pejabat Shophouse/ Office | B14: =B38+B57+B76+B95+B114+B133+B152+B171+B190+B209 -> 8821 | C14: =C38+C57+C76+C95+C114+C133+C152+C171+C190+C209 -> 4876 | D14: =C14/B14*100 -> 55.277179 | E14: =E38+E57+E76+E95+E114+E133+E152+E171+E190+E209 -> 123 | F14: =E14/B14*100 -> 1.3943997 | G14: =G38+G57+G76+G95+G114+G133+G152+G171+G190+G209 -> 246 | H14: =G14/B14*100 -> 2.7887995 | I14: =I38+I57+I76+I95+I114+I133+I152+I171+I190+I209 -> 16 | J14: =I14/B14*100 -> 0.18138533 | K14: =K38+K57+K76+K95+K114+K133+K152+K171+K190+K209 -> 391 | L14: =K14/B14*100 -> 4.432604 | M14: =M38+M57+M76+M95+M114+M133+M152+M171+M190+M209 -> 38 | N14: =M14/B14*100 -> 0.43079016 | O14: =O38+O57+O76+O95+O114+O133+O152+O171+O190+O209 -> 3131 | P14: =O14/B14*100 -> 35.494842
A15: Rumah panjang Longhouse | B15: 0 | C15: 0 | D15: 0 | E15: 0 | F15: 0 | G15: 0 | H15: 0 | I15: 0 | J15: 0 | K15: 0 | L15: 0 | M15: 0 | N15: 0 | O15: 0 | P15: 0
A16: Pondok gantian/ Sementara Improvised/ Temporary hut | B16: =B40+B59+B78+B97+B116+B135+B154+B173+B192+B211 -> 53 | C16: =C40+C59+C78+C97+C116+C135+C154+C173+C192+C211 -> 5 | D16: =C16/B16*100 -> 9.4339623 | E16: =E40+E59+E78+E97+E116+E135+E154+E173+E192+E211 -> 5 | F16: =E16/B16*100 -> 9.4339623 | G16: =G40+G59+G78+G97+G116+G135+G154+G173+G192+G211 -> 3 | H16: =G16/B16*100 -> 5.6603774 | I16: =I40+I59+I78+I97+I116+I135+I154+I173+I192+I211 -> 0 | J16: =I16/B16*100 -> 0 | K16: =K40+K59+K78+K97+K116+K135+K154+K173+K192+K211 -> 23 | L16: =K16/B16*100 -> 43.396226 | M16: =M40+M59+M78+M97+M116+M135+M154+M173+M192+M211 -> 7 | N16: =M16/B16*100 -> 13.207547 | O16: =O40+O59+O78+O97+O116+O135+O154+O173+O192+O211 -> 10 | P16: =O16/B16*100 -> 18.867925
A17: Bilik Room | B17: =B41+B60+B79+B98+B117+B136+B155+B174+B193+B212 -> 27 | C17: =C41+C60+C79+C98+C117+C136+C155+C174+C193+C212 -> 9 | D17: =C17/B17*100 -> 33.333333 | E17: =E41+E60+E79+E98+E117+E136+E155+E174+E193+E212 -> 1 | F17: =E17/B17*100 -> 3.7037037 | G17: =G41+G60+G79+G98+G117+G136+G155+G174+G193+G212 -> 2 | H17: =G17/B17*100 -> 7.4074074 | I17: =I41+I60+I79+I98+I117+I136+I155+I174+I193+I212 -> 2 | J17: =I17/B17*100 -> 7.4074074 | K17: 0 | L17: 0 | M17: =M41+M60+M79+M98+M117+M136+M155+M174+M193+M212 -> 1 | N17: =M17/B17*100 -> 3.7037037 | O17: =O41+O60+O79+O98+O117+O136+O155+O174+O193+O212 -> 12 | P17: =O17/B17*100 -> 44.444444
A18: Rumah kampung air Water village house | B18: 0 | C18: 0 | D18: 0 | E18: 0 | F18: 0 | G18: 0 | H18: 0 | I18: 0 | J18: 0 | K18: 0 | L18: 0 | M18: 0 | N18: 0 | O18: 0 | P18: 0
A19: Lain-lain Others | B19: =B43+B62+B81+B100+B119+B138+B157+B176+B195+B214 -> 1477 | C19: =C43+C62+C81+C100+C119+C138+C157+C176+C195+C214 -> 580 | D19: =C19/B19*100 -> 39.268788 | E19: =E43+E62+E81+E100+E119+E138+E157+E176+E195+E214 -> 51 | F19: =E19/B19*100 -> 3.4529452 | G19: =G43+G62+G81+G100+G119+G138+G157+G176+G195+G214 -> 188 | H19: =G19/B19*100 -> 12.728504 | I19: =I43+I62+I81+I100+I119+I138+I157+I176+I195+I214 -> 8 | J19: =I19/B19*100 -> 0.54163846 | K19: =K43+K62+K81+K100+K119+K138+K157+K176+K195+K214 -> 57 | L19: =K19/B19*100 -> 3.859174 | M19: =M43+M62+M81+M100+M119+M138+M157+M176+M195+M214 -> 44 | N19: =M19/B19*100 -> 2.9790115 | O19: =O43+O62+O81+O100+O119+O138+O157+O176+O195+O214 -> 549 | P19: =O19/B19*100 -> 37.169939
A22: Nota/ Note:
A23: Statistik ini merujuk kepada pelaporan oleh responden
A24: The statistics refer to self-declaration by respondent
A25: Jadual 5: Bilangan dan peratus unit perumahan mengikut jenis unit perumahan, sebab kekosongan, daerah pentadbiran dan negeri, Malaysia, 2020 (samb.)
A26: Table 5: Number and percentage of housing units by type of housing units, reason for vacancy, administrative district and state, Malaysia, 2020 (cont'd)
A28: Negeri/ Daerah Pentadbiran/ Jenis tempat kediaman State/ Administrative District/ Type of living quarters | B28: Jumlah Total | C28: Sebab kekosongan Reason for vacancy
C29: Baru siap/ untuk disewa atau dijual New completed/ for rent or sale | D29: % | E29: Untuk dibaiki/ ubahsuai For repair/ renovation | F29: % | G29: Rumah peranginan/ Persinggahan Holiday resort/ Transit | H29: % | I29: Homestay | J29: % | K29: Rumah pekerja bermusim Seasonal workers quarters | L29: % | M29: Hampir roboh Dilapidated | N29: % | O29: Lain-lain Others | P29: %
A30: Batu Pahat
A31: Unit perumahan Housing unit | B31: 23552 | C31: 11091 | D31: =C31/B31*100 -> 47.091542 | E31: 1426 | F31: =E31/B31*100 -> 6.0546875 | G31: 2914 | H31: =G31/B31*100 -> 12.372622 | I31: 486 | J31: =I31/B31*100 -> 2.063519 | K31: 568 | L31: =K31/B31*100 -> 2.4116848 | M31: 927 | N31: =M31/B31*100 -> 3.9359715 | O31: 6140 | P31: =O31/B31*100 -> 26.069973
A32: Sesebuah Detached | B32: 7421 | C32: 1781 | D32: =C32/B32*100 -> 23.999461 | E32: 537 | F32: =E32/B32*100 -> 7.2362215 | G32: 1458 | H32: =G32/B32*100 -> 19.646948 | I32: 201 | J32: =I32/B32*100 -> 2.7085298 | K32: 152 | L32: =K32/B32*100 -> 2.0482415 | M32: 779 | N32: =M32/B32*100 -> 10.497238 | O32: 2513 | P32: =O32/B32*100 -> 33.863361
A33: Berkembar Semi-detached | B33: 2027 | C33: 893 | D33: =C33/B33*100 -> 44.055254 | E33: 140 | F33: =E33/B33*100 -> 6.9067588 | G33: 204 | H33: =G33/B33*100 -> 10.064134 | I33: 45 | J33: =I33/B33*100 -> 2.2200296 | K33: 206 | L33: =K33/B33*100 -> 10.162802 | M33: 48 | N33: =M33/B33*100 -> 2.3680316 | O33: 491 | P33: =O33/B33*100 -> 24.22299
A34: Teres/ Berangkai/ Berkelompok Terrace/ Link/ Cluster | B34: 10870 | C34: 6384 | D34: =C34/B34*100 -> 58.730451 | E34: 668 | F34: =E34/B34*100 -> 6.1453542 | G34: 1153 | H34: =G34/B34*100 -> 10.607176 | I34: 232 | J34: =I34/B34*100 -> 2.1343146 | K34: 129 | L34: =K34/B34*100 -> 1.1867525 | M34: 76 | N34: =M34/B34*100 -> 0.69917203 | O34: 2228 | P34: =O34/B34*100 -> 20.49678
A35: Rumah bandar Townhouse | B35: 52 | C35: 14 | D35: =C35/B35*100 -> 26.923077 | E35: 3 | F35: =E35/B35*100 -> 5.7692308 | G35: 10 | H35: =G35/B35*100 -> 19.230769 | I35: 0 | J35: 0 | K35: 1 | L35: =K35/B35*100 -> 1.9230769 | M35: 2 | N35: =M35/B35*100 -> 3.8461538 | O35: 22 | P35: =O35/B35*100 -> 42.307692
A36: Rumah pangsa/ Pangsapuri/ Kondominium Flat/ Apartment/ Condominium | B36: 1383 | C36: 927 | D36: =C36/B36*100 -> 67.0282 | E36: 26 | F36: =E36/B36*100 -> 1.8799711 | G36: 82 | H36: =G36/B36*100 -> 5.9291396 | I36: 3 | J36: =I36/B36*100 -> 0.21691974 | K36: 46 | L36: =K36/B36*100 -> 3.3261027 | M36: 2 | N36: =M36/B36*100 -> 0.14461316 | O36: 297 | P36: =O36/B36*100 -> 21.475054
A37: Pangsapuri khidmat/ Services apartment Small Office Home Office (SOHO)/ Small Office Flexible Office (SOFO)/ Small Office Versatile Office (SOVO) | B37: 109 | C37: 5 | D37: =C37/B37*100 -> 4.587156 | E37: 33 | F37: =E37/B37*100 -> 30.275229 | G37: 1 | H37: =G37/B37*100 -> 0.91743119 | I37: 0 | J37: 0 | K37: 0 | L37: 0 | M37: 1 | N37: =M37/B37*100 -> 0.91743119 | O37: 69 | P37: =O37/B37*100 -> 63.302752
A38: Rumah kedai/ Pejabat Shophouse/ Office | B38: 1630 | C38: 1084 | D38: =C38/B38*100 -> 66.503067 | E38: 18 | F38: =E38/B38*100 -> 1.1042945 | G38: 2 | H38: =G38/B38*100 -> 0.12269939 | I38: 2 | J38: =I38/B38*100 -> 0.12269939 | K38: 33 | L38: =K38/B38*100 -> 2.0245399 | M38: 5 | N38: =M38/B38*100 -> 0.30674847 | O38: 486 | P38: =O38/B38*100 -> 29.815951
A39: Rumah panjang Longhouse | B39: 0 | C39: 0 | D39: 0 | E39: 0 | F39: 0 | G39: 0 | H39: 0 | I39: 0 | J39: 0 | K39: 0 | L39: 0 | M39: 0 | N39: 0 | O39: 0 | P39: 0
A40: Pondok gantian/ Sementara Improvised/ Temporary hut | B40: 7 | C40: 1 | D40: =C40/B40*100 -> 14.285714 | E40: 0 | F40: 0 | G40: 1 | H40: =G40/B40*100 -> 14.285714 | I40: 0 | J40: 0 | K40: 1 | L40: =K40/B40*100 -> 14.285714 | M40: 4 | N40: =M40/B40*100 -> 57.142857 | O40: 0 | P40: 0
A41: Bilik Room | B41: 1 | C41: 0 | D41: 0 | E41: 0 | F41: 0 | G41: 1 | H41: =G41/B41*100 -> 100 | I41: 0 | J41: 0 | K41: 0 | L41: 0 | M41: 0 | N41: 0 | O41: 0 | P41: 0
A42: Rumah kampung air Water village house | B42: 0 | C42: 0 | D42: 0 | E42: 0 | F42: 0 | G42: 0 | H42: 0 | I42: 0 | J42: 0 | K42: 0 | L42: 0 | M42: 0 | N42: 0 | O42: 0 | P42: 0
A43: Lain-lain Others | B43: 52 | C43: 2 | D43: =C43/B43*100 -> 3.8461538 | E43: 1 | F43: =E43/B43*100 -> 1.9230769 | G43: 2 | H43: =G43/B43*100 -> 3.8461538 | I43: 3 | J43: =I43/B43*100 -> 5.7692308 | K43: 0 | L43: =K43/B43*100 -> 0 | M43: 10 | N43: =M43/B43*100 -> 19.230769 | O43: 34 | P43: =O43/B43*100 -> 65.384615
A46: Nota/ Note:
...

Sheet Kedah
A1: Jadual 5: Bilangan dan peratus unit perumahan mengikut jenis unit perumahan, sebab kekosongan, daerah pentadbiran dan negeri, Malaysia, 2020 (samb.)
A2: Table 5: Number and percentage of housing units by type of housing units, reason for vacancy, administrative district and state, Malaysia, 2020 (cont'd)
A4: Negeri/ Daerah Pentadbiran/ Jenis tempat kediaman State/ Administrative District/ Type of living quarters | B4: Jumlah Total | C4: Sebab kekosongan Reason for vacancy
C5: Baru siap/ untuk disewa atau dijual New completed/ for rent or sale | D5: % | E5: Untuk dibaiki/ ubahsuai For repair/ renovation | F5: % | G5: Rumah peranginan/ Persinggahan Holiday resort/ Transit | H5: % | I5: Homestay | J5: % | K5: Rumah pekerja bermusim Seasonal workers quarters | L5: % | M5: Hampir roboh Dilapidated | N5: % | O5: Lain-lain Others | P5: %
A6: KEDAH
A7: Unit perumahan Housing unit | B7: =B31+B50+B69+B88+B107+B126+B145+B183+B202+B221+B240+B164 -> 122503 | C7: =C31+C50+C69+C88+C107+C126+C145+C183+C202+C221+C240+C164 -> 37021 | D7: =C7/B7*100 -> 30.220484 | E7: =E31+E50+E69+E88+E107+E126+E145+E183+E202+E221+E240+E164 -> 6466 | F7: =E7/B7*100 -> 5.2782381 | G7: =G31+G50+G69+G88+G107+G126+G145+G183+G202+G221+G240+G164 -> 36398 | H7: =G7/B7*100 -> 29.711925 | I7: =I31+I50+I69+I88+I107+I126+I145+I183+I202+I221+I240+I164 -> 3306 | J7: =I7/B7*100 -> 2.6987094 | K7: =K31+K50+K69+K88+K107+K126+K145+K183+K202+K221+K240+K164 -> 2131 | L7: =K7/B7*100 -> 1.7395492 | M7: =M31+M50+M69+M88+M107+M126+M145+M183+M202+M221+M240+M164 -> 3955 | N7: =M7/B7*100 -> 3.2284924 | O7: =O31+O50+O69+O88+O107+O126+O145+O183+O202+O221+O240+O164 -> 33226 | P7: =O7/B7*100 -> 27.122601
A8: Sesebuah Detached | B8: =B32+B51+B70+B89+B108+B127+B146+B184+B203+B222+B241+B165 -> 40571 | C8: =C32+C51+C70+C89+C108+C127+C146+C184+C203+C222+C241+C165 -> 6129 | D8: =C8/B8*100 -> 15.10685 | E8: =E32+E51+E70+E89+E108+E127+E146+E184+E203+E222+E241+E165 -> 2334 | F8: =E8/B8*100 -> 5.7528777 | G8: =G32+G51+G70+G89+G108+G127+G146+G184+G203+G222+G241+G165 -> 14041 | H8: =G8/B8*100 -> 34.608464 | I8: =I32+I51+I70+I89+I108+I127+I146+I184+I203+I222+I241+I165 -> 1168 | J8: =I8/B8*100 -> 2.8789037 | K8: =K32+K51+K70+K89+K108+K127+K146+K184+K203+K222+K241+K165 -> 649 | L8: =K8/B8*100 -> 1.5996648 | M8: =M32+M51+M70+M89+M108+M127+M146+M184+M203+M222+M241+M165 -> 2857 | N8: =M8/B8*100 -> 7.0419758 | O8: =O32+O51+O70+O89+O108+O127+O146+O184+O203+O222+O241+O165 -> 13393 | P8: =O8/B8*100 -> 33.011264
A9: Berkembar Semi-detached | B9: =B33+B52+B71+B90+B109+B128+B147+B185+B204+B223+B242+B166 -> 18156 | C9: =C33+C52+C71+C90+C109+C128+C147+C185+C204+C223+C242+C166 -> 6934 | D9: =C9/B9*100 -> 38.191232 | E9: =E33+E52+E71+E90+E109+E128+E147+E185+E204+E223+E242+E166 -> 780 | F9: =E9/B9*100 -> 4.2961005 | G9: =G33+G52+G71+G90+G109+G128+G147+G185+G204+G223+G242+G166 -> 5208 | H9: =G9/B9*100 -> 28.684732 | I9: =I33+I52+I71+I90+I109+I128+I147+I185+I204+I223+I242+I166 -> 717 | J9: =I9/B9*100 -> 3.9491077 | K9: =K33+K52+K71+K90+K109+K128+K147+K185+K204+K223+K242+K166 -> 577 | L9: =K9/B9*100 -> 3.1780128 | M9: =M33+M52+M71+M90+M109+M128+M147+M185+M204+M223+M242+M166 -> 192 | N9: =M9/B9*100 -> 1.0575017 | O9: =O33+O52+O71+O90+O109+O128+O147+O185+O204+O223+O242+O166 -> 3748 | P9: =O9/B9*100 -> 20.643314
A10: Teres/ Berangkai/ Berkelompok Terrace/ Link/ Cluster | B10: =B34+B53+B72+B91+B110+B129+B148+B186+B205+B224+B243+B167 -> 51029 | C10: =C34+C53+C72+C91+C110+C129+C148+C186+C205+C224+C243+C167 -> 20003 | D10: =C10/B10*100 -> 39.199279 | E10: =E34+E53+E72+E91+E110+E129+E148+E186+E205+E224+E243+E167 -> 2788 | F10: =E10/B10*100 -> 5.4635599 | G10: =G34+G53+G72+G91+G110+G129+G148+G186+G205+G224+G243+G167 -> 15341 | H10: =G10/B10*100 -> 30.063297 | I10: =I34+I53+I72+I91+I110+I129+I148+I186+I205+I224+I243+I167 -> 1293 | J10: =I10/B10*100 -> 2.5338533 | K10: =K34+K53+K72+K91+K110+K129+K148+K186+K205+K224+K243+K167 -> 593 | L10: =K10/B10*100 -> 1.1620843 | M10: =M34+M53+M72+M91+M110+M129+M148+M186+M205+M224+M243+M167 -> 531 | N10: =M10/B10*100 -> 1.0405848 | O10: =O34+O53+O72+O91+O110+O129+O148+O186+O205+O224+O243+O167 -> 10481 | P10: =O10/B10*100 -> 20.539301
A11: Rumah bandar Townhouse | B11: =B35+B54+B73+B92+B111+B130+B149+B187+B206+B225+B244+B168 -> 391 | C11: =C35+C54+C73+C92+C111+C130+C149+C187+C206+C225+C244+C168 -> 344 | D11: =C11/B11*100 -> 87.97954 | E11: =E35+E54+E73+E92+E111+E130+E149+E187+E206+E225+E244+E168 -> 2 | F11: =E11/B11*100 -> 0.51150895 | G11: =G35+G54+G73+G92+G111+G130+G149+G187+G206+G225+G244+G168 -> 19 | H11: =G11/B11*100 -> 4.859335 | I11: =I35+I54+I73+I92+I111+I130+I149+I187+I206+I225+I244+I168 -> 3 | J11: =I11/B11*100 -> 0.76726343 | K11: 0 | L11: 0 | M11: 0 | N11: 0 | O11: =O35+O54+O73+O92+O111+O130+O149+O187+O206+O225+O244+O168 -> 23 | P11: =O11/B11*100 -> 5.8823529
A12: Rumah pangsa/ Pangsapuri/ Kondominium Flat/ Apartment/ Condominium | B12: =B36+B55+B74+B93+B112+B131+B150+B188+B207+B226+B245+B169 -> 9592 | C12: =C36+C55+C74+C93+C112+C131+C150+C188+C207+C226+C245+C169 -> 3032 | D12: =C12/B12*100 -> 31.609675 | E12: =E36+E55+E74+E93+E112+E131+E150+E188+E207+E226+E245+E169 -> 405 | F12: =E12/B12*100 -> 4.2222686 | G12: =G36+G55+G74+G93+G112+G131+G150+G188+G207+G226+G245+G169 -> 1284 | H12: =G12/B12*100 -> 13.386155 | I12: =I36+I55+I74+I93+I112+I131+I150+I188+I207+I226+I245+I169 -> 58 | J12: =I12/B12*100 -> 0.60467056 | K12: =K36+K55+K74+K93+K112+K131+K150+K188+K207+K226+K245+K169 -> 164 | L12: =K12/B12*100 -> 1.7097581 | M12: =M36+M55+M74+M93+M112+M131+M150+M188+M207+M226+M245+M169 -> 296 | N12: =M12/B12*100 -> 3.0859049 | O12: =O36+O55+O74+O93+O112+O131+O150+O188+O207+O226+O245+O169 -> 4353 | P12: =O12/B12*100 -> 45.381568
A13: Pangsapuri khidmat/ Services apartment Small Office Home Office (SOHO)/ Small Office Flexible Office (SOFO)/ Small Office Versatile Office (SOVO) | B13: 0 | C13: 0 | D13: 0 | E13: 0 | F13: 0 | G13: 0 | H13: 0 | I13: 0 | J13: 0 | K13: 0 | L13: 0 | M13: 0 | N13: 0 | O13: 0 | P13: 0
A14: Rumah kedai/ Pejabat Shophouse/ Office | B14: =B38+B57+B76+B95+B114+B133+B152+B190+B209+B228+B247+B171 -> 795 | C14: =C38+C57+C76+C95+C114+C133+C152+C190+C209+C228+C247+C171 -> 270 | D14: =C14/B14*100 -> 33.962264 | E14: =E38+E57+E76+E95+E114+E133+E152+E190+E209+E228+E247+E171 -> 23 | F14: =E14/B14*100 -> 2.8930818 | G14: =G38+G57+G76+G95+G114+G133+G152+G190+G209+G228+G247+G171 -> 94 | H14: =G14/B14*100 -> 11.823899 | I14: =I38+I57+I76+I95+I114+I133+I152+I190+I209+I228+I247+I171 -> 1 | J14: =I14/B14*100 -> 0.12578616 | K14: =K38+K57+K76+K95+K114+K133+K152+K190+K209+K228+K247+K171 -> 15 | L14: =K14/B14*100 -> 1.8867925 | M14: =M38+M57+M76+M95+M114+M133+M152+M190+M209+M228+M247+M171 -> 17 | N14: =M14/B14*100 -> 2.1383648 | O14: =O38+O57+O76+O95+O114+O133+O152+O190+O209+O228+O247+O171 -> 375 | P14: =O14/B14*100 -> 47.169811
A15: Rumah panjang Longhouse | B15: 0 | C15: 0 | D15: 0 | E15: 0 | F15: 0 | G15: 0 | H15: 0 | I15: 0 | J15: 0 | K15: 0 | L15: 0 | M15: 0 | N15: 0 | O15: 0 | P15: 0
A16: Pondok gantian/ Sementara Improvised/ Temporary hut | B16: =B40+B59+B78+B97+B116+B135+B154+B192+B211+B230+B249+B173 -> 95 | C16: =C40+C59+C78+C97+C116+C135+C154+C192+C211+C230+C249+C173 -> 4 | D16: =C16/B16*100 -> 4.2105263 | E16: =E40+E59+E78+E97+E116+E135+E154+E192+E211+E230+E249+E173 -> 5 | F16: =E16/B16*100 -> 5.2631579 | G16: =G40+G59+G78+G97+G116+G135+G154+G192+G211+G230+G249+G173 -> 24 | H16: =G16/B16*100 -> 25.263158 | I16: 0 | J16: 0 | K16: =K40+K59+K78+K97+K116+K135+K154+K192+K211+K230+K249+K173 -> 13 | L16: =K16/B16*100 -> 13.684211 | M16: =M40+M59+M78+M97+M116+M135+M154+M192+M211+M230+M249+M173 -> 28 | N16: =M16/B16*100 -> 29.473684 | O16: =O40+O59+O78+O97+O116+O135+O154+O192+O211+O230+O249+O173 -> 21 | P16: =O16/B16*100 -> 22.105263
A17: Bilik Room | B17: =B41+B60+B79+B98+B117+B136+B155+B193+B212+B231+B250+B174 -> 363 | C17: =C41+C60+C79+C98+C117+C136+C155+C193+C212+C231+C250+C174 -> 222 | D17: =C17/B17*100 -> 61.157025 | E17: 0 | F17: 0 | G17: =G41+G60+G79+G98+G117+G136+G155+G193+G212+G231+G250+G174 -> 62 | H17: =G17/B17*100 -> 17.07989 | I17: =I41+I60+I79+I98+I117+I136+I155+I193+I212+I231+I250+I174 -> 7 | J17: =I17/B17*100 -> 1.9283747 | K17: =K41+K60+K79+K98+K117+K136+K155+K193+K212+K231+K250+K174 -> 26 | L17: =K17/B17*100 -> 7.1625344 | M17: 0 | N17: 0 | O17: =O41+O60+O79+O98+O117+O136+O155+O193+O212+O231+O250+O174 -> 46 | P17: =O17/B17*100 -> 12.672176
A18: Rumah kampung air Water village house | B18: =B42+B61+B80+B99+B118+B137+B156+B194+B213+B232+B251+B175 -> 6 | C18: =C42+C61+C80+C99+C118+C137+C156+C194+C213+C232+C251+C175 -> 2 | D18: =C18/B18*100 -> 33.333333 | E18: 0 | F18: 0 | G18: =G42+G61+G80+G99+G118+G137+G156+G194+G213+G232+G251+G175 -> 2 | H18: =G18/B18*100 -> 33.333333 | I18: 0 | J18: 0 | K18: 0 | L18: 0 | M18: =M42+M61+M80+M99+M118+M137+M156+M194+M213+M232+M251+M175 -> 1 | N18: =M18/B18*100 -> 16.666667 | O18: =O42+O61+O80+O99+O118+O137+O156+O194+O213+O232+O251+O175 -> 1 | P18: =O18/B18*100 -> 16.666667
A19: Lain-lain Others | B19: =B43+B62+B81+B100+B119+B138+B157+B195+B214+B233+B252+B176 -> 1504 | C19: =C43+C62+C81+C100+C119+C138+C157+C195+C214+C233+C252+C176 -> 81 | D19: =C19/B19*100 -> 5.3856383 | E19: =E43+E62+E81+E100+E119+E138+E157+E195+E214+E233+E252+E176 -> 129 | F19: =E19/B19*100 -> 8.5771277 | G19: =G43+G62+G81+G100+G119+G138+G157+G195+G214+G233+G252+G176 -> 323 | H19: =G19/B19*100 -> 21.476064 | I19: =I43+I62+I81+I100+I119+I138+I157+I195+I214+I233+I252+I176 -> 59 | J19: =I19/B19*100 -> 3.9228723 | K19: =K43+K62+K81+K100+K119+K138+K157+K195+K214+K233+K252+K176 -> 94 | L19: =K19/B19*100 -> 6.25 | M19: =M43+M62+M81+M100+M119+M138+M157+M195+M214+M233+M252+M176 -> 33 | N19: =M19/B19*100 -> 2.1941489 | O19: =O43+O62+O81+O100+O119+O138+O157+O195+O214+O233+O252+O176 -> 785 | P19: =O19/B19*100 -> 52.194149
A22: Nota/ Note:
A23: Statistik ini merujuk kepada pelaporan oleh responden
A24: The statistics refer to self-declaration by respondent
A25: Jadual 5: Bilangan dan peratus unit perumahan mengikut jenis unit perumahan, sebab kekosongan, daerah pentadbiran dan negeri, Malaysia, 2020 (samb.)
A26: Table 5: Number and percentage of housing units by type of housing units, reason for vacancy, administrative district and state, Malaysia, 2020 (cont'd)
A28: Negeri/ Daerah Pentadbiran/ Jenis tempat kediaman State/ Administrative District/ Type of living quarters | B28: Jumlah Total | C28: Sebab kekosongan Reason for vacancy
C29: Baru siap/ untuk disewa atau dijual New completed/ for rent or sale | D29: % | E29: Untuk dibaiki/ ubahsuai For repair/ renovation | F29: % | G29: Rumah peranginan/ Persinggahan Holiday resort/ Transit | H29: % | I29: Homestay | J29: % | K29: Rumah pekerja bermusim Seasonal workers quarters | L29: % | M29: Hampir roboh Dilapidated | N29: % | O29: Lain-lain Others | P29: %
A30: Baling
A31: Unit perumahan Housing unit | B31: 6779 | C31: 1181 | D31: =C31/B31*100 -> 17.421449 | E31: 193 | F31: =E31/B31*100 -> 2.8470276 | G31: 2414 | H31: =G31/B31*100 -> 35.609972 | I31: 211 | J31: =I31/B31*100 -> 3.1125535 | K31: 130 | L31: =K31/B31*100 -> 1.917687 | M31: 338 | N31: =M31/B31*100 -> 4.9859861 | O31: 2312 | P31: =O31/B31*100 -> 34.105325
A32: Sesebuah Detached | B32: 4364 | C32: 482 | D32: =C32/B32*100 -> 11.044913 | E32: 138 | F32: =E32/B32*100 -> 3.1622365 | G32: 1741 | H32: =G32/B32*100 -> 39.894592 | I32: 115 | J32: =I32/B32*100 -> 2.6351971 | K32: 28 | L32: =K32/B32*100 -> 0.6416132 | M32: 283 | N32: =M32/B32*100 -> 6.4848763 | O32: 1577 | P32: =O32/B32*100 -> 36.136572
A33: Berkembar Semi-detached | B33: 692 | C33: 148 | D33: =C33/B33*100 -> 21.387283 | E33: 8 | F33: =E33/B33*100 -> 1.1560694 | G33: 170 | H33: =G33/B33*100 -> 24.566474 | I33: 37 | J33: =I33/B33*100 -> 5.3468208 | K33: 31 | L33: =K33/B33*100 -> 4.4797688 | M33: 48 | N33: =M33/B33*100 -> 6.9364162 | O33: 250 | P33: =O33/B33*100 -> 36.127168
A34: Teres/ Berangkai/ Berkelompok Terrace/ Link/ Cluster | B34: 1308 | C34: 505 | D34: =C34/B34*100 -> 38.608563 | E34: 38 | F34: =E34/B34*100 -> 2.9051988 | G34: 396 | H34: =G34/B34*100 -> 30.275229 | I34: 57 | J34: =I34/B34*100 -> 4.3577982 | K34: 15 | L34: =K34/B34*100 -> 1.146789 | M34: 6 | N34: =M34/B34*100 -> 0.4587156 | O34: 291 | P34: =O34/B34*100 -> 22.247706
A35: Rumah bandar Townhouse | B35: 0 | C35: 0 | D35: 0 | E35: 0 | F35: 0 | G35: 0 | H35: 0 | I35: 0 | J35: 0 | K35: 0 | L35: 0 | M35: 0 | N35: 0 | O35: 0 | P35: 0
A36: Rumah pangsa/ Pangsapuri/ Kondominium Flat/ Apartment/ Condominium | B36: 169 | C36: 39 | D36: =C36/B36*100 -> 23.076923 | E36: 4 | F36: =E36/B36*100 -> 2.3668639 | G36: 15 | H36: =G36/B36*100 -> 8.8757396 | I36: 0 | J36: 0 | K36: 0 | L36: 0 | M36: 0 | N36: 0 | O36: 111 | P36: =O36/B36*100 -> 65.680473
A37: Pangsapuri khidmat/ Services apartment Small Office Home Office (SOHO)/ Small Office Flexible Office (SOFO)/ Small Office Versatile Office (SOVO) | B37: 0 | C37: 0 | D37: 0 | E37: 0 | F37: 0 | G37: 0 | H37: 0 | I37: 0 | J37: 0 | K37: 0 | L37: 0 | M37: 0 | N37: 0 | O37: 0 | P37: 0
A38: Rumah kedai/ Pejabat Shophouse/ Office | B38: 36 | C38: 6 | D38: =C38/B38*100 -> 16.666667 | E38: 2 | F38: =E38/B38*100 -> 5.5555556 | G38: 10 | H38: =G38/B38*100 -> 27.777778 | I38: 0 | J38: 0 | K38: 1 | L38: =K38/B38*100 -> 2.7777778 | M38: 0 | N38: 0 | O38: 17 | P38: =O38/B38*100 -> 47.222222
A39: Rumah panjang Longhouse | B39: 0 | C39: 0 | D39: 0 | E39: 0 | F39: 0 | G39: 0 | H39: 0 | I39: 0 | J39: 0 | K39: 0 | L39: 0 | M39: 0 | N39: 0 | O39: 0 | P39: 0
A40: Pondok gantian/ Sementara Improvised/ Temporary hut | B40: 2 | C40: 0 | D40: 0 | E40: 0 | F40: 0 | G40: 0 | H40: 0 | I40: 0 | J40: 0 | K40: 0 | L40: 0 | M40: 0 | N40: 0 | O40: 2 | P40: =O40/B40*100 -> 100
A41: Bilik Room | B41: 5 | C41: 0 | D41: 0 | E41: 0 | F41: 0 | G41: 3 | H41: =G41/B41*100 -> 60 | I41: 2 | J41: =I41/B41*100 -> 40 | K41: 0 | L41: 0 | M41: 0 | N41: 0 | O41: 0 | P41: 0
A42: Rumah kampung air Water village house | B42: 0 | C42: 0 | D42: 0 | E42: 0 | F42: 0 | G42: 0 | H42: 0 | I42: 0 | J42: 0 | K42: 0 | L42: 0 | M42: 0 | N42: 0 | O42: 0 | P42: 0
A43: Lain-lain Others | B43: 203 | C43: 1 | D43: =C43/B43*100 -> 0.49261084 | E43: 3 | F43: =E43/B43*100 -> 1.4778325 | G43: 79 | H43: =G43/B43*100 -> 38.916256 | I43: 0 | J43: 0 | K43: 55 | L43: =K43/B43*100 -> 27.093596 | M43: 1 | N43: =M43/B43*100 -> 0.49261084 | O43: 64 | P43: =O43/B43*100 -> 31.527094
A46: Nota/ Note:
...

Sheet Kelantan
A1: Jadual 5: Bilangan dan peratus unit perumahan mengikut jenis unit perumahan, sebab kekosongan, daerah pentadbiran dan negeri, Malaysia, 2020 (samb.)
A2: Table 5: Number and percentage of housing units by type of housing units, reason for vacancy, administrative district and state, Malaysia, 2020 (cont'd)
A4: Negeri/ Daerah Pentadbiran/ Jenis tempat kediaman State/ Administrative District/ Type of living quarters | B4: Jumlah Total | C4: Sebab kekosongan Reason for vacancy
C5: Baru siap/ untuk disewa atau dijual New completed/ for rent or sale | D5: % | E5: Untuk dibaiki/ ubahsuai For repair/ renovation | F5: % | G5: Rumah peranginan/ Persinggahan Holiday resort/ Transit | H5: % | I5: Homestay | J5: % | K5: Rumah pekerja bermusim Seasonal workers quarters | L5: % | M5: Hampir roboh Dilapidated | N5: % | O5: Lain-lain Others | P5: %
A6: KELANTAN
A7: Unit perumahan Housing unit | B7: =B31+B50+B69+B88+B107+B126+B145+B164+B183+B202+B221 -> 85668 | C7: =C31+C50+C69+C88+C107+C126+C145+C164+C183+C202+C221 -> 21448 | D7: =C7/B7*100 -> 25.036186 | E7: =E31+E50+E69+E88+E107+E126+E145+E164+E183+E202+E221 -> 5172 | F7: =E7/B7*100 -> 6.0372601 | G7: =G31+G50+G69+G88+G107+G126+G145+G164+G183+G202+G221 -> 21457 | H7: =G7/B7*100 -> 25.046692 | I7: =I31+I50+I69+I88+I107+I126+I145+I164+I183+I202+I221 -> 2162 | J7: =I7/B7*100 -> 2.5236961 | K7: =K31+K50+K69+K88+K107+K126+K145+K164+K183+K202+K221 -> 1600 | L7: =K7/B7*100 -> 1.8676752 | M7: =M31+M50+M69+M88+M107+M126+M145+M164+M183+M202+M221 -> 7142 | N7: =M7/B7*100 -> 8.3368352 | O7: =O31+O50+O69+O88+O107+O126+O145+O164+O183+O202+O221 -> 26687 | P7: =O7/B7*100 -> 31.151655
A8: Sesebuah Detached | B8: =B32+B51+B70+B89+B108+B127+B146+B165+B184+B203+B222 -> 50917 | C8: =C32+C51+C70+C89+C108+C127+C146+C165+C184+C203+C222 -> 9167 | D8: =C8/B8*100 -> 18.00381 | E8: =E32+E51+E70+E89+E108+E127+E146+E165+E184+E203+E222 -> 2868 | F8: =E8/B8*100 -> 5.6326963 | G8: =G32+G51+G70+G89+G108+G127+G146+G165+G184+G203+G222 -> 14448 | H8: =G8/B8*100 -> 28.375592 | I8: =I32+I51+I70+I89+I108+I127+I146+I165+I184+I203+I222 -> 917 | J8: =I8/B8*100 -> 1.8009702 | K8: =K32+K51+K70+K89+K108+K127+K146+K165+K184+K203+K222 -> 874 | L8: =K8/B8*100 -> 1.716519 | M8: =M32+M51+M70+M89+M108+M127+M146+M165+M184+M203+M222 -> 6199 | N8: =M8/B8*100 -> 12.174716 | O8: =O32+O51+O70+O89+O108+O127+O146+O165+O184+O203+O222 -> 16444 | P8: =O8/B8*100 -> 32.295697
A9: Berkembar Semi-detached | B9: =B33+B52+B71+B90+B109+B128+B147+B166+B185+B204+B223 -> 6349 | C9: =C33+C52+C71+C90+C109+C128+C147+C166+C185+C204+C223 -> 1691 | D9: =C9/B9*100 -> 26.634116 | E9: =E33+E52+E71+E90+E109+E128+E147+E166+E185+E204+E223 -> 329 | F9: =E9/B9*100 -> 5.1819184 | G9: =G33+G52+G71+G90+G109+G128+G147+G166+G185+G204+G223 -> 1280 | H9: =G9/B9*100 -> 20.160655 | I9: =I33+I52+I71+I90+I109+I128+I147+I166+I185+I204+I223 -> 241 | J9: =I9/B9*100 -> 3.7958734 | K9: =K33+K52+K71+K90+K109+K128+K147+K166+K185+K204+K223 -> 347 | L9: =K9/B9*100 -> 5.4654276 | M9: =M33+M52+M71+M90+M109+M128+M147+M166+M185+M204+M223 -> 334 | N9: =M9/B9*100 -> 5.260671 | O9: =O33+O52+O71+O90+O109+O128+O147+O166+O185+O204+O223 -> 2127 | P9: =O9/B9*100 -> 33.501339
A10: Teres/ Berangkai/ Berkelompok Terrace/ Link/ Cluster | B10: =B34+B53+B72+B91+B110+B129+B148+B167+B186+B205+B224 -> 18645 | C10: =C34+C53+C72+C91+C110+C129+C148+C167+C186+C205+C224 -> 7428 | D10: =C10/B10*100 -> 39.839099 | E10: =E34+E53+E72+E91+E110+E129+E148+E167+E186+E205+E224 -> 811 | F10: =E10/B10*100 -> 4.3496916 | G10: =G34+G53+G72+G91+G110+G129+G148+G167+G186+G205+G224 -> 4015 | H10: =G10/B10*100 -> 21.533923 | I10: =I34+I53+I72+I91+I110+I129+I148+I167+I186+I205+I224 -> 540 | J10: =I10/B10*100 -> 2.8962188 | K10: =K34+K53+K72+K91+K110+K129+K148+K167+K186+K205+K224 -> 214 | L10: =K10/B10*100 -> 1.1477608 | M10: =M34+M53+M72+M91+M110+M129+M148+M167+M186+M205+M224 -> 254 | N10: =M10/B10*100 -> 1.3622955 | O10: =O34+O53+O72+O91+O110+O129+O148+O167+O186+O205+O224 -> 5380 | P10: =O10/B10*100 -> 28.854921
