Workbook
Name \A: #REF!
Name \A: #REF!
Name \A: #REF!
Name \A: #REF!
Name \A: #REF!
Name \A: #REF!
Name \A: #REF!
Name \A: #REF!
Name \A: #REF!
Name \B: #REF!
Name \B: #REF!
Name \B: #REF!
Name \B: #REF!
Name \B: #REF!
Name \B: #REF!
Name \B: #REF!
Name \B: #REF!
Name \B: #REF!
Name \C: #REF!
Name \C: #REF!
Name \C: #REF!
Name \C: #REF!
Name \C: #REF!
Name \C: #REF!
Name \C: #REF!
Name \C: #REF!
Name \C: #REF!
Name \H: #REF!
Name \H: #REF!
Name \H: #REF!
Name \H: #REF!
Name \H: #REF!
Name \H: #REF!
Name \H: #REF!
Name \H: #REF!
Name \H: #REF!
Name \P: #REF!
Name \P: #REF!
Name \P: #REF!
Name \P: #REF!
Name \P: #REF!
Name \P: #REF!
Name \P: #REF!
Name \P: #REF!
Name \P: #REF!
Name \Q: #REF!
Name \Q: #REF!
Name \Q: #REF!
Name \Q: #REF!
Name \Q: #REF!
Name \Q: #REF!
Name \Q: #REF!
Name \Q: #REF!
Name \Q: #REF!
Name \R: #REF!
Name \R: #REF!
Name \R: #REF!
Name \R: #REF!
Name \R: #REF!
Name \R: #REF!

Sheet Jadual1-IPP
A2: Jadual 1: Indeks Pengeluaran Perindustrian (IPP) dan Indeks Sektor (2015=100) | G2: Jadual 1.1: Pertumbuhan Indeks Pengeluaran Perindustrian (IPP) dan Indeks Sektor
A3: Table 1: Industrial Production Index (IPI) and Sector Indices (2015=100) | G3: Table 1.1: Industrial Production Index (IPI) and Sector Indices Growth
A5: Tahun Year | B5: Tempoh Period | C5: IPP IPI | D5: Perlombongan Mining | E5: Pembuatan Manufacturing | F5: Elektrik Electricity | G5: Tahun Year | H5: Tempoh Period | I5: IPP/ IPI | K5: Perlombongan/ Mining | M5: Pembuatan/ Manufacturing | O5: Elektrik/ Electricity
I7: % Perubahan tahun ke tahun change year-on-year | J7: % Perubahan bulan ke bulan change month-on-month | K7: % Perubahan tahun ke tahun change year-on-year | L7: % Perubahan bulan ke bulan change month-on-month | M7: % Perubahan tahun ke tahun change year-on-year | N7: % Perubahan bulan ke bulan change month-on-month | O7: % Perubahan tahun ke tahun change year-on-year | P7: % Perubahan bulan ke bulan change month-on-month
B8: Bulan | H8: Bulan
A9: Sektor/ Sectors | C9: Jumlah/ Total | D9: B | E9: C | F9: D | G9: Sektor/ Sectors | I9: Jumlah/ Total | K9: B | M9: C | O9: D
A10: Wajaran/ Weight 2010 | C10: 100 | D10: 28.92 | E10: 65.89 | F10: 5.19 | G10: Wajaran/Weight 2010 | I10: 100 | K10: 28.92 | M10: 65.89 | O10: 5.19
A11: Wajaran/ Weight 2015 | C11: 100 | D11: 25.135146 | E11: 68.251105 | F11: 6.6137484 | G11: Wajaran/ Weight 2015 | I11: 100 | K11: 25.14 | M11: 68.25 | O11: 6.61
A13: 2015 | C13: 100.00003 | D13: 100 | E13: 100.00004 | F13: 100 | G13: 2015
A14: 2016 | C14: 104.12459 | D14: 102.38037 | E14: 104.33323 | F14: 108.60025 | G14: 2016 | I14: 4.1245543 | K14: 2.3803732 | M14: 4.3331827 | O14: 8.60025
A15: 2017 | C15: 108.72239 | D15: 102.73872 | E15: 110.71485 | F15: 110.9016 | G15: 2017 | I15: 4.4156755 | K15: 0.35001735 | M15: 6.1165754 | O15: 2.1191046
A16: 2018 | C16: 112.15968 | D16: 100.63238 | E16: 116.00588 | F16: 116.27729 | G16: 2018 | I16: 3.1615289 | K16: -2.0501941 | M16: 4.7789721 | O16: 4.8472609
A17: 2019 | C17: 114.88638 | D17: 99.334491 | E17: 120.12851 | F17: 119.89377 | G17: 2019 | I17: 2.4310876 | K17: -1.2897323 | M17: 3.5538127 | O17: 3.1102153
A18: 2020 | C18: 110.2046 | D18: 90.47761 | E18: 116.93975 | F18: 115.67193 | G18: 2020 | I18: -4.0751379 | K18: -8.9162185 | M18: -2.6544608 | O18: -3.5213143
A19: 2021 | C19: 118.32164 | D19: 91.813461 | E19: 128.05964 | F19: 118.57237 | G19: 2021 | I19: 7.3654292 | K19: 1.4764433 | M19: 9.5090745 | O19: 2.5074683
A20: 2022 | C20: 126.47587 | D20: 94.482564 | E20: 138.50138 | F20: 123.96624 | G20: 2022 | I20: 6.8915772 | K20: 2.9070937 | M20: 8.1538153 | O20: 4.5490135
A21: 2023 | C21: 127.38069 | D21: 94.653014 | E21: 139.5297 | F21: 126.38761 | G21: 2023 | I21: 0.71541199 | K21: 0.1804029 | M21: 0.74245953 | O21: 1.9532497
A23: 2015 | B23: Q1 | C23: 97.833491 | D23: 103.74731 | E23: 95.740627 | F23: 96.955869 | G23: 2015 | H23: Q1
B24: Q2 | C24: 99.540978 | D24: 98.809918 | E24: 99.674092 | F24: 100.94564 | H24: Q2
B25: Q3 | C25: 100.05245 | D25: 96.058885 | E25: 101.45358 | F25: 100.77066 | H25: Q3
B26: Q4 | C26: 102.5732 | D26: 101.38389 | E26: 103.13187 | F26: 101.32782 | H26: Q4
A28: 2016 | B28: Q1 | C28: 101.09148 | D28: 103.13396 | E28: 99.926519 | F28: 105.351 | G28: 2016 | H28: Q1 | I28: 3.3301335 | K28: -0.59118804 | M28: 4.3721164 | O28: 8.6587133
B29: Q2 | C29: 103.22749 | D29: 101.28073 | E29: 103.24681 | F29: 110.42667 | H29: Q2 | I29: 3.7035162 | K29: 2.5005747 | M29: 3.5844036 | O29: 9.3922054
B30: Q3 | C30: 104.00154 | D30: 98.205163 | E30: 105.60183 | F30: 109.516 | H30: Q3 | I30: 3.947017 | K30: 2.2343358 | M30: 4.0888099 | O30: 8.6784568
B31: Q4 | C31: 108.17783 | D31: 106.90163 | E31: 108.55775 | F31: 109.10733 | H31: Q4 | I31: 5.4640324 | K31: 5.4424233 | M31: 5.2611095 | O31: 7.6775641
A33: 2017 | B33: Q1 | C33: 105.59436 | D33: 104.93349 | E33: 105.83141 | F33: 105.65967 | G33: 2017 | H33: Q1 | I33: 4.4542623 | K33: 1.7448462 | M33: 5.9092294 | O33: 0.29298883
B34: Q2 | C34: 107.06224 | D34: 99.575373 | E34: 109.43081 | F34: 111.073 | H34: Q2 | I34: 3.7148518 | K34: -1.6837951 | M34: 5.9895282 | O34: 0.58530548
B35: Q3 | C35: 110.00063 | D35: 100.20793 | E35: 113.24299 | F35: 113.7574 | H35: Q3 | I35: 5.7682741 | K35: 2.0393747 | M35: 7.2358249 | O35: 3.8728629
B36: Q4 | C36: 112.23233 | D36: 106.23809 | E36: 114.35419 | F36: 113.11634 | H36: Q4 | I36: 3.7479892 | K36: -0.62070516 | M36: 5.3394938 | O36: 3.6743699
A38: 2018 | B38: Q1 | C38: 109.17892 | D38: 102.55805 | E38: 111.38591 | F38: 111.56597 | G38: 2018 | H38: Q1 | I38: 3.3946591 | K38: -2.2637568 | M38: 5.2484459 | O38: 5.5899327
B39: Q2 | C39: 110.80644 | D39: 99.223225 | E39: 114.52576 | F39: 116.44589 | H39: Q2 | I39: 3.4972118 | K39: -0.35365027 | M39: 4.655861 | O39: 4.8372561
B40: Q3 | C40: 112.6587 | D40: 94.617921 | E40: 118.63726 | F40: 119.52534 | H40: Q3 | I40: 2.4164127 | K40: -5.5784135 | M40: 4.763449 | O40: 5.0703833
B41: Q4 | C41: 115.99465 | D41: 106.13032 | E41: 119.47459 | F41: 117.57197 | H41: Q4 | I41: 3.3522678 | K41: -0.10144421 | M41: 4.4776709 | O41: 3.9389834
A43: 2019 | B43: Q1 | C43: 112.67372 | D43: 102.69163 | E43: 115.85446 | F43: 117.78609 | G43: 2019 | H43: Q1 | I43: 3.2009787 | K43: 0.13024899 | M43: 4.0117739 | O43: 5.5752827
B44: Q2 | C44: 114.73761 | D44: 100.83213 | E44: 119.21729 | F44: 121.35612 | H44: Q2 | I44: 3.5477835 | K44: 1.6215057 | M44: 4.0964827 | O44: 4.2167565
B45: Q3 | C45: 114.64251 | D45: 91.062517 | E45: 122.61368 | F45: 121.99774 | H45: Q3 | I45: 1.7609029 | K45: -3.7576435 | M45: 3.3517431 | O45: 2.0685151
B46: Q4 | C46: 117.49168 | D46: 102.75168 | E46: 122.82862 | F46: 118.43511 | H46: Q4 | I46: 1.290597 | K46: -3.1834826 | M46: 2.8073182 | O46: 0.73413691
A48: 2020 | B48: Q1 | C48: 113.0755 | D48: 100.4854 | E48: 117.31862 | F48: 117.1362 | G48: 2020 | H48: Q1 | I48: 0.35658758 | K48: -2.1484109 | M48: 1.2637908 | O48: -0.55175717
B49: Q2 | C49: 94.603288 | D49: 82.620485 | E49: 97.667379 | F49: 108.52307 | H49: Q2 | I49: -17.548144 | K49: -18.061355 | M49: -18.076159 | O49: -10.57471
B50: Q3 | C50: 115.88142 | D50: 86.350133 | E50: 126.45967 | F50: 118.95019 | H50: Q3 | I50: 1.0806696 | K50: -5.1748883 | M50: 3.1366704 | O50: -2.4980391
...

Sheet Jadual1.2-Indeks PM
A2: Jadual 1.2: Indeks Pengeluaran Perindustrian (IPP) dan Indeks Sektor (2015=100)-Indeks Asal & Indeks Pelarasan Musim | O2: Jadual 1.2: Indeks Pengeluaran Perindustrian (IPP) dan Indeks Sektor (2015=100)-Indeks Asal & Indeks Pelarasan Musim (samb.)
A3: Table 1.2: Industrial Production Index (IPI) and Sector Indices (2015=100)-Original Index & Seasonally Adjusted Index | O3: Table 1.2: Industrial Production Index (IPI) and Sector Indices (2015=100)-Original Index & Seasonally Adjusted Index (cont.)
A5: Tahun Year | B5: Tempoh Period | C5: IPP/ IPI | I5: Perlombongan/ Mining | O5: Tahun Year | P5: Tempoh Period | Q5: Pembuatan/ Manufacturing | W5: Elektrik/ Electricity
C7: Indeks Asal | E7: Indeks Pelarasan Musim (PM) | G7: % Perubahan bulan ke bulan (PM) | I7: Indeks Asal | K7: Indeks Pelarasan Musim (PM) | M7: % Perubahan bulan ke bulan (PM) | Q7: Indeks Asal | S7: Indeks Pelarasan Musim (PM) | U7: % Perubahan bulan ke bulan (PM) | W7: Indeks Asal | Y7: Indeks Pelarasan Musim (PM) | AA7: % Perubahan bulan ke bulan (PM)
B8: Bulan | C8: Original Index | E8: Seasonally Adjusted Index (SA) | G8: % Change month-on-month (SA) | I8: Original Index | K8: Seasonally Adjusted Index (SA) | M8: % Change month-on-month (SA) | P8: Bulan | Q8: Original Index | S8: Seasonally Adjusted Index (SA) | U8: % Change month-on-month (SA) | W8: Original Index | Y8: Seasonally Adjusted Index (SA) | AA8: % Change month-on-month (SA)
A9: Sektor/ Sectors | C9: Jumlah/ Total | I9: B | O9: Sektor/ Sectors | Q9: C | W9: D
A10: Wajaran/Weight 2010 | C10: 100 | I10: 28.919338 | O10: Wajaran/Weight 2010 | Q10: 65.887096 | W10: 5.1935668
A11: Wajaran/Weight 2015 | C11: 100 | I11: 25.14 | O11: Wajaran/Weight 2015 | Q11: 68.25 | W11: 6.61
A13: 2015 | B13: Jan. | C13: 101.02889 | E13: 101.01097 | I13: 107.23568 | K13: 100.4412 | O13: 2015 | P13: Jan. | Q13: 99.035338 | S13: 101.53122 | W13: 98.013035 | Y13: 98.863251
B14: Feb. | C14: 90.811593 | E14: 98.807587 | G14: -2.1813328 | I14: 96.26193 | K14: 99.433085 | M14: -1.0036885 | P14: Feb. | Q14: 89.004522 | S14: 98.466708 | U14: -3.0182955 | W14: 88.746137 | Y14: 99.987174 | AA14: 1.1368461
B15: Mar. | C15: 101.65999 | E15: 98.567403 | G15: -0.2430826 | I15: 107.74431 | K15: 100.93351 | M15: 1.5089755 | P15: Mar. | Q15: 99.182022 | S15: 97.580352 | U15: -0.90015823 | W15: 104.10844 | Y15: 100.06917 | AA15: 0.082007753
B16: Apr. | C16: 97.040953 | E16: 98.377387 | G16: -0.1927779 | I16: 96.05062 | K16: 99.235568 | M16: -1.6822347 | P16: Apr. | Q16: 97.006731 | S16: 98.436355 | U16: 0.87722926 | W16: 101.15782 | Y16: 98.960197 | AA16: -1.1082077
B17: May | C17: 100.67706 | E17: 100.1574 | G17: 1.8093687 | I17: 103.50392 | K17: 102.34032 | M17: 3.128673 | P17: May | Q17: 99.450914 | S17: 99.840071 | U17: 1.4260133 | W17: 102.58708 | Y17: 98.41692 | AA17: -0.54898481
B18: Jun. | C18: 100.90492 | E18: 99.909658 | G18: -0.24734898 | I18: 96.875212 | K18: 100.14977 | M18: -2.1404613 | P18: Jun. | Q18: 102.56463 | S18: 100.1211 | U18: 0.28148043 | W18: 99.092037 | Y18: 98.400318 | AA18: -0.016869441
B19: Jul. | C19: 100.42042 | E19: 100.11176 | G19: 0.20228377 | I19: 100.08123 | K19: 99.014092 | M19: -1.1339784 | P19: Jul. | Q19: 100.5705 | S19: 101.02481 | U19: 0.90261675 | W19: 100.16079 | Y19: 99.162893 | AA19: 0.77497209
B20: Aug. | C20: 98.205561 | E20: 99.463954 | G20: -0.64708185 | I20: 91.268326 | K20: 93.36041 | M20: -5.7099772 | P20: Aug. | Q20: 100.38914 | S20: 100.50887 | U20: -0.51070694 | W20: 102.03647 | Y20: 99.94655 | AA20: 0.79027209
B21: Sep. | C21: 101.53138 | E21: 101.31895 | G21: 1.8649962 | I21: 96.827099 | K21: 101.53295 | M21: 8.7537562 | P21: Sep. | Q21: 103.40112 | S21: 101.20545 | U21: 0.693052 | W21: 100.11473 | Y21: 101.19489 | AA21: 1.2490083
B22: Oct. | C22: 104.5891 | E22: 100.76416 | G22: -0.54756762 | I22: 100.11564 | K22: 98.85185 | M22: -2.6406238 | P22: Oct. | Q22: 106.31454 | S22: 101.62372 | U22: 0.41329016 | W22: 103.78448 | Y22: 101.52594 | AA22: 0.32714019
B23: Nov. | C23: 99.543621 | E23: 99.827128 | G23: -0.92992934 | I23: 98.746074 | K23: 95.186697 | M23: -3.7077231 | P23: Nov. | Q23: 100.02628 | S23: 102.2877 | U23: 0.65337378 | W23: 97.593822 | Y23: 102.70268 | AA23: 1.1590561
B24: Dec. | C24: 103.58687 | E24: 99.592128 | G24: -0.23540695 | I24: 105.28996 | K24: 100.12265 | M24: 5.1855484 | P24: Dec. | Q24: 103.0548 | S24: 99.671419 | U24: -2.5577706 | W24: 102.60518 | Y24: 102.78247 | AA24: 0.077685233
A26: 2016 | B26: Jan. | C26: 104.3027 | E26: 102.1 | G26: 2.5181426 | I26: 106.92706 | K26: 100.7 | M26: 0.57664373 | O26: 2016 | P26: Jan. | Q26: 103.20468 | S26: 102 | U26: 2.3362576 | W26: 105.66 | Y26: 106.9 | AA26: 4.0060656
B27: Feb. | C27: 94.629137 | E27: 102.7 | G27: 0.58765916 | I27: 98.448049 | K27: 103.1 | M27: 2.3833168 | P27: Feb. | Q27: 92.880771 | S27: 101.8 | U27: -0.19607843 | W27: 98.158 | Y27: 107.6 | AA27: 0.65481759
B28: Mar. | C28: 104.3426 | E28: 102.8 | G28: 0.097370983 | I28: 104.02678 | K28: 99.6 | M28: -3.3947624 | P28: Mar. | Q28: 103.6941 | S28: 103.3 | U28: 1.4734774 | W28: 112.235 | Y28: 108.3 | AA28: 0.65055762
B29: Apr. | C29: 99.761996 | E29: 103.1 | G29: 0.29182879 | I29: 97.691486 | K29: 102.4 | M29: 2.811245 | P29: Apr. | Q29: 99.451696 | S29: 102.6 | U29: -0.67763795 | W29: 110.833 | Y29: 109 | AA29: 0.64635272
B30: May | C30: 103.58789 | E30: 103.4 | G30: 0.29097963 | I30: 102.42831 | K30: 102 | M30: -0.390625 | P30: May | Q30: 103.13999 | S30: 103.3 | U30: 0.68226121 | W30: 112.617 | Y30: 108.5 | AA30: -0.4587156
B31: Jun. | C31: 106.33259 | E31: 105.6 | G31: 2.1276596 | I31: 103.7224 | K31: 104.6 | M31: 2.5490196 | P31: Jun. | Q31: 107.14876 | S31: 105.7 | U31: 2.3233301 | W31: 107.83 | Y31: 108.8 | AA31: 0.2764977
B32: Jul. | C32: 104.23472 | E32: 103.6 | G32: -1.8939394 | I32: 103.31036 | K32: 104 | M32: -0.57361377 | P32: Jul. | Q32: 104.26793 | S32: 103.5 | U32: -2.0813623 | W32: 107.405 | Y32: 105.7 | AA32: -2.8492647
B33: Aug. | C33: 103.13183 | E33: 103.5 | G33: -0.096525097 | I33: 94.821744 | K33: 100.6 | M33: -3.2692308 | P33: Aug. | Q33: 105.15776 | S33: 104.6 | U33: 1.0628019 | W33: 113.807 | Y33: 109.5 | AA33: 3.5950804
B34: Sep. | C34: 104.63807 | E34: 105 | G34: 1.4492754 | I34: 96.483384 | K34: 101.8 | M34: 1.1928429 | P34: Sep. | Q34: 107.37979 | S34: 105.4 | U34: 0.76481836 | W34: 107.336 | Y34: 109.8 | AA34: 0.2739726
B35: Oct. | C35: 109.17548 | E35: 105.2 | G35: 0.19047619 | I35: 104.3473 | K35: 102.1 | M35: 0.29469548 | P35: Oct. | Q35: 110.76757 | S35: 106.3 | U35: 0.85388994 | W35: 111.095 | Y35: 108.6 | AA35: -1.0928962
B36: Nov. | C36: 106.4084 | E36: 105.6 | G36: 0.38022814 | I36: 104.53285 | K36: 102.9 | M36: 0.78354554 | P36: Nov. | Q36: 107.0226 | S36: 106.3 | U36: 0 | W36: 107.198 | Y36: 109.1 | AA36: 0.46040516
B37: Dec. | C37: 108.94962 | E37: 106.7 | G37: 1.0416667 | I37: 111.82475 | K37: 104.8 | M37: 1.8464529 | P37: Dec. | Q37: 107.88308 | S37: 106.9 | U37: 0.56444026 | W37: 109.029 | Y37: 109.5 | AA37: 0.36663611
A39: 2017 | B39: Jan. | C39: 108.2116 | E39: 105.678 | G39: -0.95782568 | I39: 108.58412 | K39: 102.325 | M39: -2.3616412 | O39: 2017 | P39: Jan. | Q39: 108.25646 | S39: 106.889 | U39: -0.010289991 | W39: 106.333 | Y39: 108.302 | AA39: -1.0940639
B40: Feb. | C40: 99.487368 | E40: 107.995 | G40: 2.1925093 | I40: 98.906937 | K40: 103.414 | M40: 1.064256 | P40: Feb. | Q40: 99.733721 | S40: 109.476 | U40: 2.4202678 | W40: 99.151 | Y40: 109.675 | AA40: 1.2677513
B41: Mar. | C41: 109.0841 | E41: 107.512 | G41: -0.44724293 | I41: 107.30942 | K41: 102.47 | M41: -0.91283579 | P41: Mar. | Q41: 109.50404 | S41: 109.33 | U41: -0.13336256 | W41: 111.495 | Y41: 108.325 | AA41: -1.2309095
B42: Apr. | C42: 103.81884 | E42: 106.72 | G42: -0.73666195 | I42: 96.864393 | K42: 100.009 | M42: -2.4016785 | P42: Apr. | Q42: 105.90814 | S42: 109.156 | U42: -0.15915119 | W42: 108.688 | Y42: 107.19 | AA42: -1.0477729
B43: May | C43: 107.85358 | E43: 107.537 | G43: 0.76555472 | I43: 98.634509 | K43: 97.403 | M43: -2.6057655 | P43: May | Q43: 110.56271 | S43: 110.755 | U43: 1.464876 | W43: 114.933 | Y43: 111.076 | AA43: 3.6253382
B44: Jun. | C44: 109.51431 | E44: 109.008 | G44: 1.3679013 | I44: 103.22722 | K44: 104.159 | M44: 6.9361313 | P44: Jun. | Q44: 111.82158 | S44: 110.586 | U44: -0.15258905 | W44: 109.598 | Y44: 111.401 | AA44: 0.29259246
B45: Jul. | C45: 110.28959 | E45: 109.808 | G45: 0.73389109 | I45: 101.30302 | K45: 103.025 | M45: -1.0887201 | P45: Jul. | Q45: 113.10439 | S45: 110.97 | U45: 0.34724106 | W45: 115.395 | Y45: 112.485 | AA45: 0.97306128
B46: Aug. | C46: 110.21587 | E46: 110.788 | G46: 0.89246685 | I46: 101.06571 | K46: 108.565 | M46: 5.3773356 | P46: Aug. | Q46: 112.95487 | S46: 112.248 | U46: 1.1516626 | W46: 116.72521 | Y46: 113.137 | AA46: 0.57963284
...

Sheet Jadual2&3-Industryindex
A2: Jadual 2: Indeks Perlombongan Peringkat Industri (2015=100) | I2: Jadual 3: Indeks Pembuatan Peringkat Industri (2015=100) | Q2: Jadual 3: Indeks Pembuatan Peringkat Industri (2015=100) | Y2: Jadual 3: Indeks Pembuatan Peringkat Industri (2015=100) | AG2: Jadual 3: Indeks Pembuatan Peringkat Industri (2015=100) | AO2: Jadual 3: Indeks Pembuatan Peringkat Industri (2015=100) | AW2: Jadual 3: Indeks Pembuatan Peringkat Industri (2015=100) | BE2: Jadual 3: Indeks Pembuatan Peringkat Industri (2015=100) | BM2: Jadual 3: Indeks Pembuatan Peringkat Industri (2015=100) | BU2: Jadual 3: Indeks Pembuatan Peringkat Industri (2015=100) | CC2: Jadual 3: Indeks Pembuatan Peringkat Industri (2015=100) | CK2: Jadual 3: Indeks Pembuatan Peringkat Industri (2015=100) | CS2: Jadual 3: Indeks Pembuatan Peringkat Industri (2015=100) | DA2: Jadual 3: Indeks Pembuatan Peringkat Industri (2015=100) | DI2: Jadual 3: Indeks Pembuatan Peringkat Industri (2015=100) | DQ2: Jadual 3: Indeks Pembuatan Peringkat Industri (2015=100) | DY2: Jadual 3: Indeks Pembuatan Peringkat Industri (2015=100) | EG2: Jadual 3: Indeks Pembuatan Peringkat Industri (2015=100) | EO2: Jadual 3: Indeks Pembuatan Peringkat Industri (2015=100) | EW2: Jadual 3: Indeks Pembuatan Peringkat Industri (2015=100) | FE2: Jadual 3: Indeks Pembuatan Peringkat Industri (2015=100) | FM2: Jadual 3: Indeks Pembuatan Peringkat Industri (2015=100) | FU2: Jadual 3: Indeks Pembuatan Peringkat Industri (2015=100) | GC2: Jadual 3: Indeks Pembuatan Peringkat Industri (2015=100) | GK2: Jadual 3: Indeks Pembuatan Peringkat Industri (2015=100) | GS2: Jadual 3: Indeks Pembuatan Peringkat Industri (2015=100) | HA2: Jadual 3: Indeks Pembuatan Peringkat Industri (2015=100) | HI2: Jadual 3: Indeks Pembuatan Peringkat Industri (2015=100) | HQ2: Jadual 3: Indeks Pembuatan Peringkat Industri (2015=100) | HY2: Jadual 3: Indeks Pembuatan Peringkat Industri (2015=100) | IG2: Jadual 3: Indeks Pembuatan Peringkat Industri (2015=100) | IQ2: Jadual 3: Indeks Pembuatan Peringkat Industri (2015=100) | IY2: Jadual 3: Indeks Pembuatan Peringkat Industri (2015=100) | JG2: Jadual 3: Indeks Pembuatan Peringkat Industri (2015=100) | JO2: Jadual 3: Indeks Pembuatan Peringkat Industri (2015=100) | JW2: Jadual 3: Indeks Pembuatan Peringkat Industri (2015=100) | KE2: Jadual 3: Indeks Pembuatan Peringkat Industri (2015=100) | KM2: Jadual 3: Indeks Pembuatan Peringkat Industri (2015=100) | KU2: Jadual 3: Indeks Pembuatan Peringkat Industri (2015=100) | LC2: Jadual 3: Indeks Pembuatan Peringkat Industri (2015=100) | LK2: Jadual 3: Indeks Pembuatan Peringkat Industri (2015=100) | LS2: Jadual 3: Indeks Pembuatan Peringkat Industri (2015=100) | MA2: Jadual 3: Indeks Pembuatan Peringkat Industri (2015=100) | MI2: Jadual 3: Indeks Pembuatan Peringkat Industri (2015=100)
A3: Table 2: Mining Indices at Industry Level (2015=100) | I3: Table 3: Manufacturing Indices at Industry Level (2015=100) | Q3: Table 3: Manufacturing Indices at Industry Level (2015=100) | Y3: Table 3: Manufacturing Indices at Industry Level (2015=100) | AG3: Table 3: Manufacturing Indices at Industry Level (2015=100) | AO3: Table 3: Manufacturing Indices at Industry Level (2015=100) | AW3: Table 3: Manufacturing Indices at Industry Level (2015=100) | BE3: Table 3: Manufacturing Indices at Industry Level (2015=100) | BM3: Table 3: Manufacturing Indices at Industry Level (2015=100) | BU3: Table 3: Manufacturing Indices at Industry Level (2015=100) | CC3: Table 3: Manufacturing Indices at Industry Level (2015=100) | CK3: Table 3: Manufacturing Indices at Industry Level (2015=100) | CS3: Table 3: Manufacturing Indices at Industry Level (2015=100) | DA3: Table 3: Manufacturing Indices at Industry Level (2015=100) | DI3: Table 3: Manufacturing Indices at Industry Level (2015=100) | DQ3: Table 3: Manufacturing Indices at Industry Level (2015=100) | DY3: Table 3: Manufacturing Indices at Industry Level (2015=100) | EG3: Table 3: Manufacturing Indices at Industry Level (2015=100) | EO3: Table 3: Manufacturing Indices at Industry Level (2015=100) | EW3: Table 3: Manufacturing Indices at Industry Level (2015=100) | FE3: Table 3: Manufacturing Indices at Industry Level (2015=100) | FM3: Table 3: Manufacturing Indices at Industry Level (2015=100) | FU3: Table 3: Manufacturing Indices at Industry Level (2015=100) | GC3: Table 3: Manufacturing Indices at Industry Level (2015=100) | GK3: Table 3: Manufacturing Indices at Industry Level (2015=100) | GS3: Table 3: Manufacturing Indices at Industry Level (2015=100) | HA3: Table 3: Manufacturing Indices at Industry Level (2015=100) | HI3: Table 3: Manufacturing Indices at Industry Level (2015=100) | HQ3: Table 3: Manufacturing Indices at Industry Level (2015=100) | HY3: Table 3: Manufacturing Indices at Industry Level (2015=100) | IG3: Table 3: Manufacturing Indices at Industry Level (2015=100) | IQ3: Table 3: Manufacturing Indices at Industry Level (2015=100) | IY3: Table 3: Manufacturing Indices at Industry Level (2015=100) | JG3: Table 3: Manufacturing Indices at Industry Level (2015=100) | JO3: Table 3: Manufacturing Indices at Industry Level (2015=100) | JW3: Table 3: Manufacturing Indices at Industry Level (2015=100) | KE3: Table 3: Manufacturing Indices at Industry Level (2015=100) | KM3: Table 3: Manufacturing Indices at Industry Level (2015=100) | KU3: Table 3: Manufacturing Indices at Industry Level (2015=100) | LC3: Table 3: Manufacturing Indices at Industry Level (2015=100) | LK3: Table 3: Manufacturing Indices at Industry Level (2015=100) | LS3: Table 3: Manufacturing Indices at Industry Level (2015=100) | MA3: Table 3: Manufacturing Indices at Industry Level (2015=100) | MI3: Table 3: Manufacturing Indices at Industry Level (2015=100)
A5: Tahun Year | B5: Tempoh Period | C5: Indeks/ Index | D5: % Perubahan tahun ke tahun/ change year-on-year | E5: Indeks/ Index | F5: % Perubahan tahun ke tahun/ change year-on-year | G5: Indeks/ Index | H5: % Perubahan tahun ke tahun/ change year-on-year | I5: Tahun Year | J5: Tempoh Period | K5: Indeks/ Index | L5: % Perubahan tahun ke tahun/ change year-on-year | M5: Indeks/ Index | N5: % Perubahan tahun ke tahun/ change year-on-year | O5: Indeks/ Index | P5: % Perubahan tahun ke tahun/ change year-on-year | Q5: Tahun Year | R5: Tempoh Period | S5: Indeks/ Index | T5: % Perubahan tahun ke tahun/ change year-on-year | U5: Indeks/ Index | V5: % Perubahan tahun ke tahun/ change year-on-year | W5: Indeks/ Index | X5: % Perubahan tahun ke tahun/ change year-on-year | Y5: Tahun Year | Z5: Tempoh Period | AA5: Indeks/ Index | AB5: % Perubahan tahun ke tahun/ change year-on-year | AC5: Indeks/ Index | AD5: % Perubahan tahun ke tahun/ change year-on-year | AE5: Indeks/ Index | AF5: % Perubahan tahun ke tahun/ change year-on-year | AG5: Tahun Year | AH5: Tempoh Period | AI5: Indeks/ Index | AJ5: % Perubahan tahun ke tahun/ change year-on-year | AK5: Indeks/ Index | AL5: % Perubahan tahun ke tahun/ change year-on-year | AM5: Indeks/ Index | AN5: % Perubahan tahun ke tahun/ change year-on-year | AO5: Tahun Year | AP5: Tempoh Period | AQ5: Indeks/ Index | AR5: % Perubahan tahun ke tahun/ change year-on-year | AS5: Indeks/ Index | AT5: % Perubahan tahun ke tahun/ change year-on-year | AU5: Indeks/ Index | AV5: % Perubahan tahun ke tahun/ change year-on-year | AW5: Tahun Year | AX5: Tempoh Period | AY5: Indeks/ Index | AZ5: % Perubahan tahun ke tahun/ change year-on-year | BA5: Indeks/ Index | BB5: % Perubahan tahun ke tahun/ change year-on-year | BC5: Indeks/ Index | BD5: % Perubahan tahun ke tahun/ change year-on-year | BE5: Tahun Year | BF5: Tempoh Period | BG5: Indeks/ Index | BH5: % Perubahan tahun ke tahun/ change year-on-year | BI5: Indeks/ Index | BJ5: % Perubahan tahun ke tahun/ change year-on-year | BK5: Indeks/ Index | BL5: % Perubahan tahun ke tahun/ change year-on-year | BM5: Tahun Year | BN5: Tempoh Period | BO5: Indeks/ Index | BP5: % Perubahan tahun ke tahun/ change year-on-year | BQ5: Indeks/ Index | BR5: % Perubahan tahun ke tahun/ change year-on-year | BS5: Indeks/ Index | BT5: % Perubahan tahun ke tahun/ change year-on-year | BU5: Tahun Year | BV5: Tempoh Period | BW5: Indeks/ Index | BX5: % Perubahan tahun ke tahun/ change year-on-year | BY5: Indeks/ Index | BZ5: % Perubahan tahun ke tahun/ change year-on-year | CA5: Indeks/ Index | CB5: % Perubahan tahun ke tahun/ change year-on-year | CC5: Tahun Year | CD5: Tempoh Period | CE5: Indeks/ Index | CF5: % Perubahan tahun ke tahun/ change year-on-year | CG5: Indeks/ Index | CH5: % Perubahan tahun ke tahun/ change year-on-year | CI5: Indeks/ Index | CJ5: % Perubahan tahun ke tahun/ change year-on-year | CK5: Tahun Year | CL5: Tempoh Period | CM5: Indeks/ Index | CN5: % Perubahan tahun ke tahun/ change year-on-year | CO5: Indeks/ Index | CP5: % Perubahan tahun ke tahun/ change year-on-year | CQ5: Indeks/ Index | CR5: % Perubahan tahun ke tahun/ change year-on-year | CS5: Tahun Year | CT5: Tempoh Period | CU5: Indeks/ Index | CV5: % Perubahan tahun ke tahun/ change year-on-year | CW5: Indeks/ Index | CX5: % Perubahan tahun ke tahun/ change year-on-year | CY5: Indeks/ Index | CZ5: % Perubahan tahun ke tahun/ change year-on-year | DA5: Tahun Year | DB5: Tempoh Period | DC5: Indeks/ Index | DD5: % Perubahan tahun ke tahun/ change year-on-year | DE5: Indeks/ Index | DF5: % Perubahan tahun ke tahun/ change year-on-year | DG5: Indeks/ Index | DH5: % Perubahan tahun ke tahun/ change year-on-year | DI5: Tahun Year | DJ5: Tempoh Period | DK5: Indeks/ Index | DL5: % Perubahan tahun ke tahun/ change year-on-year | DM5: Indeks/ Index | DN5: % Perubahan tahun ke tahun/ change year-on-year | DO5: Indeks/ Index | DP5: % Perubahan tahun ke tahun/ change year-on-year | DQ5: Tahun Year | DR5: Tempoh Period | DS5: Indeks/ Index | DT5: % Perubahan tahun ke tahun/ change year-on-year | DU5: Indeks/ Index | DV5: % Perubahan tahun ke tahun/ change year-on-year | DW5: Indeks/ Index | DX5: % Perubahan tahun ke tahun/ change year-on-year | DY5: Tahun Year | DZ5: Tempoh Period | EA5: Indeks/ Index | EB5: % Perubahan tahun ke tahun/ change year-on-year | EC5: Indeks/ Index | ED5: % Perubahan tahun ke tahun/ change year-on-year | EE5: Indeks/ Index | EF5: % Perubahan tahun ke tahun/ change year-on-year | EG5: Tahun Year | EH5: Tempoh Period | EI5: Indeks/ Index | EJ5: % Perubahan tahun ke tahun/ change year-on-year | EK5: Indeks/ Index | EL5: % Perubahan tahun ke tahun/ change year-on-year | EM5: Indeks/ Index | EN5: % Perubahan tahun ke tahun/ change year-on-year | EO5: Tahun Year | EP5: Tempoh Period | EQ5: Indeks/ Index | ER5: % Perubahan tahun ke tahun/ change year-on-year | ES5: Indeks/ Index | ET5: % Perubahan tahun ke tahun/ change year-on-year | EU5: Indeks/ Index | EV5: % Perubahan tahun ke tahun/ change year-on-year | EW5: Tahun Year | EX5: Tempoh Period | EY5: Indeks/ Index | EZ5: % Perubahan tahun ke tahun/ change year-on-year | FA5: Indeks/ Index | FB5: % Perubahan tahun ke tahun/ change year-on-year | FC5: Indeks/ Index | FD5: % Perubahan tahun ke tahun/ change year-on-year | FE5: Tahun Year | FF5: Tempoh Period | FG5: Indeks/ Index | FH5: % Perubahan tahun ke tahun/ change year-on-year | FI5: Indeks/ Index | FJ5: % Perubahan tahun ke tahun/ change year-on-year | FK5: Indeks/ Index | FL5: % Perubahan tahun ke tahun/ change year-on-year | FM5: Tahun Year | FN5: Tempoh Period | FO5: Indeks/ Index | FP5: % Perubahan tahun ke tahun/ change year-on-year | FQ5: Indeks/ Index | FR5: % Perubahan tahun ke tahun/ change year-on-year | FS5: Indeks/ Index | FT5: % Perubahan tahun ke tahun/ change year-on-year | FU5: Tahun Year | FV5: Tempoh Period | FW5: Indeks/ Index | FX5: % Perubahan tahun ke tahun/ change year-on-year | FY5: Indeks/ Index | FZ5: % Perubahan tahun ke tahun/ change year-on-year | GA5: Indeks/ Index | GB5: % Perubahan tahun ke tahun/ change year-on-year | GC5: Tahun Year | GD5: Tempoh Period | GE5: Indeks/ Index | GF5: % Perubahan tahun ke tahun/ change year-on-year | GG5: Indeks/ Index | GH5: % Perubahan tahun ke tahun/ change year-on-year | GI5: Indeks/ Index | GJ5: % Perubahan tahun ke tahun/ change year-on-year | GK5: Tahun Year | GL5: Tempoh Period | GM5: Indeks/ Index | GN5: % Perubahan tahun ke tahun/ change year-on-year | GO5: Indeks/ Index | GP5: % Perubahan tahun ke tahun/ change year-on-year | GQ5: Indeks/ Index | GR5: % Perubahan tahun ke tahun/ change year-on-year | GS5: Tahun Year | GT5: Tempoh Period | GU5: Indeks/ Index | GV5: % Perubahan tahun ke tahun/ change year-on-year | GW5: Indeks/ Index | GX5: % Perubahan tahun ke tahun/ change year-on-year | GY5: Indeks/ Index | GZ5: % Perubahan tahun ke tahun/ change year-on-year | HA5: Tahun Year | HB5: Tempoh Period | HC5: Indeks/ Index | HD5: % Perubahan tahun ke tahun/ change year-on-year | HE5: Indeks/ Index | HF5: % Perubahan tahun ke tahun/ change year-on-year | HG5: Indeks/ Index | HH5: % Perubahan tahun ke tahun/ change year-on-year | HI5: Tahun Year | HJ5: Tempoh Period | HK5: Indeks/ Index | HL5: % Perubahan tahun ke tahun/ change year-on-year | HM5: Indeks/ Index | HN5: % Perubahan tahun ke tahun/ change year-on-year | HO5: Indeks/ Index | HP5: % Perubahan tahun ke tahun/ change year-on-year | HQ5: Tahun Year | HR5: Tempoh Period | HS5: Indeks/ Index | HT5: % Perubahan tahun ke tahun/ change year-on-year | HU5: Indeks/ Index | HV5: % Perubahan tahun ke tahun/ change year-on-year | HW5: Indeks/ Index | HX5: % Perubahan tahun ke tahun/ change year-on-year | HY5: Tahun Year | HZ5: Tempoh Period | IA5: Indeks/ Index | IB5: % Perubahan tahun ke tahun/ change year-on-year | IC5: Indeks/ Index | ID5: % Perubahan tahun ke tahun/ change year-on-year | IE5: Indeks/ Index | IF5: % Perubahan tahun ke tahun/ change year-on-year | IG5: Tahun Year | IH5: Tempoh Period | II5: Indeks/ Index | IJ5: % Perubahan tahun ke tahun/ change year-on-year | IK5: Indeks/ Index | IL5: % Perubahan tahun ke tahun/ change year-on-year | IM5: Indeks/ Index | IN5: % Perubahan tahun ke tahun/ change year-on-year | IO5: Indeks/ Index | IP5: % Perubahan tahun ke tahun/ change year-on-year | IQ5: Tahun Year | IR5: Tempoh Period | IS5: Indeks/ Index | IT5: % Perubahan tahun ke tahun/ change year-on-year | IU5: Indeks/ Index | IV5: % Perubahan tahun ke tahun/ change year-on-year | IW5: Indeks/ Index | IX5: % Perubahan tahun ke tahun/ change year-on-year | IY5: Tahun Year | IZ5: Tempoh Period | JA5: Indeks/ Index | JB5: % Perubahan tahun ke tahun/ change year-on-year | JC5: Indeks/ Index | JD5: % Perubahan tahun ke tahun/ change year-on-year | JE5: Indeks/ Index | JF5: % Perubahan tahun ke tahun/ change year-on-year | JG5: Tahun Year | JH5: Tempoh Period | JI5: Indeks/ Index | JJ5: % Perubahan tahun ke tahun/ change year-on-year | JK5: Indeks/ Index | JL5: % Perubahan tahun ke tahun/ change year-on-year | JM5: Indeks/ Index | JN5: % Perubahan tahun ke tahun/ change year-on-year | JO5: Tahun Year | JP5: Tempoh Period | JQ5: Indeks/ Index | JR5: % Perubahan tahun ke tahun/ change year-on-year | JS5: Indeks/ Index | JT5: % Perubahan tahun ke tahun/ change year-on-year | JU5: Indeks/ Index | JV5: % Perubahan tahun ke tahun/ change year-on-year | JW5: Tahun Year | JX5: Tempoh Period | JY5: Indeks/ Index | JZ5: % Perubahan tahun ke tahun/ change year-on-year | KA5: Indeks/ Index | KB5: % Perubahan tahun ke tahun/ change year-on-year | KC5: Indeks/ Index | KD5: % Perubahan tahun ke tahun/ change year-on-year | KE5: Tahun Year | KF5: Tempoh Period | KG5: Indeks/ Index | KH5: % Perubahan tahun ke tahun/ change year-on-year | KI5: Indeks/ Index | KJ5: % Perubahan tahun ke tahun/ change year-on-year | KK5: Indeks/ Index | KL5: % Perubahan tahun ke tahun/ change year-on-year | KM5: Tahun Year | KN5: Tempoh Period | KO5: Indeks/ Index | KP5: % Perubahan tahun ke tahun/ change year-on-year | KQ5: Indeks/ Index | KR5: % Perubahan tahun ke tahun/ change year-on-year | KS5: Indeks/ Index | KT5: % Perubahan tahun ke tahun/ change year-on-year | KU5: Tahun Year | KV5: Tempoh Period | KW5: Indeks/ Index | KX5: % Perubahan tahun ke tahun/ change year-on-year | KY5: Indeks/ Index | KZ5: % Perubahan tahun ke tahun/ change year-on-year | LA5: Indeks/ Index | LB5: % Perubahan tahun ke tahun/ change year-on-year | LC5: Tahun Year | LD5: Tempoh Period | LE5: Indeks/ Index | LF5: % Perubahan tahun ke tahun/ change year-on-year | LG5: Indeks/ Index | LH5: % Perubahan tahun ke tahun/ change year-on-year | LI5: Indeks/ Index | LJ5: % Perubahan tahun ke tahun/ change year-on-year | LK5: Tahun Year | LL5: Tempoh Period | LM5: Indeks/ Index | LN5: % Perubahan tahun ke tahun/ change year-on-year | LO5: Indeks/ Index | LP5: % Perubahan tahun ke tahun/ change year-on-year | LQ5: Indeks/ Index | LR5: % Perubahan tahun ke tahun/ change year-on-year | LS5: Tahun Year | LT5: Tempoh Period | LU5: Indeks/ Index | LV5: % Perubahan tahun ke tahun/ change year-on-year | LW5: Indeks/ Index | LX5: % Perubahan tahun ke tahun/ change year-on-year | LY5: Indeks/ Index | LZ5: % Perubahan tahun ke tahun/ change year-on-year | MA5: Tahun Year | MB5: Tempoh Period | MC5: Indeks/ Index | MD5: % Perubahan tahun ke tahun/ change year-on-year | ME5: Indeks/ Index | MF5: % Perubahan tahun ke tahun/ change year-on-year | MG5: Indeks/ Index | MH5: % Perubahan tahun ke tahun/ change year-on-year | MI5: Tahun Year | MJ5: Tempoh Period | MK5: Indeks/ Index | ML5: % Perubahan tahun ke tahun/ change year-on-year | MM5: Indeks/ Index | MN5: % Perubahan tahun ke tahun/ change year-on-year | MO5: Indeks/ Index | MP5: % Perubahan tahun ke tahun/ change year-on-year
C7: Pengekstrakan Petroleum Mentah dan Gas Asli | E7: Pengekstrakan Minyak Petroleum Mentah & Kondensat | G7: Pengeluaran Gas Hidrokarbon Mentah Bergas (Gas Asli) | K7: Pembuatan minyak sawit mentah | M7: Pembuatan minyak sawit bertapis | O7: Pembuatan minyak isirong | S7: Pembuatan minyak sayuran mentah dan bertapis | U7: Pembuatan sebatian lemak masakan | W7: Pembuatan aiskrim dan ais lain yang boleh dimakan seperti sorbet | AA7: Pembuatan susu pekat, tepung dan sejat | AC7: Pengilangan beras | AE7: Pengilangan tepung | AI7: Pembuatan biskut dan cookies | AK7: Pembuatan roti, kek dan produk bakeri lain | AM7: Pembuatan produk snek | AQ7: Pembuatan gula | AS7: Pembuatan produk koko | AU7: Pembuatan coklat dan produk coklat | AY7: Pembuatan konfeksi gula | BA7: Pembuatan bihun, mi dan produk lain yang berkaitan | BC7: Pembuatan makanan dan hidangan tersedia | BG7: Pembuatan kopi | BI7: Pembuatan sos dan bahan perasa | BK7: Pembuatan rempah ratus dan serbuk kari | BO7: Pembuatan produk makanan lain t.t.t.l. | BQ7: Penyulingan, pembersihan dan pencampuran spirit; wain & pembuatan minuman keras malt dan malt | BS7: Pembuatan minuman ringan | BW7: Pengeluaran air mineral semulajadi dan minuman lain yang dibotolkan | BY7: Pembuatan produk tembakau | CA7: Penyediaan dan pemintalan gentian tekstil | CE7: Penenunan tekstil | CG7: Pewarnaan, pelunturan, percetakan dan penyiapan akhir benang dan fabrik | CI7: Pembuatan pakaian | CM7: Pembuatan bagasi, beg tangan dan seumpamanya, pelana dan abah-abah | CO7: Pembuatan kasut kulit | CQ7: Pembuatan kasut getah | CU7: Pengilangan dan pengetaman kayu | CW7: Pembuatan kepingan venier dan papan lapis | CY7: Pembuatan papan partikel dan papan gentian | DC7: Pertukangan kayu untuk jurubina | DE7: Pembuatan bekas kayu | DG7: Pembuatan pulpa, kertas dan kertas tebal | DK7: Pembuatan kertas gelugur dan kertas tebal dan bekas daripada kertas dan kertas tebal | DM7: Pembuatan sampul surat dan kad surat | DO7: Pembuatan kertas kegunaan rumah dan pembersih peribadi | DS7: Pembuatan kertas bergam atau pelekat yang berjalur atau bergulung dan label dan kertas dinding | DU7: Percetakan | DW7: Aktiviti perkhidmatan berkaitan percetakan | EA7: Pembuatan produk petroleum bertapis | EC7: Pembuatan gas perindustrian atau perubatan bukan organik dalam bentuk cecair atau mampat | EE7: Pembuatan kimia organik asas | EI7: Pembuatan sebatian bukan organik | EK7: Pembuatan baja | EM7: Pembuatan plastik dalam bentuk primer | EQ7: Pembuatan racun perosak dan produk agrokimia lain | ES7: Pembuatan cat, varnis dan penyadur dan mastik | EU7: Pembuatan dakwat cetak | EY7: Pembuatan sabun dan bahan pencuci, penyediaan membersih dan mengilat | FA7: Pembuatan pewangi dan penyediaan dandanan diri | FC7: Pembuatan plat fotografi, filem, sensitized paper dan other sensitized unexposed materials | FG7: Pembuatan produk kimia lain t.t.t.l. | FI7: Pembuatan bahan aktif ubat-ubatan untuk digunakan oleh bidang farmakologi dalam pembuatan ubat-ubatan | FK7: Pembuatan tayar getah untuk kenderaan | FO7: Pembuatan bunga tayar yang boleh ditukar ganti dan tayar celup | FQ7: Pembuatan sarung tangan getah | FS7: Pengilangan semula getah dan prosesan susu getah | FW7: Pembuatan produk getah lain yang t.t.t.l. | FY7: Pembuatan produk plastik separa siap | GA7: Pembuatan produk plastik siap | GE7: Pembuatan artikel plastik untuk pembungkusan barangan | GG7: Pembuatan barangan plastik jurubina | GI7: Pembuatan pinggan mangkuk, peralatan dapur dan barangan tandas daripada plastik | GM7: Pembuatan pelbagai produk plastik t.t.t.l. | GO7: Pembuatan kaca leper, termasuk kaca leper berdawai, berwarna atau sedikit berwarna | GQ7: Pembuatan produk kaca lain t.t.t.l. | GU7: Pembuatan seramik bukan refraktori | GW7: Pembuatan produk porselin dan seramik lain | GY7: Pembuatan simen hidraulik | HC7: Pembuatan kapur dan plaster | HE7: Pembuatan konkrit dan mortar siap bancuh dan bancuhan kering | HG7: Pembuatan konkrit pratuangan, simen atau artikel batu buatan yang digunakan dalam pembinaan | HK7: Pembuatan komponen struktur pasang siap untuk bangunan atau kejuruteraan awam dari simen, batu atau konkrit buatan | HM7: Pembuatan artikel konkrit, simen dan plaster lain t.t.t.l. | HO7: Pembuatan produk mineral bukan logam lain t.t.t.l. | HS7: Pengeluaran jongkong besi dan spiegeleisen dalam bentuk jongkong, blok atau dalam bentuk asal lain | HU7: Pembuatan batang dan rod keluli tahan karat atau keluli aloi lain | HW7: Pembuatan tiub tidak berkelim, dengan penggelekan, picitan atau tempaan panas, atau dengan tempaan atau penggelekan sejuk | IA7: Pembuatan produk besi asas dan keluli lain t.t.t.l. | IC7: Peleburan timah; Pengeluaran aluminium daripada alumina; & Pembuatan logam asas berharga dan logam bukan ferus lain t.t.t.l. | IE7: Pembuatan pintu, tingkap dan bingkai, penutup tingkap dan pintu pagar daripada logam | II7: Pembuatan produk struktur logam lain | IK7: Pembuatan tangki, takungan dan kontena daripada logam | IM7: Tempaan, tekanan, hentakan dan bentuk gelekan logam; serbuk metalurgi | IO7: Rawatan dan penyalutan logam; menggunakan mesin | IS7: Pembuatan tin untuk produk makanan dan minuman, tiub dan kotak boleh dilipat | IU7: Pembuatan kabel, plaited bands (jalur/pita berpintal) dan artikel seumpamanya daripada logam | IW7: Pembuatan bolt, skru, nat dan produk uliran seumpamanya | JA7: Pembuatan produk lain yang direka daripada logam t.t.t.l. | JC7: Pembuatan diod, transistor dan alatan semikonduktor yang seumpamanya | JE7: Pembuatan litar elektronik bersepadu dengan pemasangan mikro | JI7: Pembuatan kapasitor dan perintang elektrik | JK7: Pembuatan papan litar bercetak | JM7: Pembuatan komponen paparan | JQ7: Pembuatan komponen lain untuk aplikasi elektronik | JS7: Pembuatan komputer | JU7: Pembuatan kelengkapan peranti | JY7: Pembuatan peralatan komunikasi | KA7: Pembuatan elektronik pengguna | KC7: Pembuatan kelengkapan mengukur, menguji, memandu arah dan kawalan | KG7: Pembuatan jam tangan dan jam dan bahagiannya | KI7: Pembuatan peralatan penyinaran, perubatan elektro dan elektroterapeutik | KK7: Pembuatan instrumen dan kelengkapan optikal | KO7: Pembuatan peralatan fotografi | KQ7: Pembuatan motor elektrik, penjana dan transformer | KS7: Pembuatan perkakasan pengagihan dan pengawalan elektrik | KW7: Pembuatan kabel gentian optikal | KY7: Pembuatan wayar dan kabel elektronik dan elektrik lain | LA7: Pembuatan perkakasan domestik | LE7: Pembuatan alat-alat kuasa bendalir | LG7: Pembuatan pam, pemampat, kepala paip dan injap lain | LI7: Pembuatan penggalas, gear, elemen gear dan pemanduan | LM7: Pembuatan kelengkapan mengangkat dan mengendali | LO7: Pembuatan alatan tangan yang menggunakan kuasa dilengkapkan dengan motor elektrik atau bukan motor elektrik atau pneumatik | LQ7: Pembuatan mesin penyaman udara, termasuk untuk kenderaan bermotor | LU7: Pembuatan jentera pembentukan logam dan alatan mesin | LW7: Pembuatan lain-lain mesin bertujuan khas t.t.t.l. | LY7: Pembuatan kereta penumpang | MC7: Pembuatan alat ganti dan aksesori untuk kenderaan bermotor | ME7: Pembinaan kapal dan struktur terapung | MG7: Pembuatan pesawat dan kapal angkasa dan jentera berkaitan | MK7: Pembuatan motosikal | MM7: Pembuatan perabot kayu dan rotan | MO7: Pembaikan dan penyelenggaraan kelengkapan pengangkutan kecuali motosikal dan basikal
C8: Extraction of Crude Petroleum and Natural Gas | E8: Extraction of crude Petroleum Oils & Condensates | G8: Production of Crude Gaseous Hydrocarbon (Natural Gas) | K8: Manufacture of crude palm oil | M8: Manufacture of refined palm oil | O8: Manufacture of palm kernel oil | S8: Manufacture of crude and refined vegetable oil | U8: Manufacture of compound cooking fats | W8: Manufacture of ice cream and other edible ice such as sorbet | AA8: Manufacture of condensed, powdered and evaporated milk | AC8: Rice milling | AE8: Flour milling | AI8: Manufacture of biscuits and cookies | AK8: Manufacture of bread, cakes and other bakery products | AM8: Manufacture of snack products | AQ8: Manufacture of sugar | AS8: Manufacture of cocoa products | AU8: Manufacture of chocolate and chocolate products | AY8: Manufacture of sugar confectionery | BA8: Manufacture of meehoon, noodles and other related product | BC8: Manufacture of prepared meals and dishes | BG8: Manufacture of coffee | BI8: Manufacture of sauces and condiments | BK8: Manufacture of spices and curry powder | BO8: Manufacture of other food products n.e.c. | BQ8: Distilling, rectifying and blending of spirits; wines & malt liquors and malt | BS8: Manufacture of soft drinks | BW8: Production of natural mineral waters and other bottled waters | BY8: Manufacture of tobacco products | CA8: Preparation and spinning of textile fibres | CE8: Weaving of textiles | CG8: Dyeing, bleaching, printing and finishing of yarns and fabrics | CI8: Manufacture of clothings | CM8: Manufacture of luggage, handbags and the like, saddlery and harness | CO8: Manufacture of leather footwear | CQ8: Manufacture of rubber footwear | CU8: Sawmilling and planning of wood | CW8: Manufacture of veneer sheets and plywood | CY8: Manufacture of particle board and fibreboard | DC8: Manufacture of builders' carpentry | DE8: Manufacture of wooden containers | DG8: Manufacture of pulp, paper and paperboard | DK8: Manufacture of corrugated paper and paperboard and of containers of paper and paperboard | DM8: Manufacture of envelopes and letter-card | DO8: Manufacture of household and personal hygiene paper | DS8: Manufacture of gummed or adhesive paper in strips or rolls and labels and wall paper | DU8: Printing | DW8: Service activities related to printing | EA8: Manufacture of refined petroleum products | EC8: Manufacture of liquefied or compressed inorganic industrial or medical gases | EE8: Manufacture of basic organic chemicals | EI8: Manufacture of inorganic compounds | EK8: Manufacture of fertilizers | EM8: Manufacture of plastics in primary forms | EQ8: Manufacture of pesticides and other agrochemical products | ES8: Manufacture of paints, varnishes and similar coatings ink and mastics | EU8: Manufacture of printing ink | EY8: Manufacture of soap and detergents, cleaning and polishing preparations | FA8: Manufacture of perfumes and toilet preparations | FC8: Manufacture of photographic plates, films, sensitized paper and other sensitized unexposed materials | FG8: Manufacture of other chemical products n.e.c. | FI8: Manufacture of medicinal active substances to be used for their pharmacological properties in the manufacture of medicaments | FK8: Manufacture of rubber tyres for vehicles | FO8: Manufacture of interchangeable tyre treads and retreading rubber tyres | FQ8: Manufacture of rubber gloves | FS8: Rubber remilling and latex processing | FW8: Manufacture of other rubber products n.e.c. | FY8: Manufacture of semi-manufactures of plastic products | GA8: Manufacture of finished plastic products | GE8: Manufacture of plastic articles for the packing of goods | GG8: Manufacture of builders' plastics ware | GI8: Manufacture of plastic tableware, kitchenware and toilet articles | GM8: Manufacture of diverse plastic products n.e.c. | GO8: Manufacture of flat glass, including wired, coloured or tinted flat glass | GQ8: Manufacture of other glass products n.e.c. | GU8: Manufacture of non-refractory ceramic | GW8: Manufacture of other porcelain and ceramic products | GY8: Manufacture of hydraulic cement | HC8: Manufacture of lime and plaster | HE8: Manufacture of ready-mix and dry-mix concrete and mortars | HG8: Manufacture of precast concrete, cement or artificial stone articles for use in construction | HK8: Manufacture of prefabricated structural components for building or civil engineering of cement, concrete or artificial stone | HM8: Manufacture of other articles of concrete, cement and plaster n.e.c. | HO8: Manufacture of other non-metallic mineral products n.e.c. | HS8: Production of pig iron and spiegeleisen in pigs, blocks or other primary forms | HU8: Production of bars and rods of stainless steel or other alloy steel | HW8: Manufacture of seamless tubes, by hot rolling, hot extrusion or hot drawing, or by cold drawing or cold rolling | IA8: Manufacture of other basic iron and steel products n.e.c. | IC8: Tin smelting; Production of aluminium from alumina; & Manufacture of other basic precious and other non-ferrous metal n.e.c | IE8: Manufacture of metal doors, windows and their frames, shutters and gates | II8: Manufacture of other structural metal products | IK8: Manufacture of tanks, reservoirs and containers of metal | IM8: Forging, pressing, stamping and roll-forming of metal; powder metallurgy | IO8: Treatment and coating of metals; machining | IS8: Manufacture of tins and cans for food products, collapsible tubes and boxes | IU8: Manufacture of metal cable, plaited bands and similar articles | IW8: Manufacture of bolts, screws, nuts and similar threaded products | JA8: Manufacture of any other fabricated metal products n.e.c. | JC8: Manufacture of diodes, transistors and similar semiconductor devices | JE8: Manufacture of electronic integrated circuits micro assemblies | JI8: Manufacture of electrical capacitors and resistors | JK8: Manufacture of printed circuit boards | JM8: Manufacture of display components | JQ8: Manufacture of other components for electronic applications | JS8: Manufacture of computers | JU8: Manufacture of peripheral equipment | JY8: Manufacture of communication equipment | KA8: Manufacture of consumer electronics | KC8: Manufacture of measuring, testing, navigating and control equipment | KG8: Manufacture of watches and clocks and parts | KI8: Manufacture of irradiation, electro medical and electrotherapeutic equipment | KK8: Manufacture of optical instruments and equipment | KO8: Manufacture of photographic equipment | KQ8: Manufacture of electric motors, generators and transformers | KS8: Manufacture of electricity distribution and control apparatus | KW8: Manufacture of fibre optic cables | KY8: Manufacture of other electronic and electric wires and cables | LA8: Manufacture of domestic appliances | LE8: Manufacture of fluid power equipment | LG8: Manufacture of other pumps, compressors, taps and valves | LI8: Manufacture of bearings, gears, gearing and driving elements | LM8: Manufacture of lifting and handling equipment | LO8: Manufacture of power-driven hand tools with self-contained electric or non-electric motor or pneumatic drives | LQ8: Manufacture of air-conditioning machines, including for motor vehicles | LU8: Manufacture of metal-forming machinery and machine tools | LW8: Manufacture of other special-purpose machinery n.e.c. | LY8: Manufacture of passenger cars | MC8: Manufacture of parts and accessories for motor vehicles | ME8: Building of ships and floating structures | MG8: Manufacture of air and spacecraft and related machinery | MK8: Manufacture of motorcycles | MM8: Manufacture of wooden and cane furniture | MO8: Repair and maintenance of transport equipment except motorcycles and bicycles
A9: Kod/ Codes | C9: 06 | E9: 06101 | G9: 06201 | I9: Kod/ Codes | K9: 10401 | M9: 10402 | O9: 10403 | Q9: Kod/ Codes | S9: 10404 | U9: 10406 | W9: 10501 | Y9: Kod/ Codes | AA9: 10502 | AC9: 10611 | AE9: 10613 | AG9: Kod/ Codes | AI9: 10711 | AK9: 10712 | AM9: 10713 | AO9: Kod/ Codes | AQ9: 10721 | AS9: 10731 | AU9: 10732 | AW9: Kod/ Codes | AY9: 10733 | BA9: 10741 | BC9: 10750 | BE9: Kod/ Codes | BG9: 10791 | BI9: 10793 | BK9: 10794 | BM9: Kod/ Codes | BO9: 10799 | BQ9: 11010, 11020 & 11030 | BS9: 11041 | BU9: Kod/ Codes | BW9: 11042 | BY9: 12000 | CA9: 13110 | CC9: Kod/ Codes | CE9: 13120 | CG9: 13132 | CI9: 14102 | CK9: Kod/ Codes | CM9: 15120 | CO9: 15201 | CQ9: 15203 | CS9: Kod/ Codes | CU9: 16100 | CW9: 16211 | CY9: 16212 | DA9: Kod/ Codes | DC9: 16221 | DE9: 16230 | DG9: 17010 | DI9: Kod/ Codes | DK9: 17020 | DM9: 17091 | DO9: 17092 | DQ9: Kod/ Codes | DS9: 17093 | DU9: 18110 | DW9: 18120 | DY9: Kod/ Codes | EA9: 19201 | EC9: 20111 | EE9: 20112 | EG9: Kod/ Codes | EI9: 20113 | EK9: 20121 | EM9: 20131 | EO9: Kod/ Codes | EQ9: 20210 | ES9: 20221 | EU9: 20222 | EW9: Kod/ Codes | EY9: 20231 | FA9: 20232 | FC9: 20291 | FE9: Kod/ Codes | FG9: 20299 | FI9: 21001 | FK9: 22111 | FM9: Kod/ Codes | FO9: 22112 | FQ9: 22192 | FS9: 22193 | FU9: Kod/ Codes | FW9: 22199 | FY9: 22201 | GA9: 22202 | GC9: Kod/ Codes | GE9: 22203 | GG9: 22204 | GI9: 22205 | GK9: Kod/ Codes | GM9: 22209 | GO9: 23101 | GQ9: 23109 | GS9: Kod/ Codes | GU9: 23921 | GW9: 23930 | GY9: 23941 | HA9: Kod/ Codes | HC9: 23942 | HE9: 23951 | HG9: 23952 | HI9: Kod/ Codes | HK9: 23953 | HM9: 23959 | HO9: 23990 | HQ9: Kod/ Codes | HS9: 24101 | HU9: 24102 | HW9: 24103 | HY9: Kod/ Codes | IA9: 24109 | IC9: 24201, 24202 & 24209 | IE9: 25113 | IG9: Kod/ Codes | II9: 25119 | IK9: 25120 | IM9: 25910 | IO9: 25920 | IQ9: Kod/ Codes | IS9: 25991 | IU9: 25992 | IW9: 25993 | IY9: Kod/ Codes | JA9: 25999 | JC9: 26101 | JE9: 26102 | JG9: Kod/ Codes | JI9: 26103 | JK9: 26104 | JM9: 26105 | JO9: Kod/ Codes | JQ9: 26109 | JS9: 26201 | JU9: 26202 | JW9: Kod/ Codes | JY9: 26300 | KA9: 26400 | KC9: 26511 | KE9: Kod/ Codes | KG9: 26520 | KI9: 26600 | KK9: 26701 | KM9: Kod/ Codes | KO9: 26702 | KQ9: 27101 | KS9: 27102 | KU9: Kod/ Codes | KW9: 27310 | KY9: 27320 | LA9: 27500 | LC9: Kod/ Codes | LE9: 28120 | LG9: 28130 | LI9: 28140 | LK9: Kod/ Codes | LM9: 28160 | LO9: 28180 | LQ9: 28192 | LS9: Kod/ Codes | LU9: 28220 | LW9: 28290 | LY9: 29101 | MA9: Kod/ Codes | MC9: 29300 | ME9: 30110 | MG9: 30300 | MI9: Kod/ Codes | MK9: 30910 | MM9: 31001 | MO9: 33150
A10: Wajaran/Weight 2010 | C10: 28.919338 | E10: 16.228458 | G10: 12.69088 | I10: Wajaran/Weight 2010 | K10: 2.0734702 | M10: 1.2793812 | O10: 0.46075727 | Q10: Wajaran/Weight 2010 | S10: 0.073676465 | U10: 0.033657761 | W10: 0.02924469 | Y10: Wajaran/Weight 2010 | AA10: 0.37029322 | AC10: 0.10353774 | AE10: 0.12370769 | AG10: Wajaran/Weight 2010 | AI10: 0.14816762 | AK10: 0.32428602 | AM10: 0.11168563 | AO10: Wajaran/Weight 2010 | AQ10: 0.21816945 | AS10: 0.16912111 | AU10: 0.10276451 | AW10: Wajaran/Weight 2010 | AY10: 0.024961467 | BA10: 0.079848047 | BC10: 0.10950482 | BE10: Wajaran/Weight 2010 | BG10: 0.097025668 | BI10: 0.13134072 | BK10: 0.055218622 | BM10: Wajaran/Weight 2010 | BO10: 0.25318411 | BQ10: 0.37843786 | BS10: 0.22004667 | BU10: Wajaran/Weight 2010 | BW10: 0.045214766 | BY10: 0.35134077 | CA10: 0.074479926 | CC10: Wajaran/Weight 2010 | CE10: 0.26673575 | CG10: 0.028872775 | CI10: 0.39287142 | CK10: Wajaran/Weight 2010 | CM10: 0.024142442 | CO10: 0.041725564 | CQ10: 0.036195904 | CS10: Wajaran/Weight 2010 | CU10: 0.37770922 | CW10: 0.92052463 | CY10: 0.26103802 | DA10: Wajaran/Weight 2010 | DC10: 0.12744044 | DE10: 0.050990485 | DG10: 0.25048848 | DI10: Wajaran/Weight 2010 | DK10: 0.52346986 | DM10: 0.034125441 | DO10: 0.13730536 | DQ10: Wajaran/Weight 2010 | DS10: 0.11404739 | DU10: 0.69680824 | DW10: 0.20919842 | DY10: Wajaran/Weight 2010 | EA10: 13.866802 | EC10: 2.489944 | EE10: 1.7177715 | EG10: Wajaran/Weight 2010 | EI10: 0.24756765 | EK10: 0.25615307 | EM10: 0.87913008 | EO10: Wajaran/Weight 2010 | EQ10: 0.14084201 | ES10: 0.26908478 | EU10: 0.07070846 | EW10: Wajaran/Weight 2010 | EY10: 0.12391497 | FA10: 0.16872861 | FC10: 0.027436661 | FE10: Wajaran/Weight 2010 | FG10: 0.52220597 | FI10: 0.29061808 | FK10: 0.13203955 | FM10: Wajaran/Weight 2010 | FO10: 0.074740032 | FQ10: 1.0787704 | FS10: 0.42532073 | FU10: Wajaran/Weight 2010 | FW10: 0.35067241 | FY10: 0.20016097 | GA10: 0.12422293 | GC10: Wajaran/Weight 2010 | GE10: 0.66567647 | GG10: 0.062699175 | GI10: 0.1842745 | GK10: Wajaran/Weight 2010 | GM10: 1.0030438 | GO10: 0.36027814 | GQ10: 0.34263116 | GS10: Wajaran/Weight 2010 | GU10: 0.32615691 | GW10: 0.082574087 | GY10: 0.78724273 | HA10: Wajaran/Weight 2010 | HC10: 0.048003596 | HE10: 0.20518264 | HG10: 0.12209227 | HI10: Wajaran/Weight 2010 | HK10: 0.14784586 | HM10: 0.14480542 | HO10: 0.18607914 | HQ10: Wajaran/Weight 2010 | HS10: 0.26668777 | HU10: 1.2194193 | HW10: 0.21433441 | HY10: Wajaran/Weight 2010 | IA10: 0.051172872 | IC10: 0.89637659 | IE10: 0.12249443 | IG10: Wajaran/Weight 2010 | II10: 0.34171398 | IK10: 0.15191079 | IM10: 0.23172866 | IO10: 0.17888997 | IQ10: Wajaran/Weight 2010 | IS10: 0.22343729 | IU10: 0.24821071 | IW10: 0.18040491 | IY10: Wajaran/Weight 2010 | JA10: 0.37989948 | JC10: 3.2536807 | JE10: 1.7043818 | JG10: Wajaran/Weight 2010 | JI10: 0.18248696 | JK10: 2.2557875 | JM10: 0.10604573 | JO10: Wajaran/Weight 2010 | JQ10: 0.15014183 | JS10: 0.33854691 | JU10: 2.0655932 | JW10: Wajaran/Weight 2010 | JY10: 0.86247009 | KA10: 2.2196527 | KC10: 0.10531476 | KE10: Wajaran/Weight 2010 | KG10: 0.11661231 | KI10: 0.24721308 | KK10: 0.053191122 | KM10: Wajaran/Weight 2010 | KO10: 0.13461621 | KQ10: 0.16811084 | KS10: 0.35923379 | KU10: Wajaran/Weight 2010 | KW10: 0.030673098 | KY10: 0.39188426 | LA10: 0.23530381 | LC10: Wajaran/Weight 2010 | LE10: 0.013990636 | LG10: 0.18077504 | LI10: 0.15173165 | LK10: Wajaran/Weight 2010 | LM10: 0.092870449 | LO10: 0.044223123 | LQ10: 0.52022784 | LS10: Wajaran/Weight 2010 | LU10: 0.39386511 | LW10: 0.19512899 | LY10: 1.4663002 | MA10: Wajaran/Weight 2010 | MC10: 1.1430042 | ME10: 0.50019043 | MG10: 0.18412583 | MI10: Wajaran/Weight 2010 | MK10: 0.23269699 | MM10: 0.9188495 | MO10: 0.10026793
A11: Wajaran/Weight 2015 | C11: 25.14 | E11: 12.22 | G11: 12.92 | I11: Wajaran/Weight 2015 | K11: 1.9399876 | M11: 1.3662566 | O11: 0.16655497 | Q11: Wajaran/Weight 2015 | S11: 0.042390552 | U11: 0.18405077 | W11: 0.025108473 | Y11: Wajaran/Weight 2015 | AA11: 0.43495964 | AC11: 0.088871287 | AE11: 0.13230115 | AG11: Wajaran/Weight 2015 | AI11: 0.13115356 | AK11: 0.36402039 | AM11: 0.087589849 | AO11: Wajaran/Weight 2015 | AQ11: 0.11762314 | AS11: 0.16597519 | AU11: 0.10646621 | AW11: Wajaran/Weight 2015 | AY11: 0.050203368 | BA11: 0.085563232 | BC11: 0.16801531 | BE11: Wajaran/Weight 2015 | BG11: 0.1493426 | BI11: 0.12646103 | BK11: 0.066484125 | BM11: Wajaran/Weight 2015 | BO11: 0.14581479 | BQ11: 0.20874828 | BS11: 0.37804678 | BU11: Wajaran/Weight 2015 | BW11: 0.060756784 | BY11: 0.51641002 | CA11: 0.06939659 | CC11: Wajaran/Weight 2015 | CE11: 0.21968499 | CG11: 0.10603466 | CI11: 0.45590227 | CK11: Wajaran/Weight 2015 | CM11: 0.052596435 | CO11: 0.018269622 | CQ11: 0.041145496 | CS11: Wajaran/Weight 2015 | CU11: 0.34793416 | CW11: 0.56539716 | CY11: 0.25440125 | DA11: Wajaran/Weight 2015 | DC11: 0.13765928 | DE11: 0.055352802 | DG11: 0.23987676 | DI11: Wajaran/Weight 2015 | DK11: 0.45427395 | DM11: 0.040131483 | DO11: 0.21508736 | DQ11: Wajaran/Weight 2015 | DS11: 0.11129622 | DU11: 0.73063258 | DW11: 0.19261742 | DY11: Wajaran/Weight 2015 | EA11: 9.2616948 | EC11: 1.046268 | EE11: 2.0040451 | EG11: Wajaran/Weight 2015 | EI11: 0.29275865 | EK11: 0.37622283 | EM11: 1.1092827 | EO11: Wajaran/Weight 2015 | EQ11: 0.13955025 | ES11: 0.32573328 | EU11: 0.098193124 | EW11: Wajaran/Weight 2015 | EY11: 0.23226954 | FA11: 0.15468177 | FC11: 0.006550807 | FE11: Wajaran/Weight 2015 | FG11: 0.42579553 | FI11: 0.29914529 | FK11: 0.17492572 | FM11: Wajaran/Weight 2015 | FO11: 0.038422456 | FQ11: 1.1608537 | FS11: 0.24454565 | FU11: Wajaran/Weight 2015 | FW11: 0.37474654 | FY11: 0.36200843 | GA11: 0.17338805 | GC11: Wajaran/Weight 2015 | GE11: 0.62475477 | GG11: 0.074844222 | GI11: 0.16849762 | GK11: Wajaran/Weight 2015 | GM11: 0.86105137 | GO11: 0.14795748 | GQ11: 0.22898489 | GS11: Wajaran/Weight 2015 | GU11: 0.22646132 | GW11: 0.073290154 | GY11: 0.74330728 | HA11: Wajaran/Weight 2015 | HC11: 0.091133903 | HE11: 0.35584392 | HG11: 0.38488039 | HI11: Wajaran/Weight 2015 | HK11: 0.18254154 | HM11: 0.18675128 | HO11: 0.20631852 | HQ11: Wajaran/Weight 2015 | HS11: 0.23402377 | HU11: 0.78756845 | HW11: 0.11073783 | HY11: Wajaran/Weight 2015 | IA11: 0.32589143 | IC11: 0.70975971 | IE11: 0.31698159 | IG11: Wajaran/Weight 2015 | II11: 0.53696087 | IK11: 0.3101417 | IM11: 0.32334457 | IO11: 0.24866841 | IQ11: Wajaran/Weight 2015 | IS11: 0.4148821 | IU11: 0.34779259 | IW11: 0.3065237 | IY11: Wajaran/Weight 2015 | JA11: 0.45452893 | JC11: 3.2519708 | JE11: 1.7564938 | JG11: Wajaran/Weight 2015 | JI11: 0.29474824 | JK11: 2.1860841 | JM11: 0.0072088672 | JO11: Wajaran/Weight 2015 | JQ11: 0.18687942 | JS11: 0.6562117 | JU11: 1.159314 | JW11: Wajaran/Weight 2015 | JY11: 0.90877197 | KA11: 2.4309808 | KC11: 0.39194422 | KE11: Wajaran/Weight 2015 | KG11: 0.13019688 | KI11: 0.40159409 | KK11: 0.038740088 | KM11: Wajaran/Weight 2015 | KO11: 0.049925234 | KQ11: 0.20868292 | KS11: 0.43741985 | KU11: Wajaran/Weight 2015 | KW11: 0.028844393 | KY11: 0.45928219 | LA11: 0.47239135 | LC11: Wajaran/Weight 2015 | LE11: 0.0014190767 | LG11: 0.13842804 | LI11: 0.051087966 | LK11: Wajaran/Weight 2015 | LM11: 0.084355798 | LO11: 0.057527035 | LQ11: 0.66346033 | LS11: Wajaran/Weight 2015 | LU11: 0.32685903 | LW11: 0.26116824 | LY11: 1.5819816 | MA11: Wajaran/Weight 2015 | MC11: 1.4190712 | ME11: 0.43903955 | MG11: 0.27803435 | MI11: Wajaran/Weight 2015 | MK11: 0.26434989 | MM11: 0.71986465 | MO11: 0.24498078
