Workbook
Name \A: #REF!
Name \A: #REF!
Name \A: #REF!
Name \A: #REF!
Name \A: #REF!
Name \A: #REF!
Name \A: #REF!
Name \A: #REF!
Name \A: #REF!
Name \B: #REF!
Name \B: #REF!
Name \B: #REF!
Name \B: #REF!
Name \B: #REF!
Name \B: #REF!
Name \B: #REF!
Name \B: #REF!
Name \B: #REF!
Name \C: #REF!
Name \C: #REF!
Name \C: #REF!
Name \C: #REF!
Name \C: #REF!
Name \C: #REF!
Name \C: #REF!
Name \C: #REF!
Name \C: #REF!
Name \H: #REF!
Name \H: #REF!
Name \H: #REF!
Name \H: #REF!
Name \H: #REF!
Name \H: #REF!
Name \H: #REF!
Name \H: #REF!
Name \H: #REF!
Name \P: #REF!
Name \P: #REF!
Name \P: #REF!
Name \P: #REF!
Name \P: #REF!
Name \P: #REF!
Name \P: #REF!
Name \P: #REF!
Name \P: #REF!
Name \Q: #REF!
Name \Q: #REF!
Name \Q: #REF!
Name \Q: #REF!
Name \Q: #REF!
Name \Q: #REF!
Name \Q: #REF!
Name \Q: #REF!
Name \Q: #REF!
Name \R: #REF!
Name \R: #REF!
Name \R: #REF!
Name \R: #REF!
Name \R: #REF!
Name \R: #REF!

Sheet Jadual1-IPP
A2: Jadual 1: Indeks Pengeluaran Perindustrian (IPP) dan Indeks Sektor (2015=100) | G2: Jadual 1.1: Pertumbuhan Indeks Pengeluaran Perindustrian (IPP) dan Indeks Sektor
A3: Table 1: Industrial Production Index (IPI) and Sector Indices (2015=100) | G3: Table 1.1: Industrial Production Index (IPI) and Sector Indices Growth
A5: Tahun Year | B5: Tempoh Period | C5: IPP IPI | D5: Perlombongan Mining | E5: Pembuatan Manufacturing | F5: Elektrik Electricity | G5: Tahun Year | H5: Tempoh Period | I5: IPP/ IPI | K5: Perlombongan/ Mining | M5: Pembuatan/ Manufacturing | O5: Elektrik/ Electricity
I7: % Perubahan tahun ke tahun change year-on-year | J7: % Perubahan bulan ke bulan change month-on-month | K7: % Perubahan tahun ke tahun change year-on-year | L7: % Perubahan bulan ke bulan change month-on-month | M7: % Perubahan tahun ke tahun change year-on-year | N7: % Perubahan bulan ke bulan change month-on-month | O7: % Perubahan tahun ke tahun change year-on-year | P7: % Perubahan bulan ke bulan change month-on-month
B8: Bulan | H8: Bulan
A9: Sektor/ Sectors | C9: Jumlah/ Total | D9: B | E9: C | F9: D | G9: Sektor/ Sectors | I9: Jumlah/ Total | K9: B | M9: C | O9: D
A10: Wajaran/ Weight 2010 | C10: 100 | D10: 28.92 | E10: 65.89 | F10: 5.19 | G10: Wajaran/Weight 2010 | I10: 100 | K10: 28.92 | M10: 65.89 | O10: 5.19
A11: Wajaran/ Weight 2015 | C11: 100 | D11: 25.135146 | E11: 68.251105 | F11: 6.6137484 | G11: Wajaran/ Weight 2015 | I11: 100 | K11: 25.14 | M11: 68.25 | O11: 6.61
A13: 2015 | C13: 100.00003 | D13: 100 | E13: 100.00004 | F13: 100 | G13: 2015
A14: 2016 | C14: 104.12459 | D14: 102.38037 | E14: 104.33323 | F14: 108.60025 | G14: 2016 | I14: 4.1245543 | K14: 2.3803732 | M14: 4.3331827 | O14: 8.60025
A15: 2017 | C15: 108.72239 | D15: 102.73872 | E15: 110.71485 | F15: 110.9016 | G15: 2017 | I15: 4.4156755 | K15: 0.35001735 | M15: 6.1165754 | O15: 2.1191046
A16: 2018 | C16: 112.15968 | D16: 100.63238 | E16: 116.00588 | F16: 116.27729 | G16: 2018 | I16: 3.1615289 | K16: -2.0501941 | M16: 4.7789721 | O16: 4.8472609
A17: 2019 | C17: 114.88638 | D17: 99.334491 | E17: 120.12851 | F17: 119.89377 | G17: 2019 | I17: 2.4310876 | K17: -1.2897323 | M17: 3.5538127 | O17: 3.1102153
A18: 2020 | C18: 110.2046 | D18: 90.47761 | E18: 116.93975 | F18: 115.67193 | G18: 2020 | I18: -4.0751379 | K18: -8.9162185 | M18: -2.6544608 | O18: -3.5213143
A19: 2021 | C19: 118.32164 | D19: 91.813461 | E19: 128.05964 | F19: 118.57237 | G19: 2021 | I19: 7.3654292 | K19: 1.4764433 | M19: 9.5090745 | O19: 2.5074683
A20: 2022 | C20: 126.47587 | D20: 94.482564 | E20: 138.50138 | F20: 123.96624 | G20: 2022 | I20: 6.8915772 | K20: 2.9070937 | M20: 8.1538153 | O20: 4.5490135
A21: 2023 | C21: 127.38069 | D21: 94.653014 | E21: 139.5297 | F21: 126.38761 | G21: 2023 | I21: 0.71541199 | K21: 0.1804029 | M21: 0.74245953 | O21: 1.9532497
A23: 2015 | B23: Q1 | C23: 97.833491 | D23: 103.74731 | E23: 95.740627 | F23: 96.955869 | G23: 2015 | H23: Q1
B24: Q2 | C24: 99.540978 | D24: 98.809918 | E24: 99.674092 | F24: 100.94564 | H24: Q2
B25: Q3 | C25: 100.05245 | D25: 96.058885 | E25: 101.45358 | F25: 100.77066 | H25: Q3
B26: Q4 | C26: 102.5732 | D26: 101.38389 | E26: 103.13187 | F26: 101.32782 | H26: Q4
A28: 2016 | B28: Q1 | C28: 101.09148 | D28: 103.13396 | E28: 99.926519 | F28: 105.351 | G28: 2016 | H28: Q1 | I28: 3.3301335 | K28: -0.59118804 | M28: 4.3721164 | O28: 8.6587133
B29: Q2 | C29: 103.22749 | D29: 101.28073 | E29: 103.24681 | F29: 110.42667 | H29: Q2 | I29: 3.7035162 | K29: 2.5005747 | M29: 3.5844036 | O29: 9.3922054
B30: Q3 | C30: 104.00154 | D30: 98.205163 | E30: 105.60183 | F30: 109.516 | H30: Q3 | I30: 3.947017 | K30: 2.2343358 | M30: 4.0888099 | O30: 8.6784568
B31: Q4 | C31: 108.17783 | D31: 106.90163 | E31: 108.55775 | F31: 109.10733 | H31: Q4 | I31: 5.4640324 | K31: 5.4424233 | M31: 5.2611095 | O31: 7.6775641
A33: 2017 | B33: Q1 | C33: 105.59436 | D33: 104.93349 | E33: 105.83141 | F33: 105.65967 | G33: 2017 | H33: Q1 | I33: 4.4542623 | K33: 1.7448462 | M33: 5.9092294 | O33: 0.29298883
B34: Q2 | C34: 107.06224 | D34: 99.575373 | E34: 109.43081 | F34: 111.073 | H34: Q2 | I34: 3.7148518 | K34: -1.6837951 | M34: 5.9895282 | O34: 0.58530548
B35: Q3 | C35: 110.00063 | D35: 100.20793 | E35: 113.24299 | F35: 113.7574 | H35: Q3 | I35: 5.7682741 | K35: 2.0393747 | M35: 7.2358249 | O35: 3.8728629
B36: Q4 | C36: 112.23233 | D36: 106.23809 | E36: 114.35419 | F36: 113.11634 | H36: Q4 | I36: 3.7479892 | K36: -0.62070516 | M36: 5.3394938 | O36: 3.6743699
A38: 2018 | B38: Q1 | C38: 109.17892 | D38: 102.55805 | E38: 111.38591 | F38: 111.56597 | G38: 2018 | H38: Q1 | I38: 3.3946591 | K38: -2.2637568 | M38: 5.2484459 | O38: 5.5899327
B39: Q2 | C39: 110.80644 | D39: 99.223225 | E39: 114.52576 | F39: 116.44589 | H39: Q2 | I39: 3.4972118 | K39: -0.35365027 | M39: 4.655861 | O39: 4.8372561
B40: Q3 | C40: 112.6587 | D40: 94.617921 | E40: 118.63726 | F40: 119.52534 | H40: Q3 | I40: 2.4164127 | K40: -5.5784135 | M40: 4.763449 | O40: 5.0703833
B41: Q4 | C41: 115.99465 | D41: 106.13032 | E41: 119.47459 | F41: 117.57197 | H41: Q4 | I41: 3.3522678 | K41: -0.10144421 | M41: 4.4776709 | O41: 3.9389834
A43: 2019 | B43: Q1 | C43: 112.67372 | D43: 102.69163 | E43: 115.85446 | F43: 117.78609 | G43: 2019 | H43: Q1 | I43: 3.2009787 | K43: 0.13024899 | M43: 4.0117739 | O43: 5.5752827
B44: Q2 | C44: 114.73761 | D44: 100.83213 | E44: 119.21729 | F44: 121.35612 | H44: Q2 | I44: 3.5477835 | K44: 1.6215057 | M44: 4.0964827 | O44: 4.2167565
B45: Q3 | C45: 114.64251 | D45: 91.062517 | E45: 122.61368 | F45: 121.99774 | H45: Q3 | I45: 1.7609029 | K45: -3.7576435 | M45: 3.3517431 | O45: 2.0685151
B46: Q4 | C46: 117.49168 | D46: 102.75168 | E46: 122.82862 | F46: 118.43511 | H46: Q4 | I46: 1.290597 | K46: -3.1834826 | M46: 2.8073182 | O46: 0.73413691
A48: 2020 | B48: Q1 | C48: 113.0755 | D48: 100.4854 | E48: 117.31862 | F48: 117.1362 | G48: 2020 | H48: Q1 | I48: 0.35658758 | K48: -2.1484109 | M48: 1.2637908 | O48: -0.55175717
B49: Q2 | C49: 94.603288 | D49: 82.620485 | E49: 97.667379 | F49: 108.52307 | H49: Q2 | I49: -17.548144 | K49: -18.061355 | M49: -18.076159 | O49: -10.57471
B50: Q3 | C50: 115.88142 | D50: 86.350133 | E50: 126.45967 | F50: 118.95019 | H50: Q3 | I50: 1.0806696 | K50: -5.1748883 | M50: 3.1366704 | O50: -2.4980391
B51: Q4 | C51: 117.2582 | D51: 92.454428 | E51: 126.31333 | F51: 118.07827 | H51: Q4 | I51: -0.19872066 | K51: -10.02149 | M51: 2.8370456 | O51: -0.30129806
A53: 2021 | B53: Q1 | C53: 117.68483 | D53: 97.149806 | E53: 125.30749 | F53: 117.06421 | G53: 2021 | H53: Q1 | I53: 4.0763265 | K53: -3.319477 | M53: 6.8095506 | O53: -0.061451789
B54: Q2 | C54: 115.8491 | D54: 94.878274 | E54: 123.37868 | F54: 117.8453 | H54: Q2 | I54: 22.457791 | K54: 14.836258 | M54: 26.325371 | O54: 8.5900945
B55: Q3 | C55: 114.44364 | D55: 83.795646 | E55: 125.62017 | F55: 115.58249 | H55: Q3 | I55: -1.2407298 | K55: -2.9582895 | M55: -0.66385016 | O55: -2.8311877
B56: Q4 | C56: 125.309 | D56: 91.430118 | E56: 137.93221 | F56: 123.79747 | H56: Q4 | I56: 6.8658806 | K56: -1.1079075 | M56: 9.1984616 | O56: 4.8435666
A58: 2022 | B58: Q1 | C58: 122.93127 | D58: 95.682485 | E58: 133.23325 | F58: 120.17651 | G58: 2022 | H58: Q1 | I58: 4.4580462 | K58: -1.5103696 | M58: 6.3250479 | O58: 2.65862
B59: Q2 | C59: 123.59518 | D59: 92.628773 | E59: 134.80017 | F59: 125.65029 | H59: Q2 | I59: 6.6863553 | K59: -2.370933 | M59: 9.2572662 | O59: 6.6230815
B60: Q3 | C60: 128.79144 | D60: 92.063871 | E60: 142.4948 | F60: 126.95938 | H60: Q3 | I60: 12.536995 | K60: 9.8671296 | M60: 13.433062 | O60: 9.8430909
B61: Q4 | C61: 130.58559 | D61: 97.555128 | E61: 143.47731 | F61: 123.07879 | H61: Q4 | I61: 4.2108622 | K61: 6.6991161 | M61: 4.0201622 | O61: -0.58052902
A63: 2023 | B63: Q1 | C63: 126.21068 | D63: 96.680999 | E63: 137.71665 | F63: 119.69972 | G63: 2023 | H63: Q1 | I63: 2.6676806 | K63: 1.0435705 | M63: 3.3650748 | O63: -0.39673843
B64: Q2 | C64: 123.19993 | D64: 90.137107 | E64: 134.88854 | F64: 128.23164 | H64: Q2 | I64: -0.31979263 | K64: -2.6899485 | M64: 0.06555443 | O64: 2.0543912
B65: Q3 | C65: 128.42934 | D65: 90.652171 | E65: 142.29777 | F65: 128.88285 | H65: Q3 | I65: -0.2811503 | K65: -1.5333924 | M65: -0.13827478 | O65: 1.5150293
B66: Q4 | C66: 131.68282 | D66: 101.14178 | E66: 143.21584 | F66: 128.73624 | H66: Q4 | I66: 0.84023535 | K66: 3.6765362 | M66: -0.18223425 | O66: 4.5966059
A68: 2024 | B68: Q1 | C68: 130.33429 | D68: 102.41072 | E68: 140.59339 | F68: 130.58647 | G68: 2024 | H68: Q1 | I68: 3.2672397 | K68: 5.926422 | M68: 2.0888855 | O68: 9.0950491
B69: Q2 | C69: 128.71423 | D69: 92.323203 | E69: 141.50445 | F69: 135.02639 | H69: Q2 | I69: 4.475893 | K69: 2.4253003 | M69: 4.9047227 | O69: 5.2988115
B70: Q3 | C70: 133.41618 | D70: 86.508834 | E70: 150.50014 | F70: 135.38543 | H70: Q3 | I70: 3.8829435 | K70: -4.5705872 | M70: 5.7642295 | O70: 5.0453434
B71: Q4 | C71: 90.768306 | D71: 65.818872 | E71: 100.15259 | F71: 88.745187 | H71: Q4 | I71: -31.070503 | K71: -34.92415 | M71: -30.068774 | O71: -31.06433
A73: 2015 | B73: (Jan.-Nov.) | C73: 99.673953 | D73: 99.519095 | E73: 99.722339 | F73: 99.763166 | G73: 2015 | H73: (Jan.-Nov.)
A74: 2016 | B74: (Jan.-Nov.) | C74: 103.68595 | D74: 101.52179 | E74: 104.01051 | F74: 108.56127 | G74: 2016 | H74: (Jan.-Nov.) | I74: 4.0251168 | K74: 2.0123762 | M74: 4.3001152 | O74: 8.8189933
A75: 2017 | B75: (Jan.-Nov.) | C75: 108.42166 | D75: 102.32827 | E75: 110.44164 | F75: 110.73384 | G75: 2017 | H75: (Jan.-Nov.) | I75: 4.5673604 | K75: 0.79438844 | M75: 6.1831483 | O75: 2.0012356
A76: 2018 | B76: (Jan.-Nov.) | C76: 111.81328 | D76: 99.930536 | E76: 115.76318 | F76: 116.21155 | G76: 2018 | H76: (Jan.-Nov.) | I76: 3.1281769 | K76: -2.3431792 | M76: 4.8184224 | O76: 4.9467397
A77: 2019 | B77: (Jan.-Nov.) | C77: 114.65311 | D77: 98.993851 | E77: 119.89332 | F77: 120.08848 | G77: 2019 | H77: (Jan.-Nov.) | I77: 2.5398015 | K77: -0.93733614 | M77: 3.5677441 | O77: 3.3360951
A78: 2020 | B78: (Jan.-Nov.) | C78: 109.35782 | D78: 89.837078 | E78: 115.95506 | F78: 115.46441 | G78: 2020 | H78: (Jan.-Nov.) | I78: -4.6185356 | K78: -9.2498401 | M78: -3.2847988 | O78: -3.8505556
A79: 2021 | B79: (Jan.-Nov.) | C79: 117.56955 | D79: 91.512969 | E79: 127.11443 | F79: 118.09683 | G79: 2021 | H79: (Jan.-Nov.) | I79: 7.5090449 | K79: 1.8654781 | M79: 9.6238682 | O79: 2.2798573
A80: 2022 | B80: (Jan.-Nov.) | C80: 126.14062 | D80: 94.131254 | E80: 138.12551 | F80: 124.11125 | G80: 2022 | H80: (Jan.-Nov.) | I80: 7.2902152 | K80: 2.861108 | M80: 8.6623385 | O80: 5.0927814
A81: 2023 | B81: (Jan.-Nov.) | C81: 127.13164 | D81: 93.950706 | E81: 139.43263 | F81: 126.29268 | G81: 2023 | H81: (Jan.-Nov.) | I81: 0.78564404 | K81: -0.19180426 | M81: 0.94632617 | O81: 1.7576476
A82: 2024 | B82: (Jan.-Nov.) | C82: 131.79082 | D82: 94.653172 | E82: 145.29561 | F82: 133.5664 | G82: 2024 | H82: (Jan.-Nov.) | I82: 3.6648492 | K82: 0.74769681 | M82: 4.2048867 | O82: 5.7594142
A84: 2015 | B84: Jan. | C84: 101.02889 | D84: 107.23568 | E84: 99.035338 | F84: 98.013035 | G84: 2015 | H84: Jan.
B85: Feb. | C85: 90.811593 | D85: 96.26193 | E85: 89.004522 | F85: 88.746137 | H85: Feb. | J85: -10.113245 | L85: -10.233299 | N85: -10.128522 | P85: -9.4547604
B86: Mar. | C86: 101.65999 | D86: 107.74431 | E86: 99.182022 | F86: 104.10844 | H86: Mar. | J86: 11.946044 | L86: 11.928266 | N86: 11.434813 | P86: 17.310386
B87: Apr. | C87: 97.040953 | D87: 96.05062 | E87: 97.006731 | F87: 101.15782 | H87: Apr. | J87: -4.5436095 | L87: -10.853185 | N87: -2.1932313 | P87: -2.8341805
B88: May | C88: 100.67706 | D88: 103.50392 | E88: 99.450914 | F88: 102.58708 | H88: May | J88: 3.7469829 | L88: 7.7597639 | N88: 2.5196011 | P88: 1.4129074
B89: Jun. | C89: 100.90492 | D89: 96.875212 | E89: 102.56463 | F89: 99.092037 | H89: Jun. | J89: 0.22632524 | L89: -6.4043076 | N89: 3.1309093 | P89: -3.4069054
B90: Jul. | C90: 100.42042 | D90: 100.08123 | E90: 100.5705 | F90: 100.16079 | H90: Jul. | J90: -0.48015358 | L90: 3.3094295 | N90: -1.9442727 | P90: 1.0785415
B91: Aug. | C91: 98.205561 | D91: 91.268326 | E91: 100.38914 | F91: 102.03647 | H91: Aug. | J91: -2.205587 | L91: -8.8057494 | N91: -0.18032618 | P91: 1.87267
B92: Sep. | C92: 101.53138 | D92: 96.827099 | E92: 103.40112 | F92: 100.11473 | H92: Sep. | J92: 3.3865856 | L92: 6.0905824 | N92: 3.0003027 | P92: -1.8833787
B93: Oct. | C93: 104.5891 | D93: 100.11564 | E93: 106.31454 | F93: 103.78448 | H93: Oct. | J93: 3.0116083 | L93: 3.3963062 | N93: 2.8175873 | P93: 3.6655376
B94: Nov. | C94: 99.543621 | D94: 98.746074 | E94: 100.02628 | F94: 97.593822 | H94: Nov. | J94: -4.8240992 | L94: -1.3679874 | N94: -5.9147664 | P94: -5.9649139
B95: Dec. | C95: 103.58687 | D95: 105.28996 | E95: 103.0548 | F95: 102.60518 | H95: Dec. | J95: 4.0617894 | L95: 6.626983 | N95: 3.0277248 | P95: 5.1349088
A97: 2016 | B97: Jan. | C97: 104.3027 | D97: 106.92706 | E97: 103.20468 | F97: 105.66 | G97: 2016 | H97: Jan. | I97: 3.2404618 | J97: 0.69103533 | K97: -0.28779479 | L97: 1.5548479 | M97: 4.2099558 | N97: 0.14543942 | O97: 7.8019881 | P97: 2.9772615
B98: Feb. | C98: 94.629137 | D98: 98.448049 | E98: 92.880771 | F98: 98.158 | H98: Feb. | I98: 4.2038076 | J98: -9.2745042 | K98: 2.2710117 | L98: -7.9297133 | M98: 4.3551155 | N98: -10.003335 | O98: 10.605378 | P98: -7.1001325
B99: Mar. | C99: 104.3426 | D99: 104.02678 | E99: 103.6941 | F99: 112.235 | H99: Mar. | I99: 2.6388064 | J99: 10.264765 | K99: -3.4503223 | L99: 5.6666774 | M99: 4.5492935 | N99: 11.642165 | O99: 7.8058648 | P99: 14.341164
B100: Apr. | C100: 99.761996 | D100: 97.691486 | E100: 99.451696 | F100: 110.833 | H100: Apr. | I100: 2.8040143 | J100: -4.3899624 | K100: 1.7083348 | L100: -6.0900631 | M100: 2.5204077 | N100: -4.0912716 | O100: 9.5644462 | P100: -1.2491647
B101: May | C101: 103.58789 | D101: 102.42831 | E101: 103.13999 | F101: 112.617 | H101: May | I101: 2.8912558 | J101: 3.8350246 | K101: -1.0391964 | L101: 4.8487604 | M101: 3.709442 | N101: 3.708626 | O101: 9.7769801 | P101: 1.6096289
B102: Jun. | C102: 106.33259 | D102: 103.7224 | E102: 107.14876 | F102: 107.83 | H102: Jun. | I102: 5.3789995 | J102: 2.6496352 | K102: 7.0680519 | L102: 1.2634102 | M102: 4.4695001 | N102: 3.8867276 | O102: 8.8180278 | P102: -4.2506904
B103: Jul. | C103: 104.23472 | D103: 103.31036 | E103: 104.26793 | F103: 107.405 | H103: Jul. | I103: 3.7983306 | J103: -1.9729361 | K103: 3.2265107 | L103: -0.39725446 | M103: 3.6764584 | N103: -2.6886266 | O103: 7.2325857 | P103: -0.39413892
B104: Aug. | C104: 103.13183 | D104: 94.821744 | E104: 105.15776 | F104: 113.807 | H104: Aug. | I104: 5.0162832 | J104: -1.0580835 | K104: 3.8933747 | L104: -8.2166162 | M104: 4.7501395 | N104: 0.85341378 | O104: 11.535615 | P104: 5.9606164
B105: Sep. | C105: 104.63807 | D105: 96.483384 | E105: 107.37979 | F105: 107.336 | H105: Sep. | I105: 3.0598358 | J105: 1.4604995 | K105: -0.35497852 | L105: 1.7523821 | M105: 3.8478076 | N105: 2.1130441 | O105: 7.212991 | P105: -5.685942
B106: Oct. | C106: 109.17548 | D106: 104.3473 | E106: 110.76757 | F106: 111.095 | H106: Oct. | I106: 4.3851413 | J106: 4.3362935 | K106: 4.2267636 | L106: 8.1505348 | M106: 4.1885516 | N106: 3.1549511 | O106: 7.043947 | P106: 3.5020869
B107: Nov. | C107: 106.4084 | D107: 104.53285 | E107: 107.0226 | F107: 107.198 | H107: Nov. | I107: 6.896248 | J107: -2.5345315 | K107: 5.8602597 | L107: 0.17782487 | M107: 6.9944795 | N107: -3.3809335 | O107: 9.8409694 | P107: -3.5078086
B108: Dec. | C108: 108.94962 | D108: 111.82475 | E108: 107.88308 | F108: 109.029 | H108: Dec. | I108: 5.1770494 | J108: 2.388177 | K108: 6.2064736 | L108: 6.9757044 | M108: 4.685163 | N108: 0.8040248 | O108: 6.2607216 | P108: 1.7080543
A110: 2017 | B110: Jan. | C110: 108.2116 | D110: 108.58412 | E110: 108.25646 | F110: 106.333 | G110: 2017 | H110: Jan. | I110: 3.7476581 | J110: -0.67738954 | K110: 1.5497154 | L110: -2.8979538 | M110: 4.8949086 | N110: 0.34608927 | O110: 0.6369487 | P110: -2.4727366
B111: Feb. | C111: 99.487368 | D111: 98.906937 | E111: 99.733721 | F111: 99.151 | H111: Feb. | I111: 5.1339693 | J111: -8.0621995 | K111: 0.4661219 | L111: -8.9121559 | M111: 7.3782227 | N111: -7.8727269 | O111: 1.0116343 | P111: -6.7542531
B112: Mar. | C112: 109.0841 | D112: 107.30942 | E112: 109.50404 | F112: 111.495 | H112: Mar. | I112: 4.5441645 | J112: 9.6461766 | K112: 3.1555662 | L112: 8.4953388 | M112: 5.6029577 | N112: 9.7964046 | O112: -0.65933087 | P112: 12.449698
B113: Apr. | C113: 103.81884 | D113: 96.864393 | E113: 105.90814 | F113: 108.688 | H113: Apr. | I113: 4.0665185 | J113: -4.8267897 | K113: -0.84663823 | L113: -9.7335578 | M113: 6.4920426 | N113: -3.2838037 | O113: -1.9353442 | P113: -2.5176017
B114: May | C114: 107.85358 | D114: 98.634509 | E114: 110.56271 | F114: 114.933 | H114: May | I114: 4.1179393 | J114: 3.886331 | K114: -3.7038615 | L114: 1.8274174 | M114: 7.1967454 | N114: 4.3949097 | O114: 2.0565279 | P114: 5.7458045
B115: Jun. | C115: 109.51431 | D115: 103.22722 | E115: 111.82158 | F115: 109.598 | H115: Jun. | I115: 2.9922327 | J115: 1.5398037 | K115: -0.47741273 | L115: 4.6562898 | M115: 4.3610606 | N115: 1.1386029 | O115: 1.6396179 | P115: -4.6418348
B116: Jul. | C116: 110.28959 | D116: 101.30302 | E116: 113.10439 | F116: 115.395 | H116: Jul. | I116: 5.808881 | J116: 0.7079239 | K116: -1.94302 | L116: -1.8640421 | M116: 8.4747615 | N116: 1.1471899 | O116: 7.4391323 | P116: 5.2893301
B117: Aug. | C117: 110.21587 | D117: 101.06571 | E117: 112.95487 | F117: 116.72521 | H117: Aug. | I117: 6.8689193 | J117: -0.066841286 | K117: 6.5849477 | L117: -0.23426012 | M117: 7.4146728 | N117: -0.13219394 | O117: 2.5641777 | P117: 1.1527481
B118: Sep. | C118: 109.49644 | D118: 98.255076 | E118: 113.66972 | F118: 109.152 | H118: Sep. | I118: 4.643022 | J118: -0.65274968 | K118: 1.8362669 | L118: -2.7809933 | M118: 5.8576458 | N118: 0.63286677 | O118: 1.6918834 | P118: -6.4880701
...

Sheet Jadual1.2-Indeks PM
A2: Jadual 1.2: Indeks Pengeluaran Perindustrian (IPP) dan Indeks Sektor (2015=100)-Indeks Asal & Indeks Pelarasan Musim | O2: Jadual 1.2: Indeks Pengeluaran Perindustrian (IPP) dan Indeks Sektor (2015=100)-Indeks Asal & Indeks Pelarasan Musim (samb.)
A3: Table 1.2: Industrial Production Index (IPI) and Sector Indices (2015=100)-Original Index & Seasonally Adjusted Index | O3: Table 1.2: Industrial Production Index (IPI) and Sector Indices (2015=100)-Original Index & Seasonally Adjusted Index (cont.)
A5: Tahun Year | B5: Tempoh Period | C5: IPP/ IPI | I5: Perlombongan/ Mining | O5: Tahun Year | P5: Tempoh Period | Q5: Pembuatan/ Manufacturing | W5: Elektrik/ Electricity
C7: Indeks Asal | E7: Indeks Pelarasan Musim (PM) | G7: % Perubahan bulan ke bulan (PM) | I7: Indeks Asal | K7: Indeks Pelarasan Musim (PM) | M7: % Perubahan bulan ke bulan (PM) | Q7: Indeks Asal | S7: Indeks Pelarasan Musim (PM) | U7: % Perubahan bulan ke bulan (PM) | W7: Indeks Asal | Y7: Indeks Pelarasan Musim (PM) | AA7: % Perubahan bulan ke bulan (PM)
B8: Bulan | C8: Original Index | E8: Seasonally Adjusted Index (SA) | G8: % Change month-on-month (SA) | I8: Original Index | K8: Seasonally Adjusted Index (SA) | M8: % Change month-on-month (SA) | P8: Bulan | Q8: Original Index | S8: Seasonally Adjusted Index (SA) | U8: % Change month-on-month (SA) | W8: Original Index | Y8: Seasonally Adjusted Index (SA) | AA8: % Change month-on-month (SA)
A9: Sektor/ Sectors | C9: Jumlah/ Total | I9: B | O9: Sektor/ Sectors | Q9: C | W9: D
A10: Wajaran/Weight 2010 | C10: 100 | I10: 28.919338 | O10: Wajaran/Weight 2010 | Q10: 65.887096 | W10: 5.1935668
A11: Wajaran/Weight 2015 | C11: 100 | I11: 25.14 | O11: Wajaran/Weight 2015 | Q11: 68.25 | W11: 6.61
A13: 2015 | B13: Jan. | C13: 101.02889 | E13: 101.01097 | I13: 107.23568 | K13: 100.4412 | O13: 2015 | P13: Jan. | Q13: 99.035338 | S13: 101.53122 | W13: 98.013035 | Y13: 98.863251
B14: Feb. | C14: 90.811593 | E14: 98.807587 | G14: -2.1813328 | I14: 96.26193 | K14: 99.433085 | M14: -1.0036885 | P14: Feb. | Q14: 89.004522 | S14: 98.466708 | U14: -3.0182955 | W14: 88.746137 | Y14: 99.987174 | AA14: 1.1368461
B15: Mar. | C15: 101.65999 | E15: 98.567403 | G15: -0.2430826 | I15: 107.74431 | K15: 100.93351 | M15: 1.5089755 | P15: Mar. | Q15: 99.182022 | S15: 97.580352 | U15: -0.90015823 | W15: 104.10844 | Y15: 100.06917 | AA15: 0.082007753
B16: Apr. | C16: 97.040953 | E16: 98.377387 | G16: -0.1927779 | I16: 96.05062 | K16: 99.235568 | M16: -1.6822347 | P16: Apr. | Q16: 97.006731 | S16: 98.436355 | U16: 0.87722926 | W16: 101.15782 | Y16: 98.960197 | AA16: -1.1082077
B17: May | C17: 100.67706 | E17: 100.1574 | G17: 1.8093687 | I17: 103.50392 | K17: 102.34032 | M17: 3.128673 | P17: May | Q17: 99.450914 | S17: 99.840071 | U17: 1.4260133 | W17: 102.58708 | Y17: 98.41692 | AA17: -0.54898481
B18: Jun. | C18: 100.90492 | E18: 99.909658 | G18: -0.24734898 | I18: 96.875212 | K18: 100.14977 | M18: -2.1404613 | P18: Jun. | Q18: 102.56463 | S18: 100.1211 | U18: 0.28148043 | W18: 99.092037 | Y18: 98.400318 | AA18: -0.016869441
B19: Jul. | C19: 100.42042 | E19: 100.11176 | G19: 0.20228377 | I19: 100.08123 | K19: 99.014092 | M19: -1.1339784 | P19: Jul. | Q19: 100.5705 | S19: 101.02481 | U19: 0.90261675 | W19: 100.16079 | Y19: 99.162893 | AA19: 0.77497209
B20: Aug. | C20: 98.205561 | E20: 99.463954 | G20: -0.64708185 | I20: 91.268326 | K20: 93.36041 | M20: -5.7099772 | P20: Aug. | Q20: 100.38914 | S20: 100.50887 | U20: -0.51070694 | W20: 102.03647 | Y20: 99.94655 | AA20: 0.79027209
B21: Sep. | C21: 101.53138 | E21: 101.31895 | G21: 1.8649962 | I21: 96.827099 | K21: 101.53295 | M21: 8.7537562 | P21: Sep. | Q21: 103.40112 | S21: 101.20545 | U21: 0.693052 | W21: 100.11473 | Y21: 101.19489 | AA21: 1.2490083
B22: Oct. | C22: 104.5891 | E22: 100.76416 | G22: -0.54756762 | I22: 100.11564 | K22: 98.85185 | M22: -2.6406238 | P22: Oct. | Q22: 106.31454 | S22: 101.62372 | U22: 0.41329016 | W22: 103.78448 | Y22: 101.52594 | AA22: 0.32714019
B23: Nov. | C23: 99.543621 | E23: 99.827128 | G23: -0.92992934 | I23: 98.746074 | K23: 95.186697 | M23: -3.7077231 | P23: Nov. | Q23: 100.02628 | S23: 102.2877 | U23: 0.65337378 | W23: 97.593822 | Y23: 102.70268 | AA23: 1.1590561
B24: Dec. | C24: 103.58687 | E24: 99.592128 | G24: -0.23540695 | I24: 105.28996 | K24: 100.12265 | M24: 5.1855484 | P24: Dec. | Q24: 103.0548 | S24: 99.671419 | U24: -2.5577706 | W24: 102.60518 | Y24: 102.78247 | AA24: 0.077685233
A26: 2016 | B26: Jan. | C26: 104.3027 | E26: 102.1 | G26: 2.5181426 | I26: 106.92706 | K26: 100.7 | M26: 0.57664373 | O26: 2016 | P26: Jan. | Q26: 103.20468 | S26: 102 | U26: 2.3362576 | W26: 105.66 | Y26: 106.9 | AA26: 4.0060656
B27: Feb. | C27: 94.629137 | E27: 102.7 | G27: 0.58765916 | I27: 98.448049 | K27: 103.1 | M27: 2.3833168 | P27: Feb. | Q27: 92.880771 | S27: 101.8 | U27: -0.19607843 | W27: 98.158 | Y27: 107.6 | AA27: 0.65481759
B28: Mar. | C28: 104.3426 | E28: 102.8 | G28: 0.097370983 | I28: 104.02678 | K28: 99.6 | M28: -3.3947624 | P28: Mar. | Q28: 103.6941 | S28: 103.3 | U28: 1.4734774 | W28: 112.235 | Y28: 108.3 | AA28: 0.65055762
B29: Apr. | C29: 99.761996 | E29: 103.1 | G29: 0.29182879 | I29: 97.691486 | K29: 102.4 | M29: 2.811245 | P29: Apr. | Q29: 99.451696 | S29: 102.6 | U29: -0.67763795 | W29: 110.833 | Y29: 109 | AA29: 0.64635272
B30: May | C30: 103.58789 | E30: 103.4 | G30: 0.29097963 | I30: 102.42831 | K30: 102 | M30: -0.390625 | P30: May | Q30: 103.13999 | S30: 103.3 | U30: 0.68226121 | W30: 112.617 | Y30: 108.5 | AA30: -0.4587156
B31: Jun. | C31: 106.33259 | E31: 105.6 | G31: 2.1276596 | I31: 103.7224 | K31: 104.6 | M31: 2.5490196 | P31: Jun. | Q31: 107.14876 | S31: 105.7 | U31: 2.3233301 | W31: 107.83 | Y31: 108.8 | AA31: 0.2764977
B32: Jul. | C32: 104.23472 | E32: 103.6 | G32: -1.8939394 | I32: 103.31036 | K32: 104 | M32: -0.57361377 | P32: Jul. | Q32: 104.26793 | S32: 103.5 | U32: -2.0813623 | W32: 107.405 | Y32: 105.7 | AA32: -2.8492647
B33: Aug. | C33: 103.13183 | E33: 103.5 | G33: -0.096525097 | I33: 94.821744 | K33: 100.6 | M33: -3.2692308 | P33: Aug. | Q33: 105.15776 | S33: 104.6 | U33: 1.0628019 | W33: 113.807 | Y33: 109.5 | AA33: 3.5950804
B34: Sep. | C34: 104.63807 | E34: 105 | G34: 1.4492754 | I34: 96.483384 | K34: 101.8 | M34: 1.1928429 | P34: Sep. | Q34: 107.37979 | S34: 105.4 | U34: 0.76481836 | W34: 107.336 | Y34: 109.8 | AA34: 0.2739726
B35: Oct. | C35: 109.17548 | E35: 105.2 | G35: 0.19047619 | I35: 104.3473 | K35: 102.1 | M35: 0.29469548 | P35: Oct. | Q35: 110.76757 | S35: 106.3 | U35: 0.85388994 | W35: 111.095 | Y35: 108.6 | AA35: -1.0928962
B36: Nov. | C36: 106.4084 | E36: 105.6 | G36: 0.38022814 | I36: 104.53285 | K36: 102.9 | M36: 0.78354554 | P36: Nov. | Q36: 107.0226 | S36: 106.3 | U36: 0 | W36: 107.198 | Y36: 109.1 | AA36: 0.46040516
B37: Dec. | C37: 108.94962 | E37: 106.7 | G37: 1.0416667 | I37: 111.82475 | K37: 104.8 | M37: 1.8464529 | P37: Dec. | Q37: 107.88308 | S37: 106.9 | U37: 0.56444026 | W37: 109.029 | Y37: 109.5 | AA37: 0.36663611
A39: 2017 | B39: Jan. | C39: 108.2116 | E39: 105.678 | G39: -0.95782568 | I39: 108.58412 | K39: 102.325 | M39: -2.3616412 | O39: 2017 | P39: Jan. | Q39: 108.25646 | S39: 106.889 | U39: -0.010289991 | W39: 106.333 | Y39: 108.302 | AA39: -1.0940639
B40: Feb. | C40: 99.487368 | E40: 107.995 | G40: 2.1925093 | I40: 98.906937 | K40: 103.414 | M40: 1.064256 | P40: Feb. | Q40: 99.733721 | S40: 109.476 | U40: 2.4202678 | W40: 99.151 | Y40: 109.675 | AA40: 1.2677513
B41: Mar. | C41: 109.0841 | E41: 107.512 | G41: -0.44724293 | I41: 107.30942 | K41: 102.47 | M41: -0.91283579 | P41: Mar. | Q41: 109.50404 | S41: 109.33 | U41: -0.13336256 | W41: 111.495 | Y41: 108.325 | AA41: -1.2309095
B42: Apr. | C42: 103.81884 | E42: 106.72 | G42: -0.73666195 | I42: 96.864393 | K42: 100.009 | M42: -2.4016785 | P42: Apr. | Q42: 105.90814 | S42: 109.156 | U42: -0.15915119 | W42: 108.688 | Y42: 107.19 | AA42: -1.0477729
B43: May | C43: 107.85358 | E43: 107.537 | G43: 0.76555472 | I43: 98.634509 | K43: 97.403 | M43: -2.6057655 | P43: May | Q43: 110.56271 | S43: 110.755 | U43: 1.464876 | W43: 114.933 | Y43: 111.076 | AA43: 3.6253382
B44: Jun. | C44: 109.51431 | E44: 109.008 | G44: 1.3679013 | I44: 103.22722 | K44: 104.159 | M44: 6.9361313 | P44: Jun. | Q44: 111.82158 | S44: 110.586 | U44: -0.15258905 | W44: 109.598 | Y44: 111.401 | AA44: 0.29259246
B45: Jul. | C45: 110.28959 | E45: 109.808 | G45: 0.73389109 | I45: 101.30302 | K45: 103.025 | M45: -1.0887201 | P45: Jul. | Q45: 113.10439 | S45: 110.97 | U45: 0.34724106 | W45: 115.395 | Y45: 112.485 | AA45: 0.97306128
B46: Aug. | C46: 110.21587 | E46: 110.788 | G46: 0.89246685 | I46: 101.06571 | K46: 108.565 | M46: 5.3773356 | P46: Aug. | Q46: 112.95487 | S46: 112.248 | U46: 1.1516626 | W46: 116.72521 | Y46: 113.137 | AA46: 0.57963284
B47: Sep. | C47: 109.49644 | E47: 109.983 | G47: -0.72661299 | I47: 98.255076 | K47: 104.424 | M47: -3.8143048 | P47: Sep. | Q47: 113.66972 | S47: 111.745 | U47: -0.44811489 | W47: 109.152 | Y47: 111.999 | AA47: -1.0058602
B48: Oct. | C48: 112.82471 | E48: 109.167 | G48: -0.74193284 | I48: 104.8736 | K48: 102.972 | M48: -1.3904849 | P48: Oct. | Q48: 115.47094 | S48: 111.344 | U48: -0.35885275 | W48: 115.73434 | Y48: 114.019 | AA48: 1.8035875
B49: Nov. | C49: 111.84183 | E49: 110.804 | G49: 1.4995374 | I49: 106.58698 | K49: 104.082 | M49: 1.0779629 | P49: Nov. | Q49: 113.87145 | S49: 113.316 | U49: 1.7710878 | W49: 110.86768 | Y49: 113.459 | AA49: -0.49114621
B50: Dec. | C50: 112.03044 | E50: 109.852 | G50: -0.85917476 | I50: 107.25369 | K50: 100.702 | M50: -3.2474395 | P50: Dec. | Q50: 113.72016 | S50: 112.727 | U50: -0.51978538 | W50: 112.747 | Y50: 114.124 | AA50: 0.58611481
A52: 2018 | B52: Jan. | C52: 113.44667 | E52: 109.866 | G52: 0.01274442 | I52: 107.63356 | K52: 100.455 | M52: -0.24527815 | O52: 2018 | P52: Jan. | Q52: 115.72032 | S52: 113.184 | U52: 0.40540421 | W52: 112.07591 | Y52: 111.934 | AA52: -1.9189653
B53: Feb. | C53: 101.81979 | E53: 110.83 | G53: 0.87743251 | I53: 94.426956 | K53: 99.314 | M53: -1.135832 | P53: Feb. | Q53: 104.4286 | S53: 114.656 | U53: 1.3005372 | W53: 102.994 | Y53: 113.028 | AA53: 0.97736166
B54: Mar. | C54: 112.27031 | E54: 111.09 | G54: 0.23459352 | I54: 105.61365 | K54: 100.57 | M54: 1.2646757 | P54: Mar. | Q54: 114.00881 | S54: 114.552 | U54: -0.090706112 | W54: 119.628 | Y54: 114.149 | AA54: 0.99178965
B55: Apr. | C55: 108.98603 | E55: 113.036 | G55: 1.7517328 | I55: 100.09604 | K55: 103.179 | M55: 2.594213 | P55: Apr. | Q55: 111.56199 | S55: 116.453 | U55: 1.6595083 | W55: 116.189 | Y55: 114.666 | AA55: 0.4529168
B56: May | C56: 111.6305 | E56: 112.183 | G56: -0.75462684 | I56: 100.12975 | K56: 101.109 | M56: -2.0062222 | P56: May | Q56: 115.14018 | S56: 116.246 | U56: -0.17775412 | W56: 119.12 | Y56: 114.684 | AA56: 0.015697766
B57: Jun. | C57: 111.80278 | E57: 112.025 | G57: -0.1408413 | I57: 97.443889 | K57: 99.357 | M57: -1.7327834 | P57: Jun. | Q57: 116.8751 | S57: 116.288 | U57: 0.036130275 | W57: 114.02866 | Y57: 114.98 | AA57: 0.25810052
B58: Jul. | C58: 113.26937 | E58: 113.033 | G58: 0.89979915 | I58: 95.456747 | K58: 97.797 | M58: -1.5700957 | P58: Jul. | Q58: 118.99881 | S58: 117.191 | U58: 0.77652036 | W58: 121.83978 | Y58: 117.284 | AA58: 2.0038268
B59: Aug. | C59: 112.34249 | E59: 112.136 | G59: -0.79357356 | I59: 94.850108 | K59: 99.686 | M59: 1.9315521 | P59: Aug. | Q59: 117.78989 | S59: 116.225 | U59: -0.82429538 | W59: 122.60636 | Y59: 117.284 | AA59: 0
B60: Sep. | C60: 112.36424 | E60: 112.151 | G60: 0.013376614 | I60: 93.546908 | K60: 99.589 | M60: -0.097305539 | P60: Sep. | Q60: 119.12309 | S60: 116.466 | U60: 0.20735642 | W60: 114.12989 | Y60: 115.678 | AA60: -1.3693257
B61: Oct. | C61: 117.75626 | E61: 113.634 | G61: 1.3223244 | I61: 106.49255 | K61: 104.162 | M61: 4.5918726 | P61: Oct. | Q61: 121.6737 | S61: 117.059 | U61: 0.50916147 | W61: 120.13704 | Y61: 116.679 | AA61: 0.86533308
B62: Nov. | C62: 114.25761 | E62: 112.486 | G62: -1.010261 | I62: 103.54574 | K62: 101.038 | M62: -2.9991744 | P62: Nov. | Q62: 118.07452 | S62: 116.842 | U62: -0.1853766 | W62: 115.57847 | Y62: 116.949 | AA62: 0.23140411
B63: Dec. | C63: 115.97009 | E63: 112.405 | G63: -0.072008961 | I63: 108.35265 | K63: 100.9 | M63: -0.13658228 | P63: Dec. | Q63: 118.67555 | S63: 116.398 | U63: -0.38000034 | W63: 117.00042 | Y63: 116.654 | AA63: -0.25224671
A65: 2019 | B65: Jan. | C65: 117.74027 | E65: 113.451 | G65: 0.93056359 | I65: 109.37595 | K65: 101.706 | M65: 0.7988107 | O65: 2019 | P65: Jan. | Q65: 120.55014 | S65: 117.391 | U65: 0.85310744 | W65: 120.53167 | Y65: 119.39 | AA65: 2.3453975
B66: Feb. | C66: 104.27526 | E66: 112.911 | G66: -0.47597641 | I66: 92.396813 | K66: 96.484 | M66: -5.134407 | P66: Feb. | Q66: 108.30775 | S66: 118.188 | U66: 0.67892769 | W66: 107.80499 | Y66: 118.48 | AA66: -0.76220789
B67: Mar. | C67: 116.00563 | E67: 114.499 | G67: 1.4064174 | I67: 106.30214 | K67: 101.218 | M67: 4.906513 | P67: Mar. | Q67: 118.7055 | S67: 118.947 | U67: 0.64219718 | W67: 125.0216 | Y67: 119.431 | AA67: 0.80266712
B68: Apr. | C68: 112.67133 | E68: 116.883 | G68: 2.0821143 | I68: 99.949762 | K68: 102.571 | M68: 1.3367188 | P68: Apr. | Q68: 116.37204 | S68: 121.844 | U68: 2.4355385 | W68: 122.82907 | Y68: 120.94 | AA68: 1.2634911
B69: May | C69: 116.22402 | E69: 117.789 | G69: 0.77513411 | I69: 103.71168 | K69: 103.133 | M69: 0.54791315 | P69: May | Q69: 119.92593 | S69: 122.95 | U69: 0.90771807 | W69: 125.57423 | Y69: 121.76 | AA69: 0.67802216
B70: Jun. | C70: 115.31748 | E70: 116.009 | G70: -1.5111768 | I70: 98.834965 | K70: 101.614 | M70: -1.4728554 | P70: Jun. | Q70: 121.35388 | S70: 121.398 | U70: -1.2623017 | W70: 115.66507 | Y70: 118.736 | AA70: -2.4835742
B71: Jul. | C71: 114.77051 | E71: 115.648 | G71: -0.31118275 | I71: 87.897348 | K71: 91.019 | M71: -10.426713 | P71: Jul. | Q71: 123.77637 | S71: 122.708 | U71: 1.0790952 | W71: 123.96364 | Y71: 119.663 | AA71: 0.78072362
B72: Aug. | C72: 114.88704 | E72: 114.464 | G72: -1.0237963 | I72: 93.563339 | K72: 98.737 | M72: 8.4795482 | P72: Aug. | Q72: 121.98144 | S72: 120.193 | U72: -2.0495811 | W72: 122.71525 | Y72: 118.146 | AA72: -1.2677269
B73: Sep. | C73: 114.26999 | E73: 113.614 | G73: -0.74259156 | I73: 91.726863 | K73: 98.828 | M73: 0.092164032 | P73: Sep. | Q73: 122.08324 | S73: 118.829 | U73: -1.1348415 | W73: 119.31433 | Y73: 119.874 | AA73: 1.4625971
B74: Oct. | C74: 118.04641 | E74: 113.803 | G74: 0.16635274 | I74: 99.867839 | K74: 99.596 | M74: 0.7771077 | P74: Oct. | Q74: 124.50865 | S74: 119.429 | U74: 0.50492725 | W74: 120.4454 | Y74: 117.15 | AA74: -2.272386
B75: Nov. | C75: 116.97632 | E75: 114.874 | G75: 0.94109997 | I75: 105.30566 | K75: 100.744 | M75: 1.1526567 | P75: Nov. | Q75: 121.26156 | S75: 119.502 | U75: 0.061124183 | W75: 117.10804 | Y75: 118.594 | AA75: 1.2326078
B76: Dec. | C76: 117.4523 | E76: 113.648 | G76: -1.0672563 | I76: 103.08153 | K76: 96.029 | M76: -4.6801795 | P76: Dec. | Q76: 122.71566 | S76: 119.913 | U76: 0.3439273 | W76: 117.7519 | Y76: 117.563 | AA76: -0.86935258
A78: 2020 | B78: Jan. | C78: 118.54731 | E78: 114.191 | G78: 0.47779107 | I78: 105.4386 | K78: 98.052 | M78: 2.1066553 | O78: 2020 | P78: Jan. | Q78: 123.14955 | S78: 119.703 | U78: -0.17512697 | W78: 120.87299 | Y78: 119.22 | AA78: 1.4094571
B79: Feb. | C79: 110.59738 | E79: 118.496 | G79: 3.7699994 | I79: 97.364501 | K79: 100.22 | M79: 2.2110717 | P79: Feb. | Q79: 115.00108 | S79: 124.399 | U79: 3.9230429 | W79: 115.4439 | Y79: 126.237 | AA79: 5.8857574
B80: Mar. | C80: 110.0818 | E80: 108.343 | G80: -8.5682217 | I80: 98.653086 | K80: 93.661 | M80: -6.5446019 | P80: Mar. | Q80: 113.80523 | S80: 113.616 | U80: -8.6680761 | W80: 115.09171 | Y80: 110.669 | AA80: -12.332359
B81: Apr. | C81: 77.05221 | E81: 79.766 | G81: -26.376416 | I81: 81.902276 | K81: 83.133 | M81: -11.240538 | P81: Apr. | Q81: 73.110305 | S81: 76.653 | U81: -32.53327 | W81: 99.298631 | Y81: 97.601 | AA81: -11.808185
B82: May | C82: 91.27906 | E82: 93.509 | G82: 17.229145 | I82: 81.445152 | K82: 81.043 | M82: -2.5140438 | P82: May | Q82: 92.795116 | S82: 96.666 | U82: 26.108567 | W82: 113.00717 | Y82: 109.651 | AA82: 12.346185
B83: Jun. | C83: 115.47859 | E83: 115.706 | G83: 23.737822 | I83: 84.514026 | K83: 86.537 | M83: 6.7791173 | P83: Jun. | Q83: 127.09671 | S83: 126.542 | U83: 30.90642 | W83: 113.2634 | Y83: 115.012 | AA83: 4.8891483
B84: Jul. | C84: 116.85867 | E84: 119.444 | G84: 3.2306017 | I84: 87.885445 | K84: 91.062 | M84: 5.2289772 | P84: Jul. | Q84: 127.3972 | S84: 128.817 | U84: 1.7978221 | W84: 118.21645 | Y84: 114.419 | AA84: -0.51559837
B85: Aug. | C85: 114.8053 | E85: 114.753 | G85: -3.9273635 | I85: 86.180827 | K85: 91.808 | M85: 0.81922207 | P85: Aug. | Q85: 124.68376 | S85: 122.929 | U85: -4.5708253 | W85: 121.64927 | Y85: 117.98 | AA85: 3.1122453
B86: Sep. | C86: 115.98029 | E86: 115.01 | G86: 0.22395929 | I86: 84.984127 | K86: 91.458 | M86: -0.38123039 | P86: Sep. | Q86: 127.29804 | S86: 123.503 | U86: 0.4669362 | W86: 116.98485 | Y86: 117.338 | AA86: -0.54416003
B87: Oct. | C87: 117.86233 | E87: 113.92 | G87: -0.94774367 | I87: 90.824049 | K87: 91.08 | M87: -0.41330447 | P87: Oct. | Q87: 127.44179 | S87: 122.249 | U87: -1.01536 | W87: 121.76366 | Y87: 118.318 | AA87: 0.83519405
B88: Nov. | C88: 114.39306 | E88: 111.779 | G88: -1.879389 | I88: 89.015765 | K88: 85.786 | M88: -5.8124726 | P88: Nov. | Q88: 123.72691 | S88: 120.814 | U88: -1.1738337 | W88: 114.51647 | Y88: 115.442 | AA88: -2.4307375
B89: Dec. | C89: 119.5192 | E89: 115.305 | G89: 3.1544387 | I89: 97.523468 | K89: 92.26 | M89: 7.5466859 | P89: Dec. | Q89: 127.77128 | S89: 123.808 | U89: 2.4781896 | W89: 117.95467 | Y89: 116.912 | AA89: 1.2733667
A91: 2021 | B91: Jan. | C91: 120.04132 | E91: 116.033 | G91: 0.63136898 | I91: 100.91993 | K91: 93.29 | M91: 1.1164101 | O91: 2021 | P91: Jan. | Q91: 127.51161 | S91: 124.568 | U91: 0.61385371 | W91: 115.62075 | Y91: 116.526 | AA91: -0.33016286
B92: Feb. | C92: 112.38385 | E92: 119.701 | G92: 3.1611697 | I92: 92.262184 | K92: 94.363 | M92: 1.1501769 | P92: Feb. | Q92: 120.12566 | S92: 128.864 | U92: 3.4487188 | W92: 108.96278 | Y92: 120.424 | AA92: 3.3451762
B93: Mar. | C93: 120.6293 | E93: 118.365 | G93: -1.1161143 | I93: 98.267306 | K93: 93.036 | M93: -1.4062715 | P93: Mar. | Q93: 128.2852 | S93: 127.401 | U93: -1.1353054 | W93: 126.6091 | Y93: 122.694 | AA93: 1.8850063
B94: Apr. | C94: 115.27029 | E94: 120.731 | G94: 1.9989017 | I94: 92.895219 | K94: 95.227 | M94: 2.3550024 | P94: Apr. | Q94: 122.82996 | S94: 130.205 | U94: 2.2009246 | W94: 122.29269 | Y94: 121.916 | AA94: -0.63409784
B95: May | C95: 115.33119 | E95: 118.745 | G95: -1.6449793 | I95: 99.423229 | K95: 98.778 | M95: 3.7289844 | P95: May | Q95: 120.42473 | S95: 126.373 | U95: -2.9430513 | W95: 123.22527 | Y95: 119.293 | AA95: -2.1514813
B96: Jun. | C96: 116.94581 | E96: 116.882 | G96: -1.5689082 | I96: 92.316373 | K96: 94.95 | M96: -3.8753569 | P96: Jun. | Q96: 126.88135 | S96: 125.705 | U96: -0.52859392 | W96: 108.01794 | Y96: 109.776 | AA96: -7.9778361
B97: Jul. | C97: 110.60707 | E97: 113.621 | G97: -2.7899933 | I97: 86.926336 | K97: 89.72 | M97: -5.5081622 | P97: Jul. | Q97: 119.11191 | S97: 121.724 | U97: -3.1669385 | W97: 112.83786 | Y97: 110.057 | AA97: 0.25597581
B98: Aug. | C98: 114.45191 | E98: 114.128 | G98: 0.44622033 | I98: 84.255907 | K98: 89.479 | M98: -0.26861346 | P98: Aug. | Q98: 125.42004 | S98: 123.182 | U98: 1.1977917 | W98: 116.02348 | Y98: 113 | AA98: 2.6740689
B99: Sep. | C99: 118.27195 | E99: 116.78 | G99: 2.3237067 | I99: 80.204696 | K99: 86.769 | M99: -3.0286436 | P99: Sep. | Q99: 132.32855 | S99: 127.555 | U99: 3.5500317 | W99: 117.88611 | Y99: 119.357 | AA99: 5.6256637
B100: Oct. | C100: 124.39036 | E100: 120.23 | G100: 2.954273 | I100: 87.789028 | K100: 87.358 | M100: 0.67881386 | P100: Oct. | Q100: 137.61971 | S100: 132.118 | U100: 3.5772804 | W100: 126.97014 | Y100: 123.266 | AA100: 3.2750488
B101: Nov. | C101: 124.94196 | E101: 121.888 | G101: 1.3790235 | I101: 91.382452 | K101: 88.637 | M101: 1.4640903 | P101: Nov. | Q101: 137.71998 | S101: 133.822 | U101: 1.2897561 | W101: 120.61901 | Y101: 122.578 | AA101: -0.55814255
B102: Dec. | C102: 126.5947 | E102: 122.476 | G102: 0.48241008 | I102: 95.118875 | K102: 90.387 | M102: 1.9743448 | P102: Dec. | Q102: 138.45695 | S102: 134.374 | U102: 0.41248823 | W102: 123.80326 | Y102: 123.903 | AA102: 1.0809444
A104: 2022 | B104: Jan. | C104: 125.59641 | E104: 121.888 | G104: -0.48009406 | I104: 97.544142 | K104: 90.096 | M104: -0.32194895 | O104: 2022 | P104: Jan. | Q104: 136.14168 | S104: 133.573 | U104: -0.59609746 | W104: 123.38455 | Y104: 124.336 | AA104: 0.34946692
B105: Feb. | C105: 116.59642 | E105: 123.395 | G105: 1.2363809 | I105: 91.627762 | K105: 93.107 | M105: 3.3419908 | P105: Feb. | Q105: 126.38588 | S105: 134.787 | U105: 0.90886631 | W105: 110.46515 | Y105: 122.178 | AA105: -1.7356196
B106: Mar. | C106: 126.60098 | E106: 123.897 | G106: 0.40682362 | I106: 97.875552 | K106: 92.466 | M106: -0.68845522 | P106: Mar. | Q106: 137.17219 | S106: 135.704 | U106: 0.68033267 | W106: 126.67982 | Y106: 122.829 | AA106: 0.53282915
B107: Apr. | C107: 120.26883 | E107: 126.592 | G107: 2.1751939 | I107: 91.521508 | K107: 94.044 | M107: 1.7065732 | P107: Apr. | Q107: 130.43083 | S107: 139.003 | U107: 2.4310264 | W107: 124.65361 | Y107: 124.367 | AA107: 1.2521473
B108: May | C108: 119.5274 | E108: 123.402 | G108: -2.5199065 | I108: 92.266119 | K108: 91.555 | M108: -2.6466335 | P108: May | Q108: 128.77237 | S108: 135.756 | U108: -2.3359208 | W108: 127.72808 | Y108: 123.657 | AA108: -0.57089099
B109: Jun. | C109: 130.98931 | E109: 130.703 | G109: 5.9164357 | I109: 94.098693 | K109: 96.864 | M109: 5.7987002 | P109: Jun. | Q109: 145.19731 | S109: 143.371 | U109: 5.6093285 | W109: 124.56918 | Y109: 126.613 | AA109: 2.3904834
B110: Jul. | C110: 125.07696 | E110: 129.03 | G110: -1.2800012 | I110: 92.006426 | K110: 94.658 | M110: -2.2774199 | P110: Jul. | Q110: 136.87815 | S110: 141.045 | U110: -1.6223644 | W110: 128.97621 | Y110: 126.043 | AA110: -0.45019074
B111: Aug. | C111: 129.96023 | E111: 129.632 | G111: 0.46655816 | I111: 90.789019 | K111: 96.514 | M111: 1.9607429 | P111: Aug. | Q111: 144.49633 | S111: 141.947 | U111: 0.63951221 | W111: 128.82167 | Y111: 125.763 | AA111: -0.22214641
...

Sheet Jadual2&3-Industryindex
A2: Jadual 2: Indeks Perlombongan Peringkat Industri (2015=100) | I2: Jadual 3: Indeks Pembuatan Peringkat Industri (2015=100) | Q2: Jadual 3: Indeks Pembuatan Peringkat Industri (2015=100) | Y2: Jadual 3: Indeks Pembuatan Peringkat Industri (2015=100) | AG2: Jadual 3: Indeks Pembuatan Peringkat Industri (2015=100) | AO2: Jadual 3: Indeks Pembuatan Peringkat Industri (2015=100) | AW2: Jadual 3: Indeks Pembuatan Peringkat Industri (2015=100) | BE2: Jadual 3: Indeks Pembuatan Peringkat Industri (2015=100) | BM2: Jadual 3: Indeks Pembuatan Peringkat Industri (2015=100) | BU2: Jadual 3: Indeks Pembuatan Peringkat Industri (2015=100) | CC2: Jadual 3: Indeks Pembuatan Peringkat Industri (2015=100) | CK2: Jadual 3: Indeks Pembuatan Peringkat Industri (2015=100) | CS2: Jadual 3: Indeks Pembuatan Peringkat Industri (2015=100) | DA2: Jadual 3: Indeks Pembuatan Peringkat Industri (2015=100) | DI2: Jadual 3: Indeks Pembuatan Peringkat Industri (2015=100) | DQ2: Jadual 3: Indeks Pembuatan Peringkat Industri (2015=100) | DY2: Jadual 3: Indeks Pembuatan Peringkat Industri (2015=100) | EG2: Jadual 3: Indeks Pembuatan Peringkat Industri (2015=100) | EO2: Jadual 3: Indeks Pembuatan Peringkat Industri (2015=100) | EW2: Jadual 3: Indeks Pembuatan Peringkat Industri (2015=100) | FE2: Jadual 3: Indeks Pembuatan Peringkat Industri (2015=100) | FM2: Jadual 3: Indeks Pembuatan Peringkat Industri (2015=100) | FU2: Jadual 3: Indeks Pembuatan Peringkat Industri (2015=100) | GC2: Jadual 3: Indeks Pembuatan Peringkat Industri (2015=100) | GK2: Jadual 3: Indeks Pembuatan Peringkat Industri (2015=100) | GS2: Jadual 3: Indeks Pembuatan Peringkat Industri (2015=100) | HA2: Jadual 3: Indeks Pembuatan Peringkat Industri (2015=100) | HI2: Jadual 3: Indeks Pembuatan Peringkat Industri (2015=100) | HQ2: Jadual 3: Indeks Pembuatan Peringkat Industri (2015=100) | HY2: Jadual 3: Indeks Pembuatan Peringkat Industri (2015=100) | IG2: Jadual 3: Indeks Pembuatan Peringkat Industri (2015=100) | IQ2: Jadual 3: Indeks Pembuatan Peringkat Industri (2015=100) | IY2: Jadual 3: Indeks Pembuatan Peringkat Industri (2015=100) | JG2: Jadual 3: Indeks Pembuatan Peringkat Industri (2015=100) | JO2: Jadual 3: Indeks Pembuatan Peringkat Industri (2015=100) | JW2: Jadual 3: Indeks Pembuatan Peringkat Industri (2015=100) | KE2: Jadual 3: Indeks Pembuatan Peringkat Industri (2015=100) | KM2: Jadual 3: Indeks Pembuatan Peringkat Industri (2015=100) | KU2: Jadual 3: Indeks Pembuatan Peringkat Industri (2015=100) | LC2: Jadual 3: Indeks Pembuatan Peringkat Industri (2015=100) | LK2: Jadual 3: Indeks Pembuatan Peringkat Industri (2015=100) | LS2: Jadual 3: Indeks Pembuatan Peringkat Industri (2015=100) | MA2: Jadual 3: Indeks Pembuatan Peringkat Industri (2015=100) | MI2: Jadual 3: Indeks Pembuatan Peringkat Industri (2015=100)
A3: Table 2: Mining Indices at Industry Level (2015=100) | I3: Table 3: Manufacturing Indices at Industry Level (2015=100) | Q3: Table 3: Manufacturing Indices at Industry Level (2015=100) | Y3: Table 3: Manufacturing Indices at Industry Level (2015=100) | AG3: Table 3: Manufacturing Indices at Industry Level (2015=100) | AO3: Table 3: Manufacturing Indices at Industry Level (2015=100) | AW3: Table 3: Manufacturing Indices at Industry Level (2015=100) | BE3: Table 3: Manufacturing Indices at Industry Level (2015=100) | BM3: Table 3: Manufacturing Indices at Industry Level (2015=100) | BU3: Table 3: Manufacturing Indices at Industry Level (2015=100) | CC3: Table 3: Manufacturing Indices at Industry Level (2015=100) | CK3: Table 3: Manufacturing Indices at Industry Level (2015=100) | CS3: Table 3: Manufacturing Indices at Industry Level (2015=100) | DA3: Table 3: Manufacturing Indices at Industry Level (2015=100) | DI3: Table 3: Manufacturing Indices at Industry Level (2015=100) | DQ3: Table 3: Manufacturing Indices at Industry Level (2015=100) | DY3: Table 3: Manufacturing Indices at Industry Level (2015=100) | EG3: Table 3: Manufacturing Indices at Industry Level (2015=100) | EO3: Table 3: Manufacturing Indices at Industry Level (2015=100) | EW3: Table 3: Manufacturing Indices at Industry Level (2015=100) | FE3: Table 3: Manufacturing Indices at Industry Level (2015=100) | FM3: Table 3: Manufacturing Indices at Industry Level (2015=100) | FU3: Table 3: Manufacturing Indices at Industry Level (2015=100) | GC3: Table 3: Manufacturing Indices at Industry Level (2015=100) | GK3: Table 3: Manufacturing Indices at Industry Level (2015=100) | GS3: Table 3: Manufacturing Indices at Industry Level (2015=100) | HA3: Table 3: Manufacturing Indices at Industry Level (2015=100) | HI3: Table 3: Manufacturing Indices at Industry Level (2015=100) | HQ3: Table 3: Manufacturing Indices at Industry Level (2015=100) | HY3: Table 3: Manufacturing Indices at Industry Level (2015=100) | IG3: Table 3: Manufacturing Indices at Industry Level (2015=100) | IQ3: Table 3: Manufacturing Indices at Industry Level (2015=100) | IY3: Table 3: Manufacturing Indices at Industry Level (2015=100) | JG3: Table 3: Manufacturing Indices at Industry Level (2015=100) | JO3: Table 3: Manufacturing Indices at Industry Level (2015=100) | JW3: Table 3: Manufacturing Indices at Industry Level (2015=100) | KE3: Table 3: Manufacturing Indices at Industry Level (2015=100) | KM3: Table 3: Manufacturing Indices at Industry Level (2015=100) | KU3: Table 3: Manufacturing Indices at Industry Level (2015=100) | LC3: Table 3: Manufacturing Indices at Industry Level (2015=100) | LK3: Table 3: Manufacturing Indices at Industry Level (2015=100) | LS3: Table 3: Manufacturing Indices at Industry Level (2015=100) | MA3: Table 3: Manufacturing Indices at Industry Level (2015=100) | MI3: Table 3: Manufacturing Indices at Industry Level (2015=100)
A5: Tahun Year | B5: Tempoh Period | C5: Indeks/ Index | D5: % Perubahan tahun ke tahun/ change year-on-year | E5: Indeks/ Index | F5: % Perubahan tahun ke tahun/ change year-on-year | G5: Indeks/ Index | H5: % Perubahan tahun ke tahun/ change year-on-year | I5: Tahun Year | J5: Tempoh Period | K5: Indeks/ Index | L5: % Perubahan tahun ke tahun/ change year-on-year | M5: Indeks/ Index | N5: % Perubahan tahun ke tahun/ change year-on-year | O5: Indeks/ Index | P5: % Perubahan tahun ke tahun/ change year-on-year | Q5: Tahun Year | R5: Tempoh Period | S5: Indeks/ Index | T5: % Perubahan tahun ke tahun/ change year-on-year | U5: Indeks/ Index | V5: % Perubahan tahun ke tahun/ change year-on-year | W5: Indeks/ Index | X5: % Perubahan tahun ke tahun/ change year-on-year | Y5: Tahun Year | Z5: Tempoh Period | AA5: Indeks/ Index | AB5: % Perubahan tahun ke tahun/ change year-on-year | AC5: Indeks/ Index | AD5: % Perubahan tahun ke tahun/ change year-on-year | AE5: Indeks/ Index | AF5: % Perubahan tahun ke tahun/ change year-on-year | AG5: Tahun Year | AH5: Tempoh Period | AI5: Indeks/ Index | AJ5: % Perubahan tahun ke tahun/ change year-on-year | AK5: Indeks/ Index | AL5: % Perubahan tahun ke tahun/ change year-on-year | AM5: Indeks/ Index | AN5: % Perubahan tahun ke tahun/ change year-on-year | AO5: Tahun Year | AP5: Tempoh Period | AQ5: Indeks/ Index | AR5: % Perubahan tahun ke tahun/ change year-on-year | AS5: Indeks/ Index | AT5: % Perubahan tahun ke tahun/ change year-on-year | AU5: Indeks/ Index | AV5: % Perubahan tahun ke tahun/ change year-on-year | AW5: Tahun Year | AX5: Tempoh Period | AY5: Indeks/ Index | AZ5: % Perubahan tahun ke tahun/ change year-on-year | BA5: Indeks/ Index | BB5: % Perubahan tahun ke tahun/ change year-on-year | BC5: Indeks/ Index | BD5: % Perubahan tahun ke tahun/ change year-on-year | BE5: Tahun Year | BF5: Tempoh Period | BG5: Indeks/ Index | BH5: % Perubahan tahun ke tahun/ change year-on-year | BI5: Indeks/ Index | BJ5: % Perubahan tahun ke tahun/ change year-on-year | BK5: Indeks/ Index | BL5: % Perubahan tahun ke tahun/ change year-on-year | BM5: Tahun Year | BN5: Tempoh Period | BO5: Indeks/ Index | BP5: % Perubahan tahun ke tahun/ change year-on-year | BQ5: Indeks/ Index | BR5: % Perubahan tahun ke tahun/ change year-on-year | BS5: Indeks/ Index | BT5: % Perubahan tahun ke tahun/ change year-on-year | BU5: Tahun Year | BV5: Tempoh Period | BW5: Indeks/ Index | BX5: % Perubahan tahun ke tahun/ change year-on-year | BY5: Indeks/ Index | BZ5: % Perubahan tahun ke tahun/ change year-on-year | CA5: Indeks/ Index | CB5: % Perubahan tahun ke tahun/ change year-on-year | CC5: Tahun Year | CD5: Tempoh Period | CE5: Indeks/ Index | CF5: % Perubahan tahun ke tahun/ change year-on-year | CG5: Indeks/ Index | CH5: % Perubahan tahun ke tahun/ change year-on-year | CI5: Indeks/ Index | CJ5: % Perubahan tahun ke tahun/ change year-on-year | CK5: Tahun Year | CL5: Tempoh Period | CM5: Indeks/ Index | CN5: % Perubahan tahun ke tahun/ change year-on-year | CO5: Indeks/ Index | CP5: % Perubahan tahun ke tahun/ change year-on-year | CQ5: Indeks/ Index | CR5: % Perubahan tahun ke tahun/ change year-on-year | CS5: Tahun Year | CT5: Tempoh Period | CU5: Indeks/ Index | CV5: % Perubahan tahun ke tahun/ change year-on-year | CW5: Indeks/ Index | CX5: % Perubahan tahun ke tahun/ change year-on-year | CY5: Indeks/ Index | CZ5: % Perubahan tahun ke tahun/ change year-on-year | DA5: Tahun Year | DB5: Tempoh Period | DC5: Indeks/ Index | DD5: % Perubahan tahun ke tahun/ change year-on-year | DE5: Indeks/ Index | DF5: % Perubahan tahun ke tahun/ change year-on-year | DG5: Indeks/ Index | DH5: % Perubahan tahun ke tahun/ change year-on-year | DI5: Tahun Year | DJ5: Tempoh Period | DK5: Indeks/ Index | DL5: % Perubahan tahun ke tahun/ change year-on-year | DM5: Indeks/ Index | DN5: % Perubahan tahun ke tahun/ change year-on-year | DO5: Indeks/ Index | DP5: % Perubahan tahun ke tahun/ change year-on-year | DQ5: Tahun Year | DR5: Tempoh Period | DS5: Indeks/ Index | DT5: % Perubahan tahun ke tahun/ change year-on-year | DU5: Indeks/ Index | DV5: % Perubahan tahun ke tahun/ change year-on-year | DW5: Indeks/ Index | DX5: % Perubahan tahun ke tahun/ change year-on-year | DY5: Tahun Year | DZ5: Tempoh Period | EA5: Indeks/ Index | EB5: % Perubahan tahun ke tahun/ change year-on-year | EC5: Indeks/ Index | ED5: % Perubahan tahun ke tahun/ change year-on-year | EE5: Indeks/ Index | EF5: % Perubahan tahun ke tahun/ change year-on-year | EG5: Tahun Year | EH5: Tempoh Period | EI5: Indeks/ Index | EJ5: % Perubahan tahun ke tahun/ change year-on-year | EK5: Indeks/ Index | EL5: % Perubahan tahun ke tahun/ change year-on-year | EM5: Indeks/ Index | EN5: % Perubahan tahun ke tahun/ change year-on-year | EO5: Tahun Year | EP5: Tempoh Period | EQ5: Indeks/ Index | ER5: % Perubahan tahun ke tahun/ change year-on-year | ES5: Indeks/ Index | ET5: % Perubahan tahun ke tahun/ change year-on-year | EU5: Indeks/ Index | EV5: % Perubahan tahun ke tahun/ change year-on-year | EW5: Tahun Year | EX5: Tempoh Period | EY5: Indeks/ Index | EZ5: % Perubahan tahun ke tahun/ change year-on-year | FA5: Indeks/ Index | FB5: % Perubahan tahun ke tahun/ change year-on-year | FC5: Indeks/ Index | FD5: % Perubahan tahun ke tahun/ change year-on-year | FE5: Tahun Year | FF5: Tempoh Period | FG5: Indeks/ Index | FH5: % Perubahan tahun ke tahun/ change year-on-year | FI5: Indeks/ Index | FJ5: % Perubahan tahun ke tahun/ change year-on-year | FK5: Indeks/ Index | FL5: % Perubahan tahun ke tahun/ change year-on-year | FM5: Tahun Year | FN5: Tempoh Period | FO5: Indeks/ Index | FP5: % Perubahan tahun ke tahun/ change year-on-year | FQ5: Indeks/ Index | FR5: % Perubahan tahun ke tahun/ change year-on-year | FS5: Indeks/ Index | FT5: % Perubahan tahun ke tahun/ change year-on-year | FU5: Tahun Year | FV5: Tempoh Period | FW5: Indeks/ Index | FX5: % Perubahan tahun ke tahun/ change year-on-year | FY5: Indeks/ Index | FZ5: % Perubahan tahun ke tahun/ change year-on-year | GA5: Indeks/ Index | GB5: % Perubahan tahun ke tahun/ change year-on-year | GC5: Tahun Year | GD5: Tempoh Period | GE5: Indeks/ Index | GF5: % Perubahan tahun ke tahun/ change year-on-year | GG5: Indeks/ Index | GH5: % Perubahan tahun ke tahun/ change year-on-year | GI5: Indeks/ Index | GJ5: % Perubahan tahun ke tahun/ change year-on-year | GK5: Tahun Year | GL5: Tempoh Period | GM5: Indeks/ Index | GN5: % Perubahan tahun ke tahun/ change year-on-year | GO5: Indeks/ Index | GP5: % Perubahan tahun ke tahun/ change year-on-year | GQ5: Indeks/ Index | GR5: % Perubahan tahun ke tahun/ change year-on-year | GS5: Tahun Year | GT5: Tempoh Period | GU5: Indeks/ Index | GV5: % Perubahan tahun ke tahun/ change year-on-year | GW5: Indeks/ Index | GX5: % Perubahan tahun ke tahun/ change year-on-year | GY5: Indeks/ Index | GZ5: % Perubahan tahun ke tahun/ change year-on-year | HA5: Tahun Year | HB5: Tempoh Period | HC5: Indeks/ Index | HD5: % Perubahan tahun ke tahun/ change year-on-year | HE5: Indeks/ Index | HF5: % Perubahan tahun ke tahun/ change year-on-year | HG5: Indeks/ Index | HH5: % Perubahan tahun ke tahun/ change year-on-year | HI5: Tahun Year | HJ5: Tempoh Period | HK5: Indeks/ Index | HL5: % Perubahan tahun ke tahun/ change year-on-year | HM5: Indeks/ Index | HN5: % Perubahan tahun ke tahun/ change year-on-year | HO5: Indeks/ Index | HP5: % Perubahan tahun ke tahun/ change year-on-year | HQ5: Tahun Year | HR5: Tempoh Period | HS5: Indeks/ Index | HT5: % Perubahan tahun ke tahun/ change year-on-year | HU5: Indeks/ Index | HV5: % Perubahan tahun ke tahun/ change year-on-year | HW5: Indeks/ Index | HX5: % Perubahan tahun ke tahun/ change year-on-year | HY5: Tahun Year | HZ5: Tempoh Period | IA5: Indeks/ Index | IB5: % Perubahan tahun ke tahun/ change year-on-year | IC5: Indeks/ Index | ID5: % Perubahan tahun ke tahun/ change year-on-year | IE5: Indeks/ Index | IF5: % Perubahan tahun ke tahun/ change year-on-year | IG5: Tahun Year | IH5: Tempoh Period | II5: Indeks/ Index | IJ5: % Perubahan tahun ke tahun/ change year-on-year | IK5: Indeks/ Index | IL5: % Perubahan tahun ke tahun/ change year-on-year | IM5: Indeks/ Index | IN5: % Perubahan tahun ke tahun/ change year-on-year | IO5: Indeks/ Index | IP5: % Perubahan tahun ke tahun/ change year-on-year | IQ5: Tahun Year | IR5: Tempoh Period | IS5: Indeks/ Index | IT5: % Perubahan tahun ke tahun/ change year-on-year | IU5: Indeks/ Index | IV5: % Perubahan tahun ke tahun/ change year-on-year | IW5: Indeks/ Index | IX5: % Perubahan tahun ke tahun/ change year-on-year | IY5: Tahun Year | IZ5: Tempoh Period | JA5: Indeks/ Index | JB5: % Perubahan tahun ke tahun/ change year-on-year | JC5: Indeks/ Index | JD5: % Perubahan tahun ke tahun/ change year-on-year | JE5: Indeks/ Index | JF5: % Perubahan tahun ke tahun/ change year-on-year | JG5: Tahun Year | JH5: Tempoh Period | JI5: Indeks/ Index | JJ5: % Perubahan tahun ke tahun/ change year-on-year | JK5: Indeks/ Index | JL5: % Perubahan tahun ke tahun/ change year-on-year | JM5: Indeks/ Index | JN5: % Perubahan tahun ke tahun/ change year-on-year | JO5: Tahun Year | JP5: Tempoh Period | JQ5: Indeks/ Index | JR5: % Perubahan tahun ke tahun/ change year-on-year | JS5: Indeks/ Index | JT5: % Perubahan tahun ke tahun/ change year-on-year | JU5: Indeks/ Index | JV5: % Perubahan tahun ke tahun/ change year-on-year | JW5: Tahun Year | JX5: Tempoh Period | JY5: Indeks/ Index | JZ5: % Perubahan tahun ke tahun/ change year-on-year | KA5: Indeks/ Index | KB5: % Perubahan tahun ke tahun/ change year-on-year | KC5: Indeks/ Index | KD5: % Perubahan tahun ke tahun/ change year-on-year | KE5: Tahun Year | KF5: Tempoh Period | KG5: Indeks/ Index | KH5: % Perubahan tahun ke tahun/ change year-on-year | KI5: Indeks/ Index | KJ5: % Perubahan tahun ke tahun/ change year-on-year | KK5: Indeks/ Index | KL5: % Perubahan tahun ke tahun/ change year-on-year | KM5: Tahun Year | KN5: Tempoh Period | KO5: Indeks/ Index | KP5: % Perubahan tahun ke tahun/ change year-on-year | KQ5: Indeks/ Index | KR5: % Perubahan tahun ke tahun/ change year-on-year | KS5: Indeks/ Index | KT5: % Perubahan tahun ke tahun/ change year-on-year | KU5: Tahun Year | KV5: Tempoh Period | KW5: Indeks/ Index | KX5: % Perubahan tahun ke tahun/ change year-on-year | KY5: Indeks/ Index | KZ5: % Perubahan tahun ke tahun/ change year-on-year | LA5: Indeks/ Index | LB5: % Perubahan tahun ke tahun/ change year-on-year | LC5: Tahun Year | LD5: Tempoh Period | LE5: Indeks/ Index | LF5: % Perubahan tahun ke tahun/ change year-on-year | LG5: Indeks/ Index | LH5: % Perubahan tahun ke tahun/ change year-on-year | LI5: Indeks/ Index | LJ5: % Perubahan tahun ke tahun/ change year-on-year | LK5: Tahun Year | LL5: Tempoh Period | LM5: Indeks/ Index | LN5: % Perubahan tahun ke tahun/ change year-on-year | LO5: Indeks/ Index | LP5: % Perubahan tahun ke tahun/ change year-on-year | LQ5: Indeks/ Index | LR5: % Perubahan tahun ke tahun/ change year-on-year | LS5: Tahun Year | LT5: Tempoh Period | LU5: Indeks/ Index | LV5: % Perubahan tahun ke tahun/ change year-on-year | LW5: Indeks/ Index | LX5: % Perubahan tahun ke tahun/ change year-on-year | LY5: Indeks/ Index | LZ5: % Perubahan tahun ke tahun/ change year-on-year | MA5: Tahun Year | MB5: Tempoh Period | MC5: Indeks/ Index | MD5: % Perubahan tahun ke tahun/ change year-on-year | ME5: Indeks/ Index | MF5: % Perubahan tahun ke tahun/ change year-on-year | MG5: Indeks/ Index | MH5: % Perubahan tahun ke tahun/ change year-on-year | MI5: Tahun Year | MJ5: Tempoh Period | MK5: Indeks/ Index | ML5: % Perubahan tahun ke tahun/ change year-on-year | MM5: Indeks/ Index | MN5: % Perubahan tahun ke tahun/ change year-on-year | MO5: Indeks/ Index | MP5: % Perubahan tahun ke tahun/ change year-on-year
C7: Pengekstrakan Petroleum Mentah dan Gas Asli | E7: Pengekstrakan Minyak Petroleum Mentah & Kondensat | G7: Pengeluaran Gas Hidrokarbon Mentah Bergas (Gas Asli) | K7: Pembuatan minyak sawit mentah | M7: Pembuatan minyak sawit bertapis | O7: Pembuatan minyak isirong | S7: Pembuatan minyak sayuran mentah dan bertapis | U7: Pembuatan sebatian lemak masakan | W7: Pembuatan aiskrim dan ais lain yang boleh dimakan seperti sorbet | AA7: Pembuatan susu pekat, tepung dan sejat | AC7: Pengilangan beras | AE7: Pengilangan tepung | AI7: Pembuatan biskut dan cookies | AK7: Pembuatan roti, kek dan produk bakeri lain | AM7: Pembuatan produk snek | AQ7: Pembuatan gula | AS7: Pembuatan produk koko | AU7: Pembuatan coklat dan produk coklat | AY7: Pembuatan konfeksi gula | BA7: Pembuatan bihun, mi dan produk lain yang berkaitan | BC7: Pembuatan makanan dan hidangan tersedia | BG7: Pembuatan kopi | BI7: Pembuatan sos dan bahan perasa | BK7: Pembuatan rempah ratus dan serbuk kari | BO7: Pembuatan produk makanan lain t.t.t.l. | BQ7: Penyulingan, pembersihan dan pencampuran spirit; wain & pembuatan minuman keras malt dan malt | BS7: Pembuatan minuman ringan | BW7: Pengeluaran air mineral semulajadi dan minuman lain yang dibotolkan | BY7: Pembuatan produk tembakau | CA7: Penyediaan dan pemintalan gentian tekstil | CE7: Penenunan tekstil | CG7: Pewarnaan, pelunturan, percetakan dan penyiapan akhir benang dan fabrik | CI7: Pembuatan pakaian | CM7: Pembuatan bagasi, beg tangan dan seumpamanya, pelana dan abah-abah | CO7: Pembuatan kasut kulit | CQ7: Pembuatan kasut getah | CU7: Pengilangan dan pengetaman kayu | CW7: Pembuatan kepingan venier dan papan lapis | CY7: Pembuatan papan partikel dan papan gentian | DC7: Pertukangan kayu untuk jurubina | DE7: Pembuatan bekas kayu | DG7: Pembuatan pulpa, kertas dan kertas tebal | DK7: Pembuatan kertas gelugur dan kertas tebal dan bekas daripada kertas dan kertas tebal | DM7: Pembuatan sampul surat dan kad surat | DO7: Pembuatan kertas kegunaan rumah dan pembersih peribadi | DS7: Pembuatan kertas bergam atau pelekat yang berjalur atau bergulung dan label dan kertas dinding | DU7: Percetakan | DW7: Aktiviti perkhidmatan berkaitan percetakan | EA7: Pembuatan produk petroleum bertapis | EC7: Pembuatan gas perindustrian atau perubatan bukan organik dalam bentuk cecair atau mampat | EE7: Pembuatan kimia organik asas | EI7: Pembuatan sebatian bukan organik | EK7: Pembuatan baja | EM7: Pembuatan plastik dalam bentuk primer | EQ7: Pembuatan racun perosak dan produk agrokimia lain | ES7: Pembuatan cat, varnis dan penyadur dan mastik | EU7: Pembuatan dakwat cetak | EY7: Pembuatan sabun dan bahan pencuci, penyediaan membersih dan mengilat | FA7: Pembuatan pewangi dan penyediaan dandanan diri | FC7: Pembuatan plat fotografi, filem, sensitized paper dan other sensitized unexposed materials | FG7: Pembuatan produk kimia lain t.t.t.l. | FI7: Pembuatan bahan aktif ubat-ubatan untuk digunakan oleh bidang farmakologi dalam pembuatan ubat-ubatan | FK7: Pembuatan tayar getah untuk kenderaan | FO7: Pembuatan bunga tayar yang boleh ditukar ganti dan tayar celup | FQ7: Pembuatan sarung tangan getah | FS7: Pengilangan semula getah dan prosesan susu getah | FW7: Pembuatan produk getah lain yang t.t.t.l. | FY7: Pembuatan produk plastik separa siap | GA7: Pembuatan produk plastik siap | GE7: Pembuatan artikel plastik untuk pembungkusan barangan | GG7: Pembuatan barangan plastik jurubina | GI7: Pembuatan pinggan mangkuk, peralatan dapur dan barangan tandas daripada plastik | GM7: Pembuatan pelbagai produk plastik t.t.t.l. | GO7: Pembuatan kaca leper, termasuk kaca leper berdawai, berwarna atau sedikit berwarna | GQ7: Pembuatan produk kaca lain t.t.t.l. | GU7: Pembuatan seramik bukan refraktori | GW7: Pembuatan produk porselin dan seramik lain | GY7: Pembuatan simen hidraulik | HC7: Pembuatan kapur dan plaster | HE7: Pembuatan konkrit dan mortar siap bancuh dan bancuhan kering | HG7: Pembuatan konkrit pratuangan, simen atau artikel batu buatan yang digunakan dalam pembinaan | HK7: Pembuatan komponen struktur pasang siap untuk bangunan atau kejuruteraan awam dari simen, batu atau konkrit buatan | HM7: Pembuatan artikel konkrit, simen dan plaster lain t.t.t.l. | HO7: Pembuatan produk mineral bukan logam lain t.t.t.l. | HS7: Pengeluaran jongkong besi dan spiegeleisen dalam bentuk jongkong, blok atau dalam bentuk asal lain | HU7: Pembuatan batang dan rod keluli tahan karat atau keluli aloi lain | HW7: Pembuatan tiub tidak berkelim, dengan penggelekan, picitan atau tempaan panas, atau dengan tempaan atau penggelekan sejuk | IA7: Pembuatan produk besi asas dan keluli lain t.t.t.l. | IC7: Peleburan timah; Pengeluaran aluminium daripada alumina; & Pembuatan logam asas berharga dan logam bukan ferus lain t.t.t.l. | IE7: Pembuatan pintu, tingkap dan bingkai, penutup tingkap dan pintu pagar daripada logam | II7: Pembuatan produk struktur logam lain | IK7: Pembuatan tangki, takungan dan kontena daripada logam | IM7: Tempaan, tekanan, hentakan dan bentuk gelekan logam; serbuk metalurgi | IO7: Rawatan dan penyalutan logam; menggunakan mesin | IS7: Pembuatan tin untuk produk makanan dan minuman, tiub dan kotak boleh dilipat | IU7: Pembuatan kabel, plaited bands (jalur/pita berpintal) dan artikel seumpamanya daripada logam | IW7: Pembuatan bolt, skru, nat dan produk uliran seumpamanya | JA7: Pembuatan produk lain yang direka daripada logam t.t.t.l. | JC7: Pembuatan diod, transistor dan alatan semikonduktor yang seumpamanya | JE7: Pembuatan litar elektronik bersepadu dengan pemasangan mikro | JI7: Pembuatan kapasitor dan perintang elektrik | JK7: Pembuatan papan litar bercetak | JM7: Pembuatan komponen paparan | JQ7: Pembuatan komponen lain untuk aplikasi elektronik | JS7: Pembuatan komputer | JU7: Pembuatan kelengkapan peranti | JY7: Pembuatan peralatan komunikasi | KA7: Pembuatan elektronik pengguna | KC7: Pembuatan kelengkapan mengukur, menguji, memandu arah dan kawalan | KG7: Pembuatan jam tangan dan jam dan bahagiannya | KI7: Pembuatan peralatan penyinaran, perubatan elektro dan elektroterapeutik | KK7: Pembuatan instrumen dan kelengkapan optikal | KO7: Pembuatan peralatan fotografi | KQ7: Pembuatan motor elektrik, penjana dan transformer | KS7: Pembuatan perkakasan pengagihan dan pengawalan elektrik | KW7: Pembuatan kabel gentian optikal | KY7: Pembuatan wayar dan kabel elektronik dan elektrik lain | LA7: Pembuatan perkakasan domestik | LE7: Pembuatan alat-alat kuasa bendalir | LG7: Pembuatan pam, pemampat, kepala paip dan injap lain | LI7: Pembuatan penggalas, gear, elemen gear dan pemanduan | LM7: Pembuatan kelengkapan mengangkat dan mengendali | LO7: Pembuatan alatan tangan yang menggunakan kuasa dilengkapkan dengan motor elektrik atau bukan motor elektrik atau pneumatik | LQ7: Pembuatan mesin penyaman udara, termasuk untuk kenderaan bermotor | LU7: Pembuatan jentera pembentukan logam dan alatan mesin | LW7: Pembuatan lain-lain mesin bertujuan khas t.t.t.l. | LY7: Pembuatan kereta penumpang | MC7: Pembuatan alat ganti dan aksesori untuk kenderaan bermotor | ME7: Pembinaan kapal dan struktur terapung | MG7: Pembuatan pesawat dan kapal angkasa dan jentera berkaitan | MK7: Pembuatan motosikal | MM7: Pembuatan perabot kayu dan rotan | MO7: Pembaikan dan penyelenggaraan kelengkapan pengangkutan kecuali motosikal dan basikal
C8: Extraction of Crude Petroleum and Natural Gas | E8: Extraction of crude Petroleum Oils & Condensates | G8: Production of Crude Gaseous Hydrocarbon (Natural Gas) | K8: Manufacture of crude palm oil | M8: Manufacture of refined palm oil | O8: Manufacture of palm kernel oil | S8: Manufacture of crude and refined vegetable oil | U8: Manufacture of compound cooking fats | W8: Manufacture of ice cream and other edible ice such as sorbet | AA8: Manufacture of condensed, powdered and evaporated milk | AC8: Rice milling | AE8: Flour milling | AI8: Manufacture of biscuits and cookies | AK8: Manufacture of bread, cakes and other bakery products | AM8: Manufacture of snack products | AQ8: Manufacture of sugar | AS8: Manufacture of cocoa products | AU8: Manufacture of chocolate and chocolate products | AY8: Manufacture of sugar confectionery | BA8: Manufacture of meehoon, noodles and other related product | BC8: Manufacture of prepared meals and dishes | BG8: Manufacture of coffee | BI8: Manufacture of sauces and condiments | BK8: Manufacture of spices and curry powder | BO8: Manufacture of other food products n.e.c. | BQ8: Distilling, rectifying and blending of spirits; wines & malt liquors and malt | BS8: Manufacture of soft drinks | BW8: Production of natural mineral waters and other bottled waters | BY8: Manufacture of tobacco products | CA8: Preparation and spinning of textile fibres | CE8: Weaving of textiles | CG8: Dyeing, bleaching, printing and finishing of yarns and fabrics | CI8: Manufacture of clothings | CM8: Manufacture of luggage, handbags and the like, saddlery and harness | CO8: Manufacture of leather footwear | CQ8: Manufacture of rubber footwear | CU8: Sawmilling and planning of wood | CW8: Manufacture of veneer sheets and plywood | CY8: Manufacture of particle board and fibreboard | DC8: Manufacture of builders' carpentry | DE8: Manufacture of wooden containers | DG8: Manufacture of pulp, paper and paperboard | DK8: Manufacture of corrugated paper and paperboard and of containers of paper and paperboard | DM8: Manufacture of envelopes and letter-card | DO8: Manufacture of household and personal hygiene paper | DS8: Manufacture of gummed or adhesive paper in strips or rolls and labels and wall paper | DU8: Printing | DW8: Service activities related to printing | EA8: Manufacture of refined petroleum products | EC8: Manufacture of liquefied or compressed inorganic industrial or medical gases | EE8: Manufacture of basic organic chemicals | EI8: Manufacture of inorganic compounds | EK8: Manufacture of fertilizers | EM8: Manufacture of plastics in primary forms | EQ8: Manufacture of pesticides and other agrochemical products | ES8: Manufacture of paints, varnishes and similar coatings ink and mastics | EU8: Manufacture of printing ink | EY8: Manufacture of soap and detergents, cleaning and polishing preparations | FA8: Manufacture of perfumes and toilet preparations | FC8: Manufacture of photographic plates, films, sensitized paper and other sensitized unexposed materials | FG8: Manufacture of other chemical products n.e.c. | FI8: Manufacture of medicinal active substances to be used for their pharmacological properties in the manufacture of medicaments | FK8: Manufacture of rubber tyres for vehicles | FO8: Manufacture of interchangeable tyre treads and retreading rubber tyres | FQ8: Manufacture of rubber gloves | FS8: Rubber remilling and latex processing | FW8: Manufacture of other rubber products n.e.c. | FY8: Manufacture of semi-manufactures of plastic products | GA8: Manufacture of finished plastic products | GE8: Manufacture of plastic articles for the packing of goods | GG8: Manufacture of builders' plastics ware | GI8: Manufacture of plastic tableware, kitchenware and toilet articles | GM8: Manufacture of diverse plastic products n.e.c. | GO8: Manufacture of flat glass, including wired, coloured or tinted flat glass | GQ8: Manufacture of other glass products n.e.c. | GU8: Manufacture of non-refractory ceramic | GW8: Manufacture of other porcelain and ceramic products | GY8: Manufacture of hydraulic cement | HC8: Manufacture of lime and plaster | HE8: Manufacture of ready-mix and dry-mix concrete and mortars | HG8: Manufacture of precast concrete, cement or artificial stone articles for use in construction | HK8: Manufacture of prefabricated structural components for building or civil engineering of cement, concrete or artificial stone | HM8: Manufacture of other articles of concrete, cement and plaster n.e.c. | HO8: Manufacture of other non-metallic mineral products n.e.c. | HS8: Production of pig iron and spiegeleisen in pigs, blocks or other primary forms | HU8: Production of bars and rods of stainless steel or other alloy steel | HW8: Manufacture of seamless tubes, by hot rolling, hot extrusion or hot drawing, or by cold drawing or cold rolling | IA8: Manufacture of other basic iron and steel products n.e.c. | IC8: Tin smelting; Production of aluminium from alumina; & Manufacture of other basic precious and other non-ferrous metal n.e.c | IE8: Manufacture of metal doors, windows and their frames, shutters and gates | II8: Manufacture of other structural metal products | IK8: Manufacture of tanks, reservoirs and containers of metal | IM8: Forging, pressing, stamping and roll-forming of metal; powder metallurgy | IO8: Treatment and coating of metals; machining | IS8: Manufacture of tins and cans for food products, collapsible tubes and boxes | IU8: Manufacture of metal cable, plaited bands and similar articles | IW8: Manufacture of bolts, screws, nuts and similar threaded products | JA8: Manufacture of any other fabricated metal products n.e.c. | JC8: Manufacture of diodes, transistors and similar semiconductor devices | JE8: Manufacture of electronic integrated circuits micro assemblies | JI8: Manufacture of electrical capacitors and resistors | JK8: Manufacture of printed circuit boards | JM8: Manufacture of display components | JQ8: Manufacture of other components for electronic applications | JS8: Manufacture of computers | JU8: Manufacture of peripheral equipment | JY8: Manufacture of communication equipment | KA8: Manufacture of consumer electronics | KC8: Manufacture of measuring, testing, navigating and control equipment | KG8: Manufacture of watches and clocks and parts | KI8: Manufacture of irradiation, electro medical and electrotherapeutic equipment | KK8: Manufacture of optical instruments and equipment | KO8: Manufacture of photographic equipment | KQ8: Manufacture of electric motors, generators and transformers | KS8: Manufacture of electricity distribution and control apparatus | KW8: Manufacture of fibre optic cables | KY8: Manufacture of other electronic and electric wires and cables | LA8: Manufacture of domestic appliances | LE8: Manufacture of fluid power equipment | LG8: Manufacture of other pumps, compressors, taps and valves | LI8: Manufacture of bearings, gears, gearing and driving elements | LM8: Manufacture of lifting and handling equipment | LO8: Manufacture of power-driven hand tools with self-contained electric or non-electric motor or pneumatic drives | LQ8: Manufacture of air-conditioning machines, including for motor vehicles | LU8: Manufacture of metal-forming machinery and machine tools | LW8: Manufacture of other special-purpose machinery n.e.c. | LY8: Manufacture of passenger cars | MC8: Manufacture of parts and accessories for motor vehicles | ME8: Building of ships and floating structures | MG8: Manufacture of air and spacecraft and related machinery | MK8: Manufacture of motorcycles | MM8: Manufacture of wooden and cane furniture | MO8: Repair and maintenance of transport equipment except motorcycles and bicycles
A9: Kod/ Codes | C9: 06 | E9: 06101 | G9: 06201 | I9: Kod/ Codes | K9: 10401 | M9: 10402 | O9: 10403 | Q9: Kod/ Codes | S9: 10404 | U9: 10406 | W9: 10501 | Y9: Kod/ Codes | AA9: 10502 | AC9: 10611 | AE9: 10613 | AG9: Kod/ Codes | AI9: 10711 | AK9: 10712 | AM9: 10713 | AO9: Kod/ Codes | AQ9: 10721 | AS9: 10731 | AU9: 10732 | AW9: Kod/ Codes | AY9: 10733 | BA9: 10741 | BC9: 10750 | BE9: Kod/ Codes | BG9: 10791 | BI9: 10793 | BK9: 10794 | BM9: Kod/ Codes | BO9: 10799 | BQ9: 11010, 11020 & 11030 | BS9: 11041 | BU9: Kod/ Codes | BW9: 11042 | BY9: 12000 | CA9: 13110 | CC9: Kod/ Codes | CE9: 13120 | CG9: 13132 | CI9: 14102 | CK9: Kod/ Codes | CM9: 15120 | CO9: 15201 | CQ9: 15203 | CS9: Kod/ Codes | CU9: 16100 | CW9: 16211 | CY9: 16212 | DA9: Kod/ Codes | DC9: 16221 | DE9: 16230 | DG9: 17010 | DI9: Kod/ Codes | DK9: 17020 | DM9: 17091 | DO9: 17092 | DQ9: Kod/ Codes | DS9: 17093 | DU9: 18110 | DW9: 18120 | DY9: Kod/ Codes | EA9: 19201 | EC9: 20111 | EE9: 20112 | EG9: Kod/ Codes | EI9: 20113 | EK9: 20121 | EM9: 20131 | EO9: Kod/ Codes | EQ9: 20210 | ES9: 20221 | EU9: 20222 | EW9: Kod/ Codes | EY9: 20231 | FA9: 20232 | FC9: 20291 | FE9: Kod/ Codes | FG9: 20299 | FI9: 21001 | FK9: 22111 | FM9: Kod/ Codes | FO9: 22112 | FQ9: 22192 | FS9: 22193 | FU9: Kod/ Codes | FW9: 22199 | FY9: 22201 | GA9: 22202 | GC9: Kod/ Codes | GE9: 22203 | GG9: 22204 | GI9: 22205 | GK9: Kod/ Codes | GM9: 22209 | GO9: 23101 | GQ9: 23109 | GS9: Kod/ Codes | GU9: 23921 | GW9: 23930 | GY9: 23941 | HA9: Kod/ Codes | HC9: 23942 | HE9: 23951 | HG9: 23952 | HI9: Kod/ Codes | HK9: 23953 | HM9: 23959 | HO9: 23990 | HQ9: Kod/ Codes | HS9: 24101 | HU9: 24102 | HW9: 24103 | HY9: Kod/ Codes | IA9: 24109 | IC9: 24201, 24202 & 24209 | IE9: 25113 | IG9: Kod/ Codes | II9: 25119 | IK9: 25120 | IM9: 25910 | IO9: 25920 | IQ9: Kod/ Codes | IS9: 25991 | IU9: 25992 | IW9: 25993 | IY9: Kod/ Codes | JA9: 25999 | JC9: 26101 | JE9: 26102 | JG9: Kod/ Codes | JI9: 26103 | JK9: 26104 | JM9: 26105 | JO9: Kod/ Codes | JQ9: 26109 | JS9: 26201 | JU9: 26202 | JW9: Kod/ Codes | JY9: 26300 | KA9: 26400 | KC9: 26511 | KE9: Kod/ Codes | KG9: 26520 | KI9: 26600 | KK9: 26701 | KM9: Kod/ Codes | KO9: 26702 | KQ9: 27101 | KS9: 27102 | KU9: Kod/ Codes | KW9: 27310 | KY9: 27320 | LA9: 27500 | LC9: Kod/ Codes | LE9: 28120 | LG9: 28130 | LI9: 28140 | LK9: Kod/ Codes | LM9: 28160 | LO9: 28180 | LQ9: 28192 | LS9: Kod/ Codes | LU9: 28220 | LW9: 28290 | LY9: 29101 | MA9: Kod/ Codes | MC9: 29300 | ME9: 30110 | MG9: 30300 | MI9: Kod/ Codes | MK9: 30910 | MM9: 31001 | MO9: 33150
A10: Wajaran/Weight 2010 | C10: 28.919338 | E10: 16.228458 | G10: 12.69088 | I10: Wajaran/Weight 2010 | K10: 2.0734702 | M10: 1.2793812 | O10: 0.46075727 | Q10: Wajaran/Weight 2010 | S10: 0.073676465 | U10: 0.033657761 | W10: 0.02924469 | Y10: Wajaran/Weight 2010 | AA10: 0.37029322 | AC10: 0.10353774 | AE10: 0.12370769 | AG10: Wajaran/Weight 2010 | AI10: 0.14816762 | AK10: 0.32428602 | AM10: 0.11168563 | AO10: Wajaran/Weight 2010 | AQ10: 0.21816945 | AS10: 0.16912111 | AU10: 0.10276451 | AW10: Wajaran/Weight 2010 | AY10: 0.024961467 | BA10: 0.079848047 | BC10: 0.10950482 | BE10: Wajaran/Weight 2010 | BG10: 0.097025668 | BI10: 0.13134072 | BK10: 0.055218622 | BM10: Wajaran/Weight 2010 | BO10: 0.25318411 | BQ10: 0.37843786 | BS10: 0.22004667 | BU10: Wajaran/Weight 2010 | BW10: 0.045214766 | BY10: 0.35134077 | CA10: 0.074479926 | CC10: Wajaran/Weight 2010 | CE10: 0.26673575 | CG10: 0.028872775 | CI10: 0.39287142 | CK10: Wajaran/Weight 2010 | CM10: 0.024142442 | CO10: 0.041725564 | CQ10: 0.036195904 | CS10: Wajaran/Weight 2010 | CU10: 0.37770922 | CW10: 0.92052463 | CY10: 0.26103802 | DA10: Wajaran/Weight 2010 | DC10: 0.12744044 | DE10: 0.050990485 | DG10: 0.25048848 | DI10: Wajaran/Weight 2010 | DK10: 0.52346986 | DM10: 0.034125441 | DO10: 0.13730536 | DQ10: Wajaran/Weight 2010 | DS10: 0.11404739 | DU10: 0.69680824 | DW10: 0.20919842 | DY10: Wajaran/Weight 2010 | EA10: 13.866802 | EC10: 2.489944 | EE10: 1.7177715 | EG10: Wajaran/Weight 2010 | EI10: 0.24756765 | EK10: 0.25615307 | EM10: 0.87913008 | EO10: Wajaran/Weight 2010 | EQ10: 0.14084201 | ES10: 0.26908478 | EU10: 0.07070846 | EW10: Wajaran/Weight 2010 | EY10: 0.12391497 | FA10: 0.16872861 | FC10: 0.027436661 | FE10: Wajaran/Weight 2010 | FG10: 0.52220597 | FI10: 0.29061808 | FK10: 0.13203955 | FM10: Wajaran/Weight 2010 | FO10: 0.074740032 | FQ10: 1.0787704 | FS10: 0.42532073 | FU10: Wajaran/Weight 2010 | FW10: 0.35067241 | FY10: 0.20016097 | GA10: 0.12422293 | GC10: Wajaran/Weight 2010 | GE10: 0.66567647 | GG10: 0.062699175 | GI10: 0.1842745 | GK10: Wajaran/Weight 2010 | GM10: 1.0030438 | GO10: 0.36027814 | GQ10: 0.34263116 | GS10: Wajaran/Weight 2010 | GU10: 0.32615691 | GW10: 0.082574087 | GY10: 0.78724273 | HA10: Wajaran/Weight 2010 | HC10: 0.048003596 | HE10: 0.20518264 | HG10: 0.12209227 | HI10: Wajaran/Weight 2010 | HK10: 0.14784586 | HM10: 0.14480542 | HO10: 0.18607914 | HQ10: Wajaran/Weight 2010 | HS10: 0.26668777 | HU10: 1.2194193 | HW10: 0.21433441 | HY10: Wajaran/Weight 2010 | IA10: 0.051172872 | IC10: 0.89637659 | IE10: 0.12249443 | IG10: Wajaran/Weight 2010 | II10: 0.34171398 | IK10: 0.15191079 | IM10: 0.23172866 | IO10: 0.17888997 | IQ10: Wajaran/Weight 2010 | IS10: 0.22343729 | IU10: 0.24821071 | IW10: 0.18040491 | IY10: Wajaran/Weight 2010 | JA10: 0.37989948 | JC10: 3.2536807 | JE10: 1.7043818 | JG10: Wajaran/Weight 2010 | JI10: 0.18248696 | JK10: 2.2557875 | JM10: 0.10604573 | JO10: Wajaran/Weight 2010 | JQ10: 0.15014183 | JS10: 0.33854691 | JU10: 2.0655932 | JW10: Wajaran/Weight 2010 | JY10: 0.86247009 | KA10: 2.2196527 | KC10: 0.10531476 | KE10: Wajaran/Weight 2010 | KG10: 0.11661231 | KI10: 0.24721308 | KK10: 0.053191122 | KM10: Wajaran/Weight 2010 | KO10: 0.13461621 | KQ10: 0.16811084 | KS10: 0.35923379 | KU10: Wajaran/Weight 2010 | KW10: 0.030673098 | KY10: 0.39188426 | LA10: 0.23530381 | LC10: Wajaran/Weight 2010 | LE10: 0.013990636 | LG10: 0.18077504 | LI10: 0.15173165 | LK10: Wajaran/Weight 2010 | LM10: 0.092870449 | LO10: 0.044223123 | LQ10: 0.52022784 | LS10: Wajaran/Weight 2010 | LU10: 0.39386511 | LW10: 0.19512899 | LY10: 1.4663002 | MA10: Wajaran/Weight 2010 | MC10: 1.1430042 | ME10: 0.50019043 | MG10: 0.18412583 | MI10: Wajaran/Weight 2010 | MK10: 0.23269699 | MM10: 0.9188495 | MO10: 0.10026793
A11: Wajaran/Weight 2015 | C11: 25.14 | E11: 12.22 | G11: 12.92 | I11: Wajaran/Weight 2015 | K11: 1.9399876 | M11: 1.3662566 | O11: 0.16655497 | Q11: Wajaran/Weight 2015 | S11: 0.042390552 | U11: 0.18405077 | W11: 0.025108473 | Y11: Wajaran/Weight 2015 | AA11: 0.43495964 | AC11: 0.088871287 | AE11: 0.13230115 | AG11: Wajaran/Weight 2015 | AI11: 0.13115356 | AK11: 0.36402039 | AM11: 0.087589849 | AO11: Wajaran/Weight 2015 | AQ11: 0.11762314 | AS11: 0.16597519 | AU11: 0.10646621 | AW11: Wajaran/Weight 2015 | AY11: 0.050203368 | BA11: 0.085563232 | BC11: 0.16801531 | BE11: Wajaran/Weight 2015 | BG11: 0.1493426 | BI11: 0.12646103 | BK11: 0.066484125 | BM11: Wajaran/Weight 2015 | BO11: 0.14581479 | BQ11: 0.20874828 | BS11: 0.37804678 | BU11: Wajaran/Weight 2015 | BW11: 0.060756784 | BY11: 0.51641002 | CA11: 0.06939659 | CC11: Wajaran/Weight 2015 | CE11: 0.21968499 | CG11: 0.10603466 | CI11: 0.45590227 | CK11: Wajaran/Weight 2015 | CM11: 0.052596435 | CO11: 0.018269622 | CQ11: 0.041145496 | CS11: Wajaran/Weight 2015 | CU11: 0.34793416 | CW11: 0.56539716 | CY11: 0.25440125 | DA11: Wajaran/Weight 2015 | DC11: 0.13765928 | DE11: 0.055352802 | DG11: 0.23987676 | DI11: Wajaran/Weight 2015 | DK11: 0.45427395 | DM11: 0.040131483 | DO11: 0.21508736 | DQ11: Wajaran/Weight 2015 | DS11: 0.11129622 | DU11: 0.73063258 | DW11: 0.19261742 | DY11: Wajaran/Weight 2015 | EA11: 9.2616948 | EC11: 1.046268 | EE11: 2.0040451 | EG11: Wajaran/Weight 2015 | EI11: 0.29275865 | EK11: 0.37622283 | EM11: 1.1092827 | EO11: Wajaran/Weight 2015 | EQ11: 0.13955025 | ES11: 0.32573328 | EU11: 0.098193124 | EW11: Wajaran/Weight 2015 | EY11: 0.23226954 | FA11: 0.15468177 | FC11: 0.006550807 | FE11: Wajaran/Weight 2015 | FG11: 0.42579553 | FI11: 0.29914529 | FK11: 0.17492572 | FM11: Wajaran/Weight 2015 | FO11: 0.038422456 | FQ11: 1.1608537 | FS11: 0.24454565 | FU11: Wajaran/Weight 2015 | FW11: 0.37474654 | FY11: 0.36200843 | GA11: 0.17338805 | GC11: Wajaran/Weight 2015 | GE11: 0.62475477 | GG11: 0.074844222 | GI11: 0.16849762 | GK11: Wajaran/Weight 2015 | GM11: 0.86105137 | GO11: 0.14795748 | GQ11: 0.22898489 | GS11: Wajaran/Weight 2015 | GU11: 0.22646132 | GW11: 0.073290154 | GY11: 0.74330728 | HA11: Wajaran/Weight 2015 | HC11: 0.091133903 | HE11: 0.35584392 | HG11: 0.38488039 | HI11: Wajaran/Weight 2015 | HK11: 0.18254154 | HM11: 0.18675128 | HO11: 0.20631852 | HQ11: Wajaran/Weight 2015 | HS11: 0.23402377 | HU11: 0.78756845 | HW11: 0.11073783 | HY11: Wajaran/Weight 2015 | IA11: 0.32589143 | IC11: 0.70975971 | IE11: 0.31698159 | IG11: Wajaran/Weight 2015 | II11: 0.53696087 | IK11: 0.3101417 | IM11: 0.32334457 | IO11: 0.24866841 | IQ11: Wajaran/Weight 2015 | IS11: 0.4148821 | IU11: 0.34779259 | IW11: 0.3065237 | IY11: Wajaran/Weight 2015 | JA11: 0.45452893 | JC11: 3.2519708 | JE11: 1.7564938 | JG11: Wajaran/Weight 2015 | JI11: 0.29474824 | JK11: 2.1860841 | JM11: 0.0072088672 | JO11: Wajaran/Weight 2015 | JQ11: 0.18687942 | JS11: 0.6562117 | JU11: 1.159314 | JW11: Wajaran/Weight 2015 | JY11: 0.90877197 | KA11: 2.4309808 | KC11: 0.39194422 | KE11: Wajaran/Weight 2015 | KG11: 0.13019688 | KI11: 0.40159409 | KK11: 0.038740088 | KM11: Wajaran/Weight 2015 | KO11: 0.049925234 | KQ11: 0.20868292 | KS11: 0.43741985 | KU11: Wajaran/Weight 2015 | KW11: 0.028844393 | KY11: 0.45928219 | LA11: 0.47239135 | LC11: Wajaran/Weight 2015 | LE11: 0.0014190767 | LG11: 0.13842804 | LI11: 0.051087966 | LK11: Wajaran/Weight 2015 | LM11: 0.084355798 | LO11: 0.057527035 | LQ11: 0.66346033 | LS11: Wajaran/Weight 2015 | LU11: 0.32685903 | LW11: 0.26116824 | LY11: 1.5819816 | MA11: Wajaran/Weight 2015 | MC11: 1.4190712 | ME11: 0.43903955 | MG11: 0.27803435 | MI11: Wajaran/Weight 2015 | MK11: 0.26434989 | MM11: 0.71986465 | MO11: 0.24498078
A13: 2015 | C13: 100 | E13: 100 | G13: 100 | I13: 2015 | K13: 100 | M13: 100 | O13: 100 | Q13: 2015 | S13: 100 | U13: 100 | W13: 100 | Y13: 2015 | AA13: 100 | AC13: 100 | AE13: 100 | AG13: 2015 | AI13: 100 | AK13: 100 | AM13: 100 | AO13: 2015 | AQ13: 100 | AS13: 100 | AU13: 100 | AW13: 2015 | AY13: 100 | BA13: 100 | BC13: 100 | BE13: 2015 | BG13: 100 | BI13: 100 | BK13: 100 | BM13: 2015 | BO13: 100 | BQ13: 100 | BS13: 100 | BU13: 2015 | BW13: 100 | BY13: 100 | CA13: 100 | CC13: 2015 | CE13: 100 | CG13: 100 | CI13: 100 | CK13: 2015 | CM13: 100 | CO13: 100 | CQ13: 100 | CS13: 2015 | CU13: 100 | CW13: 100 | CY13: 100 | DA13: 2015 | DC13: 100 | DE13: 100 | DG13: 100 | DI13: 2015 | DK13: 100 | DM13: 100 | DO13: 100 | DQ13: 2015 | DS13: 100 | DU13: 100 | DW13: 100 | DY13: 2015 | EA13: 100 | EC13: 100 | EE13: 100 | EG13: 2015 | EI13: 100 | EK13: 100 | EM13: 100 | EO13: 2015 | EQ13: 100 | ES13: 100 | EU13: 100 | EW13: 2015 | EY13: 100 | FA13: 100 | FC13: 100 | FE13: 2015 | FG13: 100 | FI13: 100 | FK13: 100 | FM13: 2015 | FO13: 100 | FQ13: 100 | FS13: 100 | FU13: 2015 | FW13: 100 | FY13: 100 | GA13: 100 | GC13: 2015 | GE13: 100 | GG13: 100 | GI13: 100 | GK13: 2015 | GM13: 100 | GO13: 100 | GQ13: 100 | GS13: 2015 | GU13: 100 | GW13: 100 | GY13: 100 | HA13: 2015 | HC13: 100 | HE13: 100 | HG13: 100 | HI13: 2015 | HK13: 100 | HM13: 100 | HO13: 100 | HQ13: 2015 | HS13: 100 | HU13: 100 | HW13: 100 | HY13: 2015 | IA13: 100 | IC13: 100 | IE13: 100 | IG13: 2015 | II13: 100 | IK13: 100 | IM13: 100 | IO13: 100 | IQ13: 2015 | IS13: 100 | IU13: 100 | IW13: 100 | IY13: 2015 | JA13: 100 | JC13: 100 | JE13: 100 | JG13: 2015 | JI13: 100 | JK13: 100 | JM13: 100 | JO13: 2015 | JQ13: 100 | JS13: 100 | JU13: 100 | JW13: 2015 | JY13: 100 | KA13: 100 | KC13: 100 | KE13: 2015 | KG13: 100 | KI13: 100 | KK13: 100 | KM13: 2015 | KO13: 100 | KQ13: 100 | KS13: 100 | KU13: 2015 | KW13: 100 | KY13: 100 | LA13: 100 | LC13: 2015 | LE13: 100 | LG13: 100 | LI13: 100 | LK13: 2015 | LM13: 100 | LO13: 100 | LQ13: 100 | LS13: 2015 | LU13: 100 | LW13: 100 | LY13: 100 | MA13: 2015 | MC13: 100 | ME13: 100 | MG13: 100 | MI13: 2015 | MK13: 100 | MM13: 100.00416 | MO13: 100
A14: 2016 | C14: 102.38037 | D14: 2.3803732 | E14: 101.20617 | F14: 1.2061667 | G14: 103.49058 | H14: 3.4905833 | I14: 2016 | K14: 86.765927 | L14: -13.234073 | M14: 111.43902 | N14: 11.439018 | O14: 86.085231 | P14: -13.914769 | Q14: 2016 | S14: 106.51685 | T14: 6.5168517 | U14: 106.20879 | V14: 6.2087929 | W14: 106.14941 | X14: 6.14941 | Y14: 2016 | AA14: 108.21905 | AB14: 8.2190532 | AC14: 114.10203 | AD14: 14.102026 | AE14: 100.56315 | AF14: 0.56314545 | AG14: 2016 | AI14: 118.76361 | AJ14: 18.763612 | AK14: 112.95115 | AL14: 12.951148 | AM14: 99.269549 | AN14: -0.73045059 | AO14: 2016 | AQ14: 109.67074 | AR14: 9.6707412 | AS14: 101.57651 | AT14: 1.5765126 | AU14: 99.959606 | AV14: -0.040393776 | AW14: 2016 | AY14: 115.57008 | AZ14: 15.570084 | BA14: 113.38479 | BB14: 13.384793 | BC14: 115.53926 | BD14: 15.539264 | BE14: 2016 | BG14: 96.398106 | BH14: -3.6018944 | BI14: 107.55434 | BJ14: 7.5543407 | BK14: 115.53609 | BL14: 15.53609 | BM14: 2016 | BO14: 101.68673 | BP14: 1.686732 | BQ14: 109.866 | BR14: 9.8659958 | BS14: 109.99715 | BT14: 9.9971542 | BU14: 2016 | BW14: 109.89788 | BX14: 9.8978847 | BY14: 103.23259 | BZ14: 3.2325903 | CA14: 104.93109 | CB14: 4.9310869 | CC14: 2016 | CE14: 105.02561 | CF14: 5.0256119 | CG14: 104.99913 | CH14: 4.999126 | CI14: 108.21753 | CJ14: 8.2175277 | CK14: 2016 | CM14: 112.03815 | CN14: 12.038146 | CO14: 105.52646 | CP14: 5.5264647 | CQ14: 105.68528 | CR14: 5.6852804 | CS14: 2016 | CU14: 112.58034 | CV14: 12.580343 | CW14: 90.090603 | CX14: -9.9093968 | CY14: 112.5732 | CZ14: 12.573202 | DA14: 2016 | DC14: 107.95445 | DD14: 7.9544483 | DE14: 126.64031 | DF14: 26.640312 | DG14: 104.44663 | DH14: 4.4466317 | DI14: 2016 | DK14: 104.04197 | DL14: 4.0419707 | DM14: 96.064926 | DN14: -3.9350738 | DO14: 107.83202 | DP14: 7.8320249 | DQ14: 2016 | DS14: 103.82103 | DT14: 3.8210327 | DU14: 102.85173 | DV14: 2.8517329 | DW14: 114.74272 | DX14: 14.742716 | DY14: 2016 | EA14: 103.0856 | EB14: 3.0855989 | EC14: 106.82129 | ED14: 6.8212909 | EE14: 106.75033 | EF14: 6.7503267 | EG14: 2016 | EI14: 106.8365 | EJ14: 6.8364974 | EK14: 106.82219 | EL14: 6.822191 | EM14: 106.70306 | EN14: 6.7030558 | EO14: 2016 | EQ14: 103.25569 | ER14: 3.2556895 | ES14: 103.33358 | ET14: 3.3335836 | EU14: 103.32619 | EV14: 3.3261855 | EW14: 2016 | EY14: 103.27176 | EZ14: 3.2717645 | FA14: 103.28804 | FB14: 3.2880445 | FC14: 103.43928 | FD14: 3.4392769 | FE14: 2016 | FG14: 103.3741 | FH14: 3.3741033 | FI14: 104.4301 | FJ14: 4.4301015 | FK14: 105.09288 | FL14: 5.0928843 | FM14: 2016 | FO14: 98.11036 | FP14: -1.8896399 | FQ14: 103.88297 | FR14: 3.8829736 | FS14: 100.96844 | FT14: 0.96844403 | FU14: 2016 | FW14: 104.75804 | FX14: 4.7580387 | FY14: 104.05592 | FZ14: 4.0559155 | GA14: 103.82923 | GB14: 3.829234 | GC14: 2016 | GE14: 103.71017 | GF14: 3.7101739 | GG14: 103.80321 | GH14: 3.8032104 | GI14: 101.31346 | GJ14: 1.3134567 | GK14: 2016 | GM14: 103.8194 | GN14: 3.8193972 | GO14: 115.29924 | GP14: 15.299236 | GQ14: 115.63355 | GR14: 15.633551 | GS14: 2016 | GU14: 103.12682 | GV14: 3.1268234 | GW14: 103.8787 | GX14: 3.8787007 | GY14: 103.17225 | GZ14: 3.1722483 | HA14: 2016 | HC14: 103.1585 | HD14: 3.1585004 | HE14: 103.19347 | HF14: 3.1934663 | HG14: 98.773144 | HH14: -1.2268564 | HI14: 2016 | HK14: 105.38969 | HL14: 5.3896906 | HM14: 104.59661 | HN14: 4.5966113 | HO14: 103.15543 | HP14: 3.1554281 | HQ14: 2016 | HS14: 100.85173 | HT14: 0.85173348 | HU14: 100.10995 | HV14: 0.10995103 | HW14: 100.8939 | HX14: 0.8939007 | HY14: 2016 | IA14: 100.54227 | IB14: 0.54226924 | IC14: 105.55151 | ID14: 5.5515054 | IE14: 99.121878 | IF14: -0.87812189 | IG14: 2016 | II14: 105.05262 | IJ14: 5.0526167 | IK14: 102.75684 | IL14: 2.7568376 | IM14: 106.02527 | IN14: 6.0252692 | IO14: 106.12154 | IP14: 6.1215385 | IQ14: 2016 | IS14: 106.10688 | IT14: 6.1068798 | IU14: 106.65982 | IV14: 6.65982 | IW14: 106.01245 | IX14: 6.012447 | IY14: 2016 | JA14: 106.08017 | JB14: 6.0801715 | JC14: 107.14257 | JD14: 7.1425678 | JE14: 115.91752 | JF14: 15.91752 | JG14: 2016 | JI14: 115.18635 | JJ14: 15.186349 | JK14: 110.67764 | JL14: 10.67764 | JM14: 103.74236 | JN14: 3.7423557 | JO14: 2016 | JQ14: 113.97207 | JR14: 13.972068 | JS14: 104.32591 | JT14: 4.3259145 | JU14: 104.10187 | JV14: 4.1018715 | JW14: 2016 | JY14: 103.00841 | JZ14: 3.0084059 | KA14: 104.23005 | KB14: 4.2300547 | KC14: 113.72816 | KD14: 13.72816 | KE14: 2016 | KG14: 101.61994 | KH14: 1.6199403 | KI14: 110.17795 | KJ14: 10.17795 | KK14: 100.28452 | KL14: 0.28451863 | KM14: 2016 | KO14: 99.028778 | KP14: -0.97122184 | KQ14: 112.12718 | KR14: 12.127177 | KS14: 99.206405 | KT14: -0.79359505 | KU14: 2016 | KW14: 102.2198 | KX14: 2.219799 | KY14: 108.47402 | KZ14: 8.4740174 | LA14: 106.22225 | LB14: 6.2222478 | LC14: 2016 | LE14: 111.49741 | LF14: 11.497407 | LG14: 107.29632 | LH14: 7.2963234 | LI14: 103.56522 | LJ14: 3.5652176 | LK14: 2016 | LM14: 107.75596 | LN14: 7.7559587 | LO14: 107.52128 | LP14: 7.521279 | LQ14: 107.07169 | LR14: 7.071694 | LS14: 2016 | LU14: 101.71406 | LV14: 1.7140565 | LW14: 105.82973 | LX14: 5.8297282 | LY14: 78.653738 | LZ14: -21.346262 | MA14: 2016 | MC14: 115.8152 | MD14: 15.815203 | ME14: 97.20565 | MF14: -2.7943503 | MG14: 100.64862 | MH14: 0.64862005 | MI14: 2016 | MK14: 93.846638 | ML14: -6.1533624 | MM14: 109.84366 | MN14: 9.8390914 | MO14: 105.58374 | MP14: 5.5837377
A15: 2017 | C15: 102.73872 | D15: 0.35001735 | E15: 99.514579 | F15: -1.6714271 | G15: 105.78714 | H15: 2.219093 | I15: 2017 | K15: 99.791815 | L15: 15.012676 | M15: 137.51154 | N15: 23.396221 | O15: 100.20866 | P15: 16.406327 | Q15: 2017 | S15: 106.42007 | T15: -0.0908608 | U15: 110.56236 | V15: 4.0990616 | W15: 106.37592 | X15: 0.21338972 | Y15: 2017 | AA15: 107.02494 | AB15: -1.1034231 | AC15: 118.12155 | AD15: 3.5227472 | AE15: 105.33985 | AF15: 4.7499524 | AG15: 2017 | AI15: 126.86456 | AJ15: 6.8210651 | AK15: 125.29064 | AL15: 10.92463 | AM15: 103.08032 | AN15: 3.8388153 | AO15: 2017 | AQ15: 104.09746 | AR15: -5.0818331 | AS15: 104.83718 | AT15: 3.2100604 | AU15: 105.82873 | AV15: 5.8714961 | AW15: 2017 | AY15: 120.39088 | AZ15: 4.1713159 | BA15: 120.3238 | BB15: 6.1198723 | BC15: 100.3514 | BD15: -13.145196 | BE15: 2017 | BG15: 96.946731 | BH15: 0.56912445 | BI15: 114.32709 | BJ15: 6.2970511 | BK15: 125.58265 | BL15: 8.6956065 | BM15: 2017 | BO15: 116.69613 | BP15: 14.760428 | BQ15: 119.92493 | BR15: 9.1556404 | BS15: 119.96199 | BT15: 9.0591732 | BU15: 2017 | BW15: 119.95266 | BX15: 9.149196 | BY15: 105.35404 | BZ15: 2.0550169 | CA15: 109.71628 | CB15: 4.5603213 | CC15: 2017 | CE15: 109.81718 | CF15: 4.5622856 | CG15: 109.77774 | CH15: 4.5511007 | CI15: 120.81295 | CJ15: 11.638987 | CK15: 2017 | CM15: 123.19183 | CN15: 9.9552563 | CO15: 109.32725 | CP15: 3.6017379 | CQ15: 109.6811 | CR15: 3.780869 | CS15: 2017 | CU15: 123.93184 | CV15: 10.083022 | CW15: 84.784896 | CX15: -5.8893019 | CY15: 116.57054 | CZ15: 3.5508755 | DA15: 2017 | DC15: 93.494767 | DD15: -13.394243 | DE15: 219.0476 | DF15: 72.968302 | DG15: 109.16002 | DH15: 4.5127281 | DI15: 2017 | DK15: 109.01557 | DL15: 4.7803769 | DM15: 93.243341 | DN15: -2.937165 | DO15: 119.43131 | DP15: 10.756808 | DQ15: 2017 | DS15: 108.33348 | DT15: 4.3463726 | DU15: 107.74344 | DV15: 4.7560796 | DW15: 119.33938 | DX15: 4.0060622 | DY15: 2017 | EA15: 106.65273 | EB15: 3.4603601 | EC15: 111.67736 | ED15: 4.5459705 | EE15: 111.55123 | EF15: 4.4973167 | EG15: 2017 | EI15: 111.65985 | EJ15: 4.5147055 | EK15: 111.54911 | EL15: 4.4250329 | EM15: 111.49191 | EN15: 4.4880204 | EO15: 2017 | EQ15: 107.04057 | ER15: 3.6655442 | ES15: 107.01319 | ET15: 3.5608979 | EU15: 107.0971 | EV15: 3.6495233 | EW15: 2017 | EY15: 107.04737 | EZ15: 3.6559943 | FA15: 106.97917 | FB15: 3.5736236 | FC15: 107.25405 | FD15: 3.6879336 | FE15: 2017 | FG15: 107.12278 | FH15: 3.6263207 | FI15: 109.45924 | FJ15: 4.8157962 | FK15: 106.14608 | FL15: 1.0021599 | FM15: 2017 | FO15: 96.040127 | FP15: -2.1101062 | FQ15: 110.95509 | FR15: 6.8077728 | FS15: 108.83153 | FT15: 7.787664 | FU15: 2017 | FW15: 112.48535 | FX15: 7.3763424 | FY15: 106.98352 | FZ15: 2.8134952 | GA15: 106.92157 | GB15: 2.978291 | GC15: 2017 | GE15: 106.94912 | GF15: 3.1230728 | GG15: 106.86155 | GH15: 2.9462823 | GI15: 101.81715 | GJ15: 0.4971671 | GK15: 2017 | GM15: 106.9637 | GN15: 3.0286294 | GO15: 125.12043 | GP15: 8.5180036 | GQ15: 125.40655 | GR15: 8.4516998 | GS15: 2017 | GU15: 107.78675 | GV15: 4.5186329 | GW15: 103.99078 | GX15: 0.10789157 | GY15: 107.76517 | GZ15: 4.4517039 | HA15: 2017 | HC15: 107.70983 | HD15: 4.4119815 | HE15: 107.7749 | HF15: 4.4396574 | HG15: 99.425059 | HH15: 0.66001255 | HI15: 2017 | HK15: 107.94786 | HL15: 2.4273417 | HM15: 112.36672 | HN15: 7.4286388 | HO15: 107.73482 | HP15: 4.4393099 | HQ15: 2017 | HS15: 109.49759 | HT15: 8.5728432 | HU15: 108.69406 | HV15: 8.5746838 | HW15: 109.56537 | HX15: 8.5946383 | HY15: 2017 | IA15: 109.10115 | IB15: 8.512723 | IC15: 105.14673 | ID15: -0.38348562 | IE15: 104.56565 | IF15: 5.4919948 | IG15: 2017 | II15: 106.41428 | IJ15: 1.296173 | IK15: 109.54203 | IL15: 6.6031527 | IM15: 112.08661 | IN15: 5.7168829 | IO15: 111.88644 | IP15: 5.4323584 | IQ15: 2017 | IS15: 112.01291 | IT15: 5.566118 | IU15: 112.46792 | IV15: 5.4454404 | IW15: 111.92901 | IX15: 5.5810048 | IY15: 2017 | JA15: 111.93304 | JB15: 5.5174025 | JC15: 118.91762 | JD15: 10.990076 | JE15: 135.89705 | JF15: 17.235984 | JG15: 2017 | JI15: 123.16731 | JJ15: 6.9287357 | JK15: 130.48583 | JL15: 17.897196 | JM15: 109.30794 | JN15: 5.3648147 | JO15: 2017 | JQ15: 114.28517 | JR15: 0.27471647 | JS15: 97.204149 | JT15: -6.8264587 | JU15: 96.671464 | JV15: -7.1376312 | JW15: 2017 | JY15: 103.86077 | JZ15: 0.82747359 | KA15: 106.6157 | KB15: 2.288825 | KC15: 112.80296 | KD15: -0.8135223 | KE15: 2017 | KG15: 100.83502 | KH15: -0.77240595 | KI15: 110.06859 | KJ15: -0.099258432 | KK15: 110.13985 | KL15: 9.827374 | KM15: 2017 | KO15: 108.6036 | KP15: 9.6687233 | KQ15: 120.72071 | KR15: 7.6640914 | KS15: 107.90923 | KT15: 8.7724425 | KU15: 2017 | KW15: 106.15598 | KX15: 3.8507053 | KY15: 119.63265 | KZ15: 10.286921 | LA15: 105.01896 | LB15: -1.1328001 | LC15: 2017 | LE15: 116.52729 | LF15: 4.5112079 | LG15: 114.13742 | LH15: 6.3758885 | LI15: 109.80974 | LJ15: 6.0295591 | LK15: 2017 | LM15: 114.0334 | LN15: 5.8256075 | LO15: 114.30727 | LP15: 6.3113009 | LQ15: 112.97569 | LR15: 5.5140572 | LS15: 2017 | LU15: 107.55807 | LV15: 5.7455304 | LW15: 115.90845 | LX15: 9.5235248 | LY15: 75.245814 | LZ15: -4.3328193 | MA15: 2017 | MC15: 130.29343 | MD15: 12.501148 | ME15: 105.33089 | MF15: 8.3588179 | MG15: 103.09324 | MH15: 2.4288628 | MI15: 2017 | MK15: 89.799372 | ML15: -4.3126375 | MM15: 115.99755 | MN15: 5.6024074 | MO15: 116.30853 | MP15: 10.157617
A16: 2018 | C16: 100.63238 | D16: -2.0501941 | E16: 99.321904 | F16: -0.19361507 | G16: 101.87151 | H16: -3.7014153 | I16: 2018 | K16: 97.767462 | L16: -2.0285758 | M16: 139.40434 | N16: 1.3764701 | O16: 101.04299 | P16: 0.83259738 | Q16: 2018 | S16: 109.08323 | T16: 2.5024936 | U16: 112.56562 | V16: 1.8118861 | W16: 108.68668 | X16: 2.1722587 | Y16: 2018 | AA16: 108.15184 | AB16: 1.0529301 | AC16: 124.01562 | AD16: 4.9898335 | AE16: 109.03872 | AF16: 3.51137 | AG16: 2018 | AI16: 134.06268 | AJ16: 5.6738699 | AK16: 132.35944 | AL16: 5.6419191 | AM16: 107.73096 | AN16: 4.5116625 | AO16: 2018 | AQ16: 116.59033 | AR16: 12.001136 | AS16: 109.29346 | AT16: 4.2506697 | AU16: 110.25143 | AV16: 4.1791122 | AW16: 2018 | AY16: 129.72918 | AZ16: 7.7566523 | BA16: 123.82776 | BB16: 2.9121073 | BC16: 110.56519 | BD16: 10.178022 | BE16: 2018 | BG16: 105.57081 | BH16: 8.8956908 | BI16: 119.86851 | BJ16: 4.8469834 | BK16: 131.59107 | BL16: 4.7844314 | BM16: 2018 | BO16: 118.86337 | BP16: 1.8571668 | BQ16: 133.77706 | BR16: 11.550662 | BS16: 117.49524 | BT16: -2.0562774 | BU16: 2018 | BW16: 127.64203 | BX16: 6.4103357 | BY16: 107.29377 | BZ16: 1.8411528 | CA16: 108.88808 | CB16: -0.75486211 | CC16: 2018 | CE16: 113.10647 | CF16: 2.9952428 | CG16: 109.84602 | CH16: 0.062199313 | CI16: 127.20489 | CJ16: 5.2907758 | CK16: 2018 | CM16: 129.05342 | CN16: 4.7580965 | CO16: 108.33936 | CP16: -0.90360636 | CQ16: 115.11943 | CR16: 4.9583068 | CS16: 2018 | CU16: 130.6129 | CV16: 5.3909134 | CW16: 88.116056 | CX16: 3.9289555 | CY16: 122.61855 | CZ16: 5.1882893 | DA16: 2018 | DC16: 101.49695 | DD16: 8.558968 | DE16: 248.29854 | DF16: 13.353694 | DG16: 110.80077 | DH16: 1.5030668 | DI16: 2018 | DK16: 116.46547 | DL16: 6.8337955 | DM16: 94.513688 | DN16: 1.3623994 | DO16: 123.35648 | DP16: 3.2865484 | DQ16: 2018 | DS16: 113.7443 | DT16: 4.9945993 | DU16: 111.10862 | DV16: 3.1233275 | DW16: 127.02615 | DX16: 6.4411032 | DY16: 2018 | EA16: 110.24488 | EB16: 3.3680774 | EC16: 118.79734 | ED16: 6.3754983 | EE16: 115.85764 | EF16: 3.8604822 | EG16: 2018 | EI16: 118.28099 | EJ16: 5.9297422 | EK16: 112.9274 | EL16: 1.2355958 | EM16: 116.74153 | EN16: 4.7085225 | EO16: 2018 | EQ16: 110.13246 | ER16: 2.8885236 | ES16: 113.28394 | ET16: 5.859794 | EU16: 111.65107 | EV16: 4.2521872 | EW16: 2018 | EY16: 105.79496 | EZ16: -1.1699607 | FA16: 108.01316 | FB16: 0.96653327 | FC16: 115.20177 | FD16: 7.4101793 | FE16: 2018 | FG16: 114.91413 | FH16: 7.2732852 | FI16: 115.72307 | FJ16: 5.7225193 | FK16: 112.44811 | FL16: 5.9371301 | FM16: 2018 | FO16: 98.75452 | FP16: 2.8263106 | FQ16: 116.6006 | FR16: 5.0881005 | FS16: 115.46659 | FT16: 6.096641 | FU16: 2018 | FW16: 114.2233 | FX16: 1.5450437 | FY16: 110.74265 | FZ16: 3.5137455 | GA16: 107.07072 | GB16: 0.13949556 | GC16: 2018 | GE16: 109.98239 | GF16: 2.8361798 | GG16: 113.33676 | GH16: 6.0594471 | GI16: 107.69885 | GJ16: 5.7767196 | GK16: 2018 | GM16: 112.81545 | GN16: 5.4707819 | GO16: 125.81515 | GP16: 0.55524337 | GQ16: 129.32187 | GR16: 3.1221005 | GS16: 2018 | GU16: 119.06484 | GV16: 10.463337 | GW16: 102.71662 | GX16: -1.2252595 | GY16: 121.87162 | GZ16: 13.089987 | HA16: 2018 | HC16: 112.71219 | HD16: 4.6442858 | HE16: 111.29985 | HF16: 3.2706574 | HG16: 104.77279 | HH16: 5.3786575 | HI16: 2018 | HK16: 107.21004 | HL16: -0.68349083 | HM16: 114.19231 | HN16: 1.6246732 | HO16: 104.5862 | HP16: -2.9225606 | HQ16: 2018 | HS16: 116.76143 | HT16: 6.6337832 | HU16: 109.45687 | HV16: 0.70178967 | HW16: 113.03063 | HX16: 3.1627407 | HY16: 2018 | IA16: 112.92615 | IB16: 3.5059129 | IC16: 112.15964 | ID16: 6.6696428 | IE16: 108.73489 | IF16: 3.9871978 | IG16: 2018 | II16: 119.30257 | IJ16: 12.111433 | IK16: 113.65562 | IL16: 3.7552638 | IM16: 118.75313 | IN16: 5.9476478 | IO16: 126.37062 | IP16: 12.945425 | IQ16: 2018 | IS16: 105.60539 | IT16: -5.7203454 | IU16: 110.8647 | IV16: -1.4254888 | IW16: 113.51026 | IX16: 1.4127244 | IY16: 2018 | JA16: 121.36043 | JB16: 8.4223428 | JC16: 131.14443 | JD16: 10.281754 | JE16: 144.4558 | JF16: 6.2979731 | JG16: 2018 | JI16: 132.82486 | JJ16: 7.8410071 | JK16: 135.33672 | JL16: 3.7175603 | JM16: 105.59876 | JN16: -3.3933319 | JO16: 2018 | JQ16: 117.66074 | JR16: 2.9536417 | JS16: 102.43032 | JT16: 5.3764937 | JU16: 99.70756 | JV16: 3.1406333 | JW16: 2018 | JY16: 110.59876 | JZ16: 6.4875225 | KA16: 114.15356 | KB16: 7.0701203 | KC16: 123.22769 | KD16: 9.2415399 | KE16: 2018 | KG16: 110.11433 | KH16: 9.2024659 | KI16: 115.28225 | KJ16: 4.7367399 | KK16: 121.80837 | KL16: 10.59427 | KM16: 2018 | KO16: 116.47023 | KP16: 7.2434408 | KQ16: 123.89794 | KR16: 2.6318847 | KS16: 105.47612 | KT16: -2.2547717 | KU16: 2018 | KW16: 114.11137 | KX16: 7.4940525 | KY16: 121.67085 | KZ16: 1.7037107 | LA16: 116.30471 | LB16: 10.746395 | LC16: 2018 | LE16: 127.11696 | LF16: 9.0877205 | LG16: 123.58421 | LH16: 8.2766872 | LI16: 115.53498 | LJ16: 5.2137759 | LK16: 2018 | LM16: 135.72455 | LN16: 19.021752 | LO16: 114.60841 | LP16: 0.26344709 | LQ16: 118.96387 | LR16: 5.3004134 | LS16: 2018 | LU16: 109.31152 | LV16: 1.6302386 | LW16: 120.78284 | LX16: 4.2053783 | LY16: 83.632064 | LZ16: 11.145138 | MA16: 2018 | MC16: 135.89879 | MD16: 4.302106 | ME16: 102.57668 | MF16: -2.6148231 | MG16: 124.38918 | MH16: 20.656973 | MI16: 2018 | MK16: 83.836227 | ML16: -6.6405206 | MM16: 121.40991 | MN16: 4.6659248 | MO16: 138.09993 | MP16: 18.735858
A17: 2019 | C17: 99.334491 | D17: -1.2897323 | E17: 93.472976 | F17: -5.8888603 | G17: 104.87692 | H17: 2.950189 | I17: 2019 | K17: 99.48513 | L17: 1.7568905 | M17: 130.44948 | N17: -6.4236611 | O17: 102.01824 | P17: 0.96518021 | Q17: 2019 | S17: 112.67552 | T17: 3.2931728 | U17: 125.3932 | V17: 11.395645 | W17: 119.12544 | X17: 9.6044474 | Y17: 2019 | AA17: 125.18808 | AB17: 15.75215 | AC17: 125.89813 | AD17: 1.517964 | AE17: 119.52159 | AF17: 9.613896 | AG17: 2019 | AI17: 120.1699 | AJ17: -10.362903 | AK17: 137.82324 | AL17: 4.1279998 | AM17: 117.59546 | AN17: 9.1566106 | AO17: 2019 | AQ17: 124.13615 | AR17: 6.472078 | AS17: 121.34351 | AT17: 11.025407 | AU17: 115.91572 | AV17: 5.1376055 | AW17: 2019 | AY17: 131.78495 | AZ17: 1.5846599 | BA17: 125.71483 | BB17: 1.5239506 | BC17: 118.37206 | BD17: 7.0608715 | BE17: 2019 | BG17: 118.99306 | BH17: 12.713974 | BI17: 117.96589 | BJ17: -1.5872509 | BK17: 131.44381 | BL17: -0.11190379 | BM17: 2019 | BO17: 121.23234 | BP17: 1.9930179 | BQ17: 134.0462 | BR17: 0.20118876 | BS17: 124.12204 | BT17: 5.640064 | BU17: 2019 | BW17: 122.51232 | BX17: -4.0188188 | BY17: 113.56866 | BZ17: 5.8483307 | CA17: 108.2481 | CB17: -0.58774042 | CC17: 2019 | CE17: 124.62002 | CF17: 10.179389 | CG17: 105.65777 | CH17: -3.8128367 | CI17: 135.88586 | CJ17: 6.8243969 | CK17: 2019 | CM17: 140.63288 | CN17: 8.9726123 | CO17: 113.3157 | CP17: 4.5932851 | CQ17: 116.1979 | CR17: 0.93683195 | CS17: 2019 | CU17: 126.82506 | CV17: -2.900053 | CW17: 100.34479 | CX17: 13.877986 | CY17: 130.94731 | CZ17: 6.7924129 | DA17: 2019 | DC17: 106.04368 | DD17: 4.4796692 | DE17: 230.98713 | DF17: -6.9720148 | DG17: 113.43226 | DH17: 2.3749737 | DI17: 2019 | DK17: 121.78423 | DL17: 4.5668126 | DM17: 106.48057 | DN17: 12.661535 | DO17: 122.57448 | DP17: -0.63392927 | DQ17: 2019 | DS17: 119.8265 | DT17: 5.3472559 | DU17: 115.16904 | DV17: 3.6544578 | DW17: 134.29165 | DX17: 5.7196882 | DY17: 2019 | EA17: 113.24817 | EB17: 2.7241971 | EC17: 119.17538 | ED17: 0.31821612 | EE17: 119.69258 | EF17: 3.3100455 | EG17: 2019 | EI17: 122.59009 | EJ17: 3.6431019 | EK17: 116.03106 | EL17: 2.7483619 | EM17: 118.16671 | EN17: 1.2207976 | EO17: 2019 | EQ17: 109.58915 | ER17: -0.49332528 | ES17: 115.11862 | ET17: 1.619544 | EU17: 111.49184 | EV17: -0.1426121 | EW17: 2019 | EY17: 104.5495 | EZ17: -1.1772418 | FA17: 106.09601 | FB17: -1.7749238 | FC17: 144.08703 | FD17: 25.073628 | FE17: 2019 | FG17: 113.40327 | FH17: -1.3147722 | FI17: 119.68902 | FJ17: 3.4271074 | FK17: 115.70234 | FL17: 2.8939843 | FM17: 2019 | FO17: 96.665218 | FP17: -2.1156518 | FQ17: 124.50838 | FR17: 6.7819447 | FS17: 122.40043 | FT17: 6.005053 | FU17: 2019 | FW17: 120.56935 | FX17: 5.5558318 | FY17: 112.62541 | FZ17: 1.7001179 | GA17: 117.46961 | GB17: 9.7121674 | GC17: 2019 | GE17: 116.05259 | GF17: 5.519251 | GG17: 120.53849 | GH17: 6.3542724 | GI17: 102.45483 | GJ17: -4.86915 | GK17: 2019 | GM17: 114.36109 | GN17: 1.3700559 | GO17: 133.73915 | GP17: 6.2981247 | GQ17: 125.79046 | GR17: -2.7307118 | GS17: 2019 | GU17: 119.97886 | GV17: 0.76767281 | GW17: 114.07829 | GX17: 11.061175 | GY17: 125.58531 | GZ17: 3.0472193 | HA17: 2019 | HC17: 118.45069 | HD17: 5.0912877 | HE17: 118.29927 | HF17: 6.2887965 | HG17: 111.64766 | HH17: 6.561694 | HI17: 2019 | HK17: 115.88199 | HL17: 8.0887449 | HM17: 115.08903 | HN17: 0.78527499 | HO17: 115.31028 | HP17: 10.253816 | HQ17: 2019 | HS17: 121.35504 | HT17: 3.9341894 | HU17: 116.95748 | HV17: 6.8525778 | HW17: 113.65676 | HX17: 0.55394518 | HY17: 2019 | IA17: 114.05983 | IB17: 1.0039191 | IC17: 116.00274 | ID17: 3.4264495 | IE17: 114.35522 | IF17: 5.1688406 | IG17: 2019 | II17: 124.5263 | IJ17: 4.3785489 | IK17: 117.65142 | IL17: 3.5157108 | IM17: 127.66097 | IN17: 7.5011475 | IO17: 127.94949 | IP17: 1.2493989 | IQ17: 2019 | IS17: 112.60174 | IT17: 6.6249993 | IU17: 111.1275 | IV17: 0.23704201 | IW17: 121.92503 | IX17: 7.4132271 | IY17: 2019 | JA17: 121.63571 | JB17: 0.22683491 | JC17: 135.49426 | JD17: 3.3168232 | JE17: 151.55863 | JF17: 4.9169561 | JG17: 2019 | JI17: 135.76596 | JJ17: 2.2142685 | JK17: 132.99873 | JL17: -1.7275409 | JM17: 111.0647 | JN17: 5.1761445 | JO17: 2019 | JQ17: 120.04328 | JR17: 2.0249256 | JS17: 107.55366 | JT17: 5.0017795 | JU17: 104.48833 | JV17: 4.7947873 | JW17: 2019 | JY17: 116.61929 | JZ17: 5.4435705 | KA17: 119.82073 | KB17: 4.9645175 | KC17: 121.7864 | KD17: -1.169609 | KE17: 2019 | KG17: 109.98909 | KH17: -0.11373421 | KI17: 115.30918 | KJ17: 0.023359791 | KK17: 124.17314 | KL17: 1.9413895 | KM17: 2019 | KO17: 100.19077 | KP17: -13.977362 | KQ17: 125.46018 | KR17: 1.2609129 | KS17: 103.57289 | KT17: -1.8044191 | KU17: 2019 | KW17: 120.63712 | KX17: 5.7187603 | KY17: 122.03781 | KZ17: 0.30160241 | LA17: 123.66149 | LB17: 6.3254349 | LC17: 2019 | LE17: 139.18133 | LF17: 9.4907633 | LG17: 123.11756 | LH17: -0.37760342 | LI17: 109.76169 | LJ17: -4.9970055 | LK17: 2019 | LM17: 136.60106 | LN17: 0.64579996 | LO17: 111.41278 | LP17: -2.7883047 | LQ17: 128.5605 | LR17: 8.066845 | LS17: 2019 | LU17: 110.37422 | LV17: 0.97217288 | LW17: 109.11009 | LX17: -9.6642456 | LY17: 96.601206 | LZ17: 15.50738 | MA17: 2019 | MC17: 138.53187 | MD17: 1.9375289 | ME17: 105.64503 | MF17: 2.9912752 | MG17: 132.03583 | MH17: 6.1473575 | MI17: 2019 | MK17: 90.678691 | ML17: 8.1617036 | MM17: 128.08233 | MN17: 5.4957775 | MO17: 150.23758 | MP17: 8.7890372
A18: 2020 | C18: 90.47761 | D18: -8.9162185 | E18: 85.145396 | F18: -8.9090778 | G18: 95.51955 | H18: -8.9222363 | I18: 2020 | K18: 95.868493 | L18: -3.6353541 | M18: 124.83681 | N18: -4.3025618 | O18: 96.795994 | P18: -5.1189311 | Q18: 2020 | S18: 115.67081 | T18: 2.6583312 | U18: 119.17847 | V18: -4.9561933 | W18: 124.30104 | X18: 4.3446679 | Y18: 2020 | AA18: 133.44012 | AB18: 6.5917131 | AC18: 132.28151 | AD18: 5.0702744 | AE18: 115.97758 | AF18: -2.9651636 | AG18: 2020 | AI18: 106.10932 | AJ18: -11.700583 | AK18: 146.73538 | AL18: 6.4663608 | AM18: 118.77774 | AN18: 1.0053716 | AO18: 2020 | AQ18: 122.45253 | AR18: -1.3562669 | AS18: 124.04753 | AT18: 2.2283995 | AU18: 127.40457 | AV18: 9.9113903 | AW18: 2020 | AY18: 134.19265 | AZ18: 1.8269947 | BA18: 128.1036 | BB18: 1.9001499 | BC18: 128.28975 | BD18: 8.3784092 | BE18: 2020 | BG18: 126.87264 | BH18: 6.6218806 | BI18: 118.69458 | BJ18: 0.61770537 | BK18: 135.20497 | BL18: 2.8614147 | BM18: 2020 | BO18: 124.79432 | BP18: 2.938145 | BQ18: 99.987116 | BR18: -25.408466 | BS18: 112.59608 | BT18: -9.2859875 | BU18: 2020 | BW18: 114.54004 | BX18: -6.507334 | BY18: 95.444839 | BZ18: -15.958471 | CA18: 93.319309 | CB18: -13.791269 | CC18: 2020 | CE18: 102.42463 | CF18: -17.810452 | CG18: 89.010028 | CH18: -15.756291 | CI18: 118.8946 | CJ18: -12.504071 | CK18: 2020 | CM18: 120.41021 | CN18: -14.37976 | CO18: 87.032483 | CP18: -23.194682 | CQ18: 86.388731 | CR18: -25.653795 | CS18: 2020 | CU18: 109.58677 | CV18: -13.592181 | CW18: 81.761168 | CX18: -18.519768 | CY18: 121.34163 | CZ18: -7.3355327 | DA18: 2020 | DC18: 94.815149 | DD18: -10.588592 | DE18: 251.91324 | DF18: 9.0594249 | DG18: 101.50194 | DH18: -10.517577 | DI18: 2020 | DK18: 127.78428 | DL18: 4.9267887 | DM18: 78.922655 | DN18: -25.8807 | DO18: 112.31321 | DP18: -8.3714572 | DQ18: 2020 | DS18: 129.22488 | DT18: 7.8433163 | DU18: 108.8776 | DV18: -5.462791 | DW18: 129.19074 | DX18: -3.7983839 | DY18: 2020 | EA18: 101.06084 | EB18: -10.761613 | EC18: 102.58268 | ED18: -13.922922 | EE18: 114.9903 | EF18: -3.9286369 | EG18: 2020 | EI18: 127.93896 | EJ18: 4.3632176 | EK18: 114.58307 | EL18: -1.24793 | EM18: 99.724966 | EN18: -15.606548 | EO18: 2020 | EQ18: 107.97954 | ER18: -1.4687684 | ES18: 106.50973 | ET18: -7.4782813 | EU18: 110.57594 | EV18: -0.82149732 | EW18: 2020 | EY18: 94.112529 | EZ18: -9.9828032 | FA18: 91.404748 | FB18: -13.847138 | FC18: 137.30703 | FD18: -4.705492 | FE18: 2020 | FG18: 119.01793 | FH18: 4.9510568 | FI18: 138.7514 | FJ18: 15.926589 | FK18: 104.99142 | FL18: -9.2573075 | FM18: 2020 | FO18: 130.29329 | FP18: 34.788184 | FQ18: 232.39514 | FR18: 86.650195 | FS18: 119.95091 | FT18: -2.0012274 | FU18: 2020 | FW18: 139.25421 | FX18: 15.497184 | FY18: 116.59821 | FZ18: 3.5274513 | GA18: 105.92536 | GB18: -9.8274316 | GC18: 2020 | GE18: 123.22276 | GF18: 6.1783748 | GG18: 106.06083 | GH18: -12.010816 | GI18: 95.90926 | GJ18: -6.3887348 | GK18: 2020 | GM18: 118.76285 | GN18: 3.8490071 | GO18: 129.95104 | GP18: -2.832456 | GQ18: 115.11097 | GR18: -8.4899057 | GS18: 2020 | GU18: 95.646224 | GV18: -20.280772 | GW18: 89.532384 | GX18: -21.516717 | GY18: 114.02085 | GZ18: -9.2084529 | HA18: 2020 | HC18: 95.379617 | HD18: -19.477364 | HE18: 113.93139 | HF18: -3.6922326 | HG18: 85.275986 | HH18: -23.620447 | HI18: 2020 | HK18: 92.305777 | HL18: -20.34502 | HM18: 92.829332 | HN18: -19.341286 | HO18: 87.856126 | HP18: -23.808938 | HQ18: 2020 | HS18: 105.0925 | HT18: -13.400797 | HU18: 125.1129 | HV18: 6.9729767 | HW18: 96.696 | HX18: -14.922793 | HY18: 2020 | IA18: 97.592203 | IB18: -14.437712 | IC18: 106.52733 | ID18: -8.1682569 | IE18: 113.33461 | IF18: -0.8924921 | IG18: 2020 | II18: 114.99057 | IJ18: -7.6576014 | IK18: 99.52835 | IL18: -15.404041 | IM18: 89.174056 | IN18: -30.147755 | IO18: 119.72675 | IP18: -6.4265501 | IQ18: 2020 | IS18: 88.005098 | IT18: -21.84393 | IU18: 90.359674 | IV18: -18.688284 | IW18: 91.918962 | IX18: -24.61026 | IY18: 2020 | JA18: 110.48115 | JB18: -9.1704665 | JC18: 132.87101 | JD18: -1.9360644 | JE18: 158.8053 | JF18: 4.7814247 | JG18: 2020 | JI18: 168.47006 | JJ18: 24.088584 | JK18: 144.50546 | JL18: 8.651764 | JM18: 132.159 | JN18: 18.992799 | JO18: 2020 | JQ18: 122.15017 | JR18: 1.7551049 | JS18: 111.48384 | JT18: 3.6541586 | JU18: 99.963359 | JV18: -4.3305957 | JW18: 2020 | JY18: 111.22898 | JZ18: -4.6221359 | KA18: 125.39345 | KB18: 4.6508796 | KC18: 115.2505 | KD18: -5.3666922 | KE18: 2020 | KG18: 122.25735 | KH18: 11.154068 | KI18: 121.35145 | KJ18: 5.2400562 | KK18: 106.20636 | KL18: -14.469134 | KM18: 2020 | KO18: 76.32167 | KP18: -23.82365 | KQ18: 134.98009 | KR18: 7.5879946 | KS18: 101.99793 | KT18: -1.5206267 | KU18: 2020 | KW18: 101.93313 | KX18: -15.504339 | KY18: 130.29183 | KZ18: 6.7634908 | LA18: 127.20417 | LB18: 2.8648201 | LC18: 2020 | LE18: 134.81261 | LF18: -3.1388677 | LG18: 120.73485 | LH18: -1.9353125 | LI18: 85.792561 | LJ18: -21.837426 | LK18: 2020 | LM18: 135.379 | LN18: -0.89461732 | LO18: 112.37822 | LP18: 0.8665413 | LQ18: 124.9189 | LR18: -2.832596 | LS18: 2020 | LU18: 113.91383 | LV18: 3.2069209 | LW18: 125.2775 | LX18: 14.817525 | LY18: 99.967831 | LZ18: 3.4850756 | MA18: 2020 | MC18: 132.07235 | MD18: -4.6628425 | ME18: 87.58454 | MF18: -17.095444 | MG18: 106.27794 | MH18: -19.508253 | MI18: 2020 | MK18: 85.025404 | ML18: -6.2344164 | MM18: 119.38257 | MN18: -6.7923205 | MO18: 161.18549 | MP18: 7.2870583
A19: 2021 | C19: 91.813461 | D19: 1.4764433 | E19: 80.754628 | F19: -5.1567884 | G19: 102.27027 | H19: 7.0673738 | I19: 2021 | K19: 90.732755 | L19: -5.3570658 | M19: 106.45901 | N19: -14.721456 | O19: 90.041182 | P19: -6.9784003 | Q19: 2021 | S19: 124.10455 | T19: 7.2911531 | U19: 130.12141 | V19: 9.1819817 | W19: 135.11307 | X19: 8.6982622 | Y19: 2021 | AA19: 142.45264 | AB19: 6.7539876 | AC19: 136.76034 | AD19: 3.3858324 | AE19: 139.04019 | AF19: 19.885411 | AG19: 2021 | AI19: 109.49722 | AJ19: 3.1928433 | AK19: 170.95938 | AL19: 16.508627 | AM19: 101.35413 | AN19: -14.669088 | AO19: 2021 | AQ19: 149.55526 | AR19: 22.133248 | AS19: 128.49454 | AT19: 3.5849234 | AU19: 136.79159 | AV19: 7.3678787 | AW19: 2021 | AY19: 133.038 | AZ19: -0.86044072 | BA19: 121.31438 | BB19: -5.299788 | BC19: 149.21811 | BD19: 16.313353 | BE19: 2021 | BG19: 123.78608 | BH19: -2.4328012 | BI19: 120.96101 | BJ19: 1.9094714 | BK19: 170.7958 | BL19: 26.323612 | BM19: 2021 | BO19: 116.38234 | BP19: -6.7406745 | BQ19: 107.66132 | BR19: 7.6751956 | BS19: 125.26909 | BT19: 11.255283 | BU19: 2021 | BW19: 123.65132 | BX19: 7.9546723 | BY19: 83.632606 | BZ19: -12.375979 | CA19: 111.95399 | CB19: 19.968725 | CC19: 2021 | CE19: 124.83897 | CF19: 21.883744 | CG19: 91.203502 | CH19: 2.4643002 | CI19: 123.14761 | CJ19: 3.5771293 | CK19: 2021 | CM19: 152.77725 | CN19: 26.880641 | CO19: 89.581625 | CP19: 2.9289546 | CQ19: 88.896869 | CR19: 2.9033158 | CS19: 2021 | CU19: 124.45326 | CV19: 13.565957 | CW19: 93.000437 | CX19: 13.746463 | CY19: 129.1106 | CZ19: 6.4025631 | DA19: 2021 | DC19: 81.515856 | DD19: -14.026549 | DE19: 278.44897 | DF19: 10.533678 | DG19: 120.56883 | DH19: 18.784762 | DI19: 2021 | DK19: 158.81503 | DL19: 24.283695 | DM19: 63.948032 | DN19: -18.973795 | DO19: 115.30769 | DP19: 2.6661846 | DQ19: 2021 | DS19: 133.25817 | DT19: 3.1211428 | DU19: 115.07857 | DV19: 5.6953655 | DW19: 122.56434 | DX19: -5.1291633 | DY19: 2021 | EA19: 112.82448 | EB19: 11.640157 | EC19: 121.86908 | ED19: 18.80083 | EE19: 122.46709 | EF19: 6.502107 | EG19: 2021 | EI19: 137.21473 | EJ19: 7.2501545 | EK19: 131.92589 | EL19: 15.135588 | EM19: 110.1101 | EN19: 10.413774 | EO19: 2021 | EQ19: 83.68788 | ER19: -22.496542 | ES19: 140.87087 | ET19: 32.261039 | EU19: 83.608014 | EV19: -24.3886 | EW19: 2021 | EY19: 93.666824 | EZ19: -0.47358729 | FA19: 98.198763 | FB19: 7.432891 | FC19: 209.37628 | FD19: 52.487669 | FE19: 2021 | FG19: 123.14296 | FH19: 3.4658957 | FI19: 164.83105 | FJ19: 18.795952 | FK19: 122.89712 | FL19: 17.054438 | FM19: 2021 | FO19: 112.06933 | FP19: -13.986875 | FQ19: 306.94597 | FR19: 32.079338 | FS19: 131.08793 | FT19: 9.2846429 | FU19: 2021 | FW19: 130.60934 | FX19: -6.2079784 | FY19: 153.89392 | FZ19: 31.986515 | GA19: 103.75792 | GB19: -2.0461973 | GC19: 2021 | GE19: 138.50262 | GF19: 12.400196 | GG19: 129.60356 | GH19: 22.197376 | GI19: 88.248195 | GJ19: -7.9878261 | GK19: 2021 | GM19: 128.91136 | GN19: 8.5451831 | GO19: 117.21478 | GP19: -9.8008166 | GQ19: 93.852798 | GR19: -18.467548 | GS19: 2021 | GU19: 80.322334 | GV19: -16.021427 | GW19: 100.49858 | GX19: 12.248306 | GY19: 113.71753 | GZ19: -0.26601669 | HA19: 2021 | HC19: 95.943062 | HD19: 0.59074015 | HE19: 143.92909 | HF19: 26.329622 | HG19: 77.586288 | HH19: -9.0174248 | HI19: 2021 | HK19: 91.367707 | HL19: -1.0162639 | HM19: 95.728684 | HN19: 3.1233146 | HO19: 99.458273 | HP19: 13.205849 | HQ19: 2021 | HS19: 103.13557 | HT19: -1.8621047 | HU19: 130.55812 | HV19: 4.3522461 | HW19: 82.678376 | HX19: -14.496591 | HY19: 2021 | IA19: 94.333544 | IB19: -3.3390566 | IC19: 112.73417 | ID19: 5.8265203 | IE19: 107.51446 | IF19: -5.135365 | IG19: 2021 | II19: 112.70717 | IJ19: -1.9857294 | IK19: 113.48047 | IL19: 14.018235 | IM19: 96.699099 | IN19: 8.4386012 | IO19: 118.92136 | IP19: -0.67268884 | IQ19: 2021 | IS19: 93.335815 | IT19: 6.0572822 | IU19: 84.808199 | IV19: -6.1437526 | IW19: 108.99671 | IX19: 18.579138 | IY19: 2021 | JA19: 122.22185 | JB19: 10.626883 | JC19: 155.16465 | JD19: 16.77841 | JE19: 174.63607 | JF19: 9.9686669 | JG19: 2021 | JI19: 179.278 | JJ19: 6.415344 | JK19: 182.22209 | JL19: 26.100486 | JM19: 120.89383 | JN19: -8.5239529 | JO19: 2021 | JQ19: 107.37566 | JR19: -12.095366 | JS19: 113.20074 | JT19: 1.5400381 | JU19: 121.72021 | JV19: 21.764825 | JW19: 2021 | JY19: 97.206509 | JZ19: -12.606853 | KA19: 155.91366 | KB19: 24.339559 | KC19: 139.46806 | KD19: 21.012975 | KE19: 2021 | KG19: 103.39812 | KH19: -15.425843 | KI19: 132.56477 | KJ19: 9.2403698 | KK19: 111.76965 | KL19: 5.2381836 | KM19: 2021 | KO19: 63.531835 | KP19: -16.757803 | KQ19: 141.83202 | KR19: 5.0762516 | KS19: 107.53204 | KT19: 5.4256995 | KU19: 2021 | KW19: 113.79845 | KX19: 11.640296 | KY19: 145.98137 | KZ19: 12.041847 | LA19: 136.10802 | LB19: 6.9996525 | LC19: 2021 | LE19: 137.56966 | LF19: 2.0450939 | LG19: 127.9123 | LH19: 5.944804 | LI19: 69.736288 | LJ19: -18.715228 | LK19: 2021 | LM19: 167.11435 | LN19: 23.441856 | LO19: 97.281504 | LP19: -13.433841 | LQ19: 157.36188 | LR19: 25.971234 | LS19: 2021 | LU19: 107.60637 | LV19: -5.5370463 | LW19: 138.62795 | LX19: 10.656697 | LY19: 98.626106 | LZ19: -1.342157 | MA19: 2021 | MC19: 134.51033 | MD19: 1.8459417 | ME19: 92.81841 | MF19: 5.9757911 | MG19: 101.48226 | MH19: -4.5123991 | MI19: 2021 | MK19: 82.784008 | ML19: -2.6361483 | MM19: 117.00829 | MN19: -1.9888 | MO19: 146.97225 | MP19: -8.8179392
A20: 2022 | C20: 94.482564 | D20: 2.9070937 | E20: 80.542403 | F20: -0.26280185 | G20: 107.66385 | H20: 5.2738469 | I20: 2022 | K20: 92.445958 | L20: 1.8881865 | M20: 95.151011 | N20: -10.62193 | O20: 92.121627 | P20: 2.3105481 | Q20: 2022 | S20: 113.56631 | T20: -8.4914219 | U20: 161.00442 | V20: 23.733992 | W20: 144.28808 | X20: 6.7906118 | Y20: 2022 | AA20: 153.81738 | AB20: 7.9779045 | AC20: 140.10755 | AD20: 2.4475003 | AE20: 160.3647 | AF20: 15.336938 | AG20: 2022 | AI20: 109.42795 | AJ20: -0.063263623 | AK20: 182.97179 | AL20: 7.0264701 | AM20: 94.343988 | AN20: -6.91648 | AO20: 2022 | AQ20: 166.13448 | AR20: 11.085687 | AS20: 147.90882 | AT20: 15.109034 | AU20: 156.88521 | AV20: 14.68922 | AW20: 2022 | AY20: 143.74394 | AZ20: 8.047278 | BA20: 116.11325 | BB20: -4.2873135 | BC20: 148.66344 | BD20: -0.37172004 | BE20: 2022 | BG20: 126.57068 | BH20: 2.249528 | BI20: 110.56979 | BJ20: -8.5905593 | BK20: 198.46497 | BL20: 16.200149 | BM20: 2022 | BO20: 119.49958 | BP20: 2.6784485 | BQ20: 129.88541 | BR20: 20.642589 | BS20: 137.23391 | BT20: 9.5512915 | BU20: 2022 | BW20: 141.54439 | BX20: 14.470585 | BY20: 102.15308 | BZ20: 22.145043 | CA20: 121.38731 | CB20: 8.4260746 | CC20: 2022 | CE20: 135.70805 | CF20: 8.7064767 | CG20: 85.027093 | CH20: -6.7721178 | CI20: 124.58433 | CJ20: 1.1666631 | CK20: 2022 | CM20: 204.0461 | CN20: 33.557912 | CO20: 93.707207 | CP20: 4.605388 | CQ20: 108.43951 | CR20: 21.983501 | CS20: 2022 | CU20: 134.58049 | CV20: 8.1373751 | CW20: 97.396389 | CX20: 4.7268083 | CY20: 134.424 | CZ20: 4.1153859 | DA20: 2022 | DC20: 79.962635 | DD20: -1.9054224 | DE20: 351.25975 | DF20: 26.148698 | DG20: 110.95242 | DH20: -7.9758673 | DI20: 2022 | DK20: 178.16969 | DL20: 12.18692 | DM20: 57.689326 | DN20: -9.7871749 | DO20: 127.34669 | DP20: 10.440759 | DQ20: 2022 | DS20: 142.70066 | DT20: 7.0858597 | DU20: 121.56859 | DV20: 5.6396371 | DW20: 136.30003 | DX20: 11.206925 | DY20: 2022 | EA20: 119.84125 | EB20: 6.2191944 | EC20: 144.39256 | ED20: 18.481707 | EE20: 122.71327 | EF20: 0.20101498 | EG20: 2022 | EI20: 137.66239 | EJ20: 0.32624151 | EK20: 152.50929 | EL20: 15.602241 | EM20: 110.38053 | EN20: 0.24560365 | EO20: 2022 | EQ20: 68.204319 | ER20: -18.501557 | ES20: 141.04903 | ET20: 0.12646594 | EU20: 68.3696 | EV20: -18.226021 | EW20: 2022 | EY20: 92.498782 | EZ20: -1.2470174 | FA20: 92.236884 | FB20: -6.0712368 | FC20: 240.73367 | FD20: 14.97657 | FE20: 2022 | FG20: 126.21203 | FH20: 2.4922772 | FI20: 177.80603 | FJ20: 7.8716839 | FK20: 113.75797 | FL20: -7.4364217 | FM20: 2022 | FO20: 118.22664 | FP20: 5.4941988 | FQ20: 227.85277 | FR20: -25.767792 | FS20: 139.49094 | FT20: 6.4102124 | FU20: 2022 | FW20: 139.99721 | FX20: 7.1877495 | FY20: 177.63738 | FZ20: 15.428457 | GA20: 96.243314 | GB20: -7.2424425 | GC20: 2022 | GE20: 145.15596 | GF20: 4.8037682 | GG20: 119.74144 | GH20: -7.6094486 | GI20: 76.229096 | GJ20: -13.619654 | GK20: 2022 | GM20: 128.28404 | GN20: -0.48662543 | GO20: 123.0728 | GP20: 4.9976793 | GQ20: 103.3307 | GR20: 10.098686 | GS20: 2022 | GU20: 67.016395 | GV20: -16.565677 | GW20: 105.80115 | GX20: 5.2762611 | GY20: 120.78261 | GZ20: 6.2128317 | HA20: 2022 | HC20: 102.49041 | HD20: 6.8241966 | HE20: 178.50202 | HF20: 24.020809 | HG20: 92.872565 | HH20: 19.702293 | HI20: 2022 | HK20: 87.936913 | HL20: -3.7549312 | HM20: 108.40398 | HN20: 13.240853 | HO20: 95.737636 | HP20: -3.7409024 | HQ20: 2022 | HS20: 107.61082 | HT20: 4.3391891 | HU20: 141.2738 | HV20: 8.2075914 | HW20: 81.741013 | HX20: -1.1337466 | HY20: 2022 | IA20: 100.19765 | IB20: 6.216352 | IC20: 120.95553 | ID20: 7.2926926 | IE20: 104.88936 | IF20: -2.441622 | IG20: 2022 | II20: 121.38315 | IJ20: 7.6978059 | IK20: 131.49708 | IL20: 15.876397 | IM20: 101.07464 | IN20: 4.5249002 | IO20: 141.79364 | IP20: 19.233112 | IQ20: 2022 | IS20: 89.553019 | IT20: -4.0528883 | IU20: 92.461664 | IV20: 9.0244403 | IW20: 97.281029 | IX20: -10.748658 | IY20: 2022 | JA20: 141.54403 | JB20: 15.809097 | JC20: 176.76734 | JD20: 13.922432 | JE20: 204.35972 | JF20: 17.020342 | JG20: 2022 | JI20: 154.24531 | JJ20: -13.963056 | JK20: 240.69494 | JL20: 32.088783 | JM20: 118.81782 | JN20: -1.7172156 | JO20: 2022 | JQ20: 111.85555 | JR20: 4.1721694 | JS20: 128.97231 | JT20: 13.93239 | JU20: 123.39036 | JV20: 1.3721214 | JW20: 2022 | JY20: 95.405621 | JZ20: -1.8526414 | KA20: 182.97414 | KB20: 17.35607 | KC20: 172.24301 | KD20: 23.49997 | KE20: 2022 | KG20: 86.511856 | KH20: -16.33131 | KI20: 144.77829 | KJ20: 9.2132444 | KK20: 111.97907 | KL20: 0.18736669 | KM20: 2022 | KO20: 45.23263 | KP20: -28.803206 | KQ20: 156.35048 | KR20: 10.236375 | KS20: 102.54433 | KT20: -4.6383478 | KU20: 2022 | KW20: 128.78318 | KX20: 13.167781 | KY20: 165.41162 | KZ20: 13.310088 | LA20: 142.57426 | LB20: 4.7508157 | LC20: 2022 | LE20: 145.42147 | LF20: 5.7075168 | LG20: 114.44003 | LH20: -10.532422 | LI20: 62.320916 | LJ20: -10.633449 | LK20: 2022 | LM20: 198.62754 | LN20: 18.857264 | LO20: 88.263302 | LP20: -9.2702125 | LQ20: 174.62107 | LR20: 10.967838 | LS20: 2022 | LU20: 108.58921 | LV20: 0.91336423 | LW20: 132.09444 | LX20: -4.7129807 | LY20: 136.83003 | LZ20: 38.736113 | MA20: 2022 | MC20: 154.26397 | MD20: 14.685593 | ME20: 99.710021 | MF20: 7.424832 | MG20: 102.86856 | MH20: 1.3660559 | MI20: 2022 | MK20: 97.11027 | ML20: 17.305592 | MM20: 123.9929 | MN20: 5.9693332 | MO20: 161.60258 | MP20: 9.9544898
A21: 2023 | C21: 94.653014 | D21: 0.1804029 | E21: 80.255565 | F21: -0.35613306 | G21: 108.26669 | H21: 0.55993066 | I21: 2023 | K21: 92.945642 | L21: 0.54051456 | M21: 104.7755 | N21: 10.114959 | O21: 92.995134 | P21: 0.94821125 | Q21: 2023 | S21: 96.346472 | T21: -15.162804 | U21: 176.27951 | V21: 9.4873751 | W21: 147.63015 | X21: 2.3162512 | Y21: 2023 | AA21: 156.90711 | AB21: 2.0086977 | AC21: 129.84103 | AD21: -7.3276027 | AE21: 174.93486 | AF21: 9.0856389 | AG21: 2023 | AI21: 102.56916 | AJ21: -6.267864 | AK21: 196.24082 | AL21: 7.2519539 | AM21: 80.505087 | AN21: -14.668556 | AO21: 2023 | AQ21: 154.61839 | AR21: -6.931791 | AS21: 158.03292 | AT21: 6.8448232 | AU21: 164.78951 | AV21: 5.0382732 | AW21: 2023 | AY21: 152.64812 | AZ21: 6.1944723 | BA21: 105.10217 | BB21: -9.4830571 | BC21: 148.88743 | BD21: 0.15066954 | BE21: 2023 | BG21: 140.06254 | BH21: 10.659546 | BI21: 111.79699 | BJ21: 1.1098906 | BK21: 226.68303 | BL21: 14.218156 | BM21: 2023 | BO21: 128.81109 | BP21: 7.7920821 | BQ21: 125.09281 | BR21: -3.6898635 | BS21: 143.24929 | BT21: 4.3833027 | BU21: 2023 | BW21: 146.19546 | BX21: 3.2859434 | BY21: 116.35026 | BZ21: 13.897945 | CA21: 133.3815 | CB21: 9.8809222 | CC21: 2023 | CE21: 114.2564 | CF21: -15.807209 | CG21: 69.64247 | CH21: -18.09379 | CI21: 129.32331 | CJ21: 3.8038351 | CK21: 2023 | CM21: 221.3543 | CN21: 8.4824956 | CO21: 88.238801 | CP21: -5.8356302 | CQ21: 125.30346 | CR21: 15.551477 | CS21: 2023 | CU21: 127.88006 | CV21: -4.9787541 | CW21: 82.544894 | CX21: -15.248507 | CY21: 150.41278 | CZ21: 11.894291 | DA21: 2023 | DC21: 76.730253 | DD21: -4.0423651 | DE21: 325.26886 | DF21: -7.3993362 | DG21: 103.70286 | DH21: -6.5339386 | DI21: 2023 | DK21: 180.18538 | DL21: 1.1313328 | DM21: 55.026879 | DN21: -4.6151474 | DO21: 132.99799 | DP21: 4.4377318 | DQ21: 2023 | DS21: 167.54784 | DT21: 17.412105 | DU21: 130.97631 | DV21: 7.7386108 | DW21: 137.52408 | DX21: 0.89805238 | DY21: 2023 | EA21: 118.2556 | EB21: -1.3231216 | EC21: 147.10671 | ED21: 1.8796983 | EE21: 130.65462 | EF21: 6.4714736 | EG21: 2023 | EI21: 142.40342 | EJ21: 3.4439609 | EK21: 152.35649 | EL21: -0.10018994 | EM21: 120.07472 | EN21: 8.7825108 | EO21: 2023 | EQ21: 70.012528 | ER21: 2.6511651 | ES21: 158.38621 | ET21: 12.291601 | EU21: 50.002689 | EV21: -26.864149 | EW21: 2023 | EY21: 91.070962 | EZ21: -1.5436095 | FA21: 103.02367 | FB21: 11.694652 | FC21: 261.18521 | FD21: 8.4955052 | FE21: 2023 | FG21: 118.86292 | FH21: -5.822826 | FI21: 176.9372 | FJ21: -0.48863796 | FK21: 102.54494 | FL21: -9.8569222 | FM21: 2023 | FO21: 106.46851 | FP21: -9.9454174 | FQ21: 208.78712 | FR21: -8.3675281 | FS21: 133.78241 | FT21: -4.0924017 | FU21: 2023 | FW21: 141.80389 | FX21: 1.2905102 | FY21: 155.35812 | FZ21: -12.541985 | GA21: 106.31069 | GB21: 10.460339 | GC21: 2023 | GE21: 144.68059 | GF21: -0.32748915 | GG21: 106.15228 | GH21: -11.348752 | GI21: 69.582735 | GJ21: -8.7189291 | GK21: 2023 | GM21: 128.25613 | GN21: -0.021761576 | GO21: 131.05144 | GP21: 6.4828602 | GQ21: 97.928917 | GR21: -5.2276628 | GS21: 2023 | GU21: 73.870522 | GV21: 10.227537 | GW21: 90.661519 | GX21: -14.309516 | GY21: 134.39304 | GZ21: 11.268534 | HA21: 2023 | HC21: 125.63138 | HD21: 22.57867 | HE21: 186.77575 | HF21: 4.6350909 | HG21: 94.79826 | HH21: 2.0734806 | HI21: 2023 | HK21: 86.007 | HL21: -2.1946558 | HM21: 99.460538 | HN21: -8.2501041 | HO21: 92.167406 | HP21: -3.7291815 | HQ21: 2023 | HS21: 123.09514 | HT21: 14.389191 | HU21: 153.53433 | HV21: 8.6785589 | HW21: 75.885211 | HX21: -7.1638482 | HY21: 2023 | IA21: 88.102789 | IB21: -12.071002 | IC21: 120.79918 | ID21: -0.12926394 | IE21: 107.6402 | IF21: 2.6226069 | IG21: 2023 | II21: 129.31061 | IJ21: 6.5309444 | IK21: 152.72768 | IL21: 16.145304 | IM21: 116.14496 | IN21: 14.910089 | IO21: 170.42882 | IP21: 20.194968 | IQ21: 2023 | IS21: 87.043417 | IT21: -2.8023635 | IU21: 94.098889 | IV21: 1.7707065 | IW21: 99.152382 | IX21: 1.9236566 | IY21: 2023 | JA21: 143.98253 | JB21: 1.7227889 | JC21: 167.76242 | JD21: -5.0942255 | JE21: 164.80733 | JF21: -19.354301 | JG21: 2023 | JI21: 144.61894 | JJ21: -6.2409467 | JK21: 233.84247 | JL21: -2.8469551 | JM21: 117.01133 | JN21: -1.5203892 | JO21: 2023 | JQ21: 133.95528 | JR21: 19.757384 | JS21: 121.73991 | JT21: -5.6077166 | JU21: 136.45171 | JV21: 10.585391 | JW21: 2023 | JY21: 112.39058 | JZ21: 17.802895 | KA21: 194.30691 | KB21: 6.1936438 | KC21: 197.94832 | KD21: 14.923858 | KE21: 2023 | KG21: 79.955019 | KH21: -7.57912 | KI21: 150.35619 | KJ21: 3.8527238 | KK21: 107.73755 | KL21: -3.7877764 | KM21: 2023 | KO21: 36.470772 | KP21: -19.370656 | KQ21: 152.39876 | KR21: -2.5274755 | KS21: 96.557833 | KT21: -5.8379565 | KU21: 2023 | KW21: 134.69399 | KX21: 4.5897314 | KY21: 152.83668 | KZ21: -7.6022096 | LA21: 125.50171 | LB21: -11.974501 | LC21: 2023 | LE21: 150.00267 | LF21: 3.1502914 | LG21: 110.62945 | LH21: -3.3297651 | LI21: 51.142033 | LJ21: -17.93761 | LK21: 2023 | LM21: 188.5838 | LN21: -5.0565702 | LO21: 77.78332 | LP21: -11.873544 | LQ21: 179.74168 | LR21: 2.9324107 | LS21: 2023 | LU21: 107.4552 | LV21: -1.0443146 | LW21: 137.19677 | LX21: 3.8626405 | LY21: 144.98192 | LZ21: 5.9576801 | MA21: 2023 | MC21: 159.51643 | MD21: 3.4048507 | ME21: 106.81569 | MF21: 7.1263299 | MG21: 90.718812 | MH21: -11.810947 | MI21: 2023 | MK21: 108.51419 | ML21: 11.743264 | MM21: 117.00616 | MN21: -5.6347877 | MO21: 191.63503 | MP21: 18.584137
A23: 2015 | B23: Q1 | C23: 103.74731 | E23: 105.95659 | G23: 101.65829 | I23: 2015 | J23: Q1 | K23: 75.696391 | M23: 72.739204 | O23: 76.778236 | Q23: 2015 | R23: Q1 | S23: 107.72921 | U23: 102.45757 | W23: 97.941936 | Y23: 2015 | Z23: Q1 | AA23: 95.743933 | AC23: 100.75871 | AE23: 96.225951 | AG23: 2015 | AH23: Q1 | AI23: 90.194146 | AK23: 100.06464 | AM23: 107.6512 | AO23: 2015 | AP23: Q1 | AQ23: 94.873761 | AS23: 98.73269 | AU23: 88.815617 | AW23: 2015 | AX23: Q1 | AY23: 100.10615 | BA23: 97.642689 | BC23: 89.686918 | BE23: 2015 | BF23: Q1 | BG23: 102.76279 | BI23: 95.363535 | BK23: 96.148191 | BM23: 2015 | BN23: Q1 | BO23: 102.29076 | BQ23: 92.904611 | BS23: 87.832921 | BU23: 2015 | BV23: Q1 | BW23: 90.120726 | BY23: 99.518289 | CA23: 92.084076 | CC23: 2015 | CD23: Q1 | CE23: 96.536466 | CG23: 92.219698 | CI23: 91.886074 | CK23: 2015 | CL23: Q1 | CM23: 73.545241 | CO23: 109.38443 | CQ23: 108.4524 | CS23: 2015 | CT23: Q1 | CU23: 84.474672 | CW23: 101.83299 | CY23: 101.12015 | DA23: 2015 | DB23: Q1 | DC23: 97.452058 | DE23: 85.526396 | DG23: 99.665926 | DI23: 2015 | DJ23: Q1 | DK23: 92.471988 | DM23: 101.61652 | DO23: 95.288018 | DQ23: 2015 | DR23: Q1 | DS23: 92.271269 | DU23: 81.932873 | DW23: 93.910926 | DY23: 2015 | DZ23: Q1 | EA23: 104.89592 | EC23: 91.269194 | EE23: 98.188628 | EG23: 2015 | EH23: Q1 | EI23: 90.530651 | EK23: 89.155016 | EM23: 102.33114 | EO23: 2015 | EP23: Q1 | EQ23: 103.16283 | ES23: 99.760112 | EU23: 103.39024 | EW23: 2015 | EX23: Q1 | EY23: 103.76254 | FA23: 96.779536 | FC23: 95.334827 | FE23: 2015 | FF23: Q1 | FG23: 97.463205 | FI23: 85.776224 | FK23: 88.640142 | FM23: 2015 | FN23: Q1 | FO23: 97.409364 | FQ23: 96.131955 | FS23: 92.206809 | FU23: 2015 | FV23: Q1 | FW23: 94.704915 | FY23: 91.588913 | GA23: 97.432625 | GC23: 2015 | GD23: Q1 | GE23: 101.80008 | GG23: 96.583992 | GI23: 94.759107 | GK23: 2015 | GL23: Q1 | GM23: 93.540479 | GO23: 84.049452 | GQ23: 87.820745 | GS23: 2015 | GT23: Q1 | GU23: 115.45385 | GW23: 97.976451 | GY23: 91.513951 | HA23: 2015 | HB23: Q1 | HC23: 92.596118 | HE23: 91.386416 | HG23: 93.201618 | HI23: 2015 | HJ23: Q1 | HK23: 87.830511 | HM23: 112.65022 | HO23: 88.3659 | HQ23: 2015 | HR23: Q1 | HS23: 99.28391 | HU23: 104.81766 | HW23: 88.734148 | HY23: 2015 | HZ23: Q1 | IA23: 112.87963 | IC23: 80.38582 | IE23: 85.228848 | IG23: 2015 | IH23: Q1 | II23: 107.21 | IK23: 86.578505 | IM23: 85.810742 | IO23: 101.22638 | IQ23: 2015 | IR23: Q1 | IS23: 93.13848 | IU23: 138.85923 | IW23: 92.859527 | IY23: 2015 | IZ23: Q1 | JA23: 93.130458 | JC23: 95.244009 | JE23: 90.070531 | JG23: 2015 | JH23: Q1 | JI23: 92.805931 | JK23: 86.228743 | JM23: 124.41869 | JO23: 2015 | JP23: Q1 | JQ23: 87.709789 | JS23: 103.03783 | JU23: 86.414328 | JW23: 2015 | JX23: Q1 | JY23: 100.79576 | KA23: 77.981287 | KC23: 85.929615 | KE23: 2015 | KF23: Q1 | KG23: 121.7437 | KI23: 114.6092 | KK23: 85.855916 | KM23: 2015 | KN23: Q1 | KO23: 78.918736 | KQ23: 95.998431 | KS23: 94.39185 | KU23: 2015 | KV23: Q1 | KW23: 94.032488 | KY23: 98.841852 | LA23: 88.208007 | LC23: 2015 | LD23: Q1 | LE23: 106.36625 | LG23: 114.21503 | LI23: 109.5494 | LK23: 2015 | LL23: Q1 | LM23: 111.16709 | LO23: 113.22635 | LQ23: 104.47224 | LS23: 2015 | LT23: Q1 | LU23: 87.442652 | LW23: 86.063144 | LY23: 105.89787 | MA23: 2015 | MB23: Q1 | MC23: 101.09989 | ME23: 95.759299 | MG23: 95.621912 | MI23: 2015 | MJ23: Q1 | MK23: 105.88472 | MM23: 98.192642 | MO23: 125.70576
B24: Q2 | C24: 98.809918 | E24: 99.568597 | G24: 98.092539 | J24: Q2 | K24: 105.56632 | M24: 117.23431 | O24: 105.1476 | R24: Q2 | S24: 92.275387 | U24: 92.119541 | W24: 101.85698 | Z24: Q2 | AA24: 98.007703 | AC24: 93.028492 | AE24: 93.29686 | AH24: Q2 | AI24: 99.309261 | AK24: 90.425129 | AM24: 81.48524 | AP24: Q2 | AQ24: 98.005077 | AS24: 99.878089 | AU24: 98.342993 | AX24: Q2 | AY24: 93.559723 | BA24: 99.034682 | BC24: 94.321218 | BF24: Q2 | BG24: 99.182019 | BI24: 98.581651 | BK24: 93.142449 | BN24: Q2 | BO24: 97.180894 | BQ24: 99.334693 | BS24: 102.38408 | BV24: Q2 | BW24: 100.03695 | BY24: 100.85798 | CA24: 102.85064 | CD24: Q2 | CE24: 100.44343 | CG24: 106.00981 | CI24: 101.94549 | CL24: Q2 | CM24: 97.34273 | CO24: 102.13393 | CQ24: 112.5855 | CT24: Q2 | CU24: 91.497677 | CW24: 103.19346 | CY24: 94.162348 | DB24: Q2 | DC24: 103.3911 | DE24: 122.99992 | DG24: 99.463811 | DJ24: Q2 | DK24: 97.526912 | DM24: 92.754431 | DO24: 92.583863 | DR24: Q2 | DS24: 96.98749 | DU24: 105.12161 | DW24: 98.994122 | DZ24: Q2 | EA24: 98.092901 | EC24: 106.60239 | EE24: 95.765001 | EH24: Q2 | EI24: 103.15318 | EK24: 105.10028 | EM24: 102.26405 | EP24: Q2 | EQ24: 96.327385 | ES24: 110.48446 | EU24: 97.015653 | EX24: Q2 | EY24: 95.509292 | FA24: 104.21081 | FC24: 86.680617 | FF24: Q2 | FG24: 99.913138 | FI24: 104.41919 | FK24: 104.24183 | FN24: Q2 | FO24: 100.49246 | FQ24: 95.766797 | FS24: 92.505359 | FV24: Q2 | FW24: 98.925544 | FY24: 96.69958 | GA24: 95.274392 | GD24: Q2 | GE24: 99.377803 | GG24: 95.159533 | GI24: 118.64274 | GL24: Q2 | GM24: 94.967809 | GO24: 93.656696 | GQ24: 95.651029 | GT24: Q2 | GU24: 94.673133 | GW24: 104.51165 | GY24: 97.971279 | HB24: Q2 | HC24: 92.509944 | HE24: 99.448707 | HG24: 105.66302 | HJ24: Q2 | HK24: 98.554026 | HM24: 102.53407 | HO24: 104.14126 | HR24: Q2 | HS24: 91.975844 | HU24: 112.37315 | HW24: 112.45894 | HZ24: Q2 | IA24: 87.634177 | IC24: 98.928288 | IE24: 105.37094 | IH24: Q2 | II24: 93.396553 | IK24: 111.28114 | IM24: 96.701721 | IO24: 117.41985 | IR24: Q2 | IS24: 103.53394 | IU24: 92.586384 | IW24: 103.27573 | IZ24: Q2 | JA24: 107.82816 | JC24: 104.62352 | JE24: 96.430502 | JH24: Q2 | JI24: 94.140378 | JK24: 86.483763 | JM24: 93.862061 | JP24: Q2 | JQ24: 101.74348 | JS24: 107.16398 | JU24: 100.60366 | JX24: Q2 | JY24: 100.54831 | KA24: 82.350204 | KC24: 106.31229 | KF24: Q2 | KG24: 95.753009 | KI24: 81.788831 | KK24: 89.353693 | KN24: Q2 | KO24: 89.490077 | KQ24: 100.63553 | KS24: 103.23101 | KV24: Q2 | KW24: 108.53885 | KY24: 103.17078 | LA24: 100.53296 | LD24: Q2 | LE24: 87.86062 | LG24: 108.83022 | LI24: 110.74969 | LL24: Q2 | LM24: 118.01339 | LO24: 108.62453 | LQ24: 134.36618 | LT24: Q2 | LU24: 93.305472 | LW24: 77.618162 | LY24: 106.54629 | MB24: Q2 | MC24: 102.07149 | ME24: 94.225712 | MG24: 96.03257 | MJ24: Q2 | MK24: 103.40704 | MM24: 94.00562 | MO24: 77.623307
B25: Q3 | C25: 96.058885 | E25: 94.094194 | G25: 97.916621 | J25: Q3 | K25: 116.74078 | M25: 112.00265 | O25: 111.82386 | R25: Q3 | S25: 98.316468 | U25: 95.215534 | W25: 101.97128 | Z25: Q3 | AA25: 101.47313 | AC25: 98.157426 | AE25: 91.179529 | AH25: Q3 | AI25: 96.495212 | AK25: 94.559596 | AM25: 90.278029 | AP25: Q3 | AQ25: 98.545105 | AS25: 106.61261 | AU25: 106.36553 | AX25: Q3 | AY25: 91.232519 | BA25: 99.577988 | BC25: 102.40709 | BF25: Q3 | BG25: 91.903379 | BI25: 101.23321 | BK25: 90.597889 | BN25: Q3 | BO25: 99.02768 | BQ25: 97.768717 | BS25: 101.26164 | BV25: Q3 | BW25: 101.91209 | BY25: 103.10036 | CA25: 108.06394 | CD25: Q3 | CE25: 98.638205 | CG25: 97.42139 | CI25: 92.31113 | CL25: Q3 | CM25: 106.00915 | CO25: 88.305282 | CQ25: 87.961986 | CT25: Q3 | CU25: 108.51733 | CW25: 93.799952 | CY25: 98.585853 | DB25: Q3 | DC25: 94.120265 | DE25: 97.380193 | DG25: 100.10657 | DJ25: Q3 | DK25: 101.52671 | DM25: 108.5889 | DO25: 107.97889 | DR25: Q3 | DS25: 102.48684 | DU25: 105.24746 | DW25: 96.304462 | DZ25: Q3 | EA25: 94.048216 | EC25: 93.956215 | EE25: 104.99497 | EH25: Q3 | EI25: 101.12091 | EK25: 111.21644 | EM25: 99.579669 | EP25: Q3 | EQ25: 101.14677 | ES25: 94.081084 | EU25: 96.663074 | EX25: Q3 | EY25: 110.88888 | FA25: 103.57281 | FC25: 119.23265 | FF25: Q3 | FG25: 101.34879 | FI25: 110.04484 | FK25: 102.46442 | FN25: Q3 | FO25: 106.51124 | FQ25: 102.80304 | FS25: 110.94062 | FV25: Q3 | FW25: 106.67379 | FY25: 104.96725 | GA25: 105.27173 | GD25: Q3 | GE25: 104.29091 | GG25: 101.84472 | GI25: 95.542445 | GL25: Q3 | GM25: 103.19841 | GO25: 107.65713 | GQ25: 106.1026 | GT25: Q3 | GU25: 97.396672 | GW25: 98.617294 | GY25: 101.07836 | HB25: Q3 | HC25: 101.60334 | HE25: 101.89875 | HG25: 100.12168 | HJ25: Q3 | HK25: 101.15968 | HM25: 88.197941 | HO25: 97.303167 | HR25: Q3 | HS25: 96.658068 | HU25: 99.444916 | HW25: 103.6379 | HZ25: Q3 | IA25: 101.90532 | IC25: 115.15681 | IE25: 109.99758 | IH25: Q3 | II25: 92.322566 | IK25: 101.05932 | IM25: 109.13553 | IO25: 92.235096 | IR25: Q3 | IS25: 100.95886 | IU25: 86.785948 | IW25: 101.33238 | IZ25: Q3 | JA25: 98.196849 | JC25: 97.223859 | JE25: 105.89017 | JH25: Q3 | JI25: 106.70229 | JK25: 108.83703 | JM25: 80.821207 | JP25: Q3 | JQ25: 99.066034 | JS25: 97.008823 | JU25: 112.7886 | JX25: Q3 | JY25: 100.20838 | KA25: 119.54422 | KC25: 99.614569 | KF25: Q3 | KG25: 84.434316 | KI25: 111.44658 | KK25: 111.12607 | KN25: Q3 | KO25: 110.26743 | KQ25: 99.924799 | KS25: 99.618795 | KV25: Q3 | KW25: 96.430532 | KY25: 98.807586 | LA25: 107.56147 | LD25: Q3 | LE25: 95.526409 | LG25: 87.666634 | LI25: 87.08662 | LL25: Q3 | LM25: 87.891813 | LO25: 98.824865 | LQ25: 88.526097 | LT25: Q3 | LU25: 118.07124 | LW25: 137.49209 | LY25: 87.079265 | MB25: Q3 | MC25: 101.57941 | ME25: 106.33679 | MG25: 100.83732 | MJ25: Q3 | MK25: 95.015645 | MM25: 98.666603 | MO25: 81.860716
B26: Q4 | C26: 101.38389 | E26: 100.38061 | G26: 102.33255 | J26: Q4 | K26: 101.99651 | M26: 98.023835 | O26: 106.2503 | R26: Q4 | S26: 101.67894 | U26: 110.20735 | W26: 98.2298 | Z26: Q4 | AA26: 104.77524 | AC26: 108.05537 | AE26: 119.29766 | AH26: Q4 | AI26: 114.00138 | AK26: 114.95063 | AM26: 120.58553 | AP26: Q4 | AQ26: 108.57606 | AS26: 94.776611 | AU26: 106.47586 | AX26: Q4 | AY26: 115.10161 | BA26: 103.74464 | BC26: 113.58478 | BF26: Q4 | BG26: 106.15182 | BI26: 104.8216 | BK26: 120.11147 | BN26: Q4 | BO26: 101.50066 | BQ26: 109.99198 | BS26: 108.52136 | BV26: Q4 | BW26: 107.93023 | BY26: 96.523372 | CA26: 97.001345 | CD26: Q4 | CE26: 104.38189 | CG26: 104.3491 | CI26: 113.8573 | CL26: Q4 | CM26: 123.10288 | CO26: 100.17636 | CQ26: 91.000111 | CT26: Q4 | CU26: 115.51032 | CW26: 101.17359 | CY26: 106.13165 | DB26: Q4 | DC26: 105.03658 | DE26: 94.093491 | DG26: 100.76369 | DJ26: Q4 | DK26: 108.47439 | DM26: 97.040146 | DO26: 104.14923 | DR26: Q4 | DS26: 108.2544 | DU26: 107.69807 | DW26: 110.79049 | DZ26: Q4 | EA26: 102.96296 | EC26: 108.1722 | EE26: 101.0514 | EH26: Q4 | EI26: 105.19526 | EK26: 94.528268 | EM26: 95.825139 | EP26: Q4 | EQ26: 99.363018 | ES26: 95.674346 | EU26: 102.93103 | EX26: Q4 | EY26: 89.83928 | FA26: 95.436843 | FC26: 98.751909 | FF26: Q4 | FG26: 101.27487 | FI26: 99.759751 | FK26: 104.65361 | FN26: Q4 | FO26: 95.586939 | FQ26: 105.29821 | FS26: 104.34721 | FV26: Q4 | FW26: 99.695754 | FY26: 106.74426 | GA26: 102.02125 | GD26: Q4 | GE26: 94.531204 | GG26: 106.41175 | GI26: 91.055712 | GL26: Q4 | GM26: 108.2933 | GO26: 114.63673 | GQ26: 110.42562 | GT26: Q4 | GU26: 92.476341 | GW26: 98.894607 | GY26: 109.43641 | HB26: Q4 | HC26: 113.2906 | HE26: 107.26612 | HG26: 101.01368 | HJ26: Q4 | HK26: 112.45579 | HM26: 96.617778 | HO26: 110.18967 | HR26: Q4 | HS26: 112.08218 | HU26: 83.364269 | HW26: 95.169009 | HZ26: Q4 | IA26: 97.580869 | IC26: 105.52908 | IE26: 99.402632 | IH26: Q4 | II26: 107.07088 | IK26: 101.08103 | IM26: 108.352 | IO26: 89.118667 | IR26: Q4 | IS26: 102.36872 | IU26: 81.768437 | IW26: 102.53236 | IZ26: Q4 | JA26: 100.84453 | JC26: 102.90861 | JE26: 107.6088 | JH26: Q4 | JI26: 106.35141 | JK26: 118.45047 | JM26: 100.89804 | JP26: Q4 | JQ26: 111.4807 | JS26: 92.78937 | JU26: 100.19341 | JX26: Q4 | JY26: 98.447547 | KA26: 120.12429 | KC26: 108.14353 | KF26: Q4 | KG26: 98.068971 | KI26: 92.155391 | KK26: 113.66432 | KN26: Q4 | KO26: 121.32376 | KQ26: 103.44124 | KS26: 102.75835 | KV26: Q4 | KW26: 100.99813 | KY26: 99.179777 | LA26: 103.69756 | LD26: Q4 | LE26: 110.24672 | LG26: 89.288115 | LI26: 92.614292 | LL26: Q4 | LM26: 82.927713 | LO26: 79.324255 | LQ26: 72.635485 | LT26: Q4 | LU26: 101.18064 | LW26: 98.826601 | LY26: 100.47657 | MB26: Q4 | MC26: 95.249208 | ME26: 103.67819 | MG26: 107.50819 | MJ26: Q4 | MK26: 95.692592 | MM26: 109.15178 | MO26: 114.81021
A28: 2016 | B28: Q1 | C28: 103.13396 | D28: -0.59118804 | E28: 102.40267 | F28: -3.3541351 | G28: 103.82567 | H28: 2.1320259 | I28: 2016 | J28: Q1 | K28: 67.975375 | L28: -10.199978 | M28: 94.696738 | N28: 30.186657 | O28: 71.876923 | P28: -6.383727 | Q28: 2016 | R28: Q1 | S28: 106.95807 | T28: -0.71580795 | U28: 106.71184 | V28: 4.1522203 | W28: 107.99431 | X28: 10.263602 | Y28: 2016 | Z28: Q1 | AA28: 103.81655 | AB28: 8.4314615 | AC28: 108.85144 | AD28: 8.0317888 | AE28: 99.189582 | AF28: 3.0798664 | AG28: 2016 | AH28: Q1 | AI28: 103.41078 | AJ28: 14.65354 | AK28: 106.41892 | AL28: 6.350178 | AM28: 112.8782 | AN28: 4.8554903 | AO28: 2016 | AP28: Q1 | AQ28: 105.6903 | AR28: 11.400978 | AS28: 95.87405 | AT28: -2.8953325 | AU28: 99.455758 | AV28: 11.980034 | AW28: 2016 | AX28: Q1 | AY28: 109.16167 | AZ28: 9.0459199 | BA28: 106.47217 | BB28: 9.0426458 | BC28: 97.687389 | BD28: 8.9204431 | BE28: 2016 | BF28: Q1 | BG28: 105.94842 | BH28: 3.0999896 | BI28: 100.59936 | BJ28: 5.490388 | BK28: 108.26203 | BL28: 12.59913 | BM28: 2016 | BN28: Q1 | BO28: 103.99393 | BP28: 1.6650229 | BQ28: 100.5988 | BR28: 8.2818146 | BS28: 95.398283 | BT28: 8.6133565 | BU28: 2016 | BV28: Q1 | BW28: 97.569205 | BX28: 8.2650016 | BY28: 107.23836 | BZ28: 7.75744 | CA28: 95.981014 | CB28: 4.2319352 | CC28: 2016 | CD28: Q1 | CE28: 100.68511 | CF28: 4.2974932 | CG28: 96.169171 | CH28: 4.282678 | CI28: 100.42944 | CJ28: 9.2977859 | CK28: 2016 | CL28: Q1 | CM28: 110.59858 | CN28: 50.381699 | CO28: 109.74853 | CP28: 0.33285839 | CQ28: 108.83512 | CR28: 0.35289024 | CS28: 2016 | CT28: Q1 | CU28: 104.94704 | CV28: 24.234917 | CW28: 92.90008 | CX28: -8.77212 | CY28: 102.78047 | CZ28: 1.6419315 | DA28: 2016 | DB28: Q1 | DC28: 104.98313 | DD28: 7.7279729 | DE28: 100.47125 | DF28: 17.473963 | DG28: 108.99019 | DH28: 9.3555216 | DI28: 2016 | DJ28: Q1 | DK28: 100.13788 | DL28: 8.2899642 | DM28: 103.47304 | DN28: 1.8269809 | DO28: 106.40277 | DP28: 11.664371 | DQ28: 2016 | DR28: Q1 | DS28: 99.027464 | DT28: 7.3221006 | DU28: 88.569265 | DV28: 8.0997913 | DW28: 95.592865 | DX28: 1.790994 | DY28: 2016 | DZ28: Q1 | EA28: 106.16473 | EB28: 1.2095906 | EC28: 95.038163 | ED28: 4.1295085 | EE28: 102.26997 | EF28: 4.1566378 | EG28: 2016 | EH28: Q1 | EI28: 94.285656 | EJ28: 4.1477719 | EK28: 92.859431 | EL28: 4.1550271 | EM28: 106.57056 | EN28: 4.1428378 | EO28: 2016 | EP28: Q1 | EQ28: 105.41709 | ER28: 2.1851482 | ES28: 101.85033 | ET28: 2.0952485 | EU28: 105.56108 | EV28: 2.0996497 | EW28: 2016 | EX28: Q1 | EY28: 105.92406 | EZ28: 2.0831356 | FA28: 98.868511 | FB28: 2.1584888 | FC28: 97.530108 | FD28: 2.3027056 | FE28: 2016 | FF28: Q1 | FG28: 99.606413 | FH28: 2.1989927 | FI28: 89.22474 | FJ28: 4.0203634 | FK28: 93.94287 | FL28: 5.9823106 | FM28: 2016 | FN28: Q1 | FO28: 96.870774 | FP28: -0.55291445 | FQ28: 104.02656 | FR28: 8.2122605 | FS28: 93.884776 | FT28: 1.8197861 | FU28: 2016 | FV28: Q1 | FW28: 97.890488 | FX28: 3.3636836 | FY28: 94.612662 | FZ28: 3.3014358 | GA28: 99.774269 | GB28: 2.4033468 | GC28: 2016 | GD28: Q1 | GE28: 104.17836 | GF28: 2.3362274 | GG28: 98.853175 | GH28: 2.3494403 | GI28: 91.71516 | GJ28: -3.2123006 | GK28: 2016 | GL28: Q1 | GM28: 95.867255 | GN28: 2.4874538 | GO28: 105.68761 | GP28: 25.744557 | GQ28: 110.38521 | GR28: 25.69377 | GS28: 2016 | GT28: Q1 | GU28: 118.46829 | GV28: 2.6109472 | GW28: 99.586803 | GX28: 1.6436108 | GY28: 93.92166 | GZ28: 2.6309749 | HA28: 2016 | HB28: Q1 | HC28: 95.008002 | HD28: 2.6047351 | HE28: 93.835532 | HF28: 2.6799564 | HG28: 93.951574 | HH28: 0.80466049 | HI28: 2016 | HJ28: Q1 | HK28: 91.615429 | HL28: 4.309343 | HM28: 110.85911 | HN28: -1.5899694 | HO28: 90.659379 | HP28: 2.5954343 | HQ28: 2016 | HR28: Q1 | HS28: 92.283267 | HT28: -7.0511354 | HU28: 97.787471 | HV28: -6.7070651 | HW28: 82.907603 | HX28: -6.5662941 | HY28: 2016 | HZ28: Q1 | IA28: 105.13508 | IB28: -6.8608976 | IC28: 93.866694 | ID28: 16.770213 | IE28: 88.090512 | IF28: 3.357624 | IG28: 2016 | IH28: Q1 | II28: 104.91313 | IJ28: -2.1424009 | IK28: 81.778684 | IL28: -5.5438951 | IM28: 94.152743 | IN28: 9.7213951 | IO28: 111.03349 | IP28: 9.688289 | IQ28: 2016 | IR28: Q1 | IS28: 102.11185 | IT28: 9.6344411 | IU28: 152.49128 | IV28: 9.8171718 | IW28: 101.82379 | IX28: 9.6535721 | IY28: 2016 | IZ28: Q1 | JA28: 102.04635 | JB28: 9.5735541 | JC28: 98.512938 | JD28: 3.4321627 | JE28: 99.52408 | JF28: 10.495718 | JG28: 2016 | JH28: Q1 | JI28: 93.05173 | JJ28: 0.26485276 | JK28: 91.931894 | JL28: 6.6139783 | JM28: 128.48842 | JN28: 3.270994 | JO28: 2016 | JP28: Q1 | JQ28: 112.25994 | JR28: 27.990204 | JS28: 109.63332 | JT28: 6.4010403 | JU28: 91.963819 | JV28: 6.4219575 | JW28: 2016 | JX28: Q1 | JY28: 92.941623 | JZ28: -7.7921322 | KA28: 94.291219 | KB28: 20.915187 | KC28: 98.073308 | KD28: 14.132139 | KE28: 2016 | KF28: Q1 | KG28: 120.67609 | KH28: -0.87693186 | KI28: 133.53647 | KJ28: 16.514614 | KK28: 86.953408 | KL28: 1.2782947 | KM28: 2016 | KN28: Q1 | KO28: 86.173779 | KP28: 9.193055 | KQ28: 115.82104 | KR28: 20.648889 | KS28: 95.815286 | KT28: 1.5080079 | KU28: 2016 | KV28: Q1 | KW28: 97.020196 | KX28: 3.1773144 | KY28: 98.816403 | KZ28: -0.025747753 | LA28: 92.354991 | LB28: 4.7013692 | LC28: 2016 | LD28: Q1 | LE28: 101.0893 | LF28: -4.9611142 | LG28: 121.04963 | LH28: 5.983975 | LI28: 112.0322 | LJ28: 2.2663754 | LK28: 2016 | LL28: Q1 | LM28: 118.9385 | LN28: 6.9907497 | LO28: 120.01445 | LP28: 5.9951609 | LQ28: 110.44844 | LR28: 5.7203744 | LS28: 2016 | LT28: Q1 | LU28: 90.192893 | LV28: 3.1451933 | LW28: 84.921246 | LX28: -1.3268139 | LY28: 84.517954 | LZ28: -20.189185 | MA28: 2016 | MB28: Q1 | MC28: 118.91114 | MD28: 17.617487 | ME28: 107.98293 | MF28: 12.764957 | MG28: 93.70148 | MH28: -2.0083595 | MI28: 2016 | MJ28: Q1 | MK28: 101.70388 | ML28: -3.9484834 | MM28: 107.39107 | MN28: 9.3677406 | MO28: 126.89228 | MP28: 0.94388721
B29: Q2 | C29: 101.28073 | D29: 2.5005747 | E29: 100.69233 | F29: 1.1286051 | G29: 101.837 | H29: 3.817274 | J29: Q2 | K29: 84.133 | L29: -20.303184 | M29: 84.866 | N29: -27.609928 | O29: 82.111 | P29: -21.908824 | R29: Q2 | S29: 109.18433 | T29: 18.324438 | U29: 109.09033 | V29: 18.422575 | W29: 108.568 | X29: 6.5886663 | Z29: Q2 | AA29: 113.40333 | AB29: 15.708592 | AC29: 109.82933 | AD29: 18.059887 | AE29: 106.09 | AF29: 13.712294 | AH29: Q2 | AI29: 123.141 | AJ29: 23.9975 | AK29: 115.70867 | AL29: 27.960743 | AM29: 90.755333 | AN29: 11.376408 | AP29: Q2 | AQ29: 118.954 | AR29: 21.375345 | AS29: 104.97533 | AT29: 5.1034661 | AU29: 99.479 | AV29: 1.155148 | AX29: Q2 | AY29: 120.364 | AZ29: 28.649376 | BA29: 112.134 | BB29: 13.227001 | BC29: 105.07833 | BD29: 11.404767 | BF29: Q2 | BG29: 96.959 | BH29: -2.2413529 | BI29: 110.62167 | BJ29: 12.213242 | BK29: 116.92967 | BL29: 25.538536 | BN29: Q2 | BO29: 105.95167 | BP29: 9.0252031 | BQ29: 107.95305 | BR29: 8.6760779 | BS29: 111.57933 | BT29: 8.9811366 | BV29: Q2 | BW29: 108.73367 | BX29: 8.6935065 | BY29: 105.37667 | BZ29: 4.4802451 | CA29: 107.43367 | CB29: 4.4559996 | CD29: Q2 | CE29: 105.20967 | CF29: 4.7451906 | CG29: 110.94367 | CH29: 4.6541507 | CI29: 111.47667 | CJ29: 9.3492841 | CL29: Q2 | CM29: 104.064 | CN29: 6.9047475 | CO29: 111.22267 | CP29: 8.8988457 | CQ29: 122.275 | CR29: 8.6063494 | CT29: Q2 | CU29: 112.44333 | CV29: 22.892008 | CW29: 95.658 | CX29: -7.3022679 | CY29: 106.83933 | CZ29: 13.462903 | DB29: Q2 | DC29: 106.10633 | DD29: 2.6261784 | DE29: 109.35467 | DF29: -11.093709 | DG29: 104.88167 | DH29: 5.4470625 | DJ29: Q2 | DK29: 102.85033 | DL29: 5.4584124 | DM29: 97.958333 | DN29: 5.6104089 | DO29: 97.685667 | DP29: 5.5104679 | DR29: Q2 | DS29: 102.28 | DT29: 5.4568994 | DU29: 103.53967 | DV29: -1.5048651 | DW29: 120.38567 | DX29: 21.608904 | DZ29: Q2 | EA29: 102.98133 | EB29: 4.9834717 | EC29: 112.94567 | ED29: 5.9504035 | EE29: 101.503 | EF29: 5.991749 | EH29: Q2 | EI29: 109.29567 | EJ29: 5.9547241 | EK29: 111.32133 | EL29: 5.9191636 | EM29: 108.37067 | EN29: 5.9714229 | EP29: Q2 | EQ29: 99.943 | ER29: 3.7534654 | ES29: 114.78167 | ET29: 3.8894235 | EU29: 100.75233 | EV29: 3.8516265 | EX29: Q2 | EY29: 99.333667 | EZ29: 4.0041914 | FA29: 108.32933 | FB29: 3.952109 | FC29: 90.116333 | FD29: 3.9636496 | FF29: Q2 | FG29: 103.77133 | FH29: 3.86155 | FI29: 108.432 | FJ29: 3.8429831 | FK29: 108.89033 | FL29: 4.459343 | FN29: Q2 | FO29: 98.343667 | FP29: -2.1382598 | FQ29: 101.049 | FR29: 5.5156936 | FS29: 101.08633 | FT29: 9.2761913 | FV29: Q2 | FW29: 101.72733 | FX29: 2.8322199 | FY29: 100.59333 | FZ29: 4.0266496 | GA29: 99.103 | GB29: 4.0185071 | GD29: Q2 | GE29: 103.26233 | GF29: 3.9088508 | GG29: 98.907 | GH29: 3.9380893 | GI29: 121.14133 | GJ29: 2.1059849 | GL29: Q2 | GM29: 98.658 | GN29: 3.8857281 | GO29: 111.42967 | GP29: 18.976722 | GQ29: 114.008 | GR29: 19.191609 | GT29: Q2 | GU29: 97.682333 | GV29: 3.1785159 | GW29: 110.06767 | GX29: 5.3161718 | GY29: 101.07833 | GZ29: 3.1713935 | HB29: Q2 | HC29: 95.450667 | HD29: 3.1788183 | HE29: 102.611 | HF29: 3.1798229 | HG29: 99.229 | HH29: -6.0891911 | HJ29: Q2 | HK29: 104.67067 | HL29: 6.2063833 | HM29: 108.365 | HN29: 5.686827 | HO29: 107.449 | HP29: 3.1762059 | HR29: Q2 | HS29: 92.282667 | HT29: 0.33359095 | HU29: 112.37967 | HV29: 0.0057947926 | HW29: 112.95633 | HX29: 0.44228527 | HZ29: Q2 | IA29: 88.396 | IB29: 0.8693223 | IC29: 106.38771 | ID29: 7.5402323 | IE29: 101.65 | IF29: -3.5312799 | IH29: Q2 | II29: 109.287 | IJ29: 17.013955 | IK29: 117.13333 | IL29: 5.2589229 | IM29: 100.27067 | IN29: 3.6906747 | IO29: 122.09433 | IP29: 3.9809961 | IR29: Q2 | IS29: 107.53567 | IT29: 3.865133 | IU29: 96.173 | IV29: 3.8738052 | IW29: 107.052 | IX29: 3.6564886 | IZ29: Q2 | JA29: 112.05033 | JB29: 3.915648 | JC29: 110.84133 | JD29: 5.943036 | JE29: 115.66933 | JF29: 19.950981 | JH29: Q2 | JI29: 120.22067 | JJ29: 27.703616 | JK29: 101.10733 | JL29: 16.909036 | JM29: 85.862 | JN29: -8.5232106 | JP29: Q2 | JQ29: 105.22133 | JR29: 3.4182576 | JS29: 111.90533 | JT29: 4.4243953 | JU29: 104.578 | JV29: 3.9504908 | JX29: Q2 | JY29: 104.33233 | JZ29: 3.7633894 | KA29: 89.496 | KB29: 8.677327 | KC29: 118.88533 | KD29: 11.826524 | KF29: Q2 | KG29: 96.336 | KH29: 0.60884903 | KI29: 97.086667 | KJ29: 18.704064 | KK29: 92.235333 | KL29: 3.2249816 | KN29: Q2 | KO29: 88.405667 | KP29: -1.2117659 | KQ29: 115.25733 | KR29: 14.529467 | KS29: 97.226 | KT29: -5.8170599 | KV29: Q2 | KW29: 114.22133 | KX29: 5.2354342 | KY29: 109.25867 | KZ29: 5.9007806 | LA29: 116.307 | LB29: 15.690417 | LD29: Q2 | LE29: 94.415667 | LF29: 7.4607331 | LG29: 113.27533 | LH29: 4.0844452 | LI29: 113.00167 | LJ29: 2.0333978 | LL29: Q2 | LM29: 123.914 | LN29: 4.9999534 | LO29: 113.84367 | LP29: 4.8047471 | LQ29: 140.355 | LR29: 4.4570896 | LT29: Q2 | LU29: 96.459667 | LV29: 3.3805036 | LW29: 80.698 | LX29: 3.9679345 | LY29: 78.852667 | LZ29: -25.992105 | MB29: Q2 | MC29: 114.802 | MD29: 12.472148 | ME29: 84.458333 | MF29: -10.365938 | MG29: 98.561 | MH29: 2.632888 | MJ29: Q2 | MK29: 95.108 | ML29: -8.0256039 | MM29: 102.96462 | MN29: 9.5302812 | MO29: 81.505667 | MP29: 5.0015392
B30: Q3 | C30: 98.205163 | D30: 2.2343358 | E30: 99.72 | F30: 5.9789084 | G30: 96.772667 | H30: -1.1682944 | J30: Q3 | K30: 100.241 | L30: -14.133687 | M30: 120.669 | N30: 7.7376256 | O30: 94.556667 | P30: -15.441424 | R30: Q3 | S30: 102.762 | T30: 4.5216558 | U30: 100.558 | V30: 5.610919 | W30: 104.59533 | X30: 2.5733257 | Z30: Q3 | AA30: 108.658 | AB30: 7.0805669 | AC30: 116.05933 | AD30: 18.237955 | AE30: 92.817 | AF30: 1.7958753 | AH30: Q3 | AI30: 113.744 | AJ30: 17.875279 | AK30: 111.81133 | AL30: 18.244301 | AM30: 93.774333 | AN30: 3.8728181 | AP30: Q3 | AQ30: 102.92333 | AR30: 4.4428674 | AS30: 106.98033 | AT30: 0.3449152 | AU30: 100.75767 | AV30: -5.2722545 | AX30: Q3 | AY30: 119.77967 | AZ30: 31.290539 | BA30: 116.412 | BB30: 16.905355 | BC30: 122.276 | BD30: 19.401891 | BF30: Q3 | BG30: 83.553333 | BH30: -9.0856782 | BI30: 109.68433 | BJ30: 8.3481707 | BK30: 108.799 | BL30: 20.089995 | BN30: Q3 | BO30: 100.96033 | BP30: 1.9516293 | BQ30: 109.25853 | BR30: 11.752032 | BS30: 112.972 | BT30: 11.564461 | BV30: Q3 | BW30: 113.86333 | BX30: 11.72701 | BY30: 105.239 | BZ30: 2.0743318 | CA30: 113.571 | CB30: 5.096116 | CD30: Q3 | CE30: 103.63567 | CF30: 5.0664569 | CG30: 102.403 | CH30: 5.1134663 | CI30: 99.785333 | CJ30: 8.0967525 | CL30: Q3 | CM30: 105.25233 | CN30: -0.71391602 | CO30: 99.252 | CP30: 12.396448 | CQ30: 99.107333 | CR30: 12.67064 | CT30: Q3 | CU30: 114.06967 | CV30: 5.1165401 | CW30: 83.156667 | CX30: -11.346792 | CY30: 117.61967 | CZ30: 19.30684 | DB30: Q3 | DC30: 106.35633 | DD30: 13.000462 | DE30: 121.605 | DF30: 24.876524 | DG30: 102.29167 | DH30: 2.1827719 | DJ30: Q3 | DK30: 103.734 | DL30: 2.1740952 | DM30: 95.778667 | DN30: -11.797001 | DO30: 112.29133 | DP30: 3.9937852 | DR30: Q3 | DS30: 104.71767 | DT30: 2.1766946 | DU30: 105.12767 | DV30: -0.11381616 | DW30: 123.21667 | DX30: 27.94492 | DZ30: Q3 | EA30: 97.004 | EB30: 3.1428392 | EC30: 101.83767 | ED30: 8.3884309 | EE30: 113.82167 | EF30: 8.4067828 | EH30: Q3 | EI30: 109.67333 | EJ30: 8.4576171 | EK30: 120.59033 | EL30: 8.4285139 | EM30: 107.94767 | EN30: 8.4033191 | EP30: Q3 | EQ30: 103.93367 | ER30: 2.7553035 | ES30: 96.572333 | ET30: 2.6479813 | EU30: 99.257667 | EV30: 2.6841613 | EX30: Q3 | EY30: 113.95333 | EZ30: 2.7635313 | FA30: 106.39267 | FB30: 2.7225813 | FC30: 122.64867 | FD30: 2.8650038 | FF30: Q3 | FG30: 104.089 | FH30: 2.7037411 | FI30: 114.26733 | FJ30: 3.8370687 | FK30: 107.31433 | FL30: 4.7332698 | FN30: Q3 | FO30: 99.967 | FP30: -6.1441778 | FQ30: 105.41667 | FR30: 2.5423682 | FS30: 107.906 | FT30: -2.7353554 | FV30: Q3 | FW30: 112.41433 | FX30: 5.3814031 | FY30: 107.99633 | FZ30: 2.8857395 | GA30: 108.41733 | GB30: 2.9880765 | GD30: Q3 | GE30: 107.323 | GF30: 2.9073371 | GG30: 104.83167 | GH30: 2.9328403 | GI30: 96.989 | GJ30: 1.5140439 | GL30: Q3 | GM30: 106.158 | GN30: 2.8678645 | GO30: 118.845 | GP30: 10.392135 | GQ30: 117.32633 | GR30: 10.578185 | GT30: Q3 | GU30: 101.33433 | GV30: 4.042912 | GW30: 105.67267 | GX30: 7.1542953 | GY30: 105.24333 | GZ30: 4.1205405 | HB30: Q3 | HC30: 105.82667 | HD30: 4.1566849 | HE30: 106.13367 | HF30: 4.1560007 | HG30: 99.262667 | HH30: -0.85797194 | HJ30: Q3 | HK30: 109.05267 | HL30: 7.802505 | HM30: 94.269333 | HN30: 6.8838252 | HO30: 101.27633 | HP30: 4.0832852 | HR30: Q3 | HS30: 98.363667 | HT30: 1.7645691 | HU30: 101.31633 | HV30: 1.881863 | HW30: 105.69667 | HX30: 1.9865009 | HZ30: Q3 | IA30: 103.83633 | IB30: 1.8949075 | IC30: 115.18101 | ID30: 0.021010524 | IE30: 104.073 | IF30: -5.3860973 | IH30: Q3 | II30: 105.247 | IJ30: 13.999214 | IK30: 106.45533 | IL30: 5.3394463 | IM30: 113.39233 | IN30: 3.9004713 | IO30: 95.777667 | IP30: 3.840805 | IR30: Q3 | IS30: 104.88967 | IT30: 3.8934735 | IU30: 90.16 | IV30: 3.8877855 | IW30: 105.19233 | IX30: 3.8092049 | IZ30: Q3 | JA30: 101.97933 | JB30: 3.8519401 | JC30: 106.73967 | JD30: 9.7875233 | JE30: 124.52967 | JF30: 17.602673 | JH30: Q3 | JI30: 127.76033 | JJ30: 19.73533 | JK30: 118.277 | JL30: 8.6734927 | JM30: 88.649667 | JN30: 9.686146 | JP30: Q3 | JQ30: 104.85 | JR30: 5.8384953 | JS30: 95.159 | JT30: -1.9068607 | JU30: 111.31233 | JV30: -1.308883 | JX30: Q3 | JY30: 108.97233 | JZ30: 8.7457273 | KA30: 116.03933 | KB30: -2.9318722 | KC30: 112.74 | KD30: 13.176216 | KF30: Q3 | KG30: 87.709333 | KH30: 3.8787751 | KI30: 120.56133 | KJ30: 8.1785849 | KK30: 115.17567 | KL30: 3.6441484 | KN30: Q3 | KO30: 112.97767 | KP30: 2.4578755 | KQ30: 110.274 | KR30: 10.35699 | KS30: 100.682 | KT30: 1.0672736 | KV30: Q3 | KW30: 95.690667 | KX30: -0.76725215 | KY30: 113.218 | KZ30: 14.584319 | LA30: 105.64867 | LB30: -1.7783361 | LD30: Q3 | LE30: 107.60733 | LF30: 12.646686 | LG30: 95.886 | LH30: 9.3757056 | LI30: 92.336333 | LJ30: 6.028152 | LL30: Q3 | LM30: 96.295333 | LN30: 9.5612095 | LO30: 108.27567 | LP30: 9.5631819 | LQ30: 96.994667 | LR30: 9.5661844 | LT30: Q3 | LU30: 118.24433 | LV30: 0.1466016 | LW30: 148.03567 | LX30: 7.6684944 | LY30: 70.832 | LZ30: -18.658018 | MB30: Q3 | MC30: 110.97567 | MD30: 9.2501536 | ME30: 110.97333 | MF30: 4.3602396 | MG30: 96.407 | MH30: -4.3935363 | MJ30: Q3 | MK30: 88.735333 | ML30: -6.6097655 | MM30: 109.49214 | MN30: 10.971838 | MO30: 101.698 | MP30: 24.232972
B31: Q4 | C31: 106.90163 | D31: 5.4424233 | E31: 102.00967 | F31: 1.6228752 | G31: 111.527 | H31: 8.9848688 | J31: Q4 | K31: 94.714333 | L31: -7.1396323 | M31: 145.52433 | N31: 48.458111 | O31: 95.796333 | P31: -9.8389967 | R31: Q4 | S31: 107.163 | T31: 5.3935089 | U31: 108.475 | V31: -1.5719015 | W31: 103.44 | X31: 5.3040926 | Z31: Q4 | AA31: 106.99833 | AB31: 2.1217769 | AC31: 121.668 | AD31: 12.597827 | AE31: 104.156 | AF31: -12.692336 | AH31: Q4 | AI31: 134.75867 | AJ31: 18.207924 | AK31: 117.86567 | AL31: 2.5358988 | AM31: 99.670333 | AN31: -17.344696 | AP31: Q4 | AQ31: 111.11533 | AR31: 2.3387072 | AS31: 98.476333 | AT31: 3.9036239 | AU31: 100.146 | AV31: -5.9448797 | AX31: Q4 | AY31: 112.975 | AZ31: -1.8475936 | BA31: 118.521 | BB31: 14.243009 | BC31: 137.11533 | BD31: 20.716296 | BF31: Q4 | BG31: 99.131667 | BH31: -6.6133103 | BI31: 109.312 | BJ31: 4.2838482 | BK31: 128.15367 | BL31: 6.6956105 | BN31: Q4 | BO31: 95.841 | BP31: -5.5759862 | BQ31: 121.65361 | BR31: 10.602254 | BS31: 120.039 | BT31: 10.613244 | BV31: Q4 | BW31: 119.42533 | BX31: 10.65049 | BY31: 95.076333 | BZ31: -1.499159 | CA31: 102.73867 | CB31: 5.9146824 | CD31: Q4 | CE31: 110.572 | CF31: 5.9302479 | CG31: 110.48067 | CH31: 5.8760113 | CI31: 121.17867 | CJ31: 6.4302972 | CL31: Q4 | CM31: 128.23767 | CN31: 4.1711351 | CO31: 101.88267 | CP31: 1.7033006 | CQ31: 92.523667 | CR31: 1.6742346 | CT31: Q4 | CU31: 118.86133 | CV31: 2.9010539 | CW31: 88.647667 | CX31: -12.380628 | CY31: 123.05333 | CZ31: 15.944052 | DB31: Q4 | DC31: 114.372 | DD31: 8.8877809 | DE31: 175.13033 | DF31: 86.12375 | DG31: 101.623 | DH31: 0.85279292 | DJ31: Q4 | DK31: 109.44567 | DL31: 0.8954 | DM31: 87.049667 | DN31: -10.295202 | DO31: 114.94833 | DP31: 10.368874 | DR31: Q4 | DS31: 109.259 | DT31: 0.92799951 | DU31: 114.17033 | DV31: 6.0096406 | DW31: 119.77567 | DX31: 8.1100609 | DZ31: Q4 | EA31: 106.19233 | EB31: 3.1364368 | EC31: 117.46367 | ED31: 8.5895174 | EE31: 109.40667 | EF31: 8.2683304 | EH31: Q4 | EI31: 114.09133 | EJ31: 8.4567292 | EK31: 102.51767 | EL31: 8.451862 | EM31: 103.92333 | EN31: 8.4510118 | EP31: Q4 | EQ31: 103.729 | ER31: 4.3939707 | ES31: 100.13 | ET31: 4.6571045 | EU31: 107.73367 | EV31: 4.6658774 | EX31: Q4 | EY31: 93.876 | EZ31: 4.4932679 | FA31: 99.561667 | FB31: 4.3220454 | FC31: 103.462 | FD31: 4.7696207 | FF31: Q4 | FG31: 106.02967 | FH31: 4.6949456 | FI31: 105.79633 | FJ31: 6.0511202 | FK31: 110.224 | FL31: 5.3226929 | FN31: Q4 | FO31: 97.26 | FP31: 1.7503025 | FQ31: 105.03967 | FR31: -0.24553762 | FS31: 100.99667 | FT31: -3.2109573 | FV31: Q4 | FW31: 107 | FX31: 7.3265364 | FY31: 113.02133 | FZ31: 5.8804834 | GA31: 108.02233 | GB31: 5.88219 | GD31: Q4 | GE31: 100.077 | GF31: 5.8666296 | GG31: 112.621 | GH31: 5.8351146 | GI31: 95.408333 | GJ31: 4.7801739 | GL31: Q4 | GM31: 114.59433 | GN31: 5.8184865 | GO31: 125.23467 | GP31: 9.2448038 | GQ31: 120.81467 | GR31: 9.4081819 | GT31: Q4 | GU31: 95.022333 | GV31: 2.7531282 | GW31: 100.18767 | GX31: 1.3075133 | GY31: 112.44567 | GZ31: 2.7497745 | HB31: Q4 | HC31: 116.34867 | HD31: 2.6993099 | HE31: 110.19367 | HF31: 2.7292341 | HG31: 102.64933 | HH31: 1.6192432 | HJ31: Q4 | HK31: 116.22 | HL31: 3.3472842 | HM31: 104.893 | HN31: 8.5649063 | HO31: 113.237 | HP31: 2.7655286 | HR31: Q4 | HS31: 120.47733 | HT31: 7.4901786 | HU31: 88.956333 | HV31: 6.7079865 | HW31: 102.015 | HX31: 7.1935086 | HZ31: Q4 | IA31: 104.80167 | IB31: 7.399809 | IC31: 106.77061 | ID31: 1.1764819 | IE31: 102.674 | IF31: 3.2910272 | IH31: Q4 | II31: 100.76333 | IJ31: -5.8910008 | IK31: 105.66 | IL31: 4.5300036 | IM31: 116.28533 | IN31: 7.3218113 | IO31: 95.580667 | IP31: 7.2510057 | IR31: Q4 | IS31: 109.89033 | IT31: 7.3475728 | IU31: 87.815 | IV31: 7.3947399 | IW31: 109.98167 | IX31: 7.2653193 | IZ31: Q4 | JA31: 108.24467 | JB31: 7.338163 | JC31: 112.47633 | JD31: 9.2972984 | JE31: 123.947 | JF31: 15.182959 | JH31: Q4 | JI31: 119.71267 | JJ31: 12.563314 | JK31: 131.39433 | JL31: 10.927663 | JM31: 111.96933 | JN31: 10.972756 | JP31: Q4 | JQ31: 133.557 | JR31: 19.802803 | JS31: 100.606 | JT31: 8.4240578 | JU31: 108.55333 | JV31: 8.3437898 | JX31: Q4 | JY31: 105.78733 | JZ31: 7.4555299 | KA31: 117.09367 | KB31: -2.5229086 | KC31: 125.214 | KD31: 15.785012 | KF31: Q4 | KG31: 101.75833 | KH31: 3.7620076 | KI31: 89.527333 | KJ31: -2.8517675 | KK31: 106.77367 | KL31: -6.0622858 | KN31: Q4 | KO31: 108.558 | KP31: -10.522058 | KQ31: 107.15633 | KR31: 3.5914986 | KS31: 103.10233 | KT31: 0.33475414 | KV31: Q4 | KW31: 101.947 | KX31: 0.93949584 | KY31: 112.603 | KZ31: 13.534234 | LA31: 110.57833 | LB31: 6.6354219 | LD31: Q4 | LE31: 142.87733 | LF31: 29.597805 | LG31: 98.974333 | LH31: 10.848273 | LI31: 96.890667 | LJ31: 4.6174021 | LL31: Q4 | LM31: 91.876 | LN31: 10.790467 | LO31: 87.951333 | LP31: 10.875713 | LQ31: 80.488667 | LR31: 10.811771 | LT31: Q4 | LU31: 101.95933 | LV31: 0.76960992 | LW31: 109.664 | LX31: 10.966075 | LY31: 80.412333 | LZ31: -19.969073 | MB31: Q4 | MC31: 118.572 | MD31: 24.486075 | ME31: 85.408 | MF31: -17.622022 | MG31: 113.925 | MH31: 5.9686673 | MJ31: Q4 | MK31: 89.839333 | ML31: -6.1167308 | MM31: 119.52681 | MN31: 9.505142 | MO31: 112.239 | MP31: -2.2395344
A33: 2017 | B33: Q1 | C33: 104.93349 | D33: 1.7448462 | E33: 102.69346 | F33: 0.28396632 | G33: 107.05125 | H33: 3.1067258 | I33: 2017 | J33: Q1 | K33: 80.143667 | L33: 17.901029 | M33: 100.68667 | N33: 6.3253802 | O33: 81.338667 | P33: 13.163812 | Q33: 2017 | R33: Q1 | S33: 107.72533 | T33: 0.71734623 | U33: 111.092 | V33: 4.1046635 | W33: 111.42967 | X33: 3.1810564 | Y33: 2017 | Z33: Q1 | AA33: 99.877 | AB33: -3.794719 | AC33: 123.281 | AD33: 13.256199 | AE33: 100.86133 | AF33: 1.6854104 | AG33: 2017 | AH33: Q1 | AI33: 118.74233 | AJ33: 14.825874 | AK33: 119.163 | AL33: 11.975385 | AM33: 111.88333 | AN33: -0.88136092 | AO33: 2017 | AP33: Q1 | AQ33: 107.83667 | AR33: 2.0308094 | AS33: 101.40633 | AT33: 5.7703654 | AU33: 101.331 | AV33: 1.8855035 | AW33: 2017 | AX33: Q1 | AY33: 107.98067 | AZ33: -1.0818842 | BA33: 116.09133 | BB33: 9.0344377 | BC33: 117.14667 | BD33: 19.919949 | BE33: 2017 | BF33: Q1 | BG33: 101.75433 | BH33: -3.9586139 | BI33: 106.80333 | BJ33: 6.1670076 | BK33: 119.27467 | BL33: 10.172209 | BM33: 2017 | BN33: Q1 | BO33: 112.033 | BP33: 7.7303283 | BQ33: 114.01673 | BR33: 13.338066 | BS33: 107.87233 | BT33: 13.075759 | BU33: 2017 | BV33: Q1 | BW33: 110.44367 | BX33: 13.19521 | BY33: 110.222 | BZ33: 2.7822496 | CA33: 100.62267 | CB33: 4.8360109 | CC33: 2017 | CD33: Q1 | CE33: 105.63233 | CF33: 4.9135555 | CG33: 100.886 | CH33: 4.9047207 | CI33: 109.81767 | CJ33: 9.3480779 | CK33: 2017 | CL33: Q1 | CM33: 129.878 | CN33: 17.431885 | CO33: 111.819 | CP33: 1.8865626 | CQ33: 111.27533 | CR33: 2.242118 | CS33: 2017 | CT33: Q1 | CU33: 133.26067 | CV33: 26.978968 | CW33: 85.445333 | CX33: -8.0244778 | CY33: 111.407 | CZ33: 8.3931565 | DA33: 2017 | DB33: Q1 | DC33: 79.812333 | DD33: -23.976037 | DE33: 185.083 | DF33: 84.214894 | DG33: 115.79933 | DH33: 6.2474792 | DI33: 2017 | DJ33: Q1 | DK33: 108.92633 | DL33: 8.7763494 | DM33: 88.235333 | DN33: -14.726256 | DO33: 114.30133 | DP33: 7.4232724 | DQ33: 2017 | DR33: Q1 | DS33: 105.17567 | DT33: 6.2085833 | DU33: 100.47967 | DV33: 13.447556 | DW33: 113.20933 | DX33: 18.428644 | DY33: 2017 | DZ33: Q1 | EA33: 108.763 | EB33: 2.4473957 | EC33: 98.251 | ED33: 3.3805751 | EE33: 105.65733 | EF33: 3.3121743 | EG33: 2017 | EH33: Q1 | EI33: 97.434667 | EJ33: 3.3398614 | EK33: 95.953 | EL33: 3.3314539 | EM33: 110.09767 | EN33: 3.3096478 | EO33: 2017 | EP33: Q1 | EQ33: 110.98333 | ER33: 5.2802082 | ES33: 107.11867 | ET33: 5.1726214 | EU33: 111.05233 | EV33: 5.2019723 | EW33: 2017 | EX33: Q1 | EY33: 111.60033 | EZ33: 5.358816 | FA33: 104.17067 | FB33: 5.3628354 | FC33: 102.81333 | FD33: 5.4170202 | FE33: 2017 | FF33: Q1 | FG33: 104.72667 | FH33: 5.1404856 | FI33: 93.533333 | FJ33: 4.8289228 | FK33: 90.745 | FL33: -3.4040586 | FM33: 2017 | FN33: Q1 | FO33: 96.385333 | FP33: -0.50112158 | FQ33: 112.044 | FR33: 7.7071075 | FS33: 104.59 | FT33: 11.402513 | FU33: 2017 | FV33: Q1 | FW33: 104.874 | FX33: 7.1340044 | FY33: 95.65 | FZ33: 1.096405 | GA33: 101.81867 | GB33: 2.0490228 | GC33: 2017 | GD33: Q1 | GE33: 106.956 | GF33: 2.666233 | GG33: 100.87 | GH33: 2.040223 | GI33: 91.474667 | GJ33: -0.26221764 | GK33: 2017 | GL33: Q1 | GM33: 97.760333 | GN33: 1.9746866 | GO33: 109.533 | GP33: 3.638448 | GQ33: 114.44433 | GR33: 3.6772393 | GS33: 2017 | GT33: Q1 | GU33: 124.077 | GV33: 4.7343523 | GW33: 101.21367 | GX33: 1.6336138 | GY33: 98.335333 | GZ33: 4.6993139 | HA33: 2017 | HB33: Q1 | HC33: 99.513667 | HD33: 4.7424059 | HE33: 98.178667 | HF33: 4.6284542 | HG33: 95.182 | HH33: 1.3096382 | HI33: 2017 | HJ33: Q1 | HK33: 94.528333 | HL33: 3.1794911 | HM33: 120.76867 | HN33: 8.9388727 | HO33: 94.972667 | HP33: 4.7576847 | HQ33: 2017 | HR33: Q1 | HS33: 99.217333 | HT33: 7.5138931 | HU33: 105.06067 | HV33: 7.4377584 | HW33: 89.063667 | HX33: 7.4252103 | HY33: 2017 | HZ33: Q1 | IA33: 112.97933 | IB33: 7.461122 | IC33: 92.695286 | ID33: -1.2479477 | IE33: 91.571667 | IF33: 3.9517924 | IG33: 2017 | IH33: Q1 | II33: 105.21533 | IJ33: 0.28804787 | IK33: 80.273 | IL33: -1.8411691 | IM33: 98.062667 | IN33: 4.1527451 | IO33: 115.63167 | IP33: 4.1412544 | IQ33: 2017 | IR33: Q1 | IS33: 106.29767 | IT33: 4.0992442 | IU33: 159.16067 | IV33: 4.3736183 | IW33: 106.04033 | IX33: 4.1410218 | IY33: 2017 | IZ33: Q1 | JA33: 106.18033 | JB33: 4.0510814 | JC33: 108.217 | JD33: 9.8505457 | JE33: 114.29533 | JF33: 14.841889 | JG33: 2017 | JH33: Q1 | JI33: 99.277333 | JJ33: 6.690476 | JK33: 111.99133 | JL33: 21.819892 | JM33: 123.65767 | JN33: -3.7596821 | JO33: 2017 | JP33: Q1 | JQ33: 115.43767 | JR33: 2.8306885 | JS33: 108.722 | JT33: -0.83124782 | JU33: 91.324333 | JV33: -0.69536704 | JW33: 2017 | JX33: Q1 | JY33: 94.555333 | JZ33: 1.7362618 | KA33: 93.652667 | KB33: -0.67721275 | KC33: 98.476667 | KD33: 0.41128298 | KE33: 2017 | KF33: Q1 | KG33: 122.55433 | KH33: 1.5564298 | KI33: 128.923 | KJ33: -3.4548354 | KK33: 95.087667 | KL33: 9.3547326 | KM33: 2017 | KN33: Q1 | KO33: 92.851333 | KP33: 7.7489395 | KQ33: 119.07967 | KR33: 2.8135012 | KS33: 102.574 | KT33: 7.053899 | KU33: 2017 | KV33: Q1 | KW33: 93.200667 | KX33: -3.9368393 | KY33: 114.526 | KZ33: 15.897763 | LA33: 97.276 | LB33: 5.3283624 | LC33: 2017 | LD33: Q1 | LE33: 107.84433 | LF33: 6.6822474 | LG33: 123.63067 | LH33: 2.132216 | LI33: 113.92767 | LJ33: 1.6918911 | LK33: 2017 | LL33: Q1 | LM33: 121.52633 | LN33: 2.1757731 | LO33: 122.584 | LP33: 2.1410344 | LQ33: 112.77533 | LR33: 2.1067664 | LS33: 2017 | LT33: Q1 | LU33: 101.07567 | LV33: 12.066111 | LW33: 105.53233 | LX33: 24.270825 | LY33: 88.931 | LZ33: 5.2214303 | MA33: 2017 | MB33: Q1 | MC33: 143.05867 | MD33: 20.307198 | ME33: 97.716667 | MF33: -9.5073039 | MG33: 104.91033 | MH33: 11.962301 | MI33: 2017 | MJ33: Q1 | MK33: 80.890333 | ML33: -20.464853 | MM33: 120.31739 | MN33: 12.036679 | MO33: 122.76867 | MP33: -3.2496992
B34: Q2 | C34: 99.575373 | D34: -1.6837951 | E34: 97.223667 | F34: -3.444817 | G34: 101.79867 | H34: -0.037641853 | J34: Q2 | K34: 94.518 | L34: 12.343551 | M34: 114.65533 | N34: 35.101611 | O34: 94.143667 | P34: 14.654147 | R34: Q2 | S34: 108.88233 | T34: -0.27659646 | U34: 115.29667 | V34: 5.6891689 | W34: 111.51333 | X34: 2.7128927 | Z34: Q2 | AA34: 111.36767 | AB34: -1.7950678 | AC34: 114.351 | AD34: 4.1169936 | AE34: 110.274 | AF34: 3.9438213 | AH34: Q2 | AI34: 135.15933 | AJ34: 9.7598146 | AK34: 135.49633 | AL34: 17.101283 | AM34: 95.769667 | AN34: 5.5251115 | AP34: Q2 | AQ34: 100.87467 | AR34: -15.198592 | AS34: 108.694 | AT34: 3.5424195 | AU34: 100.82333 | AV34: 1.351374 | AX34: Q2 | AY34: 119.66967 | AZ34: -0.5768613 | BA34: 115.37867 | BB34: 2.8935619 | BC34: 89.382667 | BD34: -14.93711 | BF34: Q2 | BG34: 91.486333 | BH34: -5.6443101 | BI34: 120.62933 | BJ34: 9.0467509 | BK34: 133.24967 | BL34: 13.957108 | BN34: Q2 | BO34: 126.37667 | BP34: 19.277658 | BQ34: 118.39193 | BR34: 9.6698394 | BS34: 122.31333 | BT34: 9.6200611 | BV34: Q2 | BW34: 119.26 | BX34: 9.680841 | BY34: 107.72 | BZ34: 2.2237687 | CA34: 112.35433 | CB34: 4.5801906 | CD34: Q2 | CE34: 110.10633 | CF34: 4.6541984 | CG34: 116.05933 | CH34: 4.6110489 | CI34: 122.91967 | CJ34: 10.264928 | CL34: Q2 | CM34: 115.032 | CN34: 10.539668 | CO34: 116.59233 | CP34: 4.8278528 | CQ34: 128.20333 | CR34: 4.8483609 | CT34: Q2 | CU34: 124.77 | CV34: 10.962559 | CW34: 84.291667 | CX34: -11.882261 | CY34: 122.33467 | CZ34: 14.503398 | DB34: Q2 | DC34: 97.987667 | DD34: -7.651444 | DE34: 198.95867 | DF34: 81.93889 | DG34: 111.78433 | DH34: 6.5813854 | DJ34: Q2 | DK34: 109.46833 | DL34: 6.4345927 | DM34: 97.971 | DN34: 0.012930668 | DO34: 108.76733 | DP34: 11.344209 | DR34: Q2 | DS34: 108.87267 | DT34: 6.4457046 | DU34: 107.75133 | DV34: 4.0676842 | DW34: 117.081 | DX34: -2.7450666 | DZ34: Q2 | EA34: 104.811 | EB34: 1.7766974 | EC34: 118.12867 | ED34: 4.5889321 | EE34: 106.171 | EF34: 4.5988789 | EH34: Q2 | EI34: 114.363 | EJ34: 4.6363534 | EK34: 116.444 | EL34: 4.6016936 | EM34: 113.353 | EN34: 4.5974926 | EP34: Q2 | EQ34: 101.70767 | ER34: 1.7656731 | ES34: 116.609 | ET34: 1.592008 | EU34: 102.387 | EV34: 1.6224604 | EX34: Q2 | EY34: 100.77667 | EZ34: 1.4526797 | FA34: 109.99767 | FB34: 1.5400569 | FC34: 91.358333 | FD34: 1.3782185 | FF34: Q2 | FG34: 105.448 | FH34: 1.615732 | FI34: 113.68433 | FJ34: 4.843896 | FK34: 103.612 | FL34: -4.8473847 | FN34: Q2 | FO34: 93.842667 | FP34: -4.5768072 | FQ34: 110.48833 | FR34: 9.3413426 | FS34: 111.14733 | FT34: 9.9528786 | FV34: Q2 | FW34: 109.595 | FX34: 7.7340734 | FY34: 102.62833 | FZ34: 2.0229969 | GA34: 101.04 | GB34: 1.9545322 | GD34: Q2 | GE34: 105.27833 | GF34: 1.9523092 | GG34: 100.68833 | GH34: 1.8010185 | GI34: 117.705 | GJ34: -2.8366316 | GL34: Q2 | GM34: 100.68633 | GN34: 2.0559238 | GO34: 120.75233 | GP34: 8.3664135 | GQ34: 123.54967 | GR34: 8.3692957 | GT34: Q2 | GU34: 102.079 | GV34: 4.5009845 | GW34: 113.84733 | GX34: 3.4339482 | GY34: 105.62667 | GZ34: 4.4998104 | HB34: Q2 | HC34: 99.746667 | HD34: 4.5007543 | HE34: 107.228 | HF34: 4.4995176 | HG34: 98.774 | HH34: -0.45853531 | HJ34: Q2 | HK34: 107.01033 | HL34: 2.2352649 | HM34: 117.73967 | HN34: 8.6510097 | HO34: 112.29233 | HP34: 4.5075648 | HR34: Q2 | HS34: 98.961333 | HT34: 7.2371843 | HU34: 120.60733 | HV34: 7.3213126 | HW34: 121.09667 | HX34: 7.2066197 | HZ34: Q2 | IA34: 94.551 | IB34: 6.9629848 | IC34: 106.23147 | ID34: -0.14686071 | IE34: 105.011 | IF34: 3.3064437 | IH34: Q2 | II34: 114.062 | IJ34: 4.3692296 | IK34: 116.15267 | IL34: -0.83722254 | IM34: 104.17633 | IN34: 3.8951239 | IO34: 126.79933 | IP34: 3.8535777 | IR34: Q2 | IS34: 111.69833 | IT34: 3.8709637 | IU34: 99.894333 | IV34: 3.8694159 | IW34: 111.22767 | IX34: 3.9005966 | IZ34: Q2 | JA34: 116.379 | JB34: 3.8631448 | JC34: 124.382 | JD34: 12.216261 | JE34: 135.662 | JF34: 17.284328 | JH34: Q2 | JI34: 123.492 | JJ34: 2.7211073 | JK34: 129.649 | JL34: 28.229077 | JM34: 101.42633 | JN34: 18.12715 | JP34: Q2 | JQ34: 110.207 | JR34: 4.738266 | JS34: 102.51633 | JT34: -8.3901274 | JU34: 95.983 | JV34: -8.2187458 | JX34: Q2 | JY34: 97.526667 | JZ34: -6.5230657 | KA34: 93.654667 | KB34: 4.6467626 | KC34: 114.70633 | KD34: -3.5151519 | KF34: Q2 | KG34: 91.063333 | KH34: -5.4732049 | KI34: 98.704333 | KJ34: 1.6662089 | KK34: 106.834 | KL34: 15.827629 | KN34: Q2 | KO34: 102.42333 | KP34: 15.856073 | KQ34: 130.34833 | KR34: 13.09331 | KS34: 109.23933 | KT34: 12.356091 | KV34: Q2 | KW34: 116.68067 | KX34: 2.1531296 | KY34: 123.45733 | KZ34: 12.99546 | LA34: 111.999 | LB34: -3.7039903 | LD34: Q2 | LE34: 93.385333 | LF34: -1.0912737 | LG34: 111.98667 | LH34: -1.137641 | LI34: 110.54033 | LJ34: -2.178139 | LL34: Q2 | LM34: 122.05 | LN34: -1.5042691 | LO34: 112.203 | LP34: -1.4411576 | LQ34: 138.57633 | LR34: -1.2672628 | LT34: Q2 | LU34: 111.00667 | LV34: 15.080915 | LW34: 89.303 | LX34: 10.663213 | LY34: 71.306667 | LZ34: -9.5697461 | MB34: Q2 | MC34: 124.62167 | MD34: 8.5535676 | ME34: 91.994333 | MF34: 8.922743 | MG34: 101.083 | MH34: 2.5588214 | MJ34: Q2 | MK34: 92.486333 | ML34: -2.7565154 | MM34: 110.84248 | MN34: 7.6510389 | MO34: 102.33767 | MP34: 25.558959
B35: Q3 | C35: 100.20793 | D35: 2.0393747 | E35: 97.543688 | F35: -2.1824224 | G35: 102.72718 | H35: 6.1530933 | J35: Q3 | K35: 108.56337 | L35: 8.3023643 | M35: 165.2497 | N35: 36.944614 | O35: 106.38747 | P35: 12.511869 | R35: Q3 | S35: 106.34946 | T35: 3.4910368 | U35: 105.42194 | V35: 4.8369547 | W35: 102.46377 | X35: -2.0379184 | Z35: Q3 | AA35: 109.32601 | AB35: 0.61478173 | AC35: 119.52727 | AD35: 2.9880706 | AE35: 102.42419 | AF35: 10.350679 | AH35: Q3 | AI35: 123.88573 | AJ35: 8.9162813 | AK35: 128.65845 | AL35: 15.06745 | AM35: 102.31405 | AN35: 9.1066691 | AP35: Q3 | AQ35: 98.233154 | AR35: -4.5569645 | AS35: 111.05046 | AT35: 3.8045516 | AU35: 110.66975 | AV35: 9.8375501 | AX35: Q3 | AY35: 133.24986 | AZ35: 11.245809 | BA35: 128.25516 | BB35: 10.173486 | BC35: 86.94154 | BD35: -28.897298 | BF35: Q3 | BG35: 89.499016 | BH35: 7.1160328 | BI35: 117.9752 | BJ35: 7.5588447 | BK35: 128.13264 | BL35: 17.770049 | BN35: Q3 | BO35: 123.80473 | BP35: 22.627102 | BQ35: 118.44648 | BR35: 8.4093718 | BS35: 122.52264 | BT35: 8.45399 | BV35: Q3 | BW35: 123.59712 | BX35: 8.5486613 | BY35: 103.9597 | BZ35: -1.2156155 | CA35: 119.14482 | CB35: 4.9077825 | CD35: Q3 | CE35: 108.71812 | CF35: 4.9041534 | CG35: 107.42748 | CH35: 4.9065722 | CI35: 113.54846 | CJ35: 13.792736 | CL35: Q3 | CM35: 108.05163 | CN35: 2.6596067 | CO35: 106.56394 | CP35: 7.3670476 | CQ35: 106.31169 | CR35: 7.2692495 | CT35: Q3 | CU35: 111.43931 | CV35: -2.3059241 | CW35: 81.680946 | CX35: -1.7746276 | CY35: 128.29314 | CZ35: 9.0745668 | DB35: Q3 | DC35: 91.073957 | DD35: -14.369032 | DE35: 183.48152 | DF35: 50.883201 | DG35: 103.16565 | DH35: 0.85440269 | DJ35: Q3 | DK35: 104.12776 | DL35: 0.3795831 | DM35: 92.070745 | DN35: -3.871344 | DO35: 121.6466 | DP35: 8.3312441 | DR35: Q3 | DS35: 105.54976 | DT35: 0.79460544 | DU35: 108.1638 | DV35: 2.8880427 | DW35: 120.56108 | DX35: -2.1552209 | DZ35: Q3 | EA35: 102.83518 | EB35: 6.0112762 | EC35: 105.74549 | ED35: 3.8373029 | EE35: 118.28359 | EF35: 3.9200963 | EH35: Q3 | EI35: 113.97989 | EJ35: 3.9267119 | EK35: 125.34408 | EL35: 3.9420606 | EM35: 112.21432 | EN35: 3.9525158 | EP35: Q3 | EQ35: 108.4997 | ER35: 4.393223 | ES35: 100.86711 | ET35: 4.44721 | EU35: 103.63942 | EV35: 4.4145282 | EX35: Q3 | EY35: 118.93212 | EZ35: 4.3691471 | FA35: 111.14951 | FB35: 4.4710225 | FC35: 127.84842 | FD35: 4.2395533 | FF35: Q3 | FG35: 108.73841 | FH35: 4.4667649 | FI35: 118.15221 | FJ35: 3.3998164 | FK35: 109.82257 | FL35: 2.3372791 | FN35: Q3 | FO35: 98.021671 | FP35: -1.9459714 | FQ35: 111.99283 | FR35: 6.2382562 | FS35: 114.6915 | FT35: 6.2883454 | FV35: Q3 | FW35: 117.93927 | FX35: 4.9147946 | FY35: 112.82515 | FZ35: 4.4712822 | GA35: 113.17128 | GB35: 4.3848575 | GD35: Q3 | GE35: 112.10352 | GF35: 4.4543267 | GG35: 109.45345 | GH35: 4.4087617 | GI35: 100.94533 | GJ35: 4.0791525 | GL35: Q3 | GM35: 110.9205 | GN35: 4.4862407 | GO35: 131.52703 | GP35: 10.67107 | GQ35: 129.86115 | GR35: 10.683716 | GT35: Q3 | GU35: 106.58578 | GV35: 5.1822972 | GW35: 100.9572 | GX35: -4.4623324 | GY35: 110.652 | GZ35: 5.1392047 | HB35: Q3 | HC35: 111.10332 | HD35: 4.9861315 | HE35: 111.58552 | HF35: 5.1367796 | HG35: 100.764 | HH35: 1.5124811 | HJ35: Q3 | HK35: 111.3223 | HL35: 2.0812257 | HM35: 101.57924 | HN35: 7.7542788 | HO35: 106.40052 | HP35: 5.0596127 | HR35: Q3 | HS35: 109.77165 | HT35: 11.597761 | HU35: 112.95143 | HV35: 11.483925 | HW35: 117.91752 | HX35: 11.56219 | HZ35: Q3 | IA35: 115.73684 | IB35: 11.460832 | IC35: 114.39287 | ID35: -0.68425779 | IE35: 114.02437 | IF35: 9.5619124 | IH35: Q3 | II35: 102.77032 | IJ35: -2.3532075 | IK35: 126.85448 | IL35: 19.162169 | IM35: 123.80083 | IN35: 9.1791891 | IO35: 104.58389 | IP35: 9.1944473 | IR35: Q3 | IS35: 114.48065 | IT35: 9.1438813 | IU35: 98.464841 | IV35: 9.2112258 | IW35: 114.77188 | IX35: 9.1067009 | IZ35: Q3 | JA35: 111.33002 | JB35: 9.1691956 | JC35: 121.26397 | JD35: 13.607226 | JE35: 147.90318 | JF35: 18.76943 | JH35: Q3 | JI35: 130.92646 | JJ35: 2.4781751 | JK35: 142.01661 | JL35: 20.071195 | JM35: 94.706865 | JN35: 6.8327368 | JP35: Q3 | JQ35: 108.86246 | JR35: 3.8268594 | JS35: 81.183835 | JT35: -14.68612 | JU35: 94.605557 | JV35: -15.008917 | JX35: Q3 | JY35: 109.52055 | JZ35: 0.50307718 | KA35: 120.19102 | KB35: 3.5778306 | KC35: 112.78059 | KD35: 0.035999393 | KF35: Q3 | KG35: 86.602405 | KH35: -1.2620419 | KI35: 124.06481 | KJ35: 2.9059686 | KK35: 117.95367 | KL35: 2.4119693 | KN35: Q3 | KO35: 115.65872 | KP35: 2.3730865 | KQ35: 119.26851 | KR35: 8.1565086 | KS35: 109.76317 | KT35: 9.0196542 | KV35: Q3 | KW35: 104.03703 | KX35: 8.722232 | KY35: 125.98427 | KZ35: 11.27583 | LA35: 103.38393 | LB35: -2.1436447 | LD35: Q3 | LE35: 113.14159 | LF35: 5.143013 | LG35: 107.93181 | LH35: 12.562637 | LI35: 104.63539 | LJ35: 13.319844 | LL35: Q3 | LM35: 108.06054 | LN35: 12.217835 | LO35: 121.71246 | LP35: 12.4098 | LQ35: 108.7888 | LR35: 12.159565 | LT35: Q3 | LU35: 119.21233 | LV35: 0.81864068 | LW35: 160.67855 | LX35: 8.5404302 | LY35: 68.354865 | LZ35: -3.4971974 | MB35: Q3 | MC35: 122.67805 | MD35: 10.545004 | ME35: 132.20349 | MF35: 19.130861 | MG35: 95.816477 | MH35: -0.61253079 | MJ35: Q3 | MK35: 94.48607 | ML35: 6.4807743 | MM35: 117.38026 | MN35: 7.2042785 | MO35: 118.84254 | MP35: 16.858291
B36: Q4 | C36: 106.23809 | D36: -0.62070516 | E36: 100.59751 | F36: -1.3843395 | G36: 111.57145 | H36: 0.039856764 | J36: Q4 | K36: 115.94222 | L36: 22.412539 | M36: 169.45445 | N36: 16.444065 | O36: 118.96482 | P36: 24.185145 | R36: Q4 | S36: 102.72315 | T36: -4.1430785 | U36: 110.43882 | V36: 1.8103851 | W36: 100.09692 | X36: -3.2319005 | Z36: Q4 | AA36: 107.52908 | AB36: 0.496033 | AC36: 115.32694 | AD36: -5.2117736 | AE36: 107.79986 | AF36: 3.4984684 | AH36: Q4 | AI36: 129.67082 | AJ36: -3.7755255 | AK36: 117.84479 | AL36: -0.017714544 | AM36: 102.35424 | AN36: 2.6927886 | AP36: Q4 | AQ36: 109.44534 | AR36: -1.5029353 | AS36: 98.197931 | AT36: -0.2827095 | AU36: 110.49084 | AV36: 10.329755 | AX36: Q4 | AY36: 120.66332 | AZ36: 6.8053255 | BA36: 121.57003 | BB36: 2.5725659 | BC36: 107.93473 | BD36: -21.281793 | BF36: Q4 | BG36: 105.04724 | BH36: 5.9673906 | BI36: 111.9005 | BJ36: 2.367994 | BK36: 121.67365 | BL36: -5.0564452 | BN36: Q4 | BO36: 104.57012 | BP36: 9.1079143 | BQ36: 128.84457 | BR36: 5.9110167 | BS36: 127.13964 | BT36: 5.915277 | BV36: Q4 | BW36: 126.50984 | BX36: 5.9321636 | BY36: 99.514451 | BZ36: 4.6679526 | CA36: 106.74331 | CB36: 3.8978921 | CD36: Q4 | CE36: 114.81194 | CF36: 3.8345475 | CG36: 114.73816 | CH36: 3.853607 | CI36: 136.96601 | CJ36: 13.028157 | CL36: Q4 | CM36: 139.80569 | CN36: 9.0207682 | CO36: 102.33373 | CP36: 0.44272842 | CQ36: 92.93405 | CR36: 0.4435446 | CT36: Q4 | CU36: 126.2574 | CV36: 6.2224334 | CW36: 87.721637 | CX36: -1.0446182 | CY36: 104.24734 | CZ36: -15.282802 | DB36: Q4 | DC36: 105.10511 | DD36: -8.1024117 | DE36: 308.6672 | DF36: 76.249994 | DG36: 105.89078 | DH36: 4.199621 | DJ36: Q4 | DK36: 113.53985 | DL36: 3.740839 | DM36: 94.696285 | DN36: 8.7842016 | DO36: 133.00997 | DP36: 15.712829 | DR36: Q4 | DS36: 113.73583 | DT36: 4.097451 | DU36: 114.57897 | DV36: 0.35792222 | DW36: 126.50611 | DX36: 5.6192116 | DZ36: Q4 | EA36: 110.20175 | EB36: 3.7756169 | EC36: 124.58427 | ED36: 6.0619608 | EE36: 116.09299 | EF36: 6.1114397 | EH36: Q4 | EI36: 120.86185 | EJ36: 5.9342926 | EK36: 108.45536 | EL36: 5.7918687 | EM36: 110.30266 | EN36: 6.138494 | EP36: Q4 | EQ36: 106.97159 | ER36: 3.1260164 | ES36: 103.45797 | ET36: 3.3236528 | EU36: 111.30964 | EV36: 3.3192692 | EX36: Q4 | EY36: 96.880375 | EZ36: 3.2003657 | FA36: 102.59884 | FB36: 3.0505462 | FC36: 106.99611 | FD36: 3.4158494 | FF36: Q4 | FG36: 109.57804 | FH36: 3.3465869 | FI36: 112.46709 | FJ36: 6.3052815 | FK36: 120.40476 | FL36: 9.2364306 | FN36: Q4 | FO36: 95.910838 | FP36: -1.3871701 | FQ36: 109.2952 | FR36: 4.0513583 | FS36: 104.89727 | FT36: 3.8621145 | FV36: Q4 | FW36: 117.53313 | FX36: 9.844051 | FY36: 116.83061 | FZ36: 3.3704026 | GA36: 111.65634 | GB36: 3.3641228 | GD36: Q4 | GE36: 103.45862 | GF36: 3.37902 | GG36: 116.43441 | GH36: 3.386052 | GI36: 97.14362 | GJ36: 1.8187994 | GL36: Q4 | GM36: 118.48764 | GN36: 3.3974668 | GO36: 138.66935 | GP36: 10.727608 | GQ36: 133.77106 | GR36: 10.724191 | GT36: Q4 | GU36: 98.405204 | GV36: 3.5600798 | GW36: 99.944907 | GX36: -0.24230464 | GY36: 116.44668 | GZ36: 3.558176 | HB36: Q4 | HC36: 120.47568 | HD36: 3.547109 | HE36: 114.10742 | HF36: 3.5517089 | HG36: 102.98024 | HH36: 0.32236528 | HJ36: Q4 | HK36: 118.93047 | HL36: 2.3321876 | HM36: 109.37929 | HN36: 4.277015 | HO36: 117.27375 | HP36: 3.5648646 | HR36: Q4 | HS36: 130.04006 | HT36: 7.9373669 | HU36: 96.156826 | HV36: 8.0944123 | HW36: 110.18362 | HX36: 8.0072698 | HZ36: Q4 | IA36: 113.13744 | IB36: 7.9538581 | IC36: 107.26729 | ID36: 0.46518849 | IE36: 107.65555 | IF36: 4.8518129 | IH36: Q4 | II36: 103.60947 | IJ36: 2.8245739 | IK36: 114.88796 | IL36: 8.7336388 | IM36: 122.30661 | IN36: 5.1780178 | IO36: 100.53087 | IP36: 5.1790841 | IR36: Q4 | IS36: 115.575 | IT36: 5.1730382 | IU36: 92.351827 | IV36: 5.1663459 | IW36: 115.67614 | IX36: 5.1776593 | IZ36: Q4 | JA36: 113.84281 | JB36: 5.1717543 | JC36: 121.80749 | JD36: 8.2961106 | JE36: 145.72767 | JF36: 17.572569 | JH36: Q4 | JI36: 138.97344 | JJ36: 16.089166 | JK36: 138.2864 | JL36: 5.245329 | JM36: 117.4409 | JN36: 4.886664 | JP36: Q4 | JQ36: 122.63354 | JR36: -8.1788732 | JS36: 96.394428 | JT36: -4.1862037 | JU36: 104.77296 | JV36: -3.4824986 | JX36: Q4 | JY36: 113.84054 | JZ36: 7.6126423 | KA36: 118.96444 | KB36: 1.5976689 | KC36: 125.24824 | KD36: 0.027344924 | KF36: Q4 | KG36: 103.12002 | KH36: 1.3381534 | KI36: 88.582214 | KJ36: -1.0556774 | KK36: 120.68408 | KL36: 13.027942 | KN36: Q4 | KO36: 123.481 | KP36: 13.746565 | KQ36: 114.18632 | KR36: 6.560492 | KS36: 110.06042 | KT36: 6.7487165 | KV36: Q4 | KW36: 110.70557 | KX36: 8.5912944 | KY36: 114.56301 | KZ36: 1.7406393 | LA36: 107.41691 | LB36: -2.8589864 | LD36: Q4 | LE36: 151.73789 | LF36: 6.2015132 | LG36: 113.00053 | LH36: 14.171545 | LI36: 110.13559 | LJ36: 13.669964 | LL36: Q4 | LM36: 104.49672 | LN36: 13.736688 | LO36: 100.72962 | LP36: 14.528817 | LQ36: 91.762291 | LR36: 14.006474 | LT36: Q4 | LU36: 98.937611 | LV36: -2.9636542 | LW36: 108.11991 | LX36: -1.4080175 | LY36: 72.390725 | LZ36: -9.9755947 | MB36: Q4 | MC36: 130.81534 | MD36: 10.325662 | ME36: 99.409084 | MF36: 16.393176 | MG36: 110.56314 | MH36: -2.950944 | MJ36: Q4 | MK36: 91.334752 | ML36: 1.6645482 | MM36: 115.45007 | MN36: -3.4107349 | MO36: 121.28524 | MP36: 8.0598024
A38: 2018 | B38: Q1 | C38: 102.55805 | D38: -2.2637568 | E38: 102.05882 | F38: -0.61799126 | G38: 103.03011 | H38: -3.7562711 | I38: 2018 | J38: Q1 | K38: 90.243815 | L38: 12.602553 | M38: 121.42506 | N38: 20.596961 | O38: 98.937548 | P38: 21.63655 | Q38: 2018 | R38: Q1 | S38: 110.39171 | T38: 2.4751627 | U38: 114.32905 | V38: 2.9138492 | W38: 111.00371 | X38: -0.38226781 | Y38: 2018 | Z38: Q1 | AA38: 100.64184 | AB38: 0.76578157 | AC38: 128.77061 | AD38: 4.4529286 | AE38: 107.16706 | AF38: 6.2518808 | AG38: 2018 | AH38: Q1 | AI38: 128.07155 | AJ38: 7.8566904 | AK38: 119.89123 | AL38: 0.61111827 | AM38: 110.55861 | AN38: -1.1840202 | AO38: 2018 | AP38: Q1 | AQ38: 129.70843 | AR38: 20.282311 | AS38: 102.60854 | AT38: 1.1855362 | AU38: 109.01293 | AV38: 7.5810297 | AW38: 2018 | AX38: Q1 | AY38: 118.35719 | AZ38: 9.6096163 | BA38: 120.44743 | BB38: 3.7523009 | BC38: 113.79186 | BD38: -2.8637651 | BE38: 2018 | BF38: Q1 | BG38: 107.3347 | BH38: 5.4841591 | BI38: 108.7006 | BJ38: 1.776409 | BK38: 124.05752 | BL38: 4.009949 | BM38: 2018 | BN38: Q1 | BO38: 118.86352 | BP38: 6.0968814 | BQ38: 116.01778 | BR38: 1.7550445 | BS38: 110.8421 | BT38: 2.7530416 | BU38: 2018 | BV38: Q1 | BW38: 113.6433 | BX38: 2.8970759 | BY38: 109.9692 | BZ38: -0.22935659 | CA38: 110.25764 | CB38: 9.5753517 | CC38: 2018 | CD38: Q1 | CE38: 107.63175 | CF38: 1.8928093 | CG38: 109.38611 | CH38: 8.4254608 | CI38: 120.33251 | CJ38: 9.5748226 | CK38: 2018 | CL38: Q1 | CM38: 138.06651 | CN38: 6.3047708 | CO38: 110.71059 | CP38: -0.99125072 | CQ38: 117.16122 | CR38: 5.2894764 | CS38: 2018 | CT38: Q1 | CU38: 141.34141 | CV38: 6.0638627 | CW38: 86.872546 | CX38: 1.6703228 | CY38: 114.0657 | CZ38: 2.3864787 | DA38: 2018 | DB38: Q1 | DC38: 93.790816 | DD38: 17.514189 | DE38: 229.10765 | DF38: 23.786436 | DG38: 116.90652 | DH38: 0.95612334 | DI38: 2018 | DJ38: Q1 | DK38: 114.62484 | DL38: 5.2315251 | DM38: 92.015938 | DN38: 4.2846829 | DO38: 121.43858 | DP38: 6.2442394 | DQ38: 2018 | DR38: Q1 | DS38: 109.0581 | DT38: 3.6913776 | DU38: 103.8795 | DV38: 3.3836072 | DW38: 119.07136 | DX38: 5.1780435 | DY38: 2018 | DZ38: Q1 | EA38: 113.44526 | EB38: 4.3050148 | EC38: 104.67104 | ED38: 6.5343282 | EE38: 114.48324 | EF38: 8.3533305 | EG38: 2018 | EH38: Q1 | EI38: 115.40417 | EJ38: 18.442623 | EK38: 108.47851 | EL38: 13.053796 | EM38: 112.43676 | EN38: 2.1245641 | EO38: 2018 | EP38: Q1 | EQ38: 112.90455 | ER38: 1.7310883 | ES38: 113.50359 | ET38: 5.9606051 | EU38: 114.14117 | EV38: 2.7814234 | EW38: 2018 | EX38: Q1 | EY38: 107.37106 | EZ38: -3.7896557 | FA38: 107.0406 | FB38: 2.7550271 | FC38: 108.63278 | FD38: 5.6602066 | FE38: 2018 | FF38: Q1 | FG38: 112.16995 | FH38: 7.1073446 | FI38: 102.93208 | FJ38: 10.048553 | FK38: 102.56199 | FL38: 13.022196 | FM38: 2018 | FN38: Q1 | FO38: 100.25769 | FP38: 4.0175778 | FQ38: 111.82733 | FR38: -0.19337844 | FS38: 110.67437 | FT38: 5.8173498 | FU38: 2018 | FV38: Q1 | FW38: 110.66856 | FX38: 5.52526 | FY38: 101.32037 | FZ38: 5.9282517 | GA38: 102.36177 | GB38: 0.53339835 | GC38: 2018 | GD38: Q1 | GE38: 109.41355 | GF38: 2.2977186 | GG38: 111.02766 | GH38: 10.070046 | GI38: 98.666762 | GJ38: 7.8623902 | GK38: 2018 | GL38: Q1 | GM38: 101.31111 | GN38: 3.6321238 | GO38: 117.17859 | GP38: 6.9801726 | GQ38: 124.21786 | GR38: 8.5399803 | GS38: 2018 | GT38: Q1 | GU38: 120.1252 | GV38: -3.1849573 | GW38: 105.19276 | GX38: 3.9313771 | GY38: 108.8214 | GZ38: 10.663583 | HA38: 2018 | HB38: Q1 | HC38: 114.66638 | HD38: 15.226763 | HE38: 99.925125 | HF38: 1.7788569 | HG38: 102.00473 | HH38: 7.1680905 | HI38: 2018 | HJ38: Q1 | HK38: 96.003766 | HL38: 1.5608367 | HM38: 133.68363 | HN38: 10.693971 | HO38: 96.783499 | HP38: 1.9066874 | HQ38: 2018 | HR38: Q1 | HS38: 109.72836 | HT38: 10.593942 | HU38: 106.62491 | HV38: 1.4888937 | HW38: 107.69198 | HX38: 20.915731 | HY38: 2018 | HZ38: Q1 | IA38: 119.12536 | IB38: 5.4399598 | IC38: 100.00425 | ID38: 7.8849371 | IE38: 104.91127 | IF38: 14.567387 | IG38: 2018 | IH38: Q1 | II38: 114.00757 | IJ38: 8.3564196 | IK38: 93.405425 | IL38: 16.359704 | IM38: 107.78151 | IN38: 9.9108495 | IO38: 118.28376 | IP38: 2.2935693 | IQ38: 2018 | IR38: Q1 | IS38: 103.48789 | IT38: -2.6433137 | IU38: 154.72681 | IV38: -2.7857757 | IW38: 105.88203 | IX38: -0.14929066 | IY38: 2018 | IZ38: Q1 | JA38: 110.46178 | JB38: 4.0322367 | JC38: 118.39458 | JD38: 9.4047862 | JE38: 118.00883 | JF38: 3.2490324 | JG38: 2018 | JH38: Q1 | JI38: 116.92133 | JJ38: 17.772428 | JK38: 118.381 | JL38: 5.7055047 | JM38: 105.14722 | JN38: -14.969109 | JO38: 2018 | JP38: Q1 | JQ38: 122.28988 | JR38: 5.9358581 | JS38: 102.2407 | JT38: -5.9613491 | JU38: 97.565511 | JV38: 6.8340795 | JW38: 2018 | JX38: Q1 | JY38: 99.868528 | JZ38: 5.6191383 | KA38: 100.18371 | KB38: 6.9736858 | KC38: 113.60369 | KD38: 15.361019 | KE38: 2018 | KF38: Q1 | KG38: 118.20863 | KH38: -3.5459405 | KI38: 125.14261 | KJ38: -2.9322879 | KK38: 122.54457 | KL38: 28.875361 | KM38: 2018 | KN38: Q1 | KO38: 112.10431 | KP38: 20.735272 | KQ38: 120.15883 | KR38: 0.90625124 | KS38: 102.0341 | KT38: -0.52634714 | KU38: 2018 | KV38: Q1 | KW38: 115.79687 | KX38: 24.24468 | KY38: 119.72559 | KZ38: 4.5400947 | LA38: 102.41758 | LB38: 5.2855544 | LC38: 2018 | LD38: Q1 | LE38: 125.58329 | LF38: 16.448672 | LG38: 144.20119 | LH38: 16.638687 | LI38: 120.96629 | LJ38: 6.1781524 | LK38: 2018 | LL38: Q1 | LM38: 175.36271 | LN38: 44.300171 | LO38: 120.29115 | LP38: -1.8704325 | LQ38: 111.73754 | LR38: -0.92023409 | LS38: 2018 | LT38: Q1 | LU38: 103.37239 | LV38: 2.2722811 | LW38: 133.07978 | LX38: 26.103321 | LY38: 88.877023 | LZ38: -0.060695371 | MA38: 2018 | MB38: Q1 | MC38: 144.79562 | MD38: 1.214156 | ME38: 97.854671 | MF38: 0.14122915 | MG38: 114.64534 | MH38: 9.2793624 | MI38: 2018 | MJ38: Q1 | MK38: 84.882688 | ML38: 4.9355154 | MM38: 122.9144 | MN38: 2.1584642 | MO38: 128.09869 | MP38: 4.3415171
B39: Q2 | C39: 99.223225 | D39: -0.35365027 | E39: 100.02823 | F39: 2.8846531 | G39: 98.46204 | H39: -3.2776721 | J39: Q2 | K39: 88.500768 | L39: -6.3662285 | M39: 125.18948 | N39: 9.1876596 | O39: 92.178343 | P39: -2.0875794 | R39: Q2 | S39: 110.42165 | T39: 1.4137462 | U39: 120.04132 | V39: 4.1151708 | W39: 106.24507 | X39: -4.7243331 | Z39: Q2 | AA39: 105.90172 | AB39: -4.9080159 | AC39: 129.99681 | AD39: 13.682268 | AE39: 112.4112 | AF39: 1.9380843 | AH39: Q2 | AI39: 137.6324 | AJ39: 1.8297433 | AK39: 130.61995 | AL39: -3.5989054 | AM39: 111.3016 | AN39: 16.218005 | AP39: Q2 | AQ39: 116.47041 | AR39: 15.460515 | AS39: 115.48616 | AT39: 6.2488837 | AU39: 112.39412 | AV39: 11.476302 | AX39: Q2 | AY39: 133.97856 | AZ39: 11.956995 | BA39: 117.44306 | BB39: 1.7892312 | BC39: 106.00965 | BD39: 18.602026 | BF39: Q2 | BG39: 105.5722 | BH39: 15.396685 | BI39: 116.85905 | BJ39: -3.1255091 | BK39: 131.98037 | BL39: -0.95257153 | BN39: Q2 | BO39: 117.66498 | BP39: -6.8934304 | BQ39: 130.51109 | BR39: 10.236469 | BS39: 124.77426 | BT39: 2.0119858 | BV39: Q2 | BW39: 129.01101 | BX39: 8.1762624 | BY39: 109.56923 | BZ39: 1.7167005 | CA39: 114.16916 | CB39: 1.6152725 | CD39: Q2 | CE39: 110.80937 | CF39: 0.63850624 | CG39: 119.29013 | CH39: 2.7837468 | CI39: 125.91164 | CJ39: 2.4340919 | CL39: Q2 | CM39: 132.05015 | CN39: 14.794279 | CO39: 117.46005 | CP39: 0.74422954 | CQ39: 130.90905 | CR39: 2.1104855 | CT39: Q2 | CU39: 133.10917 | CV39: 6.6836337 | CW39: 86.62775 | CX39: 2.7714288 | CY39: 128.56936 | CZ39: 5.0964205 | DB39: Q2 | DC39: 95.287233 | DD39: -2.7558912 | DE39: 215.53616 | DF39: 8.332129 | DG39: 110.06263 | DH39: -1.5401987 | DJ39: Q2 | DK39: 121.02815 | DL39: 10.559962 | DM39: 91.649315 | DN39: -6.4526083 | DO39: 117.80018 | DP39: 8.3047407 | DR39: Q2 | DS39: 114.51029 | DT39: 5.1781816 | DU39: 108.96593 | DV39: 1.1272213 | DW39: 126.54594 | DX39: 8.0840992 | DZ39: Q2 | EA39: 107.505 | EB39: 2.5703454 | EC39: 123.48332 | ED39: 4.5329017 | EE39: 114.568 | EF39: 7.9089421 | EH39: Q2 | EI39: 116.02041 | EJ39: 1.4492555 | EK39: 119.22311 | EL39: 2.3866466 | EM39: 118.72057 | EN39: 4.7352716 | EP39: Q2 | EQ39: 106.73157 | ER39: 4.9395529 | ES39: 121.4194 | ET39: 4.125235 | EU39: 111.69732 | EV39: 9.093261 | EX39: Q2 | EY39: 104.72955 | EZ39: 3.9224191 | FA39: 108.56845 | FB39: -1.2993141 | FC39: 112.22233 | FD39: 22.837542 | FF39: Q2 | FG39: 116.16468 | FH39: 10.162999 | FI39: 118.06195 | FJ39: 3.8506791 | FK39: 104.20795 | FL39: 0.57517752 | FN39: Q2 | FO39: 94.90249 | FP39: 1.1293617 | FQ39: 115.20062 | FR39: 4.2649661 | FS39: 120.51462 | FT39: 8.4278081 | FV39: Q2 | FW39: 113.9782 | FX39: 3.9994525 | FY39: 105.24944 | FZ39: 2.5539762 | GA39: 98.190689 | GB39: -2.8199832 | GD39: Q2 | GE39: 111.39052 | GF39: 5.8057449 | GG39: 108.95878 | GH39: 8.2139111 | GI39: 114.17215 | GJ39: -3.0014483 | GL39: Q2 | GM39: 103.66178 | GN39: 2.9551618 | GO39: 123.79254 | GP39: 2.5177222 | GQ39: 135.02548 | GR39: 9.288423 | GT39: Q2 | GU39: 119.86105 | GV39: 17.419893 | GW39: 112.10758 | GX39: -1.5281416 | GY39: 115.03137 | GZ39: 8.9037215 | HB39: Q2 | HC39: 120.45544 | HD39: 20.761374 | HE39: 110.53257 | HF39: 3.0818148 | HG39: 106.53197 | HH39: 7.8542609 | HJ39: Q2 | HK39: 105.15526 | HL39: -1.7335487 | HM39: 117.32956 | HN39: -0.34831624 | HO39: 100.07276 | HP39: -10.881934 | HR39: Q2 | HS39: 107.10876 | HT39: 8.2329426 | HU39: 110.44241 | HV39: -8.4281123 | HW39: 123.08715 | HX39: 1.643718 | HZ39: Q2 | IA39: 105.08379 | IB39: 11.139796 | IC39: 116.82177 | ID39: 9.9690837 | IE39: 104.46776 | IF39: -0.51731985 | IH39: Q2 | II39: 125.8877 | IJ39: 10.367787 | IK39: 117.49512 | IL39: 1.1557683 | IM39: 118.99876 | IN39: 14.22821 | IO39: 151.62466 | IP39: 19.578438 | IR39: Q2 | IS39: 99.556209 | IT39: -10.870462 | IU39: 89.596545 | IV39: -10.308681 | IW39: 108.04361 | IX39: -2.8626506 | IZ39: Q2 | JA39: 131.53738 | JB39: 13.025015 | JC39: 130.1026 | JD39: 4.5992164 | JE39: 148.74316 | JF39: 9.6424614 | JH39: Q2 | JI39: 138.81536 | JJ39: 12.408382 | JK39: 134.93682 | JL39: 4.0785659 | JM39: 101.11661 | JN39: -0.30536348 | JP39: Q2 | JQ39: 115.22458 | JR39: 4.5528655 | JS39: 106.1987 | JT39: 3.5919832 | JU39: 98.194113 | JV39: 2.3036503 | JX39: Q2 | JY39: 108.2166 | JZ39: 10.961032 | KA39: 101.47163 | KB39: 8.3465786 | KC39: 121.4213 | KD39: 5.8540509 | KF39: Q2 | KG39: 105.2927 | KH39: 15.625789 | KI39: 104.40894 | KJ39: 5.7794895 | KK39: 119.76645 | KL39: 12.10518 | KN39: Q2 | KO39: 117.88862 | KP39: 15.099378 | KQ39: 137.10647 | KR39: 5.1846735 | KS39: 106.05764 | KT39: -2.9125926 | KV39: Q2 | KW39: 117.7654 | KX39: 0.92966309 | KY39: 123.55996 | KZ39: 0.083127928 | LA39: 125.29692 | LB39: 11.873249 | LD39: Q2 | LE39: 118.54502 | LF39: 26.941802 | LG39: 132.53706 | LH39: 18.350746 | LI39: 121.26568 | LJ39: 9.7026575 | LL39: Q2 | LM39: 151.37388 | LN39: 24.026123 | LO39: 116.5953 | LP39: 3.9146017 | LQ39: 146.42695 | LR39: 5.6651965 | LT39: Q2 | LU39: 117.58697 | LV39: 5.9278455 | LW39: 99.81009 | LX39: 11.765663 | LY39: 75.690072 | LZ39: 6.1472585 | MB39: Q2 | MC39: 134.77182 | MD39: 8.1447705 | ME39: 74.92297 | MF39: -18.556973 | MG39: 129.92337 | MH39: 28.531378 | MJ39: Q2 | MK39: 88.86726 | ML39: -3.9130904 | MM39: 114.48717 | MN39: 3.288167 | MO39: 138.68036 | MP39: 35.512531
B40: Q3 | C40: 94.617921 | D40: -5.5784135 | E40: 95.127956 | F40: -2.4765646 | G40: 94.135651 | H40: -8.3634418 | J40: Q3 | K40: 99.742309 | L40: -8.1252668 | M40: 158.04061 | N40: -4.3625428 | O40: 96.133806 | P40: -9.6380397 | R40: Q3 | S40: 109.48157 | T40: 2.9451101 | U40: 103.10403 | V40: -2.1986991 | W40: 110.45027 | X40: 7.7944675 | Z40: Q3 | AA40: 116.29315 | AB40: 6.3728081 | AC40: 115.39023 | AD40: -3.4611704 | AE40: 110.60407 | AF40: 7.9862759 | AH40: Q3 | AI40: 143.23468 | AJ40: 15.618379 | AK40: 141.54722 | AL40: 10.01782 | AM40: 109.13199 | AN40: 6.663733 | AP40: Q3 | AQ40: 113.15026 | AR40: 15.185407 | AS40: 110.61471 | AT40: -0.39238062 | AU40: 112.14624 | AV40: 1.3341364 | AX40: Q3 | AY40: 138.18766 | AZ40: 3.7056733 | BA40: 127.86659 | BB40: -0.3029616 | BC40: 108.39796 | BD40: 24.679138 | BF40: Q3 | BG40: 106.18255 | BH40: 18.641023 | BI40: 135.17019 | BJ40: 14.575083 | BK40: 138.82773 | BL40: 8.3468971 | BN40: Q3 | BO40: 132.52158 | BP40: 7.0408021 | BQ40: 142.89461 | BR40: 20.640655 | BS40: 114.84006 | BT40: -6.2703365 | BV40: Q3 | BW40: 136.81491 | BX40: 10.694248 | BY40: 106.80978 | BZ40: 2.7415273 | CA40: 105.87979 | CB40: -11.133532 | CD40: Q3 | CE40: 114.78583 | CF40: 5.5811379 | CG40: 108.78851 | CH40: 1.2669295 | CI40: 116.42888 | CJ40: 2.5367338 | CL40: Q3 | CM40: 115.8914 | CN40: 7.2555775 | CO40: 104.12119 | CP40: -2.2922876 | CQ40: 108.80821 | CR40: 2.3483018 | CT40: Q3 | CU40: 121.25652 | CV40: 8.8094732 | CW40: 86.918634 | CX40: 6.4123755 | CY40: 137.54507 | CZ40: 7.2115527 | DB40: Q3 | DC40: 95.656947 | DD40: 5.0321622 | DE40: 195.64174 | DF40: 6.627494 | DG40: 107.36085 | DH40: 4.0664737 | DJ40: Q3 | DK40: 112.27582 | DL40: 7.8250627 | DM40: 95.70914 | DN40: 3.9517383 | DO40: 121.58303 | DP40: -0.05225913 | DR40: Q3 | DS40: 115.64959 | DT40: 9.5687908 | DU40: 112.85614 | DV40: 4.3381827 | DW40: 127.95823 | DX40: 6.1356089 | DZ40: Q3 | EA40: 105.40687 | EB40: 2.5007933 | EC40: 117.64281 | ED40: 11.250905 | EE40: 120.64697 | EF40: 1.9980665 | EH40: Q3 | EI40: 124.32655 | EJ40: 9.0776179 | EK40: 116.14253 | EL40: -7.3410309 | EM40: 119.47492 | EN40: 6.4703015 | EP40: Q3 | EQ40: 108.12764 | ER40: -0.34291752 | ES40: 115.40807 | ET40: 14.415959 | EU40: 109.11275 | EV40: 5.2811271 | EX40: Q3 | EY40: 108.0956 | EZ40: -9.1115182 | FA40: 112.52189 | FB40: 1.2347225 | FC40: 118.01832 | FD40: -7.6888693 | FF40: Q3 | FG40: 117.6168 | FH40: 8.1649048 | FI40: 122.85827 | FJ40: 3.9830425 | FK40: 111.64104 | FL40: 1.6558303 | FN40: Q3 | FO40: 104.09515 | FP40: 6.196061 | FQ40: 120.66309 | FR40: 7.741803 | FS40: 125.71979 | FT40: 9.6156068 | FV40: Q3 | FW40: 117.4109 | FX40: -0.44800232 | FY40: 111.75602 | FZ40: -0.94760418 | GA40: 111.79583 | GB40: -1.2153721 | GD40: Q3 | GE40: 112.88949 | GF40: 0.70111272 | GG40: 114.37203 | GH40: 4.4937725 | GI40: 113.32567 | GJ40: 12.264399 | GL40: Q3 | GM40: 121.75899 | GN40: 9.771397 | GO40: 128.52053 | GP40: -2.2858445 | GQ40: 135.84953 | GR40: 4.6113746 | GT40: Q3 | GU40: 124.55647 | GV40: 16.86031 | GW40: 99.770302 | GX40: -1.1756456 | GY40: 128.0996 | GZ40: 15.767993 | HB40: Q3 | HC40: 109.77193 | HD40: -1.1983399 | HE40: 111.6271 | HF40: 0.03725976 | HG40: 99.58341 | HH40: -1.1716344 | HJ40: Q3 | HK40: 119.39933 | HL40: 7.2555394 | HM40: 105.76343 | HN40: 4.1191397 | HO40: 104.85542 | HP40: -1.452161 | HR40: Q3 | HS40: 113.79864 | HT40: 3.668515 | HU40: 117.34994 | HV40: 3.8941687 | HW40: 111.05054 | HX40: -5.823542 | HZ40: Q3 | IA40: 113.94017 | IB40: -1.5523715 | IC40: 120.48641 | ID40: 5.3268488 | IE40: 111.73679 | IF40: -2.0062206 | IH40: Q3 | II40: 125.24588 | IJ40: 21.869697 | IK40: 130.90154 | IL40: 3.1903101 | IM40: 120.81838 | IN40: -2.4090702 | IO40: 121.92937 | IP40: 16.585228 | IR40: Q3 | IS40: 111.01025 | IT40: -3.031435 | IU40: 96.833479 | IV40: -1.6567966 | IW40: 117.08075 | IX40: 2.0117035 | IZ40: Q3 | JA40: 132.374 | JB40: 18.902343 | JC40: 137.73514 | JD40: 13.582897 | JE40: 155.05435 | JF40: 4.8350358 | JH40: Q3 | JI40: 135.88707 | JJ40: 3.7888548 | JK40: 144.17691 | JL40: 1.5211603 | JM40: 98.742305 | JN40: 4.2609789 | JP40: Q3 | JQ40: 111.21588 | JR40: 2.1618269 | JS40: 94.679509 | JT40: 16.623598 | JU40: 97.229466 | JV40: 2.7735249 | JX40: Q3 | JY40: 114.00346 | JZ40: 4.0932142 | KA40: 129.52917 | KB40: 7.7694201 | KC40: 123.03928 | KD40: 9.0961511 | KF40: Q3 | KG40: 103.04524 | KH40: 18.986586 | KI40: 131.89673 | KJ40: 6.312769 | KK40: 117.71177 | KL40: -0.20507824 | KN40: Q3 | KO40: 113.13612 | KP40: -2.1810756 | KQ40: 115.62131 | KR40: -3.0579728 | KS40: 106.14534 | KT40: -3.2960341 | KV40: Q3 | KW40: 109.62227 | KX40: 5.3685136 | KY40: 127.91699 | KZ40: 1.5340975 | LA40: 123.37367 | LB40: 19.335435 | LD40: Q3 | LE40: 118.30535 | LF40: 4.5639812 | LG40: 112.20273 | LH40: 3.9570568 | LI40: 106.81609 | LJ40: 2.0840968 | LL40: Q3 | LM40: 111.4797 | LN40: 3.16412 | LO40: 113.39821 | LP40: -6.8310607 | LQ40: 113.37205 | LR40: 4.2129824 | LT40: Q3 | LU40: 118.57308 | LV40: -0.53623184 | LW40: 146.58632 | LX40: -8.7704476 | LY40: 76.371997 | LZ40: 11.728692 | MB40: Q3 | MC40: 135.93812 | MD40: 10.80883 | ME40: 139.74832 | MF40: 5.7069842 | MG40: 112.59952 | MH40: 17.515816 | MJ40: Q3 | MK40: 75.566723 | ML40: -20.023424 | MM40: 128.33643 | MN40: 9.3339087 | MO40: 148.43942 | MP40: 24.90428
